{"text_format":"1","workbook":"xlsx","n_sheets":5,"sheets":["Sheet1","Справка","Предупреждение","Логи","Лист1"],"not_rendered":{"charts":0,"images":0,"macros":1,"external_links":0,"defined_names":1,"comments":0,"pivot_tables":0},"unopened":[],"bounds":{"document_bytes":16777216,"sheet_cells":100000,"rows_first":2000,"rows_last":500,"rows_between":2000,"halvings":0,"cell_chars":16384,"cell_head_chars":4096},"cells_cut":0,"cells_raw":0,"read":"whole","date_system":"1900"}

{"sheet":"Sheet1","index":0,"n_rows":12616,"n_cols":13,"rows_kept":12616,"cut":false,"hidden":true,"merged":[[0,7,0,11],[0,0,0,6]]}
[null,null,null,null,null,null,null,"Статус\n(возможен только один статус выпускника)"]
["ОГРН образовательной организации","Год выпуска","ФИО","Код специальности (профессии)","Наименование специальности (профессии)","Форма обучения","Спецгруппа\n(инвалиды, ОВЗ, целевое обучение)","Занятость","Потенциальная занятость","Зона риска","Прочее, редкие обстоятельства","Намерения выпускников","Принимаемые меры по содействию трудоустройству"]
[1027808004730,2023,"Абдуллажанов Махдум Аъзам Акмалжон угли","23.01.03",{"$f":"IFERROR(VLOOKUP(D3,Справка!$G$2:$H$579,2,0),\"\")","v":"Автомеханик"},"Очная","Нет","Трудоустроены не по своей профессии не менее 4-х месяцев "]
[1027808004730,2023,"Аликберов Азамат Робертович","23.01.03",{"$f":"IFERROR(VLOOKUP(D4,Справка!$G$2:$H$579,2,0),\"\")","v":"Автомеханик"},"Очная","Нет","Трудоустроены не по своей профессии не менее 4-х месяцев "]
[1027808004730,2023,"Белова Арина Витальевна","23.01.03",{"$f":"IFERROR(VLOOKUP(D5,Справка!$G$2:$H$579,2,0),\"\")","v":"Автомеханик"},"Очная","Нет","Трудоустроены не по своей профессии не менее 4-х месяцев "]
[1027808004730,2023,"Булычев Иван Григорьевич","23.01.03",{"$f":"IFERROR(VLOOKUP(D6,Справка!$G$2:$H$579,2,0),\"\")","v":"Автомеханик"},"Очная","Нет",null,"Проходят службу в армии по призыву"]
[1027808004730,2023,"Быков Богдан Вячеславович","23.01.03",{"$f":"IFERROR(VLOOKUP(D7,Справка!$G$2:$H$579,2,0),\"\")","v":"Автомеханик"},"Очная","Нет",null,"Проходят службу в армии на контрактной основе"]
[1027808004730,2023,"Волков Вячеслав Владимирович","23.01.03",{"$f":"IFERROR(VLOOKUP(D8,Справка!$G$2:$H$579,2,0),\"\")","v":"Автомеханик"},"Очная","Нет","Трудоустроены не по своей профессии менее 4-х месяцев"]
[1027808004730,2023,"Горбунов Владимир Евгеньевинич","23.01.03",{"$f":"IFERROR(VLOOKUP(D9,Справка!$G$2:$H$579,2,0),\"\")","v":"Автомеханик"},"Очная","Нет",null,"Проходят службу в армии по призыву"]
[1027808004730,2023,"Данилов Филипп Дмитриевич","23.01.03",{"$f":"IFERROR(VLOOKUP(D10,Справка!$G$2:$H$579,2,0),\"\")","v":"Автомеханик"},"Очная","Нет","Трудоустроены не по своей профессии менее 4-х месяцев"]
[1027808004730,2023,"Дементьев Максим Витальевич","23.01.03",{"$f":"IFERROR(VLOOKUP(D11,Справка!$G$2:$H$579,2,0),\"\")","v":"Автомеханик"},"Очная","Нет","Трудоустроены не по своей профессии не менее 4-х месяцев "]
[1027808004730,2023,"Дъячков Павел Романович","23.01.03",{"$f":"IFERROR(VLOOKUP(D12,Справка!$G$2:$H$579,2,0),\"\")","v":"Автомеханик"},"Очная","Нет","Продолжил обучение"]
[1027808004730,2023,"Игнатьев Дмитрий Вячеславович","23.01.03",{"$f":"IFERROR(VLOOKUP(D13,Справка!$G$2:$H$579,2,0),\"\")","v":"Автомеханик"},"Очная","Нет","Трудоустроены не по своей профессии менее 4-х месяцев"]
[1027808004730,2023,"Исаков Артем Баходирович","23.01.03",{"$f":"IFERROR(VLOOKUP(D14,Справка!$G$2:$H$579,2,0),\"\")","v":"Автомеханик"},"Очная","Нет","Трудоустроены не по своей профессии не менее 4-х месяцев "]
[1027808004730,2023,"Калупкин Михаил Алексеевич","23.01.03",{"$f":"IFERROR(VLOOKUP(D15,Справка!$G$2:$H$579,2,0),\"\")","v":"Автомеханик"},"Очная","Нет","Продолжил обучение"]
[1027808004730,2023,"Кузьмишко Юлия Сергеевна","23.01.03",{"$f":"IFERROR(VLOOKUP(D16,Справка!$G$2:$H$579,2,0),\"\")","v":"Автомеханик"},"Очная","Нет","Трудоустроены не по своей профессии не менее 4-х месяцев "]
[1027808004730,2023,"Курбанов Атем Валентинович","23.01.03",{"$f":"IFERROR(VLOOKUP(D17,Справка!$G$2:$H$579,2,0),\"\")","v":"Автомеханик"},"Очная","Нет","Трудоустроены в соответствии со своей профессией не менее 4-х месяцев "]
[1027808004730,2023,"Молчанов Кирилл Сергеевич","23.01.03",{"$f":"IFERROR(VLOOKUP(D18,Справка!$G$2:$H$579,2,0),\"\")","v":"Автомеханик"},"Очная","Нет",null,"Проходят службу в армии по призыву"]
[1027808004730,2023,"Окуловский Леонид Олегович","23.01.03",{"$f":"IFERROR(VLOOKUP(D19,Справка!$G$2:$H$579,2,0),\"\")","v":"Автомеханик"},"Очная","Нет","Трудоустроены не по своей профессии не менее 4-х месяцев "]
[1027808004730,2023,"Осипов Илья Алексеевич","23.01.03",{"$f":"IFERROR(VLOOKUP(D20,Справка!$G$2:$H$579,2,0),\"\")","v":"Автомеханик"},"Очная","Нет","Трудоустроены в соответствии со своей профессией менее 4-х месяцев"]
[1027808004730,2023,"Попов Александр Владимирович","23.01.03",{"$f":"IFERROR(VLOOKUP(D21,Справка!$G$2:$H$579,2,0),\"\")","v":"Автомеханик"},"Очная","Нет","Трудоустроены не по своей профессии менее 4-х месяцев"]
[1027808004730,2023,"Радзевич Михаил Сергеевич","23.01.03",{"$f":"IFERROR(VLOOKUP(D22,Справка!$G$2:$H$579,2,0),\"\")","v":"Автомеханик"},"Очная","Нет","Трудоустроены не по своей профессии не менее 4-х месяцев "]
[1027808004730,2023,"Речицкий Дмитрий Сергеевич","23.01.03",{"$f":"IFERROR(VLOOKUP(D23,Справка!$G$2:$H$579,2,0),\"\")","v":"Автомеханик"},"Очная","Нет","Трудоустроены не по своей профессии менее 4-х месяцев"]
[1027808004730,2023,"Савченко Аркадий Александрович","23.01.03",{"$f":"IFERROR(VLOOKUP(D24,Справка!$G$2:$H$579,2,0),\"\")","v":"Автомеханик"},"Очная","Нет","Трудоустроены в соответствии со своей профессией менее 4-х месяцев"]
[1027808004730,2023,"Сарыглар Тамерлан Дадар-оолович","23.01.03",{"$f":"IFERROR(VLOOKUP(D25,Справка!$G$2:$H$579,2,0),\"\")","v":"Автомеханик"},"Очная","Нет","Продолжил обучение"]
[1027808004730,2023,"Свиридов Петр Вячеславович","23.01.03",{"$f":"IFERROR(VLOOKUP(D26,Справка!$G$2:$H$579,2,0),\"\")","v":"Автомеханик"},"Очная","Нет","Продолжил обучение"]
[1027808004730,2023,"Слотина Екатерина Алексеевина","23.01.03",{"$f":"IFERROR(VLOOKUP(D27,Справка!$G$2:$H$579,2,0),\"\")","v":"Автомеханик"},"Очная","Нет","Трудоустроены в соответствии со своей профессией не менее 4-х месяцев "]
[1027808004730,2023,"Яковлев Егор Романович","23.01.03",{"$f":"IFERROR(VLOOKUP(D28,Справка!$G$2:$H$579,2,0),\"\")","v":"Автомеханик"},"Очная","Нет","Трудоустроены не по своей профессии не менее 4-х месяцев "]
[1027808004730,2023,"Атрощенко Михаил Юрьевич","23.01.03",{"$f":"IFERROR(VLOOKUP(D29,Справка!$G$2:$H$579,2,0),\"\")","v":"Автомеханик"},"Очная","Нет","Трудоустроены в соответствии со своей профессией не менее 4-х месяцев "]
[1027808004730,2023,"Васильев Денис Александрович","23.01.03",{"$f":"IFERROR(VLOOKUP(D30,Справка!$G$2:$H$579,2,0),\"\")","v":"Автомеханик"},"Очная","Нет","Трудоустроены не по своей профессии менее 4-х месяцев"]
[1027808004730,2023,"Гайгул Юрий Константинович","23.01.03",{"$f":"IFERROR(VLOOKUP(D31,Справка!$G$2:$H$579,2,0),\"\")","v":"Автомеханик"},"Очная","Нет","Трудоустроены не по своей профессии менее 4-х месяцев"]
[1027808004730,2023,"Горский Денис Фёдорович","23.01.03",{"$f":"IFERROR(VLOOKUP(D32,Справка!$G$2:$H$579,2,0),\"\")","v":"Автомеханик"},"Очная","Нет",null,"Проходят службу в армии по призыву"]
[1027808004730,2023,"Григорьев Игорь Олегович","23.01.03",{"$f":"IFERROR(VLOOKUP(D33,Справка!$G$2:$H$579,2,0),\"\")","v":"Автомеханик"},"Очная","Нет","Трудоустроены не по своей профессии менее 4-х месяцев"]
[1027808004730,2023,"Гусев Даниил Антонович","23.01.03",{"$f":"IFERROR(VLOOKUP(D34,Справка!$G$2:$H$579,2,0),\"\")","v":"Автомеханик"},"Очная","Нет","Трудоустроены не по своей профессии менее 4-х месяцев"]
[1027808004730,2023,"Дмитриев Никита Алексеевич","23.01.03",{"$f":"IFERROR(VLOOKUP(D35,Справка!$G$2:$H$579,2,0),\"\")","v":"Автомеханик"},"Очная","Нет","Трудоустроены не по своей профессии менее 4-х месяцев"]
[1027808004730,2023,"Иванов Илья Дмитриевич","23.01.03",{"$f":"IFERROR(VLOOKUP(D36,Справка!$G$2:$H$579,2,0),\"\")","v":"Автомеханик"},"Очная","Нет","Трудоустроены не по своей профессии менее 4-х месяцев"]
[1027808004730,2023,"Касаткин Данила Артёмович","23.01.03",{"$f":"IFERROR(VLOOKUP(D37,Справка!$G$2:$H$579,2,0),\"\")","v":"Автомеханик"},"Очная","Нет","Трудоустроены не по своей профессии менее 4-х месяцев"]
[1027808004730,2023,"Киро Даниил Ильич","23.01.03",{"$f":"IFERROR(VLOOKUP(D38,Справка!$G$2:$H$579,2,0),\"\")","v":"Автомеханик"},"Очная","Нет","Трудоустроены не по своей профессии менее 4-х месяцев"]
[1027808004730,2023,"Мирошниченко Захар Валерьевич","23.01.03",{"$f":"IFERROR(VLOOKUP(D39,Справка!$G$2:$H$579,2,0),\"\")","v":"Автомеханик"},"Очная","Нет","Трудоустроены в соответствии со своей профессией менее 4-х месяцев"]
[1027808004730,2023,"Проскуров Александр Игоревич","23.01.03",{"$f":"IFERROR(VLOOKUP(D40,Справка!$G$2:$H$579,2,0),\"\")","v":"Автомеханик"},"Очная","Нет","Трудоустроены не по своей профессии менее 4-х месяцев"]
[1027808004730,2023,"Сергиенко Андрей Романович","23.01.03",{"$f":"IFERROR(VLOOKUP(D41,Справка!$G$2:$H$579,2,0),\"\")","v":"Автомеханик"},"Очная","Нет",null,"Проходят службу в армии по призыву"]
[1027808004730,2023,"Сидоров Никита Олегович","23.01.03",{"$f":"IFERROR(VLOOKUP(D42,Справка!$G$2:$H$579,2,0),\"\")","v":"Автомеханик"},"Очная","Нет","Трудоустроены не по своей профессии не менее 4-х месяцев "]
[1027808004730,2023,"Стефановский никита Богданович","23.01.03",{"$f":"IFERROR(VLOOKUP(D43,Справка!$G$2:$H$579,2,0),\"\")","v":"Автомеханик"},"Очная","Нет","Трудоустроены в соответствии со своей профессией не менее 4-х месяцев "]
[1027808004730,2023,"Тесларь Кристиан ","23.01.03",{"$f":"IFERROR(VLOOKUP(D44,Справка!$G$2:$H$579,2,0),\"\")","v":"Автомеханик"},"Очная","Нет","Трудоустроены не по своей профессии не менее 4-х месяцев "]
[1027808004730,2023,"Усачев Евгений Михайлович","23.01.03",{"$f":"IFERROR(VLOOKUP(D45,Справка!$G$2:$H$579,2,0),\"\")","v":"Автомеханик"},"Очная","Нет","Трудоустроены в соответствии со своей профессией не менее 4-х месяцев "]
[1027808004730,2023,"Фадейчев Никита Дмитриевич","23.01.03",{"$f":"IFERROR(VLOOKUP(D46,Справка!$G$2:$H$579,2,0),\"\")","v":"Автомеханик"},"Очная","Нет","Трудоустроены не по своей профессии менее 4-х месяцев"]
[1027808004730,2023,"Хусейнов Салимджон Содикджонович","23.01.03",{"$f":"IFERROR(VLOOKUP(D47,Справка!$G$2:$H$579,2,0),\"\")","v":"Автомеханик"},"Очная","Нет","Трудоустроены в соответствии со своей профессией не менее 4-х месяцев "]
[1027808004730,2023,"Чевчугов Руслан Талгатович","23.01.03",{"$f":"IFERROR(VLOOKUP(D48,Справка!$G$2:$H$579,2,0),\"\")","v":"Автомеханик"},"Очная","Нет","Трудоустроены не по своей профессии не менее 4-х месяцев "]
[1027808004730,2023,"Шашков Иван Вадимович","23.01.03",{"$f":"IFERROR(VLOOKUP(D49,Справка!$G$2:$H$579,2,0),\"\")","v":"Автомеханик"},"Очная","Нет","Трудоустроены не по своей профессии не менее 4-х месяцев "]
[1027808004730,2023,"Шваров Никита Валерьевич","23.01.03",{"$f":"IFERROR(VLOOKUP(D50,Справка!$G$2:$H$579,2,0),\"\")","v":"Автомеханик"},"Очная","Нет","Трудоустроены не по своей профессии не менее 4-х месяцев "]
[1027808004730,2023,"Беляков Никита александрович","23.01.03",{"$f":"IFERROR(VLOOKUP(D51,Справка!$G$2:$H$579,2,0),\"\")","v":"Автомеханик"},"Очная","Нет","Трудоустроены не по своей профессии не менее 4-х месяцев "]
[1027808004730,2023,"Бакиров Никита Александрович","15.01.05",{"$f":"IFERROR(VLOOKUP(D52,Справка!$G$2:$H$579,2,0),\"\")","v":"Сварщик (ручной и частично механизированной сварки (наплавки)"},"Очная","Нет","Трудоустроены не по своей профессии менее 4-х месяцев"]
[1027808004730,2023,"Баранов Вадим Алексеевич","15.01.05",{"$f":"IFERROR(VLOOKUP(D53,Справка!$G$2:$H$579,2,0),\"\")","v":"Сварщик (ручной и частично механизированной сварки (наплавки)"},"Очная","Нет","Трудоустроены не по своей профессии менее 4-х месяцев"]
[1027808004730,2023,"Басалаев Максим Евгеньевич","15.01.05",{"$f":"IFERROR(VLOOKUP(D54,Справка!$G$2:$H$579,2,0),\"\")","v":"Сварщик (ручной и частично механизированной сварки (наплавки)"},"Очная","Нет","Трудоустроены не по своей профессии менее 4-х месяцев"]
[1027808004730,2023,"Богданов Александр Александрович","15.01.05",{"$f":"IFERROR(VLOOKUP(D55,Справка!$G$2:$H$579,2,0),\"\")","v":"Сварщик (ручной и частично механизированной сварки (наплавки)"},"Очная","Нет","Трудоустроены не по своей профессии менее 4-х месяцев"]
[1027808004730,2023,"Бунделев Алексей Евгеньевич","15.01.05",{"$f":"IFERROR(VLOOKUP(D56,Справка!$G$2:$H$579,2,0),\"\")","v":"Сварщик (ручной и частично механизированной сварки (наплавки)"},"Очная","Нет","Трудоустроены в соответствии со своей профессией менее 4-х месяцев"]
[1027808004730,2023,"Бунин Сергей Семенович","15.01.05",{"$f":"IFERROR(VLOOKUP(D57,Справка!$G$2:$H$579,2,0),\"\")","v":"Сварщик (ручной и частично механизированной сварки (наплавки)"},"Очная","Нет","Трудоустроены в соответствии со своей профессией менее 4-х месяцев"]
[1027808004730,2023,"Варанкин Максим Константинович","15.01.05",{"$f":"IFERROR(VLOOKUP(D58,Справка!$G$2:$H$579,2,0),\"\")","v":"Сварщик (ручной и частично механизированной сварки (наплавки)"},"Очная","Нет",null,"Проходят службу в армии по призыву"]
[1027808004730,2023,"Дроботов Нкита Игоревич","15.01.05",{"$f":"IFERROR(VLOOKUP(D59,Справка!$G$2:$H$579,2,0),\"\")","v":"Сварщик (ручной и частично механизированной сварки (наплавки)"},"Очная","Нет","Трудоустроены в соответствии со своей профессией менее 4-х месяцев"]
[1027808004730,2023,"Егорова Юлия Сергеевна","15.01.05",{"$f":"IFERROR(VLOOKUP(D60,Справка!$G$2:$H$579,2,0),\"\")","v":"Сварщик (ручной и частично механизированной сварки (наплавки)"},"Очная","Нет","Трудоустроены в соответствии со своей профессией менее 4-х месяцев"]
[1027808004730,2023,"Каминский Илья Александрович","15.01.05",{"$f":"IFERROR(VLOOKUP(D61,Справка!$G$2:$H$579,2,0),\"\")","v":"Сварщик (ручной и частично механизированной сварки (наплавки)"},"Очная","Нет",null,"Проходят службу в армии по призыву"]
[1027808004730,2023,"Князьков Николай Владимирович","15.01.05",{"$f":"IFERROR(VLOOKUP(D62,Справка!$G$2:$H$579,2,0),\"\")","v":"Сварщик (ручной и частично механизированной сварки (наплавки)"},"Очная","Нет","Трудоустроены в соответствии со своей профессией менее 4-х месяцев"]
[1027808004730,2023,"Кожокрь Роман Адрианович","15.01.05",{"$f":"IFERROR(VLOOKUP(D63,Справка!$G$2:$H$579,2,0),\"\")","v":"Сварщик (ручной и частично механизированной сварки (наплавки)"},"Очная","Нет","Трудоустроены не по своей профессии менее 4-х месяцев"]
[1027808004730,2023,"Кравцов Александр Алексеевич","15.01.05",{"$f":"IFERROR(VLOOKUP(D64,Справка!$G$2:$H$579,2,0),\"\")","v":"Сварщик (ручной и частично механизированной сварки (наплавки)"},"Очная","Нет","Трудоустроены не по своей профессии менее 4-х месяцев"]
[1027808004730,2023,"Маргарян Эрик Левонович","15.01.05",{"$f":"IFERROR(VLOOKUP(D65,Справка!$G$2:$H$579,2,0),\"\")","v":"Сварщик (ручной и частично механизированной сварки (наплавки)"},"Очная","Нет","Трудоустроены в соответствии со своей профессией менее 4-х месяцев"]
[1027808004730,2023,"Маринец Василий Евгеньевич","15.01.05",{"$f":"IFERROR(VLOOKUP(D66,Справка!$G$2:$H$579,2,0),\"\")","v":"Сварщик (ручной и частично механизированной сварки (наплавки)"},"Очная","Нет","Трудоустроены в соответствии со своей профессией менее 4-х месяцев"]
[1027808004730,2023,"Маринкин Андрей Александрович","15.01.05",{"$f":"IFERROR(VLOOKUP(D67,Справка!$G$2:$H$579,2,0),\"\")","v":"Сварщик (ручной и частично механизированной сварки (наплавки)"},"Очная","Нет",null,"Проходят службу в армии по призыву"]
[1027808004730,2023,"Николаев Владимир Алексеевич","15.01.05",{"$f":"IFERROR(VLOOKUP(D68,Справка!$G$2:$H$579,2,0),\"\")","v":"Сварщик (ручной и частично механизированной сварки (наплавки)"},"Очная","Нет","Трудоустроены не по своей профессии менее 4-х месяцев"]
[1027808004730,2023,"Ротцы Евгений Сергеевич","15.01.05",{"$f":"IFERROR(VLOOKUP(D69,Справка!$G$2:$H$579,2,0),\"\")","v":"Сварщик (ручной и частично механизированной сварки (наплавки)"},"Очная","Нет","Трудоустроены в соответствии со своей профессией менее 4-х месяцев"]
[1027808004730,2023,"Ручкин Михаил Максимович","15.01.05",{"$f":"IFERROR(VLOOKUP(D70,Справка!$G$2:$H$579,2,0),\"\")","v":"Сварщик (ручной и частично механизированной сварки (наплавки)"},"Очная","Нет","Трудоустроены не по своей профессии менее 4-х месяцев"]
[1027808004730,2023,"Смиронов Михаил Денисовч","15.01.05",{"$f":"IFERROR(VLOOKUP(D71,Справка!$G$2:$H$579,2,0),\"\")","v":"Сварщик (ручной и частично механизированной сварки (наплавки)"},"Очная","Нет","Трудоустроены не по своей профессии менее 4-х месяцев"]
[1027808004730,2023,"Студитский Даниил Дмитриевич","15.01.05",{"$f":"IFERROR(VLOOKUP(D72,Справка!$G$2:$H$579,2,0),\"\")","v":"Сварщик (ручной и частично механизированной сварки (наплавки)"},"Очная","Нет","Трудоустроены не по своей профессии менее 4-х месяцев"]
[1027808004730,2023,"Сургучев Артем Андреевич","15.01.05",{"$f":"IFERROR(VLOOKUP(D73,Справка!$G$2:$H$579,2,0),\"\")","v":"Сварщик (ручной и частично механизированной сварки (наплавки)"},"Очная","Нет",null,"Проходят службу в армии по призыву"]
[1027808004730,2023,"Шогенов Эдуард Арсенович","15.01.05",{"$f":"IFERROR(VLOOKUP(D74,Справка!$G$2:$H$579,2,0),\"\")","v":"Сварщик (ручной и частично механизированной сварки (наплавки)"},"Очная","Нет",null,"Проходят службу в армии по призыву"]
[1027808004730,2023,"Алекперов Самир Ризванович","15.01.05",{"$f":"IFERROR(VLOOKUP(D75,Справка!$G$2:$H$579,2,0),\"\")","v":"Сварщик (ручной и частично механизированной сварки (наплавки)"},"Очная","Нет","Трудоустроены в соответствии со своей профессией не менее 4-х месяцев "]
[1027808004730,2023,"Афанасьев Максим Александрович","15.01.05",{"$f":"IFERROR(VLOOKUP(D76,Справка!$G$2:$H$579,2,0),\"\")","v":"Сварщик (ручной и частично механизированной сварки (наплавки)"},"Очная","Нет","Трудоустроены не по своей профессии менее 4-х месяцев"]
[1027808004730,2023,"Бабаш Артем Романович","15.01.05","Сварщик (ручной и частично механизированной сварки (наплавки)","Очная","Нет","Трудоустроены не по своей профессии менее 4-х месяцев"]
[1027808004730,2023,"Баркалов Егор Игоревич","15.01.05","Сварщик (ручной и частично механизированной сварки (наплавки)","Очная","Нет","Трудоустроены в соответствии со своей профессией не менее 4-х месяцев "]
[1027808004730,2023,"Бондаренко Артем Александрович","15.01.05","Сварщик (ручной и частично механизированной сварки (наплавки)","Очная","Нет","Трудоустроены в соответствии со своей профессией не менее 4-х месяцев "]
[1027808004730,2023,"Володин Александр Евгеньевич","15.01.05","Сварщик (ручной и частично механизированной сварки (наплавки)","Очная","Нет","Трудоустроены не по своей профессии менее 4-х месяцев"]
[1027808004730,2023,"Герасимов Дэнис Айханович","15.01.05","Сварщик (ручной и частично механизированной сварки (наплавки)","Очная","Нет","Трудоустроены не по своей профессии менее 4-х месяцев"]
[1027808004730,2023,"Главацкий Леонид Владимирович","15.01.05","Сварщик (ручной и частично механизированной сварки (наплавки)","Очная","Нет","Трудоустроены не по своей профессии менее 4-х месяцев"]
[1027808004730,2023,"Голивец Ярослав Игоревич","15.01.05","Сварщик (ручной и частично механизированной сварки (наплавки)","Очная","Нет",null,"Проходят службу в армии по призыву"]
[1027808004730,2023,"Жуков Тимофей Витальевич","15.01.05","Сварщик (ручной и частично механизированной сварки (наплавки)","Очная","Нет",null,"Проходят службу в армии по призыву"]
[1027808004730,2023,"Зенков Даниил Николаевич","15.01.05","Сварщик (ручной и частично механизированной сварки (наплавки)","Очная","Нет","Трудоустроены не по своей профессии менее 4-х месяцев"]
[1027808004730,2023,"Иванов Кирилл Вадимович","15.01.05","Сварщик (ручной и частично механизированной сварки (наплавки)","Очная","Нет",null,"Проходят службу в армии по призыву"]
[1027808004730,2023,"Кулаев Даниил Романович","15.01.05","Сварщик (ручной и частично механизированной сварки (наплавки)","Очная","Нет","Трудоустроены не по своей профессии менее 4-х месяцев"]
[1027808004730,2023,"Лукичев Олег Михайлович","15.01.05","Сварщик (ручной и частично механизированной сварки (наплавки)","Очная","Нет","Трудоустроены не по своей профессии менее 4-х месяцев"]
[1027808004730,2023,"Михальченко Данила Алексеевич","15.01.05","Сварщик (ручной и частично механизированной сварки (наплавки)","Очная","Нет","Трудоустроены в соответствии со своей профессией не менее 4-х месяцев "]
[1027808004730,2023,"Овчинников Вадим Леонидович","15.01.05","Сварщик (ручной и частично механизированной сварки (наплавки)","Очная","Нет","Трудоустроены в соответствии со своей профессией не менее 4-х месяцев "]
[1027808004730,2023,"Осин Николай Александрович","15.01.05","Сварщик (ручной и частично механизированной сварки (наплавки)","Очная","Нет","Трудоустроены не по своей профессии менее 4-х месяцев"]
[1027808004730,2023,"Рогов Алексей Станиславович","15.01.05","Сварщик (ручной и частично механизированной сварки (наплавки)","Очная","Нет","Трудоустроены в соответствии со своей профессией не менее 4-х месяцев "]
[1027808004730,2023,"Тимофеев Иван Александрович","15.01.05","Сварщик (ручной и частично механизированной сварки (наплавки)","Очная","Нет","Трудоустроены в соответствии со своей профессией не менее 4-х месяцев "]
[1027808004730,2023,"Филиппов Александр Вячеславович","15.01.05","Сварщик (ручной и частично механизированной сварки (наплавки)","Очная","Нет","Трудоустроены в соответствии со своей профессией не менее 4-х месяцев "]
[1027808004730,2023,"Филиппов Илья Евгеньевич","15.01.05","Сварщик (ручной и частично механизированной сварки (наплавки)","Очная","Нет","Трудоустроены в соответствии со своей профессией не менее 4-х месяцев "]
[1027808004730,2023,"Хайрулин Егор Русланович","15.01.05","Сварщик (ручной и частично механизированной сварки (наплавки)","Очная","Нет","Трудоустроены не по своей профессии менее 4-х месяцев"]
[1027808004730,2023,"Черемхин Михаил Сергеевич","15.01.05","Сварщик (ручной и частично механизированной сварки (наплавки)","Очная","Нет","Трудоустроены не по своей профессии менее 4-х месяцев"]
[1027808004730,2023,"Яблоков Ярослав Сергеевич","15.01.05","Сварщик (ручной и частично механизированной сварки (наплавки)","Очная","Нет","Трудоустроены не по своей профессии менее 4-х месяцев"]
[1027808004730,2023,"Борисов Владислав Николаевич","23.01.17","Мастер по ремонту и обслуживанию автомобилей","Очная","Нет","Трудоустроены не по своей профессии не менее 4-х месяцев "]
[1027808004730,2023,"Васьковский Андрей Сергеевич","23.01.17","Мастер по ремонту и обслуживанию автомобилей","Очная","Нет","Продолжил обучение"]
[1027808004730,2023,"Воробьев Данила Дмитриевич","23.01.17","Мастер по ремонту и обслуживанию автомобилей","Очная","Нет","Продолжил обучение"]
[1027808004730,2023,"Григорьев Николай Александрович","23.01.17","Мастер по ремонту и обслуживанию автомобилей","Очная","Нет","Трудоустроены не по своей профессии менее 4-х месяцев"]
[1027808004730,2023,"Данилов Георгий Артурович","23.01.17","Мастер по ремонту и обслуживанию автомобилей","Очная","Нет","Трудоустроены в соответствии со своей профессией менее 4-х месяцев"]
[1027808004730,2023,"Знатков Иван Денисович","23.01.17","Мастер по ремонту и обслуживанию автомобилей","Очная","Нет",null,"Проходят службу в армии по призыву"]
[1027808004730,2023,"Исламутдинов Родион Наильевич","23.01.17","Мастер по ремонту и обслуживанию автомобилей","Очная","Нет",null,"Проходят службу в армии по призыву"]
[1027808004730,2023,"Камбаров Аббосек ойбек угли","23.01.17","Мастер по ремонту и обслуживанию автомобилей","Очная","Нет","Трудоустроены в соответствии со своей профессией менее 4-х месяцев"]
[1027808004730,2023,"Киракосян Гор Самвелович","23.01.17","Мастер по ремонту и обслуживанию автомобилей","Очная","Нет","Трудоустроены в соответствии со своей профессией менее 4-х месяцев"]
[1027808004730,2023,"Коптев Иван Юрьевич","23.01.17","Мастер по ремонту и обслуживанию автомобилей","Очная","Нет","Трудоустроены в соответствии со своей профессией менее 4-х месяцев"]
[1027808004730,2023,"Михайлов Виктор Игоревич","23.01.17","Мастер по ремонту и обслуживанию автомобилей","Очная","Нет","Трудоустроены не по своей профессии менее 4-х месяцев"]
[1027808004730,2023,"Лиске Максим Евгеньевич","23.01.17","Мастер по ремонту и обслуживанию автомобилей","Очная","Нет","Трудоустроены не по своей профессии менее 4-х месяцев"]
[1027808004730,2023,"Нелидов Иван Константинович","23.01.17","Мастер по ремонту и обслуживанию автомобилей","Очная","Нет","Трудоустроены не по своей профессии менее 4-х месяцев"]
[1027808004730,2023,"Олейник Дмитрий","23.01.17","Мастер по ремонту и обслуживанию автомобилей","Очная","Нет","Трудоустроены не по своей профессии менее 4-х месяцев"]
[1027808004730,2023,"Прозоров Алексей Алексеевич","23.01.17","Мастер по ремонту и обслуживанию автомобилей","Очная","Нет","Трудоустроены не по своей профессии менее 4-х месяцев"]
[1027808004730,2023,"Разоренов Владислав Николаевич","23.01.17","Мастер по ремонту и обслуживанию автомобилей","Очная","Нет",null,"Проходят службу в армии по призыву"]
[1027808004730,2023,"Рейман Алексей Сергеевич","23.01.17","Мастер по ремонту и обслуживанию автомобилей","Очная","Нет",null,"Проходят службу в армии по призыву"]
[1027808004730,2023,"Силин Александр Андреевич","23.01.17","Мастер по ремонту и обслуживанию автомобилей","Очная","Нет","Трудоустроены не по своей профессии менее 4-х месяцев"]
[1027808004730,2023,"Таскеров Герман Николаевич","23.01.17","Мастер по ремонту и обслуживанию автомобилей","Очная","Нет","Трудоустроены не по своей профессии менее 4-х месяцев"]
[1027808004730,2023,"Фёдоров Валентин Сергеевич","23.01.17","Мастер по ремонту и обслуживанию автомобилей","Очная","Нет","Трудоустроены не по своей профессии менее 4-х месяцев"]
[1027808004730,2023,"Хайсунов Курбан Асхабович","23.01.17","Мастер по ремонту и обслуживанию автомобилей","Очная","Нет","Трудоустроены не по своей профессии менее 4-х месяцев"]
[1027808004730,2023,"Эргенч Эмиль Вугарович","23.01.17","Мастер по ремонту и обслуживанию автомобилей","Очная","Нет",null,"Проходят службу в армии по призыву"]
[1027808004730,2023,"Громов Никита Михайлович","23.01.17","Мастер по ремонту и обслуживанию автомобилей","Очная","Нет","Трудоустроены не по своей профессии менее 4-х месяцев"]
[1027808004730,2023,"Лазуткин Андрей Антонович","23.01.17","Мастер по ремонту и обслуживанию автомобилей","Очная","Нет","Трудоустроены не по своей профессии менее 4-х месяцев"]
[1027808004730,2023,"Смирнов Игорь Игоревич","23.01.17","Мастер по ремонту и обслуживанию автомобилей","Очная","Нет","Трудоустроены не по своей профессии менее 4-х месяцев"]
[1027808004730,2023,"Ткаченко Дмитрий Андреевич","23.01.17","Мастер по ремонту и обслуживанию автомобилей","Очная","Нет","Трудоустроены не по своей профессии менее 4-х месяцев"]
[1027808004730,2023,"Хван Дмитрий Игоревич","23.01.17","Мастер по ремонту и обслуживанию автомобилей","Очная","Нет","Трудоустроены не по своей профессии менее 4-х месяцев"]
[1027808004730,2023,"Богданов Антон Игоревич","23.01.17","Мастер по ремонту и обслуживанию автомобилей","Очная","Нет","Трудоустроены не по своей профессии не менее 4-х месяцев "]
[1027808004730,2023,"Александров Никита Павлович","23.01.17","Мастер по ремонту и обслуживанию автомобилей","Очная","Нет",null,"Проходят службу в армии по призыву"]
[1027808004730,2023,"Аскеров руслан Вугарович","23.01.17","Мастер по ремонту и обслуживанию автомобилей","Очная","Нет",null,"Проходят службу в армии по призыву"]
[1027808004730,2023,"Бойков Евгений Павлович","23.01.17","Мастер по ремонту и обслуживанию автомобилей","Очная","Нет","Трудоустроены не по своей профессии менее 4-х месяцев"]
[1027808004730,2023,"Давлетшин Дамир Артурович","23.01.17","Мастер по ремонту и обслуживанию автомобилей","Очная","Нет","Трудоустроены не по своей профессии менее 4-х месяцев"]
[1027808004730,2023,"Ёкубов Намджон Наильевич","23.01.17","Мастер по ремонту и обслуживанию автомобилей","Очная","Нет","Трудоустроены в соответствии со своей профессией менее 4-х месяцев"]
[1027808004730,2023,"Кальченко Антон Васильевич","23.01.17","Мастер по ремонту и обслуживанию автомобилей","Очная","Нет","Трудоустроены в соответствии со своей профессией менее 4-х месяцев"]
[1027808004730,2023,"Калюжный Даниил Евгеньевич","23.01.17","Мастер по ремонту и обслуживанию автомобилей","Очная","Нет","Трудоустроены не по своей профессии менее 4-х месяцев"]
[1027808004730,2023,"Кузьмин Тимофей Валерьевич","23.01.17",{"$f":"IFERROR(VLOOKUP(D134,Справка!$G$2:$H$579,2,0),\"\")","v":"Мастер по ремонту и обслуживанию автомобилей"},"Очная","Нет","Трудоустроены в соответствии со своей профессией менее 4-х месяцев"]
[1027808004730,2023,"Куряков Алексей Евгеньевич","23.01.17",{"$f":"IFERROR(VLOOKUP(D135,Справка!$G$2:$H$579,2,0),\"\")","v":"Мастер по ремонту и обслуживанию автомобилей"},"Очная","Нет","Трудоустроены в соответствии со своей профессией не менее 4-х месяцев "]
[1027808004730,2023,"Литвинова Мария Сергеевна","23.01.17",{"$f":"IFERROR(VLOOKUP(D136,Справка!$G$2:$H$579,2,0),\"\")","v":"Мастер по ремонту и обслуживанию автомобилей"},"Очная","Нет","Трудоустроены не по своей профессии менее 4-х месяцев"]
[1027808004730,2023,"Лукьянов Илья Сергеевич","23.01.17",{"$f":"IFERROR(VLOOKUP(D137,Справка!$G$2:$H$579,2,0),\"\")","v":"Мастер по ремонту и обслуживанию автомобилей"},"Очная","Нет","Трудоустроены в соответствии со своей профессией менее 4-х месяцев"]
[1027808004730,2023,"Макалютин Иван Александрович","23.01.17",{"$f":"IFERROR(VLOOKUP(D138,Справка!$G$2:$H$579,2,0),\"\")","v":"Мастер по ремонту и обслуживанию автомобилей"},"Очная","Нет","Трудоустроены в соответствии со своей профессией менее 4-х месяцев"]
[1027808004730,2023,"Неволин Сергей Сергевич","23.01.17",{"$f":"IFERROR(VLOOKUP(D139,Справка!$G$2:$H$579,2,0),\"\")","v":"Мастер по ремонту и обслуживанию автомобилей"},"Очная","Нет","Трудоустроены в соответствии со своей профессией менее 4-х месяцев"]
[1027808004730,2023,"Пагиев Руслан Аланович","23.01.17",{"$f":"IFERROR(VLOOKUP(D140,Справка!$G$2:$H$579,2,0),\"\")","v":"Мастер по ремонту и обслуживанию автомобилей"},"Очная","Нет","Трудоустроены в соответствии со своей профессией менее 4-х месяцев"]
[1027808004730,2023,"Расулов Азамат Абдумаликович","23.01.17",{"$f":"IFERROR(VLOOKUP(D141,Справка!$G$2:$H$579,2,0),\"\")","v":"Мастер по ремонту и обслуживанию автомобилей"},"Очная","Нет","Трудоустроены не по своей профессии менее 4-х месяцев"]
[1027808004730,2023,"Самойлов Андрей Денисович","23.01.17",{"$f":"IFERROR(VLOOKUP(D142,Справка!$G$2:$H$579,2,0),\"\")","v":"Мастер по ремонту и обслуживанию автомобилей"},"Очная","Нет","Трудоустроены не по своей профессии менее 4-х месяцев"]
[1027808004730,2023,"Сидоренко Софья Михайловна","23.01.17",{"$f":"IFERROR(VLOOKUP(D143,Справка!$G$2:$H$579,2,0),\"\")","v":"Мастер по ремонту и обслуживанию автомобилей"},"Очная","Нет","Самозанятый"]
[1027808004730,2023,"Сулаймонов Хасанхуджа Аббосович","23.01.17",{"$f":"IFERROR(VLOOKUP(D144,Справка!$G$2:$H$579,2,0),\"\")","v":"Мастер по ремонту и обслуживанию автомобилей"},"Очная","Нет","Трудоустроены не по своей профессии менее 4-х месяцев"]
[1027808004730,2023,"Сулима Максим Германович","23.01.17",{"$f":"IFERROR(VLOOKUP(D145,Справка!$G$2:$H$579,2,0),\"\")","v":"Мастер по ремонту и обслуживанию автомобилей"},"Очная","Нет",null,"Проходят службу в армии по призыву"]
[1027808004730,2023,"Тихонов Алексей Константинович","23.01.17",{"$f":"IFERROR(VLOOKUP(D146,Справка!$G$2:$H$579,2,0),\"\")","v":"Мастер по ремонту и обслуживанию автомобилей"},"Очная","Нет","Трудоустроены в соответствии со своей профессией менее 4-х месяцев"]
[1027808004730,2023,"Чернякова Екатерина Александровна","23.01.17",{"$f":"IFERROR(VLOOKUP(D147,Справка!$G$2:$H$579,2,0),\"\")","v":"Мастер по ремонту и обслуживанию автомобилей"},"Очная","Нет","Трудоустроены в соответствии со своей профессией не менее 4-х месяцев "]
[1027808004730,2023,"Штиволока Кристина Романовна","23.01.17",{"$f":"IFERROR(VLOOKUP(D148,Справка!$G$2:$H$579,2,0),\"\")","v":"Мастер по ремонту и обслуживанию автомобилей"},"Очная","Нет","Трудоустроены в соответствии со своей профессией менее 4-х месяцев"]
[1027808004730,2023,"Эргашев Сунатилло Смроджиддин угли","23.01.17",{"$f":"IFERROR(VLOOKUP(D149,Справка!$G$2:$H$579,2,0),\"\")","v":"Мастер по ремонту и обслуживанию автомобилей"},"Очная","Нет","Трудоустроены в соответствии со своей профессией не менее 4-х месяцев "]
[1027808004730,2023,"Комин Кирилл Павлович","23.01.17",{"$f":"IFERROR(VLOOKUP(D150,Справка!$G$2:$H$579,2,0),\"\")","v":"Мастер по ремонту и обслуживанию автомобилей"},"Очная","Нет","Трудоустроены не по своей профессии менее 4-х месяцев"]
[1027808004730,2023,"Максимюк Николай Алексеевич","23.01.17",{"$f":"IFERROR(VLOOKUP(D151,Справка!$G$2:$H$579,2,0),\"\")","v":"Мастер по ремонту и обслуживанию автомобилей"},"Очная","Нет","Трудоустроены в соответствии со своей профессией менее 4-х месяцев"]
[1027808004730,2023,"Прохоров Егор Александрович","23.01.17",{"$f":"IFERROR(VLOOKUP(D152,Справка!$G$2:$H$579,2,0),\"\")","v":"Мастер по ремонту и обслуживанию автомобилей"},"Очная","Нет","Трудоустроены не по своей профессии менее 4-х месяцев"]
[1027808004730,2023,"Хурина Арина Станиславовна ","23.01.17",{"$f":"IFERROR(VLOOKUP(D153,Справка!$G$2:$H$579,2,0),\"\")","v":"Мастер по ремонту и обслуживанию автомобилей"},"Очная","Нет","Трудоустроены не по своей профессии менее 4-х месяцев"]
[1027808004730,2023,"Цыганов Юрий Дмитриевич","23.01.17",{"$f":"IFERROR(VLOOKUP(D154,Справка!$G$2:$H$579,2,0),\"\")","v":"Мастер по ремонту и обслуживанию автомобилей"},"Очная","Нет",null,"Проходят службу в армии по призыву"]
[1027808004730,2023,"Агасибеков Артем Тимурович","15.01.05",{"$f":"IFERROR(VLOOKUP(D155,Справка!$G$2:$H$579,2,0),\"\")","v":"Сварщик (ручной и частично механизированной сварки (наплавки)"},"Очная","Нет","Самозанятый"]
[1027808004730,2023,"Барабанов Иван Владимирович","15.01.05",{"$f":"IFERROR(VLOOKUP(D156,Справка!$G$2:$H$579,2,0),\"\")","v":"Сварщик (ручной и частично механизированной сварки (наплавки)"},"Очная","Нет","Продолжил обучение"]
[1027808004730,2023,"Басков Владислав Игоревич","15.01.05",{"$f":"IFERROR(VLOOKUP(D157,Справка!$G$2:$H$579,2,0),\"\")","v":"Сварщик (ручной и частично механизированной сварки (наплавки)"},"Очная","Нет","Трудоустроены в соответствии со своей профессией менее 4-х месяцев"]
[1027808004730,2023,"Бибиков Дмитрий Иванович","15.01.05",{"$f":"IFERROR(VLOOKUP(D158,Справка!$G$2:$H$579,2,0),\"\")","v":"Сварщик (ручной и частично механизированной сварки (наплавки)"},"Очная","Нет","Трудоустроены в соответствии со своей профессией менее 4-х месяцев"]
[1027808004730,2023,"Вечернюк Денис Юрьевич","15.01.05",{"$f":"IFERROR(VLOOKUP(D159,Справка!$G$2:$H$579,2,0),\"\")","v":"Сварщик (ручной и частично механизированной сварки (наплавки)"},"Очная","Нет","Трудоустроены не по своей профессии менее 4-х месяцев"]
[1027808004730,2023,"Вуквун Егор Олегович","15.01.05",{"$f":"IFERROR(VLOOKUP(D160,Справка!$G$2:$H$579,2,0),\"\")","v":"Сварщик (ручной и частично механизированной сварки (наплавки)"},"Очная","Нет","Трудоустроены в соответствии со своей профессией менее 4-х месяцев"]
[1027808004730,2023,"Горбач Максим Леонидович","15.01.05",{"$f":"IFERROR(VLOOKUP(D161,Справка!$G$2:$H$579,2,0),\"\")","v":"Сварщик (ручной и частично механизированной сварки (наплавки)"},"Очная","Нет",null,"Проходят службу в армии по призыву"]
[1027808004730,2023,"Деханов Иван Ильич","15.01.05",{"$f":"IFERROR(VLOOKUP(D162,Справка!$G$2:$H$579,2,0),\"\")","v":"Сварщик (ручной и частично механизированной сварки (наплавки)"},"Очная","Нет","Трудоустроены в соответствии со своей профессией менее 4-х месяцев"]
[1027808004730,2023,"Дугин Александр Владимирович","15.01.05",{"$f":"IFERROR(VLOOKUP(D163,Справка!$G$2:$H$579,2,0),\"\")","v":"Сварщик (ручной и частично механизированной сварки (наплавки)"},"Очная","Нет","Трудоустроены в соответствии со своей профессией менее 4-х месяцев"]
[1027808004730,2023,"Ипатов Илья Александрович","15.01.05",{"$f":"IFERROR(VLOOKUP(D164,Справка!$G$2:$H$579,2,0),\"\")","v":"Сварщик (ручной и частично механизированной сварки (наплавки)"},"Очная","Нет","Продолжил обучение"]
[1027808004730,2023,"Казначеев Александр Константинович","15.01.05",{"$f":"IFERROR(VLOOKUP(D165,Справка!$G$2:$H$579,2,0),\"\")","v":"Сварщик (ручной и частично механизированной сварки (наплавки)"},"Очная","Нет","Трудоустроены в соответствии со своей профессией менее 4-х месяцев"]
[1027808004730,2023,"Касаткин Даниил Алексеевич","15.01.05",{"$f":"IFERROR(VLOOKUP(D166,Справка!$G$2:$H$579,2,0),\"\")","v":"Сварщик (ручной и частично механизированной сварки (наплавки)"},"Очная","Нет","Продолжил обучение"]
[1027808004730,2023,"Королев Владимир Сергеевич","15.01.05",{"$f":"IFERROR(VLOOKUP(D167,Справка!$G$2:$H$579,2,0),\"\")","v":"Сварщик (ручной и частично механизированной сварки (наплавки)"},"Очная","Нет","Трудоустроены в соответствии со своей профессией менее 4-х месяцев"]
[1027808004730,2023,"Крыжановский Николай Валерьевич","15.01.05",{"$f":"IFERROR(VLOOKUP(D168,Справка!$G$2:$H$579,2,0),\"\")","v":"Сварщик (ручной и частично механизированной сварки (наплавки)"},"Очная","Нет","Трудоустроены в соответствии со своей профессией менее 4-х месяцев"]
[1027808004730,2023,"Кулешов Роман Михайлович","15.01.05",{"$f":"IFERROR(VLOOKUP(D169,Справка!$G$2:$H$579,2,0),\"\")","v":"Сварщик (ручной и частично механизированной сварки (наплавки)"},"Очная","Нет","Продолжил обучение"]
[1027808004730,2023,"Лебедь Павел Романович","15.01.05",{"$f":"IFERROR(VLOOKUP(D170,Справка!$G$2:$H$579,2,0),\"\")","v":"Сварщик (ручной и частично механизированной сварки (наплавки)"},"Очная","Нет","Трудоустроены в соответствии со своей профессией менее 4-х месяцев"]
[1027808004730,2023,"Михайлов Богдан Фёдорович","15.01.05",{"$f":"IFERROR(VLOOKUP(D171,Справка!$G$2:$H$579,2,0),\"\")","v":"Сварщик (ручной и частично механизированной сварки (наплавки)"},"Очная","Нет","Трудоустроены в соответствии со своей профессией менее 4-х месяцев"]
[1027808004730,2023,"Носильников Сергей Алексеевич","15.01.05",{"$f":"IFERROR(VLOOKUP(D172,Справка!$G$2:$H$579,2,0),\"\")","v":"Сварщик (ручной и частично механизированной сварки (наплавки)"},"Очная","Нет","Трудоустроены в соответствии со своей профессией менее 4-х месяцев"]
[1027808004730,2023,"Прилуцкий Александр Сергеевич","15.01.05",{"$f":"IFERROR(VLOOKUP(D173,Справка!$G$2:$H$579,2,0),\"\")","v":"Сварщик (ручной и частично механизированной сварки (наплавки)"},"Очная","Нет","Продолжил обучение"]
[1027808004730,2023,"Руснак Илья Михайлович","15.01.05",{"$f":"IFERROR(VLOOKUP(D174,Справка!$G$2:$H$579,2,0),\"\")","v":"Сварщик (ручной и частично механизированной сварки (наплавки)"},"Очная","Нет","Трудоустроены в соответствии со своей профессией менее 4-х месяцев"]
[1027808004730,2023,"Садырбек уулу Ырыскелди","15.01.05",{"$f":"IFERROR(VLOOKUP(D175,Справка!$G$2:$H$579,2,0),\"\")","v":"Сварщик (ручной и частично механизированной сварки (наплавки)"},"Очная","Нет","Трудоустроены в соответствии со своей профессией менее 4-х месяцев"]
[1027808004730,2023,"Сыров Николай Олегович","15.01.05",{"$f":"IFERROR(VLOOKUP(D176,Справка!$G$2:$H$579,2,0),\"\")","v":"Сварщик (ручной и частично механизированной сварки (наплавки)"},"Очная","Нет","Трудоустроены в соответствии со своей профессией менее 4-х месяцев"]
[1027808004730,2023,"Тагиев Ильдар Ильгарович","15.01.05",{"$f":"IFERROR(VLOOKUP(D177,Справка!$G$2:$H$579,2,0),\"\")","v":"Сварщик (ручной и частично механизированной сварки (наплавки)"},"Очная","Нет","Трудоустроены в соответствии со своей профессией менее 4-х месяцев"]
[1027808004730,2023,"Чипига Борис Русланович","15.01.05","Сварщик (ручной и частично механизированной сварки (наплавки)","Очная","Нет","Трудоустроены в соответствии со своей профессией менее 4-х месяцев"]
[1027808004730,2023,"Шпаков Геогрий Сергеевич","15.01.05","Сварщик (ручной и частично механизированной сварки (наплавки)","Очная","Нет","Трудоустроены в соответствии со своей профессией менее 4-х месяцев"]
[1027808004730,2023,"Берцик Евгений Фёдорович","15.01.05","Сварщик (ручной и частично механизированной сварки (наплавки)","Очная","Нет","Трудоустроены в соответствии со своей профессией менее 4-х месяцев"]
[1027808004730,2023,"Волов Алексей Александрович","15.01.05","Сварщик (ручной и частично механизированной сварки (наплавки)","Очная","Нет","Самозанятый"]
[1027808004730,2023,"Косых Александр Павлович","15.01.05","Сварщик (ручной и частично механизированной сварки (наплавки)","Очная","Нет","Продолжил обучение"]
[1027808004730,2023,"Сироткин Кирилл Андреевич","15.01.05","Сварщик (ручной и частично механизированной сварки (наплавки)","Очная","Нет","Трудоустроены в соответствии со своей профессией менее 4-х месяцев"]
[1027808004730,2023,"Махмудов Фаррухджон Зокирович","15.01.05","Сварщик (ручной и частично механизированной сварки (наплавки)","Очная","Нет","Трудоустроены не по своей профессии не менее 4-х месяцев "]
[1027808004730,2023,"Батищева Ирина Сергеевна","23.02.01","Организация перевозок и управление на транспорте (по видам)","Очная","Нет","Трудоустроены не по своей профессии не менее 4-х месяцев "]
[1027808004730,2023,"Васильева Анастасия Борисовна","23.02.01","Организация перевозок и управление на транспорте (по видам)","Очная","Нет","Трудоустроены в соответствии со своей профессией менее 4-х месяцев"]
[1027808004730,2023,"Виноградов Василий Валентинович","23.02.01","Организация перевозок и управление на транспорте (по видам)","Очная","Нет",null,"Проходят службу в армии по призыву"]
[1027808004730,2023,"Горохов Семён Михайлович","23.02.01","Организация перевозок и управление на транспорте (по видам)","Очная","Нет","Трудоустроены не по своей профессии не менее 4-х месяцев "]
[1027808004730,2023,"Данилов Данил Максимович","23.02.01","Организация перевозок и управление на транспорте (по видам)","Очная","Нет",null,"Проходят службу в армии по призыву"]
[1027808004730,2023,"Долгов Николай Валерьевич","23.02.01","Организация перевозок и управление на транспорте (по видам)","Очная","Нет",null,"Проходят службу в армии по призыву"]
[1027808004730,2023,"Игнатенко Кристина Александровна","23.02.01","Организация перевозок и управление на транспорте (по видам)","Очная","Нет","Трудоустроены в соответствии со своей профессией менее 4-х месяцев"]
[1027808004730,2023,"Константинов Илья Андреевич","23.02.01","Организация перевозок и управление на транспорте (по видам)","Очная","Нет",null,"Проходят службу в армии по призыву"]
[1027808004730,2023,"Коробейников Никита Сергеевич","23.02.01","Организация перевозок и управление на транспорте (по видам)","Очная","Нет",null,"Проходят службу в армии по призыву"]
[1027808004730,2023,"Крутяков Артем  Александрович","23.02.01","Организация перевозок и управление на транспорте (по видам)","Очная","Нет",null,"Проходят службу в армии по призыву"]
[1027808004730,2023,"Ливинская Наталья","23.02.01","Организация перевозок и управление на транспорте (по видам)","Очная","Нет","Трудоустроены в соответствии со своей профессией менее 4-х месяцев"]
[1027808004730,2023,"Михайлюк Тимур Муслимович","23.02.01","Организация перевозок и управление на транспорте (по видам)","Очная","Нет","Трудоустроены в соответствии со своей профессией менее 4-х месяцев"]
[1027808004730,2023,"Нючев Захар Витальевич","23.02.01","Организация перевозок и управление на транспорте (по видам)","Очная","Нет","Трудоустроены в соответствии со своей профессией менее 4-х месяцев"]
[1027808004730,2023,"Онищенков Андрей Константинович","23.02.01","Организация перевозок и управление на транспорте (по видам)","Очная","Нет",null,"Проходят службу в армии по призыву"]
[1027808004730,2023,"Ортин Александр Андреевич","23.02.01","Организация перевозок и управление на транспорте (по видам)","Очная","Нет",null,"Проходят службу в армии по призыву"]
[1027808004730,2023,"Перов Даниил Антонович","23.02.01","Организация перевозок и управление на транспорте (по видам)","Очная","Нет","Трудоустроены не по своей профессии менее 4-х месяцев"]
[1027808004730,2023,"Родионов Денис Андреевич","23.02.01","Организация перевозок и управление на транспорте (по видам)","Очная","Нет","Трудоустроены не по своей профессии не менее 4-х месяцев "]
[1027808004730,2023,"Рудневский Егор Владиславович","23.02.01","Организация перевозок и управление на транспорте (по видам)","Очная","Нет","Трудоустроены не по своей профессии менее 4-х месяцев"]
[1027808004730,2023,"Савин Никита Дмитриевич","23.02.01","Организация перевозок и управление на транспорте (по видам)","Очная","Нет",null,"Проходят службу в армии по призыву"]
[1027808004730,2023,"Синникова Валентина Андреевна","23.02.01","Организация перевозок и управление на транспорте (по видам)","Очная","Нет","Трудоустроены не по своей профессии менее 4-х месяцев"]
[1027808004730,2023,"Смирнов Денис Русланович","23.02.01","Организация перевозок и управление на транспорте (по видам)","Очная","Нет","Трудоустроены в соответствии со своей профессией менее 4-х месяцев"]
[1027808004730,2023,"Степанова Анна Феликсовна","23.02.01","Организация перевозок и управление на транспорте (по видам)","Очная","Нет","Трудоустроены не по своей профессии менее 4-х месяцев"]
[1027808004730,2023,"Федосеева Диана Романовна","23.02.01","Организация перевозок и управление на транспорте (по видам)","Очная","Нет","Трудоустроены не по своей профессии не менее 4-х месяцев "]
[1027808004730,2023,"Харченко Георгий Юрьевич","23.02.01","Организация перевозок и управление на транспорте (по видам)","Очная","Нет","Трудоустроены не по своей профессии менее 4-х месяцев"]
[1027808004730,2023,"Чернышова Янина Александровна","23.02.01","Организация перевозок и управление на транспорте (по видам)","Очная","Нет","Продолжил обучение"]
[1027808004730,2023,"Яковлев Александр Сергеевич","23.02.01","Организация перевозок и управление на транспорте (по видам)","Очная","Нет","Трудоустроены не по своей профессии не менее 4-х месяцев "]
[1027808004730,2023,"Анисимов Леонид Александрович","22.02.06",{"$f":"IFERROR(VLOOKUP(D211,Справка!$G$2:$H$579,2,0),\"\")","v":"Сварочное производство"},"Очная","Нет","Трудоустроены не по своей профессии менее 4-х месяцев"]
[1027808004730,2023,"Бабаев Артур Денисович","22.02.06",{"$f":"IFERROR(VLOOKUP(D212,Справка!$G$2:$H$579,2,0),\"\")","v":"Сварочное производство"},"Очная","Нет","Трудоустроены не по своей профессии не менее 4-х месяцев "]
[1027808004730,2023,"Боднарук Андрей Витальевич","22.02.06",{"$f":"IFERROR(VLOOKUP(D213,Справка!$G$2:$H$579,2,0),\"\")","v":"Сварочное производство"},"Очная","Нет","Трудоустроены не по своей профессии не менее 4-х месяцев "]
[1027808004730,2023,"Ботов Лентий Леонтьевич ","22.02.06",{"$f":"IFERROR(VLOOKUP(D214,Справка!$G$2:$H$579,2,0),\"\")","v":"Сварочное производство"},"Очная","Нет","Трудоустроены не по своей профессии менее 4-х месяцев"]
[1027808004730,2023,"Ведорыгин Максим Евгеньевич","22.02.06",{"$f":"IFERROR(VLOOKUP(D215,Справка!$G$2:$H$579,2,0),\"\")","v":"Сварочное производство"},"Очная","Нет","Трудоустроены не по своей профессии не менее 4-х месяцев "]
[1027808004730,2023,"Гамидханов Расул Казимович","22.02.06",{"$f":"IFERROR(VLOOKUP(D216,Справка!$G$2:$H$579,2,0),\"\")","v":"Сварочное производство"},"Очная","Нет","Трудоустроены не по своей профессии не менее 4-х месяцев "]
[1027808004730,2023,"Ганижанов Кирилл Германович","22.02.06",{"$f":"IFERROR(VLOOKUP(D217,Справка!$G$2:$H$579,2,0),\"\")","v":"Сварочное производство"},"Очная","Нет","Трудоустроены в соответствии со своей профессией менее 4-х месяцев"]
[1027808004730,2023,"Григорьев Александр Аександрович","22.02.06",{"$f":"IFERROR(VLOOKUP(D218,Справка!$G$2:$H$579,2,0),\"\")","v":"Сварочное производство"},"Очная","Нет","Трудоустроены в соответствии со своей профессией не менее 4-х месяцев "]
[1027808004730,2023,"Гулиев Гошкар Худаярович","22.02.06",{"$f":"IFERROR(VLOOKUP(D219,Справка!$G$2:$H$579,2,0),\"\")","v":"Сварочное производство"},"Очная","Нет","Трудоустроены в соответствии со своей профессией менее 4-х месяцев"]
[1027808004730,2023,"Дамаскин Александр Сергеевич","22.02.06",{"$f":"IFERROR(VLOOKUP(D220,Справка!$G$2:$H$579,2,0),\"\")","v":"Сварочное производство"},"Очная","Нет","Трудоустроены не по своей профессии не менее 4-х месяцев "]
[1027808004730,2023,"Жукаускас Виталий Владимирович","22.02.06",{"$f":"IFERROR(VLOOKUP(D221,Справка!$G$2:$H$579,2,0),\"\")","v":"Сварочное производство"},"Очная","Нет","Трудоустроены не по своей профессии менее 4-х месяцев"]
[1027808004730,2023,"Козырев Данила Алексеевич","22.02.06",{"$f":"IFERROR(VLOOKUP(D222,Справка!$G$2:$H$579,2,0),\"\")","v":"Сварочное производство"},"Очная","Нет","Трудоустроены не по своей профессии менее 4-х месяцев"]
[1027808004730,2023,"Королев Антон Николаевич","22.02.06",{"$f":"IFERROR(VLOOKUP(D223,Справка!$G$2:$H$579,2,0),\"\")","v":"Сварочное производство"},"Очная","Нет","Трудоустроены не по своей профессии менее 4-х месяцев"]
[1027808004730,2023,"Могилат Никита Павлович","22.02.06",{"$f":"IFERROR(VLOOKUP(D224,Справка!$G$2:$H$579,2,0),\"\")","v":"Сварочное производство"},"Очная","Нет","Трудоустроены в соответствии со своей профессией менее 4-х месяцев"]
[1027808004730,2023,"Морозов Иван Антонович","22.02.06",{"$f":"IFERROR(VLOOKUP(D225,Справка!$G$2:$H$579,2,0),\"\")","v":"Сварочное производство"},"Очная","Нет","Трудоустроены не по своей профессии менее 4-х месяцев"]
[1027808004730,2023,"Мурзаков Ростислав Владимирович","22.02.06","Сварочное производство","Очная","Нет","Трудоустроены в соответствии со своей профессией менее 4-х месяцев"]
[1027808004730,2023,"Наливкин Александр Михайлович","22.02.06","Сварочное производство","Очная","Нет","Трудоустроены не по своей профессии менее 4-х месяцев"]
[1027808004730,2023,"Поздняков Виталий Сергеевич","22.02.06","Сварочное производство","Очная","Нет","Трудоустроены не по своей профессии менее 4-х месяцев"]
[1027808004730,2023,"Салимов Акшин Сахиб оглы","22.02.06","Сварочное производство","Очная","Нет","Трудоустроены в соответствии со своей профессией не менее 4-х месяцев "]
[1027808004730,2023,"Сердюк Константин Кириллович","22.02.06","Сварочное производство","Очная","Нет","Трудоустроены не по своей профессии не менее 4-х месяцев "]
[1027808004730,2023,"Фролов Илья Андреевич","22.02.06","Сварочное производство","Очная","Нет","Трудоустроены не по своей профессии менее 4-х месяцев"]
[1027808004730,2023,"Чугаев Дмитрий Вадимович","22.02.06","Сварочное производство","Очная","Нет","Трудоустроены не по своей профессии менее 4-х месяцев"]
[1027808004730,2023,"Юриков Анатолий Викторович","22.02.06",{"$f":"IFERROR(VLOOKUP(D233,Справка!$G$2:$H$579,2,0),\"\")","v":"Сварочное производство"},"Очная","Нет","Трудоустроены не по своей профессии менее 4-х месяцев"]
[1027808004730,2023,"Немсадзе Дато Мерабович","22.02.06","Сварочное производство","Очная","Нет","Трудоустроены в соответствии со своей профессией не менее 4-х месяцев "]
[]
[]
[]
[]
[]
[]
[]
[]
[]
[]
[]
[]
[]
[]
[]
[]
[]
[]
[]
[]
[]
[]
[]
[]
[null,null,null,null,{"$f":"IFERROR(VLOOKUP(D259,Справка!$G$2:$H$579,2,0),\"\")","v":""}]
[null,null,null,null,{"$f":"IFERROR(VLOOKUP(D260,Справка!$G$2:$H$579,2,0),\"\")","v":""}]
[null,null,null,null,{"$f":"IFERROR(VLOOKUP(D261,Справка!$G$2:$H$579,2,0),\"\")","v":""}]
[null,null,null,null,{"$f":"IFERROR(VLOOKUP(D262,Справка!$G$2:$H$579,2,0),\"\")","v":""}]
[null,null,null,null,{"$f":"IFERROR(VLOOKUP(D263,Справка!$G$2:$H$579,2,0),\"\")","v":""}]
[null,null,null,null,{"$f":"IFERROR(VLOOKUP(D264,Справка!$G$2:$H$579,2,0),\"\")","v":""}]
[null,null,null,null,{"$f":"IFERROR(VLOOKUP(D265,Справка!$G$2:$H$579,2,0),\"\")","v":""}]
[null,null,null,null,{"$f":"IFERROR(VLOOKUP(D266,Справка!$G$2:$H$579,2,0),\"\")","v":""}]
[null,null,null,null,{"$f":"IFERROR(VLOOKUP(D267,Справка!$G$2:$H$579,2,0),\"\")","v":""}]
[null,null,null,null,{"$f":"IFERROR(VLOOKUP(D268,Справка!$G$2:$H$579,2,0),\"\")","v":""}]
[null,null,null,null,{"$f":"IFERROR(VLOOKUP(D269,Справка!$G$2:$H$579,2,0),\"\")","v":""}]
[null,null,null,null,{"$f":"IFERROR(VLOOKUP(D270,Справка!$G$2:$H$579,2,0),\"\")","v":""}]
[null,null,null,null,{"$f":"IFERROR(VLOOKUP(D271,Справка!$G$2:$H$579,2,0),\"\")","v":""}]
[null,null,null,null,{"$f":"IFERROR(VLOOKUP(D272,Справка!$G$2:$H$579,2,0),\"\")","v":""}]
[null,null,null,null,{"$f":"IFERROR(VLOOKUP(D273,Справка!$G$2:$H$579,2,0),\"\")","v":""}]
[null,null,null,null,{"$f":"IFERROR(VLOOKUP(D274,Справка!$G$2:$H$579,2,0),\"\")","v":""}]
[null,null,null,null,{"$f":"IFERROR(VLOOKUP(D275,Справка!$G$2:$H$579,2,0),\"\")","v":""}]
[null,null,null,null,{"$f":"IFERROR(VLOOKUP(D276,Справка!$G$2:$H$579,2,0),\"\")","v":""}]
[null,null,null,null,{"$f":"IFERROR(VLOOKUP(D277,Справка!$G$2:$H$579,2,0),\"\")","v":""}]
[null,null,null,null,{"$f":"IFERROR(VLOOKUP(D278,Справка!$G$2:$H$579,2,0),\"\")","v":""}]
[null,null,null,null,{"$f":"IFERROR(VLOOKUP(D279,Справка!$G$2:$H$579,2,0),\"\")","v":""}]
[null,null,null,null,{"$f":"IFERROR(VLOOKUP(D280,Справка!$G$2:$H$579,2,0),\"\")","v":""}]
[null,null,null,null,{"$f":"IFERROR(VLOOKUP(D281,Справка!$G$2:$H$579,2,0),\"\")","v":""}]
[null,null,null,null,{"$f":"IFERROR(VLOOKUP(D282,Справка!$G$2:$H$579,2,0),\"\")","v":""}]
[null,null,null,null,{"$f":"IFERROR(VLOOKUP(D283,Справка!$G$2:$H$579,2,0),\"\")","v":""}]
[null,null,null,null,{"$f":"IFERROR(VLOOKUP(D284,Справка!$G$2:$H$579,2,0),\"\")","v":""}]
[null,null,null,null,{"$f":"IFERROR(VLOOKUP(D285,Справка!$G$2:$H$579,2,0),\"\")","v":""}]
[null,null,null,null,{"$f":"IFERROR(VLOOKUP(D286,Справка!$G$2:$H$579,2,0),\"\")","v":""}]
[null,null,null,null,{"$f":"IFERROR(VLOOKUP(D287,Справка!$G$2:$H$579,2,0),\"\")","v":""}]
[null,null,null,null,{"$f":"IFERROR(VLOOKUP(D288,Справка!$G$2:$H$579,2,0),\"\")","v":""}]
[null,null,null,null,{"$f":"IFERROR(VLOOKUP(D289,Справка!$G$2:$H$579,2,0),\"\")","v":""}]
[null,null,null,null,{"$f":"IFERROR(VLOOKUP(D290,Справка!$G$2:$H$579,2,0),\"\")","v":""}]
[null,null,null,null,{"$f":"IFERROR(VLOOKUP(D291,Справка!$G$2:$H$579,2,0),\"\")","v":""}]
[null,null,null,null,{"$f":"IFERROR(VLOOKUP(D292,Справка!$G$2:$H$579,2,0),\"\")","v":""}]
[null,null,null,null,{"$f":"IFERROR(VLOOKUP(D293,Справка!$G$2:$H$579,2,0),\"\")","v":""}]
[null,null,null,null,{"$f":"IFERROR(VLOOKUP(D294,Справка!$G$2:$H$579,2,0),\"\")","v":""}]
[null,null,null,null,{"$f":"IFERROR(VLOOKUP(D295,Справка!$G$2:$H$579,2,0),\"\")","v":""}]
[null,null,null,null,{"$f":"IFERROR(VLOOKUP(D296,Справка!$G$2:$H$579,2,0),\"\")","v":""}]
[null,null,null,null,{"$f":"IFERROR(VLOOKUP(D297,Справка!$G$2:$H$579,2,0),\"\")","v":""}]
[null,null,null,null,{"$f":"IFERROR(VLOOKUP(D298,Справка!$G$2:$H$579,2,0),\"\")","v":""}]
[null,null,null,null,{"$f":"IFERROR(VLOOKUP(D299,Справка!$G$2:$H$579,2,0),\"\")","v":""}]
[null,null,null,null,{"$f":"IFERROR(VLOOKUP(D300,Справка!$G$2:$H$579,2,0),\"\")","v":""}]
[null,null,null,null,{"$f":"IFERROR(VLOOKUP(D301,Справка!$G$2:$H$579,2,0),\"\")","v":""}]
[null,null,null,null,{"$f":"IFERROR(VLOOKUP(D302,Справка!$G$2:$H$579,2,0),\"\")","v":""}]
[null,null,null,null,{"$f":"IFERROR(VLOOKUP(D303,Справка!$G$2:$H$579,2,0),\"\")","v":""}]
[null,null,null,null,{"$f":"IFERROR(VLOOKUP(D304,Справка!$G$2:$H$579,2,0),\"\")","v":""}]
[null,null,null,null,{"$f":"IFERROR(VLOOKUP(D305,Справка!$G$2:$H$579,2,0),\"\")","v":""}]
[null,null,null,null,{"$f":"IFERROR(VLOOKUP(D306,Справка!$G$2:$H$579,2,0),\"\")","v":""}]
[null,null,null,null,{"$f":"IFERROR(VLOOKUP(D307,Справка!$G$2:$H$579,2,0),\"\")","v":""}]
[null,null,null,null,{"$f":"IFERROR(VLOOKUP(D308,Справка!$G$2:$H$579,2,0),\"\")","v":""}]
[null,null,null,null,{"$f":"IFERROR(VLOOKUP(D309,Справка!$G$2:$H$579,2,0),\"\")","v":""}]
[null,null,null,null,{"$f":"IFERROR(VLOOKUP(D310,Справка!$G$2:$H$579,2,0),\"\")","v":""}]
[null,null,null,null,{"$f":"IFERROR(VLOOKUP(D311,Справка!$G$2:$H$579,2,0),\"\")","v":""}]
[null,null,null,null,{"$f":"IFERROR(VLOOKUP(D312,Справка!$G$2:$H$579,2,0),\"\")","v":""}]
[null,null,null,null,{"$f":"IFERROR(VLOOKUP(D313,Справка!$G$2:$H$579,2,0),\"\")","v":""}]
[null,null,null,null,{"$f":"IFERROR(VLOOKUP(D314,Справка!$G$2:$H$579,2,0),\"\")","v":""}]
[null,null,null,null,{"$f":"IFERROR(VLOOKUP(D315,Справка!$G$2:$H$579,2,0),\"\")","v":""}]
[null,null,null,null,{"$f":"IFERROR(VLOOKUP(D316,Справка!$G$2:$H$579,2,0),\"\")","v":""}]
[null,null,null,null,{"$f":"IFERROR(VLOOKUP(D317,Справка!$G$2:$H$579,2,0),\"\")","v":""}]
[null,null,null,null,{"$f":"IFERROR(VLOOKUP(D318,Справка!$G$2:$H$579,2,0),\"\")","v":""}]
[null,null,null,null,{"$f":"IFERROR(VLOOKUP(D319,Справка!$G$2:$H$579,2,0),\"\")","v":""}]
[null,null,null,null,{"$f":"IFERROR(VLOOKUP(D320,Справка!$G$2:$H$579,2,0),\"\")","v":""}]
[null,null,null,null,{"$f":"IFERROR(VLOOKUP(D321,Справка!$G$2:$H$579,2,0),\"\")","v":""}]
[null,null,null,null,{"$f":"IFERROR(VLOOKUP(D322,Справка!$G$2:$H$579,2,0),\"\")","v":""}]
[null,null,null,null,{"$f":"IFERROR(VLOOKUP(D323,Справка!$G$2:$H$579,2,0),\"\")","v":""}]
[null,null,null,null,{"$f":"IFERROR(VLOOKUP(D324,Справка!$G$2:$H$579,2,0),\"\")","v":""}]
[null,null,null,null,{"$f":"IFERROR(VLOOKUP(D325,Справка!$G$2:$H$579,2,0),\"\")","v":""}]
[null,null,null,null,{"$f":"IFERROR(VLOOKUP(D326,Справка!$G$2:$H$579,2,0),\"\")","v":""}]
[null,null,null,null,{"$f":"IFERROR(VLOOKUP(D327,Справка!$G$2:$H$579,2,0),\"\")","v":""}]
[null,null,null,null,{"$f":"IFERROR(VLOOKUP(D328,Справка!$G$2:$H$579,2,0),\"\")","v":""}]
[null,null,null,null,{"$f":"IFERROR(VLOOKUP(D329,Справка!$G$2:$H$579,2,0),\"\")","v":""}]
[null,null,null,null,{"$f":"IFERROR(VLOOKUP(D330,Справка!$G$2:$H$579,2,0),\"\")","v":""}]
[null,null,null,null,{"$f":"IFERROR(VLOOKUP(D331,Справка!$G$2:$H$579,2,0),\"\")","v":""}]
[null,null,null,null,{"$f":"IFERROR(VLOOKUP(D332,Справка!$G$2:$H$579,2,0),\"\")","v":""}]
[null,null,null,null,{"$f":"IFERROR(VLOOKUP(D333,Справка!$G$2:$H$579,2,0),\"\")","v":""}]
[null,null,null,null,{"$f":"IFERROR(VLOOKUP(D334,Справка!$G$2:$H$579,2,0),\"\")","v":""}]
[null,null,null,null,{"$f":"IFERROR(VLOOKUP(D335,Справка!$G$2:$H$579,2,0),\"\")","v":""}]
[null,null,null,null,{"$f":"IFERROR(VLOOKUP(D336,Справка!$G$2:$H$579,2,0),\"\")","v":""}]
[null,null,null,null,{"$f":"IFERROR(VLOOKUP(D337,Справка!$G$2:$H$579,2,0),\"\")","v":""}]
[null,null,null,null,{"$f":"IFERROR(VLOOKUP(D338,Справка!$G$2:$H$579,2,0),\"\")","v":""}]
[null,null,null,null,{"$f":"IFERROR(VLOOKUP(D339,Справка!$G$2:$H$579,2,0),\"\")","v":""}]
[null,null,null,null,{"$f":"IFERROR(VLOOKUP(D340,Справка!$G$2:$H$579,2,0),\"\")","v":""}]
[null,null,null,null,{"$f":"IFERROR(VLOOKUP(D341,Справка!$G$2:$H$579,2,0),\"\")","v":""}]
[null,null,null,null,{"$f":"IFERROR(VLOOKUP(D342,Справка!$G$2:$H$579,2,0),\"\")","v":""}]
[null,null,null,null,{"$f":"IFERROR(VLOOKUP(D343,Справка!$G$2:$H$579,2,0),\"\")","v":""}]
[null,null,null,null,{"$f":"IFERROR(VLOOKUP(D344,Справка!$G$2:$H$579,2,0),\"\")","v":""}]
[null,null,null,null,{"$f":"IFERROR(VLOOKUP(D345,Справка!$G$2:$H$579,2,0),\"\")","v":""}]
[null,null,null,null,{"$f":"IFERROR(VLOOKUP(D346,Справка!$G$2:$H$579,2,0),\"\")","v":""}]
[null,null,null,null,{"$f":"IFERROR(VLOOKUP(D347,Справка!$G$2:$H$579,2,0),\"\")","v":""}]
[null,null,null,null,{"$f":"IFERROR(VLOOKUP(D348,Справка!$G$2:$H$579,2,0),\"\")","v":""}]
[null,null,null,null,{"$f":"IFERROR(VLOOKUP(D349,Справка!$G$2:$H$579,2,0),\"\")","v":""}]
[null,null,null,null,{"$f":"IFERROR(VLOOKUP(D350,Справка!$G$2:$H$579,2,0),\"\")","v":""}]
[null,null,null,null,{"$f":"IFERROR(VLOOKUP(D351,Справка!$G$2:$H$579,2,0),\"\")","v":""}]
[null,null,null,null,{"$f":"IFERROR(VLOOKUP(D352,Справка!$G$2:$H$579,2,0),\"\")","v":""}]
[null,null,null,null,{"$f":"IFERROR(VLOOKUP(D353,Справка!$G$2:$H$579,2,0),\"\")","v":""}]
[null,null,null,null,{"$f":"IFERROR(VLOOKUP(D354,Справка!$G$2:$H$579,2,0),\"\")","v":""}]
[null,null,null,null,{"$f":"IFERROR(VLOOKUP(D355,Справка!$G$2:$H$579,2,0),\"\")","v":""}]
[null,null,null,null,{"$f":"IFERROR(VLOOKUP(D356,Справка!$G$2:$H$579,2,0),\"\")","v":""}]
[null,null,null,null,{"$f":"IFERROR(VLOOKUP(D357,Справка!$G$2:$H$579,2,0),\"\")","v":""}]
[null,null,null,null,{"$f":"IFERROR(VLOOKUP(D358,Справка!$G$2:$H$579,2,0),\"\")","v":""}]
[null,null,null,null,{"$f":"IFERROR(VLOOKUP(D359,Справка!$G$2:$H$579,2,0),\"\")","v":""}]
[null,null,null,null,{"$f":"IFERROR(VLOOKUP(D360,Справка!$G$2:$H$579,2,0),\"\")","v":""}]
[null,null,null,null,{"$f":"IFERROR(VLOOKUP(D361,Справка!$G$2:$H$579,2,0),\"\")","v":""}]
[null,null,null,null,{"$f":"IFERROR(VLOOKUP(D362,Справка!$G$2:$H$579,2,0),\"\")","v":""}]
[null,null,null,null,{"$f":"IFERROR(VLOOKUP(D363,Справка!$G$2:$H$579,2,0),\"\")","v":""}]
[null,null,null,null,{"$f":"IFERROR(VLOOKUP(D364,Справка!$G$2:$H$579,2,0),\"\")","v":""}]
[null,null,null,null,{"$f":"IFERROR(VLOOKUP(D365,Справка!$G$2:$H$579,2,0),\"\")","v":""}]
[null,null,null,null,{"$f":"IFERROR(VLOOKUP(D366,Справка!$G$2:$H$579,2,0),\"\")","v":""}]
[null,null,null,null,{"$f":"IFERROR(VLOOKUP(D367,Справка!$G$2:$H$579,2,0),\"\")","v":""}]
[null,null,null,null,{"$f":"IFERROR(VLOOKUP(D368,Справка!$G$2:$H$579,2,0),\"\")","v":""}]
[null,null,null,null,{"$f":"IFERROR(VLOOKUP(D369,Справка!$G$2:$H$579,2,0),\"\")","v":""}]
[null,null,null,null,{"$f":"IFERROR(VLOOKUP(D370,Справка!$G$2:$H$579,2,0),\"\")","v":""}]
[null,null,null,null,{"$f":"IFERROR(VLOOKUP(D371,Справка!$G$2:$H$579,2,0),\"\")","v":""}]
[null,null,null,null,{"$f":"IFERROR(VLOOKUP(D372,Справка!$G$2:$H$579,2,0),\"\")","v":""}]
[null,null,null,null,{"$f":"IFERROR(VLOOKUP(D373,Справка!$G$2:$H$579,2,0),\"\")","v":""}]
[null,null,null,null,{"$f":"IFERROR(VLOOKUP(D374,Справка!$G$2:$H$579,2,0),\"\")","v":""}]
[null,null,null,null,{"$f":"IFERROR(VLOOKUP(D375,Справка!$G$2:$H$579,2,0),\"\")","v":""}]
[null,null,null,null,{"$f":"IFERROR(VLOOKUP(D376,Справка!$G$2:$H$579,2,0),\"\")","v":""}]
[null,null,null,null,{"$f":"IFERROR(VLOOKUP(D377,Справка!$G$2:$H$579,2,0),\"\")","v":""}]
[null,null,null,null,{"$f":"IFERROR(VLOOKUP(D378,Справка!$G$2:$H$579,2,0),\"\")","v":""}]
[null,null,null,null,{"$f":"IFERROR(VLOOKUP(D379,Справка!$G$2:$H$579,2,0),\"\")","v":""}]
[null,null,null,null,{"$f":"IFERROR(VLOOKUP(D380,Справка!$G$2:$H$579,2,0),\"\")","v":""}]
[null,null,null,null,{"$f":"IFERROR(VLOOKUP(D381,Справка!$G$2:$H$579,2,0),\"\")","v":""}]
[null,null,null,null,{"$f":"IFERROR(VLOOKUP(D382,Справка!$G$2:$H$579,2,0),\"\")","v":""}]
[null,null,null,null,{"$f":"IFERROR(VLOOKUP(D383,Справка!$G$2:$H$579,2,0),\"\")","v":""}]
[null,null,null,null,{"$f":"IFERROR(VLOOKUP(D384,Справка!$G$2:$H$579,2,0),\"\")","v":""}]
[null,null,null,null,{"$f":"IFERROR(VLOOKUP(D385,Справка!$G$2:$H$579,2,0),\"\")","v":""}]
[null,null,null,null,{"$f":"IFERROR(VLOOKUP(D386,Справка!$G$2:$H$579,2,0),\"\")","v":""}]
[null,null,null,null,{"$f":"IFERROR(VLOOKUP(D387,Справка!$G$2:$H$579,2,0),\"\")","v":""}]
[null,null,null,null,{"$f":"IFERROR(VLOOKUP(D388,Справка!$G$2:$H$579,2,0),\"\")","v":""}]
[null,null,null,null,{"$f":"IFERROR(VLOOKUP(D389,Справка!$G$2:$H$579,2,0),\"\")","v":""}]
[null,null,null,null,{"$f":"IFERROR(VLOOKUP(D390,Справка!$G$2:$H$579,2,0),\"\")","v":""}]
[null,null,null,null,{"$f":"IFERROR(VLOOKUP(D391,Справка!$G$2:$H$579,2,0),\"\")","v":""}]
[null,null,null,null,{"$f":"IFERROR(VLOOKUP(D392,Справка!$G$2:$H$579,2,0),\"\")","v":""}]
[null,null,null,null,{"$f":"IFERROR(VLOOKUP(D393,Справка!$G$2:$H$579,2,0),\"\")","v":""}]
[null,null,null,null,{"$f":"IFERROR(VLOOKUP(D394,Справка!$G$2:$H$579,2,0),\"\")","v":""}]
[null,null,null,null,{"$f":"IFERROR(VLOOKUP(D395,Справка!$G$2:$H$579,2,0),\"\")","v":""}]
[null,null,null,null,{"$f":"IFERROR(VLOOKUP(D396,Справка!$G$2:$H$579,2,0),\"\")","v":""}]
[null,null,null,null,{"$f":"IFERROR(VLOOKUP(D397,Справка!$G$2:$H$579,2,0),\"\")","v":""}]
[null,null,null,null,{"$f":"IFERROR(VLOOKUP(D398,Справка!$G$2:$H$579,2,0),\"\")","v":""}]
[null,null,null,null,{"$f":"IFERROR(VLOOKUP(D399,Справка!$G$2:$H$579,2,0),\"\")","v":""}]
[null,null,null,null,{"$f":"IFERROR(VLOOKUP(D400,Справка!$G$2:$H$579,2,0),\"\")","v":""}]
[null,null,null,null,{"$f":"IFERROR(VLOOKUP(D401,Справка!$G$2:$H$579,2,0),\"\")","v":""}]
[null,null,null,null,{"$f":"IFERROR(VLOOKUP(D402,Справка!$G$2:$H$579,2,0),\"\")","v":""}]
[null,null,null,null,{"$f":"IFERROR(VLOOKUP(D403,Справка!$G$2:$H$579,2,0),\"\")","v":""}]
[null,null,null,null,{"$f":"IFERROR(VLOOKUP(D404,Справка!$G$2:$H$579,2,0),\"\")","v":""}]
[null,null,null,null,{"$f":"IFERROR(VLOOKUP(D405,Справка!$G$2:$H$579,2,0),\"\")","v":""}]
[null,null,null,null,{"$f":"IFERROR(VLOOKUP(D406,Справка!$G$2:$H$579,2,0),\"\")","v":""}]
[null,null,null,null,{"$f":"IFERROR(VLOOKUP(D407,Справка!$G$2:$H$579,2,0),\"\")","v":""}]
[null,null,null,null,{"$f":"IFERROR(VLOOKUP(D408,Справка!$G$2:$H$579,2,0),\"\")","v":""}]
[null,null,null,null,{"$f":"IFERROR(VLOOKUP(D409,Справка!$G$2:$H$579,2,0),\"\")","v":""}]
[null,null,null,null,{"$f":"IFERROR(VLOOKUP(D410,Справка!$G$2:$H$579,2,0),\"\")","v":""}]
[null,null,null,null,{"$f":"IFERROR(VLOOKUP(D411,Справка!$G$2:$H$579,2,0),\"\")","v":""}]
[null,null,null,null,{"$f":"IFERROR(VLOOKUP(D412,Справка!$G$2:$H$579,2,0),\"\")","v":""}]
[null,null,null,null,{"$f":"IFERROR(VLOOKUP(D413,Справка!$G$2:$H$579,2,0),\"\")","v":""}]
[null,null,null,null,{"$f":"IFERROR(VLOOKUP(D414,Справка!$G$2:$H$579,2,0),\"\")","v":""}]
[null,null,null,null,{"$f":"IFERROR(VLOOKUP(D415,Справка!$G$2:$H$579,2,0),\"\")","v":""}]
[null,null,null,null,{"$f":"IFERROR(VLOOKUP(D416,Справка!$G$2:$H$579,2,0),\"\")","v":""}]
[null,null,null,null,{"$f":"IFERROR(VLOOKUP(D417,Справка!$G$2:$H$579,2,0),\"\")","v":""}]
[null,null,null,null,{"$f":"IFERROR(VLOOKUP(D418,Справка!$G$2:$H$579,2,0),\"\")","v":""}]
[null,null,null,null,{"$f":"IFERROR(VLOOKUP(D419,Справка!$G$2:$H$579,2,0),\"\")","v":""}]
[null,null,null,null,{"$f":"IFERROR(VLOOKUP(D420,Справка!$G$2:$H$579,2,0),\"\")","v":""}]
[null,null,null,null,{"$f":"IFERROR(VLOOKUP(D421,Справка!$G$2:$H$579,2,0),\"\")","v":""}]
[null,null,null,null,{"$f":"IFERROR(VLOOKUP(D422,Справка!$G$2:$H$579,2,0),\"\")","v":""}]
[null,null,null,null,{"$f":"IFERROR(VLOOKUP(D423,Справка!$G$2:$H$579,2,0),\"\")","v":""}]
[null,null,null,null,{"$f":"IFERROR(VLOOKUP(D424,Справка!$G$2:$H$579,2,0),\"\")","v":""}]
[null,null,null,null,{"$f":"IFERROR(VLOOKUP(D425,Справка!$G$2:$H$579,2,0),\"\")","v":""}]
[null,null,null,null,{"$f":"IFERROR(VLOOKUP(D426,Справка!$G$2:$H$579,2,0),\"\")","v":""}]
[null,null,null,null,{"$f":"IFERROR(VLOOKUP(D427,Справка!$G$2:$H$579,2,0),\"\")","v":""}]
[null,null,null,null,{"$f":"IFERROR(VLOOKUP(D428,Справка!$G$2:$H$579,2,0),\"\")","v":""}]
[null,null,null,null,{"$f":"IFERROR(VLOOKUP(D429,Справка!$G$2:$H$579,2,0),\"\")","v":""}]
[null,null,null,null,{"$f":"IFERROR(VLOOKUP(D430,Справка!$G$2:$H$579,2,0),\"\")","v":""}]
[null,null,null,null,{"$f":"IFERROR(VLOOKUP(D431,Справка!$G$2:$H$579,2,0),\"\")","v":""}]
[null,null,null,null,{"$f":"IFERROR(VLOOKUP(D432,Справка!$G$2:$H$579,2,0),\"\")","v":""}]
[null,null,null,null,{"$f":"IFERROR(VLOOKUP(D433,Справка!$G$2:$H$579,2,0),\"\")","v":""}]
[null,null,null,null,{"$f":"IFERROR(VLOOKUP(D434,Справка!$G$2:$H$579,2,0),\"\")","v":""}]
[null,null,null,null,{"$f":"IFERROR(VLOOKUP(D435,Справка!$G$2:$H$579,2,0),\"\")","v":""}]
[null,null,null,null,{"$f":"IFERROR(VLOOKUP(D436,Справка!$G$2:$H$579,2,0),\"\")","v":""}]
[null,null,null,null,{"$f":"IFERROR(VLOOKUP(D437,Справка!$G$2:$H$579,2,0),\"\")","v":""}]
[null,null,null,null,{"$f":"IFERROR(VLOOKUP(D438,Справка!$G$2:$H$579,2,0),\"\")","v":""}]
[null,null,null,null,{"$f":"IFERROR(VLOOKUP(D439,Справка!$G$2:$H$579,2,0),\"\")","v":""}]
[null,null,null,null,{"$f":"IFERROR(VLOOKUP(D440,Справка!$G$2:$H$579,2,0),\"\")","v":""}]
[null,null,null,null,{"$f":"IFERROR(VLOOKUP(D441,Справка!$G$2:$H$579,2,0),\"\")","v":""}]
[null,null,null,null,{"$f":"IFERROR(VLOOKUP(D442,Справка!$G$2:$H$579,2,0),\"\")","v":""}]
[null,null,null,null,{"$f":"IFERROR(VLOOKUP(D443,Справка!$G$2:$H$579,2,0),\"\")","v":""}]
[null,null,null,null,{"$f":"IFERROR(VLOOKUP(D444,Справка!$G$2:$H$579,2,0),\"\")","v":""}]
[null,null,null,null,{"$f":"IFERROR(VLOOKUP(D445,Справка!$G$2:$H$579,2,0),\"\")","v":""}]
[null,null,null,null,{"$f":"IFERROR(VLOOKUP(D446,Справка!$G$2:$H$579,2,0),\"\")","v":""}]
[null,null,null,null,{"$f":"IFERROR(VLOOKUP(D447,Справка!$G$2:$H$579,2,0),\"\")","v":""}]
[null,null,null,null,{"$f":"IFERROR(VLOOKUP(D448,Справка!$G$2:$H$579,2,0),\"\")","v":""}]
[null,null,null,null,{"$f":"IFERROR(VLOOKUP(D449,Справка!$G$2:$H$579,2,0),\"\")","v":""}]
[null,null,null,null,{"$f":"IFERROR(VLOOKUP(D450,Справка!$G$2:$H$579,2,0),\"\")","v":""}]
[null,null,null,null,{"$f":"IFERROR(VLOOKUP(D451,Справка!$G$2:$H$579,2,0),\"\")","v":""}]
[null,null,null,null,{"$f":"IFERROR(VLOOKUP(D452,Справка!$G$2:$H$579,2,0),\"\")","v":""}]
[null,null,null,null,{"$f":"IFERROR(VLOOKUP(D453,Справка!$G$2:$H$579,2,0),\"\")","v":""}]
[null,null,null,null,{"$f":"IFERROR(VLOOKUP(D454,Справка!$G$2:$H$579,2,0),\"\")","v":""}]
[null,null,null,null,{"$f":"IFERROR(VLOOKUP(D455,Справка!$G$2:$H$579,2,0),\"\")","v":""}]
[null,null,null,null,{"$f":"IFERROR(VLOOKUP(D456,Справка!$G$2:$H$579,2,0),\"\")","v":""}]
[null,null,null,null,{"$f":"IFERROR(VLOOKUP(D457,Справка!$G$2:$H$579,2,0),\"\")","v":""}]
[null,null,null,null,{"$f":"IFERROR(VLOOKUP(D458,Справка!$G$2:$H$579,2,0),\"\")","v":""}]
[null,null,null,null,{"$f":"IFERROR(VLOOKUP(D459,Справка!$G$2:$H$579,2,0),\"\")","v":""}]
[null,null,null,null,{"$f":"IFERROR(VLOOKUP(D460,Справка!$G$2:$H$579,2,0),\"\")","v":""}]
[null,null,null,null,{"$f":"IFERROR(VLOOKUP(D461,Справка!$G$2:$H$579,2,0),\"\")","v":""}]
[null,null,null,null,{"$f":"IFERROR(VLOOKUP(D462,Справка!$G$2:$H$579,2,0),\"\")","v":""}]
[null,null,null,null,{"$f":"IFERROR(VLOOKUP(D463,Справка!$G$2:$H$579,2,0),\"\")","v":""}]
[null,null,null,null,{"$f":"IFERROR(VLOOKUP(D464,Справка!$G$2:$H$579,2,0),\"\")","v":""}]
[null,null,null,null,{"$f":"IFERROR(VLOOKUP(D465,Справка!$G$2:$H$579,2,0),\"\")","v":""}]
[null,null,null,null,{"$f":"IFERROR(VLOOKUP(D466,Справка!$G$2:$H$579,2,0),\"\")","v":""}]
[null,null,null,null,{"$f":"IFERROR(VLOOKUP(D467,Справка!$G$2:$H$579,2,0),\"\")","v":""}]
[null,null,null,null,{"$f":"IFERROR(VLOOKUP(D468,Справка!$G$2:$H$579,2,0),\"\")","v":""}]
[null,null,null,null,{"$f":"IFERROR(VLOOKUP(D469,Справка!$G$2:$H$579,2,0),\"\")","v":""}]
[null,null,null,null,{"$f":"IFERROR(VLOOKUP(D470,Справка!$G$2:$H$579,2,0),\"\")","v":""}]
[null,null,null,null,{"$f":"IFERROR(VLOOKUP(D471,Справка!$G$2:$H$579,2,0),\"\")","v":""}]
[null,null,null,null,{"$f":"IFERROR(VLOOKUP(D472,Справка!$G$2:$H$579,2,0),\"\")","v":""}]
[null,null,null,null,{"$f":"IFERROR(VLOOKUP(D473,Справка!$G$2:$H$579,2,0),\"\")","v":""}]
[null,null,null,null,{"$f":"IFERROR(VLOOKUP(D474,Справка!$G$2:$H$579,2,0),\"\")","v":""}]
[null,null,null,null,{"$f":"IFERROR(VLOOKUP(D475,Справка!$G$2:$H$579,2,0),\"\")","v":""}]
[null,null,null,null,{"$f":"IFERROR(VLOOKUP(D476,Справка!$G$2:$H$579,2,0),\"\")","v":""}]
[null,null,null,null,{"$f":"IFERROR(VLOOKUP(D477,Справка!$G$2:$H$579,2,0),\"\")","v":""}]
[null,null,null,null,{"$f":"IFERROR(VLOOKUP(D478,Справка!$G$2:$H$579,2,0),\"\")","v":""}]
[null,null,null,null,{"$f":"IFERROR(VLOOKUP(D479,Справка!$G$2:$H$579,2,0),\"\")","v":""}]
[null,null,null,null,{"$f":"IFERROR(VLOOKUP(D480,Справка!$G$2:$H$579,2,0),\"\")","v":""}]
[null,null,null,null,{"$f":"IFERROR(VLOOKUP(D481,Справка!$G$2:$H$579,2,0),\"\")","v":""}]
[null,null,null,null,{"$f":"IFERROR(VLOOKUP(D482,Справка!$G$2:$H$579,2,0),\"\")","v":""}]
[null,null,null,null,{"$f":"IFERROR(VLOOKUP(D483,Справка!$G$2:$H$579,2,0),\"\")","v":""}]
[null,null,null,null,{"$f":"IFERROR(VLOOKUP(D484,Справка!$G$2:$H$579,2,0),\"\")","v":""}]
[null,null,null,null,{"$f":"IFERROR(VLOOKUP(D485,Справка!$G$2:$H$579,2,0),\"\")","v":""}]
[null,null,null,null,{"$f":"IFERROR(VLOOKUP(D486,Справка!$G$2:$H$579,2,0),\"\")","v":""}]
[null,null,null,null,{"$f":"IFERROR(VLOOKUP(D487,Справка!$G$2:$H$579,2,0),\"\")","v":""}]
[null,null,null,null,{"$f":"IFERROR(VLOOKUP(D488,Справка!$G$2:$H$579,2,0),\"\")","v":""}]
[null,null,null,null,{"$f":"IFERROR(VLOOKUP(D489,Справка!$G$2:$H$579,2,0),\"\")","v":""}]
[null,null,null,null,{"$f":"IFERROR(VLOOKUP(D490,Справка!$G$2:$H$579,2,0),\"\")","v":""}]
[null,null,null,null,{"$f":"IFERROR(VLOOKUP(D491,Справка!$G$2:$H$579,2,0),\"\")","v":""}]
[null,null,null,null,{"$f":"IFERROR(VLOOKUP(D492,Справка!$G$2:$H$579,2,0),\"\")","v":""}]
[null,null,null,null,{"$f":"IFERROR(VLOOKUP(D493,Справка!$G$2:$H$579,2,0),\"\")","v":""}]
[null,null,null,null,{"$f":"IFERROR(VLOOKUP(D494,Справка!$G$2:$H$579,2,0),\"\")","v":""}]
[null,null,null,null,{"$f":"IFERROR(VLOOKUP(D495,Справка!$G$2:$H$579,2,0),\"\")","v":""}]
[null,null,null,null,{"$f":"IFERROR(VLOOKUP(D496,Справка!$G$2:$H$579,2,0),\"\")","v":""}]
[null,null,null,null,{"$f":"IFERROR(VLOOKUP(D497,Справка!$G$2:$H$579,2,0),\"\")","v":""}]
[null,null,null,null,{"$f":"IFERROR(VLOOKUP(D498,Справка!$G$2:$H$579,2,0),\"\")","v":""}]
[null,null,null,null,{"$f":"IFERROR(VLOOKUP(D499,Справка!$G$2:$H$579,2,0),\"\")","v":""}]
[null,null,null,null,{"$f":"IFERROR(VLOOKUP(D500,Справка!$G$2:$H$579,2,0),\"\")","v":""}]
[null,null,null,null,{"$f":"IFERROR(VLOOKUP(D501,Справка!$G$2:$H$579,2,0),\"\")","v":""}]
[null,null,null,null,{"$f":"IFERROR(VLOOKUP(D502,Справка!$G$2:$H$579,2,0),\"\")","v":""}]
[null,null,null,null,{"$f":"IFERROR(VLOOKUP(D503,Справка!$G$2:$H$579,2,0),\"\")","v":""}]
[null,null,null,null,{"$f":"IFERROR(VLOOKUP(D504,Справка!$G$2:$H$579,2,0),\"\")","v":""}]
[null,null,null,null,{"$f":"IFERROR(VLOOKUP(D505,Справка!$G$2:$H$579,2,0),\"\")","v":""}]
[null,null,null,null,{"$f":"IFERROR(VLOOKUP(D506,Справка!$G$2:$H$579,2,0),\"\")","v":""}]
[null,null,null,null,{"$f":"IFERROR(VLOOKUP(D507,Справка!$G$2:$H$579,2,0),\"\")","v":""}]
[null,null,null,null,{"$f":"IFERROR(VLOOKUP(D508,Справка!$G$2:$H$579,2,0),\"\")","v":""}]
[null,null,null,null,{"$f":"IFERROR(VLOOKUP(D509,Справка!$G$2:$H$579,2,0),\"\")","v":""}]
[null,null,null,null,{"$f":"IFERROR(VLOOKUP(D510,Справка!$G$2:$H$579,2,0),\"\")","v":""}]
[null,null,null,null,{"$f":"IFERROR(VLOOKUP(D511,Справка!$G$2:$H$579,2,0),\"\")","v":""}]
[null,null,null,null,{"$f":"IFERROR(VLOOKUP(D512,Справка!$G$2:$H$579,2,0),\"\")","v":""}]
[null,null,null,null,{"$f":"IFERROR(VLOOKUP(D513,Справка!$G$2:$H$579,2,0),\"\")","v":""}]
[null,null,null,null,{"$f":"IFERROR(VLOOKUP(D514,Справка!$G$2:$H$579,2,0),\"\")","v":""}]
[null,null,null,null,{"$f":"IFERROR(VLOOKUP(D515,Справка!$G$2:$H$579,2,0),\"\")","v":""}]
[null,null,null,null,{"$f":"IFERROR(VLOOKUP(D516,Справка!$G$2:$H$579,2,0),\"\")","v":""}]
[null,null,null,null,{"$f":"IFERROR(VLOOKUP(D517,Справка!$G$2:$H$579,2,0),\"\")","v":""}]
[null,null,null,null,{"$f":"IFERROR(VLOOKUP(D518,Справка!$G$2:$H$579,2,0),\"\")","v":""}]
[null,null,null,null,{"$f":"IFERROR(VLOOKUP(D519,Справка!$G$2:$H$579,2,0),\"\")","v":""}]
[null,null,null,null,{"$f":"IFERROR(VLOOKUP(D520,Справка!$G$2:$H$579,2,0),\"\")","v":""}]
[null,null,null,null,{"$f":"IFERROR(VLOOKUP(D521,Справка!$G$2:$H$579,2,0),\"\")","v":""}]
[null,null,null,null,{"$f":"IFERROR(VLOOKUP(D522,Справка!$G$2:$H$579,2,0),\"\")","v":""}]
[null,null,null,null,{"$f":"IFERROR(VLOOKUP(D523,Справка!$G$2:$H$579,2,0),\"\")","v":""}]
[null,null,null,null,{"$f":"IFERROR(VLOOKUP(D524,Справка!$G$2:$H$579,2,0),\"\")","v":""}]
[null,null,null,null,{"$f":"IFERROR(VLOOKUP(D525,Справка!$G$2:$H$579,2,0),\"\")","v":""}]
[null,null,null,null,{"$f":"IFERROR(VLOOKUP(D526,Справка!$G$2:$H$579,2,0),\"\")","v":""}]
[null,null,null,null,{"$f":"IFERROR(VLOOKUP(D527,Справка!$G$2:$H$579,2,0),\"\")","v":""}]
[null,null,null,null,{"$f":"IFERROR(VLOOKUP(D528,Справка!$G$2:$H$579,2,0),\"\")","v":""}]
[null,null,null,null,{"$f":"IFERROR(VLOOKUP(D529,Справка!$G$2:$H$579,2,0),\"\")","v":""}]
[null,null,null,null,{"$f":"IFERROR(VLOOKUP(D530,Справка!$G$2:$H$579,2,0),\"\")","v":""}]
[null,null,null,null,{"$f":"IFERROR(VLOOKUP(D531,Справка!$G$2:$H$579,2,0),\"\")","v":""}]
[null,null,null,null,{"$f":"IFERROR(VLOOKUP(D532,Справка!$G$2:$H$579,2,0),\"\")","v":""}]
[null,null,null,null,{"$f":"IFERROR(VLOOKUP(D533,Справка!$G$2:$H$579,2,0),\"\")","v":""}]
[null,null,null,null,{"$f":"IFERROR(VLOOKUP(D534,Справка!$G$2:$H$579,2,0),\"\")","v":""}]
[null,null,null,null,{"$f":"IFERROR(VLOOKUP(D535,Справка!$G$2:$H$579,2,0),\"\")","v":""}]
[null,null,null,null,{"$f":"IFERROR(VLOOKUP(D536,Справка!$G$2:$H$579,2,0),\"\")","v":""}]
[null,null,null,null,{"$f":"IFERROR(VLOOKUP(D537,Справка!$G$2:$H$579,2,0),\"\")","v":""}]
[null,null,null,null,{"$f":"IFERROR(VLOOKUP(D538,Справка!$G$2:$H$579,2,0),\"\")","v":""}]
[null,null,null,null,{"$f":"IFERROR(VLOOKUP(D539,Справка!$G$2:$H$579,2,0),\"\")","v":""}]
[null,null,null,null,{"$f":"IFERROR(VLOOKUP(D540,Справка!$G$2:$H$579,2,0),\"\")","v":""}]
[null,null,null,null,{"$f":"IFERROR(VLOOKUP(D541,Справка!$G$2:$H$579,2,0),\"\")","v":""}]
[null,null,null,null,{"$f":"IFERROR(VLOOKUP(D542,Справка!$G$2:$H$579,2,0),\"\")","v":""}]
[null,null,null,null,{"$f":"IFERROR(VLOOKUP(D543,Справка!$G$2:$H$579,2,0),\"\")","v":""}]
[null,null,null,null,{"$f":"IFERROR(VLOOKUP(D544,Справка!$G$2:$H$579,2,0),\"\")","v":""}]
[null,null,null,null,{"$f":"IFERROR(VLOOKUP(D545,Справка!$G$2:$H$579,2,0),\"\")","v":""}]
[null,null,null,null,{"$f":"IFERROR(VLOOKUP(D546,Справка!$G$2:$H$579,2,0),\"\")","v":""}]
[null,null,null,null,{"$f":"IFERROR(VLOOKUP(D547,Справка!$G$2:$H$579,2,0),\"\")","v":""}]
[null,null,null,null,{"$f":"IFERROR(VLOOKUP(D548,Справка!$G$2:$H$579,2,0),\"\")","v":""}]
[null,null,null,null,{"$f":"IFERROR(VLOOKUP(D549,Справка!$G$2:$H$579,2,0),\"\")","v":""}]
[null,null,null,null,{"$f":"IFERROR(VLOOKUP(D550,Справка!$G$2:$H$579,2,0),\"\")","v":""}]
[null,null,null,null,{"$f":"IFERROR(VLOOKUP(D551,Справка!$G$2:$H$579,2,0),\"\")","v":""}]
[null,null,null,null,{"$f":"IFERROR(VLOOKUP(D552,Справка!$G$2:$H$579,2,0),\"\")","v":""}]
[null,null,null,null,{"$f":"IFERROR(VLOOKUP(D553,Справка!$G$2:$H$579,2,0),\"\")","v":""}]
[null,null,null,null,{"$f":"IFERROR(VLOOKUP(D554,Справка!$G$2:$H$579,2,0),\"\")","v":""}]
[null,null,null,null,{"$f":"IFERROR(VLOOKUP(D555,Справка!$G$2:$H$579,2,0),\"\")","v":""}]
[null,null,null,null,{"$f":"IFERROR(VLOOKUP(D556,Справка!$G$2:$H$579,2,0),\"\")","v":""}]
[null,null,null,null,{"$f":"IFERROR(VLOOKUP(D557,Справка!$G$2:$H$579,2,0),\"\")","v":""}]
[null,null,null,null,{"$f":"IFERROR(VLOOKUP(D558,Справка!$G$2:$H$579,2,0),\"\")","v":""}]
[null,null,null,null,{"$f":"IFERROR(VLOOKUP(D559,Справка!$G$2:$H$579,2,0),\"\")","v":""}]
[null,null,null,null,{"$f":"IFERROR(VLOOKUP(D560,Справка!$G$2:$H$579,2,0),\"\")","v":""}]
[null,null,null,null,{"$f":"IFERROR(VLOOKUP(D561,Справка!$G$2:$H$579,2,0),\"\")","v":""}]
[null,null,null,null,{"$f":"IFERROR(VLOOKUP(D562,Справка!$G$2:$H$579,2,0),\"\")","v":""}]
[null,null,null,null,{"$f":"IFERROR(VLOOKUP(D563,Справка!$G$2:$H$579,2,0),\"\")","v":""}]
[null,null,null,null,{"$f":"IFERROR(VLOOKUP(D564,Справка!$G$2:$H$579,2,0),\"\")","v":""}]
[null,null,null,null,{"$f":"IFERROR(VLOOKUP(D565,Справка!$G$2:$H$579,2,0),\"\")","v":""}]
[null,null,null,null,{"$f":"IFERROR(VLOOKUP(D566,Справка!$G$2:$H$579,2,0),\"\")","v":""}]
[null,null,null,null,{"$f":"IFERROR(VLOOKUP(D567,Справка!$G$2:$H$579,2,0),\"\")","v":""}]
[null,null,null,null,{"$f":"IFERROR(VLOOKUP(D568,Справка!$G$2:$H$579,2,0),\"\")","v":""}]
[null,null,null,null,{"$f":"IFERROR(VLOOKUP(D569,Справка!$G$2:$H$579,2,0),\"\")","v":""}]
[null,null,null,null,{"$f":"IFERROR(VLOOKUP(D570,Справка!$G$2:$H$579,2,0),\"\")","v":""}]
[null,null,null,null,{"$f":"IFERROR(VLOOKUP(D571,Справка!$G$2:$H$579,2,0),\"\")","v":""}]
[null,null,null,null,{"$f":"IFERROR(VLOOKUP(D572,Справка!$G$2:$H$579,2,0),\"\")","v":""}]
[null,null,null,null,{"$f":"IFERROR(VLOOKUP(D573,Справка!$G$2:$H$579,2,0),\"\")","v":""}]
[null,null,null,null,{"$f":"IFERROR(VLOOKUP(D574,Справка!$G$2:$H$579,2,0),\"\")","v":""}]
[null,null,null,null,{"$f":"IFERROR(VLOOKUP(D575,Справка!$G$2:$H$579,2,0),\"\")","v":""}]
[null,null,null,null,{"$f":"IFERROR(VLOOKUP(D576,Справка!$G$2:$H$579,2,0),\"\")","v":""}]
[null,null,null,null,{"$f":"IFERROR(VLOOKUP(D577,Справка!$G$2:$H$579,2,0),\"\")","v":""}]
[null,null,null,null,{"$f":"IFERROR(VLOOKUP(D578,Справка!$G$2:$H$579,2,0),\"\")","v":""}]
[null,null,null,null,{"$f":"IFERROR(VLOOKUP(D579,Справка!$G$2:$H$579,2,0),\"\")","v":""}]
[null,null,null,null,{"$f":"IFERROR(VLOOKUP(D580,Справка!$G$2:$H$579,2,0),\"\")","v":""}]
[null,null,null,null,{"$f":"IFERROR(VLOOKUP(D581,Справка!$G$2:$H$579,2,0),\"\")","v":""}]
[null,null,null,null,{"$f":"IFERROR(VLOOKUP(D582,Справка!$G$2:$H$579,2,0),\"\")","v":""}]
[null,null,null,null,{"$f":"IFERROR(VLOOKUP(D583,Справка!$G$2:$H$579,2,0),\"\")","v":""}]
[null,null,null,null,{"$f":"IFERROR(VLOOKUP(D584,Справка!$G$2:$H$579,2,0),\"\")","v":""}]
[null,null,null,null,{"$f":"IFERROR(VLOOKUP(D585,Справка!$G$2:$H$579,2,0),\"\")","v":""}]
[null,null,null,null,{"$f":"IFERROR(VLOOKUP(D586,Справка!$G$2:$H$579,2,0),\"\")","v":""}]
[null,null,null,null,{"$f":"IFERROR(VLOOKUP(D587,Справка!$G$2:$H$579,2,0),\"\")","v":""}]
[null,null,null,null,{"$f":"IFERROR(VLOOKUP(D588,Справка!$G$2:$H$579,2,0),\"\")","v":""}]
[null,null,null,null,{"$f":"IFERROR(VLOOKUP(D589,Справка!$G$2:$H$579,2,0),\"\")","v":""}]
[null,null,null,null,{"$f":"IFERROR(VLOOKUP(D590,Справка!$G$2:$H$579,2,0),\"\")","v":""}]
[null,null,null,null,{"$f":"IFERROR(VLOOKUP(D591,Справка!$G$2:$H$579,2,0),\"\")","v":""}]
[null,null,null,null,{"$f":"IFERROR(VLOOKUP(D592,Справка!$G$2:$H$579,2,0),\"\")","v":""}]
[null,null,null,null,{"$f":"IFERROR(VLOOKUP(D593,Справка!$G$2:$H$579,2,0),\"\")","v":""}]
[null,null,null,null,{"$f":"IFERROR(VLOOKUP(D594,Справка!$G$2:$H$579,2,0),\"\")","v":""}]
[null,null,null,null,{"$f":"IFERROR(VLOOKUP(D595,Справка!$G$2:$H$579,2,0),\"\")","v":""}]
[null,null,null,null,{"$f":"IFERROR(VLOOKUP(D596,Справка!$G$2:$H$579,2,0),\"\")","v":""}]
[null,null,null,null,{"$f":"IFERROR(VLOOKUP(D597,Справка!$G$2:$H$579,2,0),\"\")","v":""}]
[null,null,null,null,{"$f":"IFERROR(VLOOKUP(D598,Справка!$G$2:$H$579,2,0),\"\")","v":""}]
[null,null,null,null,{"$f":"IFERROR(VLOOKUP(D599,Справка!$G$2:$H$579,2,0),\"\")","v":""}]
[null,null,null,null,{"$f":"IFERROR(VLOOKUP(D600,Справка!$G$2:$H$579,2,0),\"\")","v":""}]
[null,null,null,null,{"$f":"IFERROR(VLOOKUP(D601,Справка!$G$2:$H$579,2,0),\"\")","v":""}]
[null,null,null,null,{"$f":"IFERROR(VLOOKUP(D602,Справка!$G$2:$H$579,2,0),\"\")","v":""}]
[null,null,null,null,{"$f":"IFERROR(VLOOKUP(D603,Справка!$G$2:$H$579,2,0),\"\")","v":""}]
[null,null,null,null,{"$f":"IFERROR(VLOOKUP(D604,Справка!$G$2:$H$579,2,0),\"\")","v":""}]
[null,null,null,null,{"$f":"IFERROR(VLOOKUP(D605,Справка!$G$2:$H$579,2,0),\"\")","v":""}]
[null,null,null,null,{"$f":"IFERROR(VLOOKUP(D606,Справка!$G$2:$H$579,2,0),\"\")","v":""}]
[null,null,null,null,{"$f":"IFERROR(VLOOKUP(D607,Справка!$G$2:$H$579,2,0),\"\")","v":""}]
[null,null,null,null,{"$f":"IFERROR(VLOOKUP(D608,Справка!$G$2:$H$579,2,0),\"\")","v":""}]
[null,null,null,null,{"$f":"IFERROR(VLOOKUP(D609,Справка!$G$2:$H$579,2,0),\"\")","v":""}]
[null,null,null,null,{"$f":"IFERROR(VLOOKUP(D610,Справка!$G$2:$H$579,2,0),\"\")","v":""}]
[null,null,null,null,{"$f":"IFERROR(VLOOKUP(D611,Справка!$G$2:$H$579,2,0),\"\")","v":""}]
[null,null,null,null,{"$f":"IFERROR(VLOOKUP(D612,Справка!$G$2:$H$579,2,0),\"\")","v":""}]
[null,null,null,null,{"$f":"IFERROR(VLOOKUP(D613,Справка!$G$2:$H$579,2,0),\"\")","v":""}]
[null,null,null,null,{"$f":"IFERROR(VLOOKUP(D614,Справка!$G$2:$H$579,2,0),\"\")","v":""}]
[null,null,null,null,{"$f":"IFERROR(VLOOKUP(D615,Справка!$G$2:$H$579,2,0),\"\")","v":""}]
[null,null,null,null,{"$f":"IFERROR(VLOOKUP(D616,Справка!$G$2:$H$579,2,0),\"\")","v":""}]
[null,null,null,null,{"$f":"IFERROR(VLOOKUP(D617,Справка!$G$2:$H$579,2,0),\"\")","v":""}]
[null,null,null,null,{"$f":"IFERROR(VLOOKUP(D618,Справка!$G$2:$H$579,2,0),\"\")","v":""}]
[null,null,null,null,{"$f":"IFERROR(VLOOKUP(D619,Справка!$G$2:$H$579,2,0),\"\")","v":""}]
[null,null,null,null,{"$f":"IFERROR(VLOOKUP(D620,Справка!$G$2:$H$579,2,0),\"\")","v":""}]
[null,null,null,null,{"$f":"IFERROR(VLOOKUP(D621,Справка!$G$2:$H$579,2,0),\"\")","v":""}]
[null,null,null,null,{"$f":"IFERROR(VLOOKUP(D622,Справка!$G$2:$H$579,2,0),\"\")","v":""}]
[null,null,null,null,{"$f":"IFERROR(VLOOKUP(D623,Справка!$G$2:$H$579,2,0),\"\")","v":""}]
[null,null,null,null,{"$f":"IFERROR(VLOOKUP(D624,Справка!$G$2:$H$579,2,0),\"\")","v":""}]
[null,null,null,null,{"$f":"IFERROR(VLOOKUP(D625,Справка!$G$2:$H$579,2,0),\"\")","v":""}]
[null,null,null,null,{"$f":"IFERROR(VLOOKUP(D626,Справка!$G$2:$H$579,2,0),\"\")","v":""}]
[null,null,null,null,{"$f":"IFERROR(VLOOKUP(D627,Справка!$G$2:$H$579,2,0),\"\")","v":""}]
[null,null,null,null,{"$f":"IFERROR(VLOOKUP(D628,Справка!$G$2:$H$579,2,0),\"\")","v":""}]
[null,null,null,null,{"$f":"IFERROR(VLOOKUP(D629,Справка!$G$2:$H$579,2,0),\"\")","v":""}]
[null,null,null,null,{"$f":"IFERROR(VLOOKUP(D630,Справка!$G$2:$H$579,2,0),\"\")","v":""}]
[null,null,null,null,{"$f":"IFERROR(VLOOKUP(D631,Справка!$G$2:$H$579,2,0),\"\")","v":""}]
[null,null,null,null,{"$f":"IFERROR(VLOOKUP(D632,Справка!$G$2:$H$579,2,0),\"\")","v":""}]
[null,null,null,null,{"$f":"IFERROR(VLOOKUP(D633,Справка!$G$2:$H$579,2,0),\"\")","v":""}]
[null,null,null,null,{"$f":"IFERROR(VLOOKUP(D634,Справка!$G$2:$H$579,2,0),\"\")","v":""}]
[null,null,null,null,{"$f":"IFERROR(VLOOKUP(D635,Справка!$G$2:$H$579,2,0),\"\")","v":""}]
[null,null,null,null,{"$f":"IFERROR(VLOOKUP(D636,Справка!$G$2:$H$579,2,0),\"\")","v":""}]
[null,null,null,null,{"$f":"IFERROR(VLOOKUP(D637,Справка!$G$2:$H$579,2,0),\"\")","v":""}]
[null,null,null,null,{"$f":"IFERROR(VLOOKUP(D638,Справка!$G$2:$H$579,2,0),\"\")","v":""}]
[null,null,null,null,{"$f":"IFERROR(VLOOKUP(D639,Справка!$G$2:$H$579,2,0),\"\")","v":""}]
[null,null,null,null,{"$f":"IFERROR(VLOOKUP(D640,Справка!$G$2:$H$579,2,0),\"\")","v":""}]
[null,null,null,null,{"$f":"IFERROR(VLOOKUP(D641,Справка!$G$2:$H$579,2,0),\"\")","v":""}]
[null,null,null,null,{"$f":"IFERROR(VLOOKUP(D642,Справка!$G$2:$H$579,2,0),\"\")","v":""}]
[null,null,null,null,{"$f":"IFERROR(VLOOKUP(D643,Справка!$G$2:$H$579,2,0),\"\")","v":""}]
[null,null,null,null,{"$f":"IFERROR(VLOOKUP(D644,Справка!$G$2:$H$579,2,0),\"\")","v":""}]
[null,null,null,null,{"$f":"IFERROR(VLOOKUP(D645,Справка!$G$2:$H$579,2,0),\"\")","v":""}]
[null,null,null,null,{"$f":"IFERROR(VLOOKUP(D646,Справка!$G$2:$H$579,2,0),\"\")","v":""}]
[null,null,null,null,{"$f":"IFERROR(VLOOKUP(D647,Справка!$G$2:$H$579,2,0),\"\")","v":""}]
[null,null,null,null,{"$f":"IFERROR(VLOOKUP(D648,Справка!$G$2:$H$579,2,0),\"\")","v":""}]
[null,null,null,null,{"$f":"IFERROR(VLOOKUP(D649,Справка!$G$2:$H$579,2,0),\"\")","v":""}]
[null,null,null,null,{"$f":"IFERROR(VLOOKUP(D650,Справка!$G$2:$H$579,2,0),\"\")","v":""}]
[null,null,null,null,{"$f":"IFERROR(VLOOKUP(D651,Справка!$G$2:$H$579,2,0),\"\")","v":""}]
[null,null,null,null,{"$f":"IFERROR(VLOOKUP(D652,Справка!$G$2:$H$579,2,0),\"\")","v":""}]
[null,null,null,null,{"$f":"IFERROR(VLOOKUP(D653,Справка!$G$2:$H$579,2,0),\"\")","v":""}]
[null,null,null,null,{"$f":"IFERROR(VLOOKUP(D654,Справка!$G$2:$H$579,2,0),\"\")","v":""}]
[null,null,null,null,{"$f":"IFERROR(VLOOKUP(D655,Справка!$G$2:$H$579,2,0),\"\")","v":""}]
[null,null,null,null,{"$f":"IFERROR(VLOOKUP(D656,Справка!$G$2:$H$579,2,0),\"\")","v":""}]
[null,null,null,null,{"$f":"IFERROR(VLOOKUP(D657,Справка!$G$2:$H$579,2,0),\"\")","v":""}]
[null,null,null,null,{"$f":"IFERROR(VLOOKUP(D658,Справка!$G$2:$H$579,2,0),\"\")","v":""}]
[null,null,null,null,{"$f":"IFERROR(VLOOKUP(D659,Справка!$G$2:$H$579,2,0),\"\")","v":""}]
[null,null,null,null,{"$f":"IFERROR(VLOOKUP(D660,Справка!$G$2:$H$579,2,0),\"\")","v":""}]
[null,null,null,null,{"$f":"IFERROR(VLOOKUP(D661,Справка!$G$2:$H$579,2,0),\"\")","v":""}]
[null,null,null,null,{"$f":"IFERROR(VLOOKUP(D662,Справка!$G$2:$H$579,2,0),\"\")","v":""}]
[null,null,null,null,{"$f":"IFERROR(VLOOKUP(D663,Справка!$G$2:$H$579,2,0),\"\")","v":""}]
[null,null,null,null,{"$f":"IFERROR(VLOOKUP(D664,Справка!$G$2:$H$579,2,0),\"\")","v":""}]
[null,null,null,null,{"$f":"IFERROR(VLOOKUP(D665,Справка!$G$2:$H$579,2,0),\"\")","v":""}]
[null,null,null,null,{"$f":"IFERROR(VLOOKUP(D666,Справка!$G$2:$H$579,2,0),\"\")","v":""}]
[null,null,null,null,{"$f":"IFERROR(VLOOKUP(D667,Справка!$G$2:$H$579,2,0),\"\")","v":""}]
[null,null,null,null,{"$f":"IFERROR(VLOOKUP(D668,Справка!$G$2:$H$579,2,0),\"\")","v":""}]
[null,null,null,null,{"$f":"IFERROR(VLOOKUP(D669,Справка!$G$2:$H$579,2,0),\"\")","v":""}]
[null,null,null,null,{"$f":"IFERROR(VLOOKUP(D670,Справка!$G$2:$H$579,2,0),\"\")","v":""}]
[null,null,null,null,{"$f":"IFERROR(VLOOKUP(D671,Справка!$G$2:$H$579,2,0),\"\")","v":""}]
[null,null,null,null,{"$f":"IFERROR(VLOOKUP(D672,Справка!$G$2:$H$579,2,0),\"\")","v":""}]
[null,null,null,null,{"$f":"IFERROR(VLOOKUP(D673,Справка!$G$2:$H$579,2,0),\"\")","v":""}]
[null,null,null,null,{"$f":"IFERROR(VLOOKUP(D674,Справка!$G$2:$H$579,2,0),\"\")","v":""}]
[null,null,null,null,{"$f":"IFERROR(VLOOKUP(D675,Справка!$G$2:$H$579,2,0),\"\")","v":""}]
[null,null,null,null,{"$f":"IFERROR(VLOOKUP(D676,Справка!$G$2:$H$579,2,0),\"\")","v":""}]
[null,null,null,null,{"$f":"IFERROR(VLOOKUP(D677,Справка!$G$2:$H$579,2,0),\"\")","v":""}]
[null,null,null,null,{"$f":"IFERROR(VLOOKUP(D678,Справка!$G$2:$H$579,2,0),\"\")","v":""}]
[null,null,null,null,{"$f":"IFERROR(VLOOKUP(D679,Справка!$G$2:$H$579,2,0),\"\")","v":""}]
[null,null,null,null,{"$f":"IFERROR(VLOOKUP(D680,Справка!$G$2:$H$579,2,0),\"\")","v":""}]
[null,null,null,null,{"$f":"IFERROR(VLOOKUP(D681,Справка!$G$2:$H$579,2,0),\"\")","v":""}]
[null,null,null,null,{"$f":"IFERROR(VLOOKUP(D682,Справка!$G$2:$H$579,2,0),\"\")","v":""}]
[null,null,null,null,{"$f":"IFERROR(VLOOKUP(D683,Справка!$G$2:$H$579,2,0),\"\")","v":""}]
[null,null,null,null,{"$f":"IFERROR(VLOOKUP(D684,Справка!$G$2:$H$579,2,0),\"\")","v":""}]
[null,null,null,null,{"$f":"IFERROR(VLOOKUP(D685,Справка!$G$2:$H$579,2,0),\"\")","v":""}]
[null,null,null,null,{"$f":"IFERROR(VLOOKUP(D686,Справка!$G$2:$H$579,2,0),\"\")","v":""}]
[null,null,null,null,{"$f":"IFERROR(VLOOKUP(D687,Справка!$G$2:$H$579,2,0),\"\")","v":""}]
[null,null,null,null,{"$f":"IFERROR(VLOOKUP(D688,Справка!$G$2:$H$579,2,0),\"\")","v":""}]
[null,null,null,null,{"$f":"IFERROR(VLOOKUP(D689,Справка!$G$2:$H$579,2,0),\"\")","v":""}]
[null,null,null,null,{"$f":"IFERROR(VLOOKUP(D690,Справка!$G$2:$H$579,2,0),\"\")","v":""}]
[null,null,null,null,{"$f":"IFERROR(VLOOKUP(D691,Справка!$G$2:$H$579,2,0),\"\")","v":""}]
[null,null,null,null,{"$f":"IFERROR(VLOOKUP(D692,Справка!$G$2:$H$579,2,0),\"\")","v":""}]
[null,null,null,null,{"$f":"IFERROR(VLOOKUP(D693,Справка!$G$2:$H$579,2,0),\"\")","v":""}]
[null,null,null,null,{"$f":"IFERROR(VLOOKUP(D694,Справка!$G$2:$H$579,2,0),\"\")","v":""}]
[null,null,null,null,{"$f":"IFERROR(VLOOKUP(D695,Справка!$G$2:$H$579,2,0),\"\")","v":""}]
[null,null,null,null,{"$f":"IFERROR(VLOOKUP(D696,Справка!$G$2:$H$579,2,0),\"\")","v":""}]
[null,null,null,null,{"$f":"IFERROR(VLOOKUP(D697,Справка!$G$2:$H$579,2,0),\"\")","v":""}]
[null,null,null,null,{"$f":"IFERROR(VLOOKUP(D698,Справка!$G$2:$H$579,2,0),\"\")","v":""}]
[null,null,null,null,{"$f":"IFERROR(VLOOKUP(D699,Справка!$G$2:$H$579,2,0),\"\")","v":""}]
[null,null,null,null,{"$f":"IFERROR(VLOOKUP(D700,Справка!$G$2:$H$579,2,0),\"\")","v":""}]
[null,null,null,null,{"$f":"IFERROR(VLOOKUP(D701,Справка!$G$2:$H$579,2,0),\"\")","v":""}]
[null,null,null,null,{"$f":"IFERROR(VLOOKUP(D702,Справка!$G$2:$H$579,2,0),\"\")","v":""}]
[null,null,null,null,{"$f":"IFERROR(VLOOKUP(D703,Справка!$G$2:$H$579,2,0),\"\")","v":""}]
[null,null,null,null,{"$f":"IFERROR(VLOOKUP(D704,Справка!$G$2:$H$579,2,0),\"\")","v":""}]
[null,null,null,null,{"$f":"IFERROR(VLOOKUP(D705,Справка!$G$2:$H$579,2,0),\"\")","v":""}]
[null,null,null,null,{"$f":"IFERROR(VLOOKUP(D706,Справка!$G$2:$H$579,2,0),\"\")","v":""}]
[null,null,null,null,{"$f":"IFERROR(VLOOKUP(D707,Справка!$G$2:$H$579,2,0),\"\")","v":""}]
[null,null,null,null,{"$f":"IFERROR(VLOOKUP(D708,Справка!$G$2:$H$579,2,0),\"\")","v":""}]
[null,null,null,null,{"$f":"IFERROR(VLOOKUP(D709,Справка!$G$2:$H$579,2,0),\"\")","v":""}]
[null,null,null,null,{"$f":"IFERROR(VLOOKUP(D710,Справка!$G$2:$H$579,2,0),\"\")","v":""}]
[null,null,null,null,{"$f":"IFERROR(VLOOKUP(D711,Справка!$G$2:$H$579,2,0),\"\")","v":""}]
[null,null,null,null,{"$f":"IFERROR(VLOOKUP(D712,Справка!$G$2:$H$579,2,0),\"\")","v":""}]
[null,null,null,null,{"$f":"IFERROR(VLOOKUP(D713,Справка!$G$2:$H$579,2,0),\"\")","v":""}]
[null,null,null,null,{"$f":"IFERROR(VLOOKUP(D714,Справка!$G$2:$H$579,2,0),\"\")","v":""}]
[null,null,null,null,{"$f":"IFERROR(VLOOKUP(D715,Справка!$G$2:$H$579,2,0),\"\")","v":""}]
[null,null,null,null,{"$f":"IFERROR(VLOOKUP(D716,Справка!$G$2:$H$579,2,0),\"\")","v":""}]
[null,null,null,null,{"$f":"IFERROR(VLOOKUP(D717,Справка!$G$2:$H$579,2,0),\"\")","v":""}]
[null,null,null,null,{"$f":"IFERROR(VLOOKUP(D718,Справка!$G$2:$H$579,2,0),\"\")","v":""}]
[null,null,null,null,{"$f":"IFERROR(VLOOKUP(D719,Справка!$G$2:$H$579,2,0),\"\")","v":""}]
[null,null,null,null,{"$f":"IFERROR(VLOOKUP(D720,Справка!$G$2:$H$579,2,0),\"\")","v":""}]
[null,null,null,null,{"$f":"IFERROR(VLOOKUP(D721,Справка!$G$2:$H$579,2,0),\"\")","v":""}]
[null,null,null,null,{"$f":"IFERROR(VLOOKUP(D722,Справка!$G$2:$H$579,2,0),\"\")","v":""}]
[null,null,null,null,{"$f":"IFERROR(VLOOKUP(D723,Справка!$G$2:$H$579,2,0),\"\")","v":""}]
[null,null,null,null,{"$f":"IFERROR(VLOOKUP(D724,Справка!$G$2:$H$579,2,0),\"\")","v":""}]
[null,null,null,null,{"$f":"IFERROR(VLOOKUP(D725,Справка!$G$2:$H$579,2,0),\"\")","v":""}]
[null,null,null,null,{"$f":"IFERROR(VLOOKUP(D726,Справка!$G$2:$H$579,2,0),\"\")","v":""}]
[null,null,null,null,{"$f":"IFERROR(VLOOKUP(D727,Справка!$G$2:$H$579,2,0),\"\")","v":""}]
[null,null,null,null,{"$f":"IFERROR(VLOOKUP(D728,Справка!$G$2:$H$579,2,0),\"\")","v":""}]
[null,null,null,null,{"$f":"IFERROR(VLOOKUP(D729,Справка!$G$2:$H$579,2,0),\"\")","v":""}]
[null,null,null,null,{"$f":"IFERROR(VLOOKUP(D730,Справка!$G$2:$H$579,2,0),\"\")","v":""}]
[null,null,null,null,{"$f":"IFERROR(VLOOKUP(D731,Справка!$G$2:$H$579,2,0),\"\")","v":""}]
[null,null,null,null,{"$f":"IFERROR(VLOOKUP(D732,Справка!$G$2:$H$579,2,0),\"\")","v":""}]
[null,null,null,null,{"$f":"IFERROR(VLOOKUP(D733,Справка!$G$2:$H$579,2,0),\"\")","v":""}]
[null,null,null,null,{"$f":"IFERROR(VLOOKUP(D734,Справка!$G$2:$H$579,2,0),\"\")","v":""}]
[null,null,null,null,{"$f":"IFERROR(VLOOKUP(D735,Справка!$G$2:$H$579,2,0),\"\")","v":""}]
[null,null,null,null,{"$f":"IFERROR(VLOOKUP(D736,Справка!$G$2:$H$579,2,0),\"\")","v":""}]
[null,null,null,null,{"$f":"IFERROR(VLOOKUP(D737,Справка!$G$2:$H$579,2,0),\"\")","v":""}]
[null,null,null,null,{"$f":"IFERROR(VLOOKUP(D738,Справка!$G$2:$H$579,2,0),\"\")","v":""}]
[null,null,null,null,{"$f":"IFERROR(VLOOKUP(D739,Справка!$G$2:$H$579,2,0),\"\")","v":""}]
[null,null,null,null,{"$f":"IFERROR(VLOOKUP(D740,Справка!$G$2:$H$579,2,0),\"\")","v":""}]
[null,null,null,null,{"$f":"IFERROR(VLOOKUP(D741,Справка!$G$2:$H$579,2,0),\"\")","v":""}]
[null,null,null,null,{"$f":"IFERROR(VLOOKUP(D742,Справка!$G$2:$H$579,2,0),\"\")","v":""}]
[null,null,null,null,{"$f":"IFERROR(VLOOKUP(D743,Справка!$G$2:$H$579,2,0),\"\")","v":""}]
[null,null,null,null,{"$f":"IFERROR(VLOOKUP(D744,Справка!$G$2:$H$579,2,0),\"\")","v":""}]
[null,null,null,null,{"$f":"IFERROR(VLOOKUP(D745,Справка!$G$2:$H$579,2,0),\"\")","v":""}]
[null,null,null,null,{"$f":"IFERROR(VLOOKUP(D746,Справка!$G$2:$H$579,2,0),\"\")","v":""}]
[null,null,null,null,{"$f":"IFERROR(VLOOKUP(D747,Справка!$G$2:$H$579,2,0),\"\")","v":""}]
[null,null,null,null,{"$f":"IFERROR(VLOOKUP(D748,Справка!$G$2:$H$579,2,0),\"\")","v":""}]
[null,null,null,null,{"$f":"IFERROR(VLOOKUP(D749,Справка!$G$2:$H$579,2,0),\"\")","v":""}]
[null,null,null,null,{"$f":"IFERROR(VLOOKUP(D750,Справка!$G$2:$H$579,2,0),\"\")","v":""}]
[null,null,null,null,{"$f":"IFERROR(VLOOKUP(D751,Справка!$G$2:$H$579,2,0),\"\")","v":""}]
[null,null,null,null,{"$f":"IFERROR(VLOOKUP(D752,Справка!$G$2:$H$579,2,0),\"\")","v":""}]
[null,null,null,null,{"$f":"IFERROR(VLOOKUP(D753,Справка!$G$2:$H$579,2,0),\"\")","v":""}]
[null,null,null,null,{"$f":"IFERROR(VLOOKUP(D754,Справка!$G$2:$H$579,2,0),\"\")","v":""}]
[null,null,null,null,{"$f":"IFERROR(VLOOKUP(D755,Справка!$G$2:$H$579,2,0),\"\")","v":""}]
[null,null,null,null,{"$f":"IFERROR(VLOOKUP(D756,Справка!$G$2:$H$579,2,0),\"\")","v":""}]
[null,null,null,null,{"$f":"IFERROR(VLOOKUP(D757,Справка!$G$2:$H$579,2,0),\"\")","v":""}]
[null,null,null,null,{"$f":"IFERROR(VLOOKUP(D758,Справка!$G$2:$H$579,2,0),\"\")","v":""}]
[null,null,null,null,{"$f":"IFERROR(VLOOKUP(D759,Справка!$G$2:$H$579,2,0),\"\")","v":""}]
[null,null,null,null,{"$f":"IFERROR(VLOOKUP(D760,Справка!$G$2:$H$579,2,0),\"\")","v":""}]
[null,null,null,null,{"$f":"IFERROR(VLOOKUP(D761,Справка!$G$2:$H$579,2,0),\"\")","v":""}]
[null,null,null,null,{"$f":"IFERROR(VLOOKUP(D762,Справка!$G$2:$H$579,2,0),\"\")","v":""}]
[null,null,null,null,{"$f":"IFERROR(VLOOKUP(D763,Справка!$G$2:$H$579,2,0),\"\")","v":""}]
[null,null,null,null,{"$f":"IFERROR(VLOOKUP(D764,Справка!$G$2:$H$579,2,0),\"\")","v":""}]
[null,null,null,null,{"$f":"IFERROR(VLOOKUP(D765,Справка!$G$2:$H$579,2,0),\"\")","v":""}]
[null,null,null,null,{"$f":"IFERROR(VLOOKUP(D766,Справка!$G$2:$H$579,2,0),\"\")","v":""}]
[null,null,null,null,{"$f":"IFERROR(VLOOKUP(D767,Справка!$G$2:$H$579,2,0),\"\")","v":""}]
[null,null,null,null,{"$f":"IFERROR(VLOOKUP(D768,Справка!$G$2:$H$579,2,0),\"\")","v":""}]
[null,null,null,null,{"$f":"IFERROR(VLOOKUP(D769,Справка!$G$2:$H$579,2,0),\"\")","v":""}]
[null,null,null,null,{"$f":"IFERROR(VLOOKUP(D770,Справка!$G$2:$H$579,2,0),\"\")","v":""}]
[null,null,null,null,{"$f":"IFERROR(VLOOKUP(D771,Справка!$G$2:$H$579,2,0),\"\")","v":""}]
[null,null,null,null,{"$f":"IFERROR(VLOOKUP(D772,Справка!$G$2:$H$579,2,0),\"\")","v":""}]
[null,null,null,null,{"$f":"IFERROR(VLOOKUP(D773,Справка!$G$2:$H$579,2,0),\"\")","v":""}]
[null,null,null,null,{"$f":"IFERROR(VLOOKUP(D774,Справка!$G$2:$H$579,2,0),\"\")","v":""}]
[null,null,null,null,{"$f":"IFERROR(VLOOKUP(D775,Справка!$G$2:$H$579,2,0),\"\")","v":""}]
[null,null,null,null,{"$f":"IFERROR(VLOOKUP(D776,Справка!$G$2:$H$579,2,0),\"\")","v":""}]
[null,null,null,null,{"$f":"IFERROR(VLOOKUP(D777,Справка!$G$2:$H$579,2,0),\"\")","v":""}]
[null,null,null,null,{"$f":"IFERROR(VLOOKUP(D778,Справка!$G$2:$H$579,2,0),\"\")","v":""}]
[null,null,null,null,{"$f":"IFERROR(VLOOKUP(D779,Справка!$G$2:$H$579,2,0),\"\")","v":""}]
[null,null,null,null,{"$f":"IFERROR(VLOOKUP(D780,Справка!$G$2:$H$579,2,0),\"\")","v":""}]
[null,null,null,null,{"$f":"IFERROR(VLOOKUP(D781,Справка!$G$2:$H$579,2,0),\"\")","v":""}]
[null,null,null,null,{"$f":"IFERROR(VLOOKUP(D782,Справка!$G$2:$H$579,2,0),\"\")","v":""}]
[null,null,null,null,{"$f":"IFERROR(VLOOKUP(D783,Справка!$G$2:$H$579,2,0),\"\")","v":""}]
[null,null,null,null,{"$f":"IFERROR(VLOOKUP(D784,Справка!$G$2:$H$579,2,0),\"\")","v":""}]
[null,null,null,null,{"$f":"IFERROR(VLOOKUP(D785,Справка!$G$2:$H$579,2,0),\"\")","v":""}]
[null,null,null,null,{"$f":"IFERROR(VLOOKUP(D786,Справка!$G$2:$H$579,2,0),\"\")","v":""}]
[null,null,null,null,{"$f":"IFERROR(VLOOKUP(D787,Справка!$G$2:$H$579,2,0),\"\")","v":""}]
[null,null,null,null,{"$f":"IFERROR(VLOOKUP(D788,Справка!$G$2:$H$579,2,0),\"\")","v":""}]
[null,null,null,null,{"$f":"IFERROR(VLOOKUP(D789,Справка!$G$2:$H$579,2,0),\"\")","v":""}]
[null,null,null,null,{"$f":"IFERROR(VLOOKUP(D790,Справка!$G$2:$H$579,2,0),\"\")","v":""}]
[null,null,null,null,{"$f":"IFERROR(VLOOKUP(D791,Справка!$G$2:$H$579,2,0),\"\")","v":""}]
[null,null,null,null,{"$f":"IFERROR(VLOOKUP(D792,Справка!$G$2:$H$579,2,0),\"\")","v":""}]
[null,null,null,null,{"$f":"IFERROR(VLOOKUP(D793,Справка!$G$2:$H$579,2,0),\"\")","v":""}]
[null,null,null,null,{"$f":"IFERROR(VLOOKUP(D794,Справка!$G$2:$H$579,2,0),\"\")","v":""}]
[null,null,null,null,{"$f":"IFERROR(VLOOKUP(D795,Справка!$G$2:$H$579,2,0),\"\")","v":""}]
[null,null,null,null,{"$f":"IFERROR(VLOOKUP(D796,Справка!$G$2:$H$579,2,0),\"\")","v":""}]
[null,null,null,null,{"$f":"IFERROR(VLOOKUP(D797,Справка!$G$2:$H$579,2,0),\"\")","v":""}]
[null,null,null,null,{"$f":"IFERROR(VLOOKUP(D798,Справка!$G$2:$H$579,2,0),\"\")","v":""}]
[null,null,null,null,{"$f":"IFERROR(VLOOKUP(D799,Справка!$G$2:$H$579,2,0),\"\")","v":""}]
[null,null,null,null,{"$f":"IFERROR(VLOOKUP(D800,Справка!$G$2:$H$579,2,0),\"\")","v":""}]
[null,null,null,null,{"$f":"IFERROR(VLOOKUP(D801,Справка!$G$2:$H$579,2,0),\"\")","v":""}]
[null,null,null,null,{"$f":"IFERROR(VLOOKUP(D802,Справка!$G$2:$H$579,2,0),\"\")","v":""}]
[null,null,null,null,{"$f":"IFERROR(VLOOKUP(D803,Справка!$G$2:$H$579,2,0),\"\")","v":""}]
[null,null,null,null,{"$f":"IFERROR(VLOOKUP(D804,Справка!$G$2:$H$579,2,0),\"\")","v":""}]
[null,null,null,null,{"$f":"IFERROR(VLOOKUP(D805,Справка!$G$2:$H$579,2,0),\"\")","v":""}]
[null,null,null,null,{"$f":"IFERROR(VLOOKUP(D806,Справка!$G$2:$H$579,2,0),\"\")","v":""}]
[null,null,null,null,{"$f":"IFERROR(VLOOKUP(D807,Справка!$G$2:$H$579,2,0),\"\")","v":""}]
[null,null,null,null,{"$f":"IFERROR(VLOOKUP(D808,Справка!$G$2:$H$579,2,0),\"\")","v":""}]
[null,null,null,null,{"$f":"IFERROR(VLOOKUP(D809,Справка!$G$2:$H$579,2,0),\"\")","v":""}]
[null,null,null,null,{"$f":"IFERROR(VLOOKUP(D810,Справка!$G$2:$H$579,2,0),\"\")","v":""}]
[null,null,null,null,{"$f":"IFERROR(VLOOKUP(D811,Справка!$G$2:$H$579,2,0),\"\")","v":""}]
[null,null,null,null,{"$f":"IFERROR(VLOOKUP(D812,Справка!$G$2:$H$579,2,0),\"\")","v":""}]
[null,null,null,null,{"$f":"IFERROR(VLOOKUP(D813,Справка!$G$2:$H$579,2,0),\"\")","v":""}]
[null,null,null,null,{"$f":"IFERROR(VLOOKUP(D814,Справка!$G$2:$H$579,2,0),\"\")","v":""}]
[null,null,null,null,{"$f":"IFERROR(VLOOKUP(D815,Справка!$G$2:$H$579,2,0),\"\")","v":""}]
[null,null,null,null,{"$f":"IFERROR(VLOOKUP(D816,Справка!$G$2:$H$579,2,0),\"\")","v":""}]
[null,null,null,null,{"$f":"IFERROR(VLOOKUP(D817,Справка!$G$2:$H$579,2,0),\"\")","v":""}]
[null,null,null,null,{"$f":"IFERROR(VLOOKUP(D818,Справка!$G$2:$H$579,2,0),\"\")","v":""}]
[null,null,null,null,{"$f":"IFERROR(VLOOKUP(D819,Справка!$G$2:$H$579,2,0),\"\")","v":""}]
[null,null,null,null,{"$f":"IFERROR(VLOOKUP(D820,Справка!$G$2:$H$579,2,0),\"\")","v":""}]
[null,null,null,null,{"$f":"IFERROR(VLOOKUP(D821,Справка!$G$2:$H$579,2,0),\"\")","v":""}]
[null,null,null,null,{"$f":"IFERROR(VLOOKUP(D822,Справка!$G$2:$H$579,2,0),\"\")","v":""}]
[null,null,null,null,{"$f":"IFERROR(VLOOKUP(D823,Справка!$G$2:$H$579,2,0),\"\")","v":""}]
[null,null,null,null,{"$f":"IFERROR(VLOOKUP(D824,Справка!$G$2:$H$579,2,0),\"\")","v":""}]
[null,null,null,null,{"$f":"IFERROR(VLOOKUP(D825,Справка!$G$2:$H$579,2,0),\"\")","v":""}]
[null,null,null,null,{"$f":"IFERROR(VLOOKUP(D826,Справка!$G$2:$H$579,2,0),\"\")","v":""}]
[null,null,null,null,{"$f":"IFERROR(VLOOKUP(D827,Справка!$G$2:$H$579,2,0),\"\")","v":""}]
[null,null,null,null,{"$f":"IFERROR(VLOOKUP(D828,Справка!$G$2:$H$579,2,0),\"\")","v":""}]
[null,null,null,null,{"$f":"IFERROR(VLOOKUP(D829,Справка!$G$2:$H$579,2,0),\"\")","v":""}]
[null,null,null,null,{"$f":"IFERROR(VLOOKUP(D830,Справка!$G$2:$H$579,2,0),\"\")","v":""}]
[null,null,null,null,{"$f":"IFERROR(VLOOKUP(D831,Справка!$G$2:$H$579,2,0),\"\")","v":""}]
[null,null,null,null,{"$f":"IFERROR(VLOOKUP(D832,Справка!$G$2:$H$579,2,0),\"\")","v":""}]
[null,null,null,null,{"$f":"IFERROR(VLOOKUP(D833,Справка!$G$2:$H$579,2,0),\"\")","v":""}]
[null,null,null,null,{"$f":"IFERROR(VLOOKUP(D834,Справка!$G$2:$H$579,2,0),\"\")","v":""}]
[null,null,null,null,{"$f":"IFERROR(VLOOKUP(D835,Справка!$G$2:$H$579,2,0),\"\")","v":""}]
[null,null,null,null,{"$f":"IFERROR(VLOOKUP(D836,Справка!$G$2:$H$579,2,0),\"\")","v":""}]
[null,null,null,null,{"$f":"IFERROR(VLOOKUP(D837,Справка!$G$2:$H$579,2,0),\"\")","v":""}]
[null,null,null,null,{"$f":"IFERROR(VLOOKUP(D838,Справка!$G$2:$H$579,2,0),\"\")","v":""}]
[null,null,null,null,{"$f":"IFERROR(VLOOKUP(D839,Справка!$G$2:$H$579,2,0),\"\")","v":""}]
[null,null,null,null,{"$f":"IFERROR(VLOOKUP(D840,Справка!$G$2:$H$579,2,0),\"\")","v":""}]
[null,null,null,null,{"$f":"IFERROR(VLOOKUP(D841,Справка!$G$2:$H$579,2,0),\"\")","v":""}]
[null,null,null,null,{"$f":"IFERROR(VLOOKUP(D842,Справка!$G$2:$H$579,2,0),\"\")","v":""}]
[null,null,null,null,{"$f":"IFERROR(VLOOKUP(D843,Справка!$G$2:$H$579,2,0),\"\")","v":""}]
[null,null,null,null,{"$f":"IFERROR(VLOOKUP(D844,Справка!$G$2:$H$579,2,0),\"\")","v":""}]
[null,null,null,null,{"$f":"IFERROR(VLOOKUP(D845,Справка!$G$2:$H$579,2,0),\"\")","v":""}]
[null,null,null,null,{"$f":"IFERROR(VLOOKUP(D846,Справка!$G$2:$H$579,2,0),\"\")","v":""}]
[null,null,null,null,{"$f":"IFERROR(VLOOKUP(D847,Справка!$G$2:$H$579,2,0),\"\")","v":""}]
[null,null,null,null,{"$f":"IFERROR(VLOOKUP(D848,Справка!$G$2:$H$579,2,0),\"\")","v":""}]
[null,null,null,null,{"$f":"IFERROR(VLOOKUP(D849,Справка!$G$2:$H$579,2,0),\"\")","v":""}]
[null,null,null,null,{"$f":"IFERROR(VLOOKUP(D850,Справка!$G$2:$H$579,2,0),\"\")","v":""}]
[null,null,null,null,{"$f":"IFERROR(VLOOKUP(D851,Справка!$G$2:$H$579,2,0),\"\")","v":""}]
[null,null,null,null,{"$f":"IFERROR(VLOOKUP(D852,Справка!$G$2:$H$579,2,0),\"\")","v":""}]
[null,null,null,null,{"$f":"IFERROR(VLOOKUP(D853,Справка!$G$2:$H$579,2,0),\"\")","v":""}]
[null,null,null,null,{"$f":"IFERROR(VLOOKUP(D854,Справка!$G$2:$H$579,2,0),\"\")","v":""}]
[null,null,null,null,{"$f":"IFERROR(VLOOKUP(D855,Справка!$G$2:$H$579,2,0),\"\")","v":""}]
[null,null,null,null,{"$f":"IFERROR(VLOOKUP(D856,Справка!$G$2:$H$579,2,0),\"\")","v":""}]
[null,null,null,null,{"$f":"IFERROR(VLOOKUP(D857,Справка!$G$2:$H$579,2,0),\"\")","v":""}]
[null,null,null,null,{"$f":"IFERROR(VLOOKUP(D858,Справка!$G$2:$H$579,2,0),\"\")","v":""}]
[null,null,null,null,{"$f":"IFERROR(VLOOKUP(D859,Справка!$G$2:$H$579,2,0),\"\")","v":""}]
[null,null,null,null,{"$f":"IFERROR(VLOOKUP(D860,Справка!$G$2:$H$579,2,0),\"\")","v":""}]
[null,null,null,null,{"$f":"IFERROR(VLOOKUP(D861,Справка!$G$2:$H$579,2,0),\"\")","v":""}]
[null,null,null,null,{"$f":"IFERROR(VLOOKUP(D862,Справка!$G$2:$H$579,2,0),\"\")","v":""}]
[null,null,null,null,{"$f":"IFERROR(VLOOKUP(D863,Справка!$G$2:$H$579,2,0),\"\")","v":""}]
[null,null,null,null,{"$f":"IFERROR(VLOOKUP(D864,Справка!$G$2:$H$579,2,0),\"\")","v":""}]
[null,null,null,null,{"$f":"IFERROR(VLOOKUP(D865,Справка!$G$2:$H$579,2,0),\"\")","v":""}]
[null,null,null,null,{"$f":"IFERROR(VLOOKUP(D866,Справка!$G$2:$H$579,2,0),\"\")","v":""}]
[null,null,null,null,{"$f":"IFERROR(VLOOKUP(D867,Справка!$G$2:$H$579,2,0),\"\")","v":""}]
[null,null,null,null,{"$f":"IFERROR(VLOOKUP(D868,Справка!$G$2:$H$579,2,0),\"\")","v":""}]
[null,null,null,null,{"$f":"IFERROR(VLOOKUP(D869,Справка!$G$2:$H$579,2,0),\"\")","v":""}]
[null,null,null,null,{"$f":"IFERROR(VLOOKUP(D870,Справка!$G$2:$H$579,2,0),\"\")","v":""}]
[null,null,null,null,{"$f":"IFERROR(VLOOKUP(D871,Справка!$G$2:$H$579,2,0),\"\")","v":""}]
[null,null,null,null,{"$f":"IFERROR(VLOOKUP(D872,Справка!$G$2:$H$579,2,0),\"\")","v":""}]
[null,null,null,null,{"$f":"IFERROR(VLOOKUP(D873,Справка!$G$2:$H$579,2,0),\"\")","v":""}]
[null,null,null,null,{"$f":"IFERROR(VLOOKUP(D874,Справка!$G$2:$H$579,2,0),\"\")","v":""}]
[null,null,null,null,{"$f":"IFERROR(VLOOKUP(D875,Справка!$G$2:$H$579,2,0),\"\")","v":""}]
[null,null,null,null,{"$f":"IFERROR(VLOOKUP(D876,Справка!$G$2:$H$579,2,0),\"\")","v":""}]
[null,null,null,null,{"$f":"IFERROR(VLOOKUP(D877,Справка!$G$2:$H$579,2,0),\"\")","v":""}]
[null,null,null,null,{"$f":"IFERROR(VLOOKUP(D878,Справка!$G$2:$H$579,2,0),\"\")","v":""}]
[null,null,null,null,{"$f":"IFERROR(VLOOKUP(D879,Справка!$G$2:$H$579,2,0),\"\")","v":""}]
[null,null,null,null,{"$f":"IFERROR(VLOOKUP(D880,Справка!$G$2:$H$579,2,0),\"\")","v":""}]
[null,null,null,null,{"$f":"IFERROR(VLOOKUP(D881,Справка!$G$2:$H$579,2,0),\"\")","v":""}]
[null,null,null,null,{"$f":"IFERROR(VLOOKUP(D882,Справка!$G$2:$H$579,2,0),\"\")","v":""}]
[null,null,null,null,{"$f":"IFERROR(VLOOKUP(D883,Справка!$G$2:$H$579,2,0),\"\")","v":""}]
[null,null,null,null,{"$f":"IFERROR(VLOOKUP(D884,Справка!$G$2:$H$579,2,0),\"\")","v":""}]
[null,null,null,null,{"$f":"IFERROR(VLOOKUP(D885,Справка!$G$2:$H$579,2,0),\"\")","v":""}]
[null,null,null,null,{"$f":"IFERROR(VLOOKUP(D886,Справка!$G$2:$H$579,2,0),\"\")","v":""}]
[null,null,null,null,{"$f":"IFERROR(VLOOKUP(D887,Справка!$G$2:$H$579,2,0),\"\")","v":""}]
[null,null,null,null,{"$f":"IFERROR(VLOOKUP(D888,Справка!$G$2:$H$579,2,0),\"\")","v":""}]
[null,null,null,null,{"$f":"IFERROR(VLOOKUP(D889,Справка!$G$2:$H$579,2,0),\"\")","v":""}]
[null,null,null,null,{"$f":"IFERROR(VLOOKUP(D890,Справка!$G$2:$H$579,2,0),\"\")","v":""}]
[null,null,null,null,{"$f":"IFERROR(VLOOKUP(D891,Справка!$G$2:$H$579,2,0),\"\")","v":""}]
[null,null,null,null,{"$f":"IFERROR(VLOOKUP(D892,Справка!$G$2:$H$579,2,0),\"\")","v":""}]
[null,null,null,null,{"$f":"IFERROR(VLOOKUP(D893,Справка!$G$2:$H$579,2,0),\"\")","v":""}]
[null,null,null,null,{"$f":"IFERROR(VLOOKUP(D894,Справка!$G$2:$H$579,2,0),\"\")","v":""}]
[null,null,null,null,{"$f":"IFERROR(VLOOKUP(D895,Справка!$G$2:$H$579,2,0),\"\")","v":""}]
[null,null,null,null,{"$f":"IFERROR(VLOOKUP(D896,Справка!$G$2:$H$579,2,0),\"\")","v":""}]
[null,null,null,null,{"$f":"IFERROR(VLOOKUP(D897,Справка!$G$2:$H$579,2,0),\"\")","v":""}]
[null,null,null,null,{"$f":"IFERROR(VLOOKUP(D898,Справка!$G$2:$H$579,2,0),\"\")","v":""}]
[null,null,null,null,{"$f":"IFERROR(VLOOKUP(D899,Справка!$G$2:$H$579,2,0),\"\")","v":""}]
[null,null,null,null,{"$f":"IFERROR(VLOOKUP(D900,Справка!$G$2:$H$579,2,0),\"\")","v":""}]
[null,null,null,null,{"$f":"IFERROR(VLOOKUP(D901,Справка!$G$2:$H$579,2,0),\"\")","v":""}]
[null,null,null,null,{"$f":"IFERROR(VLOOKUP(D902,Справка!$G$2:$H$579,2,0),\"\")","v":""}]
[null,null,null,null,{"$f":"IFERROR(VLOOKUP(D903,Справка!$G$2:$H$579,2,0),\"\")","v":""}]
[null,null,null,null,{"$f":"IFERROR(VLOOKUP(D904,Справка!$G$2:$H$579,2,0),\"\")","v":""}]
[null,null,null,null,{"$f":"IFERROR(VLOOKUP(D905,Справка!$G$2:$H$579,2,0),\"\")","v":""}]
[null,null,null,null,{"$f":"IFERROR(VLOOKUP(D906,Справка!$G$2:$H$579,2,0),\"\")","v":""}]
[null,null,null,null,{"$f":"IFERROR(VLOOKUP(D907,Справка!$G$2:$H$579,2,0),\"\")","v":""}]
[null,null,null,null,{"$f":"IFERROR(VLOOKUP(D908,Справка!$G$2:$H$579,2,0),\"\")","v":""}]
[null,null,null,null,{"$f":"IFERROR(VLOOKUP(D909,Справка!$G$2:$H$579,2,0),\"\")","v":""}]
[null,null,null,null,{"$f":"IFERROR(VLOOKUP(D910,Справка!$G$2:$H$579,2,0),\"\")","v":""}]
[null,null,null,null,{"$f":"IFERROR(VLOOKUP(D911,Справка!$G$2:$H$579,2,0),\"\")","v":""}]
[null,null,null,null,{"$f":"IFERROR(VLOOKUP(D912,Справка!$G$2:$H$579,2,0),\"\")","v":""}]
[null,null,null,null,{"$f":"IFERROR(VLOOKUP(D913,Справка!$G$2:$H$579,2,0),\"\")","v":""}]
[null,null,null,null,{"$f":"IFERROR(VLOOKUP(D914,Справка!$G$2:$H$579,2,0),\"\")","v":""}]
[null,null,null,null,{"$f":"IFERROR(VLOOKUP(D915,Справка!$G$2:$H$579,2,0),\"\")","v":""}]
[null,null,null,null,{"$f":"IFERROR(VLOOKUP(D916,Справка!$G$2:$H$579,2,0),\"\")","v":""}]
[null,null,null,null,{"$f":"IFERROR(VLOOKUP(D917,Справка!$G$2:$H$579,2,0),\"\")","v":""}]
[null,null,null,null,{"$f":"IFERROR(VLOOKUP(D918,Справка!$G$2:$H$579,2,0),\"\")","v":""}]
[null,null,null,null,{"$f":"IFERROR(VLOOKUP(D919,Справка!$G$2:$H$579,2,0),\"\")","v":""}]
[null,null,null,null,{"$f":"IFERROR(VLOOKUP(D920,Справка!$G$2:$H$579,2,0),\"\")","v":""}]
[null,null,null,null,{"$f":"IFERROR(VLOOKUP(D921,Справка!$G$2:$H$579,2,0),\"\")","v":""}]
[null,null,null,null,{"$f":"IFERROR(VLOOKUP(D922,Справка!$G$2:$H$579,2,0),\"\")","v":""}]
[null,null,null,null,{"$f":"IFERROR(VLOOKUP(D923,Справка!$G$2:$H$579,2,0),\"\")","v":""}]
[null,null,null,null,{"$f":"IFERROR(VLOOKUP(D924,Справка!$G$2:$H$579,2,0),\"\")","v":""}]
[null,null,null,null,{"$f":"IFERROR(VLOOKUP(D925,Справка!$G$2:$H$579,2,0),\"\")","v":""}]
[null,null,null,null,{"$f":"IFERROR(VLOOKUP(D926,Справка!$G$2:$H$579,2,0),\"\")","v":""}]
[null,null,null,null,{"$f":"IFERROR(VLOOKUP(D927,Справка!$G$2:$H$579,2,0),\"\")","v":""}]
[null,null,null,null,{"$f":"IFERROR(VLOOKUP(D928,Справка!$G$2:$H$579,2,0),\"\")","v":""}]
[null,null,null,null,{"$f":"IFERROR(VLOOKUP(D929,Справка!$G$2:$H$579,2,0),\"\")","v":""}]
[null,null,null,null,{"$f":"IFERROR(VLOOKUP(D930,Справка!$G$2:$H$579,2,0),\"\")","v":""}]
[null,null,null,null,{"$f":"IFERROR(VLOOKUP(D931,Справка!$G$2:$H$579,2,0),\"\")","v":""}]
[null,null,null,null,{"$f":"IFERROR(VLOOKUP(D932,Справка!$G$2:$H$579,2,0),\"\")","v":""}]
[null,null,null,null,{"$f":"IFERROR(VLOOKUP(D933,Справка!$G$2:$H$579,2,0),\"\")","v":""}]
[null,null,null,null,{"$f":"IFERROR(VLOOKUP(D934,Справка!$G$2:$H$579,2,0),\"\")","v":""}]
[null,null,null,null,{"$f":"IFERROR(VLOOKUP(D935,Справка!$G$2:$H$579,2,0),\"\")","v":""}]
[null,null,null,null,{"$f":"IFERROR(VLOOKUP(D936,Справка!$G$2:$H$579,2,0),\"\")","v":""}]
[null,null,null,null,{"$f":"IFERROR(VLOOKUP(D937,Справка!$G$2:$H$579,2,0),\"\")","v":""}]
[null,null,null,null,{"$f":"IFERROR(VLOOKUP(D938,Справка!$G$2:$H$579,2,0),\"\")","v":""}]
[null,null,null,null,{"$f":"IFERROR(VLOOKUP(D939,Справка!$G$2:$H$579,2,0),\"\")","v":""}]
[null,null,null,null,{"$f":"IFERROR(VLOOKUP(D940,Справка!$G$2:$H$579,2,0),\"\")","v":""}]
[null,null,null,null,{"$f":"IFERROR(VLOOKUP(D941,Справка!$G$2:$H$579,2,0),\"\")","v":""}]
[null,null,null,null,{"$f":"IFERROR(VLOOKUP(D942,Справка!$G$2:$H$579,2,0),\"\")","v":""}]
[null,null,null,null,{"$f":"IFERROR(VLOOKUP(D943,Справка!$G$2:$H$579,2,0),\"\")","v":""}]
[null,null,null,null,{"$f":"IFERROR(VLOOKUP(D944,Справка!$G$2:$H$579,2,0),\"\")","v":""}]
[null,null,null,null,{"$f":"IFERROR(VLOOKUP(D945,Справка!$G$2:$H$579,2,0),\"\")","v":""}]
[null,null,null,null,{"$f":"IFERROR(VLOOKUP(D946,Справка!$G$2:$H$579,2,0),\"\")","v":""}]
[null,null,null,null,{"$f":"IFERROR(VLOOKUP(D947,Справка!$G$2:$H$579,2,0),\"\")","v":""}]
[null,null,null,null,{"$f":"IFERROR(VLOOKUP(D948,Справка!$G$2:$H$579,2,0),\"\")","v":""}]
[null,null,null,null,{"$f":"IFERROR(VLOOKUP(D949,Справка!$G$2:$H$579,2,0),\"\")","v":""}]
[null,null,null,null,{"$f":"IFERROR(VLOOKUP(D950,Справка!$G$2:$H$579,2,0),\"\")","v":""}]
[null,null,null,null,{"$f":"IFERROR(VLOOKUP(D951,Справка!$G$2:$H$579,2,0),\"\")","v":""}]
[null,null,null,null,{"$f":"IFERROR(VLOOKUP(D952,Справка!$G$2:$H$579,2,0),\"\")","v":""}]
[null,null,null,null,{"$f":"IFERROR(VLOOKUP(D953,Справка!$G$2:$H$579,2,0),\"\")","v":""}]
[null,null,null,null,{"$f":"IFERROR(VLOOKUP(D954,Справка!$G$2:$H$579,2,0),\"\")","v":""}]
[null,null,null,null,{"$f":"IFERROR(VLOOKUP(D955,Справка!$G$2:$H$579,2,0),\"\")","v":""}]
[null,null,null,null,{"$f":"IFERROR(VLOOKUP(D956,Справка!$G$2:$H$579,2,0),\"\")","v":""}]
[null,null,null,null,{"$f":"IFERROR(VLOOKUP(D957,Справка!$G$2:$H$579,2,0),\"\")","v":""}]
[null,null,null,null,{"$f":"IFERROR(VLOOKUP(D958,Справка!$G$2:$H$579,2,0),\"\")","v":""}]
[null,null,null,null,{"$f":"IFERROR(VLOOKUP(D959,Справка!$G$2:$H$579,2,0),\"\")","v":""}]
[null,null,null,null,{"$f":"IFERROR(VLOOKUP(D960,Справка!$G$2:$H$579,2,0),\"\")","v":""}]
[null,null,null,null,{"$f":"IFERROR(VLOOKUP(D961,Справка!$G$2:$H$579,2,0),\"\")","v":""}]
[null,null,null,null,{"$f":"IFERROR(VLOOKUP(D962,Справка!$G$2:$H$579,2,0),\"\")","v":""}]
[null,null,null,null,{"$f":"IFERROR(VLOOKUP(D963,Справка!$G$2:$H$579,2,0),\"\")","v":""}]
[null,null,null,null,{"$f":"IFERROR(VLOOKUP(D964,Справка!$G$2:$H$579,2,0),\"\")","v":""}]
[null,null,null,null,{"$f":"IFERROR(VLOOKUP(D965,Справка!$G$2:$H$579,2,0),\"\")","v":""}]
[null,null,null,null,{"$f":"IFERROR(VLOOKUP(D966,Справка!$G$2:$H$579,2,0),\"\")","v":""}]
[null,null,null,null,{"$f":"IFERROR(VLOOKUP(D967,Справка!$G$2:$H$579,2,0),\"\")","v":""}]
[null,null,null,null,{"$f":"IFERROR(VLOOKUP(D968,Справка!$G$2:$H$579,2,0),\"\")","v":""}]
[null,null,null,null,{"$f":"IFERROR(VLOOKUP(D969,Справка!$G$2:$H$579,2,0),\"\")","v":""}]
[null,null,null,null,{"$f":"IFERROR(VLOOKUP(D970,Справка!$G$2:$H$579,2,0),\"\")","v":""}]
[null,null,null,null,{"$f":"IFERROR(VLOOKUP(D971,Справка!$G$2:$H$579,2,0),\"\")","v":""}]
[null,null,null,null,{"$f":"IFERROR(VLOOKUP(D972,Справка!$G$2:$H$579,2,0),\"\")","v":""}]
[null,null,null,null,{"$f":"IFERROR(VLOOKUP(D973,Справка!$G$2:$H$579,2,0),\"\")","v":""}]
[null,null,null,null,{"$f":"IFERROR(VLOOKUP(D974,Справка!$G$2:$H$579,2,0),\"\")","v":""}]
[null,null,null,null,{"$f":"IFERROR(VLOOKUP(D975,Справка!$G$2:$H$579,2,0),\"\")","v":""}]
[null,null,null,null,{"$f":"IFERROR(VLOOKUP(D976,Справка!$G$2:$H$579,2,0),\"\")","v":""}]
[null,null,null,null,{"$f":"IFERROR(VLOOKUP(D977,Справка!$G$2:$H$579,2,0),\"\")","v":""}]
[null,null,null,null,{"$f":"IFERROR(VLOOKUP(D978,Справка!$G$2:$H$579,2,0),\"\")","v":""}]
[null,null,null,null,{"$f":"IFERROR(VLOOKUP(D979,Справка!$G$2:$H$579,2,0),\"\")","v":""}]
[null,null,null,null,{"$f":"IFERROR(VLOOKUP(D980,Справка!$G$2:$H$579,2,0),\"\")","v":""}]
[null,null,null,null,{"$f":"IFERROR(VLOOKUP(D981,Справка!$G$2:$H$579,2,0),\"\")","v":""}]
[null,null,null,null,{"$f":"IFERROR(VLOOKUP(D982,Справка!$G$2:$H$579,2,0),\"\")","v":""}]
[null,null,null,null,{"$f":"IFERROR(VLOOKUP(D983,Справка!$G$2:$H$579,2,0),\"\")","v":""}]
[null,null,null,null,{"$f":"IFERROR(VLOOKUP(D984,Справка!$G$2:$H$579,2,0),\"\")","v":""}]
[null,null,null,null,{"$f":"IFERROR(VLOOKUP(D985,Справка!$G$2:$H$579,2,0),\"\")","v":""}]
[null,null,null,null,{"$f":"IFERROR(VLOOKUP(D986,Справка!$G$2:$H$579,2,0),\"\")","v":""}]
[null,null,null,null,{"$f":"IFERROR(VLOOKUP(D987,Справка!$G$2:$H$579,2,0),\"\")","v":""}]
[null,null,null,null,{"$f":"IFERROR(VLOOKUP(D988,Справка!$G$2:$H$579,2,0),\"\")","v":""}]
[null,null,null,null,{"$f":"IFERROR(VLOOKUP(D989,Справка!$G$2:$H$579,2,0),\"\")","v":""}]
[null,null,null,null,{"$f":"IFERROR(VLOOKUP(D990,Справка!$G$2:$H$579,2,0),\"\")","v":""}]
[null,null,null,null,{"$f":"IFERROR(VLOOKUP(D991,Справка!$G$2:$H$579,2,0),\"\")","v":""}]
[null,null,null,null,{"$f":"IFERROR(VLOOKUP(D992,Справка!$G$2:$H$579,2,0),\"\")","v":""}]
[null,null,null,null,{"$f":"IFERROR(VLOOKUP(D993,Справка!$G$2:$H$579,2,0),\"\")","v":""}]
[null,null,null,null,{"$f":"IFERROR(VLOOKUP(D994,Справка!$G$2:$H$579,2,0),\"\")","v":""}]
[null,null,null,null,{"$f":"IFERROR(VLOOKUP(D995,Справка!$G$2:$H$579,2,0),\"\")","v":""}]
[null,null,null,null,{"$f":"IFERROR(VLOOKUP(D996,Справка!$G$2:$H$579,2,0),\"\")","v":""}]
[null,null,null,null,{"$f":"IFERROR(VLOOKUP(D997,Справка!$G$2:$H$579,2,0),\"\")","v":""}]
[null,null,null,null,{"$f":"IFERROR(VLOOKUP(D998,Справка!$G$2:$H$579,2,0),\"\")","v":""}]
[null,null,null,null,{"$f":"IFERROR(VLOOKUP(D999,Справка!$G$2:$H$579,2,0),\"\")","v":""}]
[null,null,null,null,{"$f":"IFERROR(VLOOKUP(D1000,Справка!$G$2:$H$579,2,0),\"\")","v":""}]
[null,null,null,null,{"$f":"IFERROR(VLOOKUP(D1001,Справка!$G$2:$H$579,2,0),\"\")","v":""}]
[null,null,null,null,{"$f":"IFERROR(VLOOKUP(D1002,Справка!$G$2:$H$579,2,0),\"\")","v":""}]
[null,null,null,null,{"$f":"IFERROR(VLOOKUP(D1003,Справка!$G$2:$H$579,2,0),\"\")","v":""}]
[null,null,null,null,{"$f":"IFERROR(VLOOKUP(D1004,Справка!$G$2:$H$579,2,0),\"\")","v":""}]
[null,null,null,null,{"$f":"IFERROR(VLOOKUP(D1005,Справка!$G$2:$H$579,2,0),\"\")","v":""}]
[null,null,null,null,{"$f":"IFERROR(VLOOKUP(D1006,Справка!$G$2:$H$579,2,0),\"\")","v":""}]
[null,null,null,null,{"$f":"IFERROR(VLOOKUP(D1007,Справка!$G$2:$H$579,2,0),\"\")","v":""}]
[null,null,null,null,{"$f":"IFERROR(VLOOKUP(D1008,Справка!$G$2:$H$579,2,0),\"\")","v":""}]
[null,null,null,null,{"$f":"IFERROR(VLOOKUP(D1009,Справка!$G$2:$H$579,2,0),\"\")","v":""}]
[null,null,null,null,{"$f":"IFERROR(VLOOKUP(D1010,Справка!$G$2:$H$579,2,0),\"\")","v":""}]
[null,null,null,null,{"$f":"IFERROR(VLOOKUP(D1011,Справка!$G$2:$H$579,2,0),\"\")","v":""}]
[null,null,null,null,{"$f":"IFERROR(VLOOKUP(D1012,Справка!$G$2:$H$579,2,0),\"\")","v":""}]
[null,null,null,null,{"$f":"IFERROR(VLOOKUP(D1013,Справка!$G$2:$H$579,2,0),\"\")","v":""}]
[null,null,null,null,{"$f":"IFERROR(VLOOKUP(D1014,Справка!$G$2:$H$579,2,0),\"\")","v":""}]
[null,null,null,null,{"$f":"IFERROR(VLOOKUP(D1015,Справка!$G$2:$H$579,2,0),\"\")","v":""}]
[null,null,null,null,{"$f":"IFERROR(VLOOKUP(D1016,Справка!$G$2:$H$579,2,0),\"\")","v":""}]
[null,null,null,null,{"$f":"IFERROR(VLOOKUP(D1017,Справка!$G$2:$H$579,2,0),\"\")","v":""}]
[null,null,null,null,{"$f":"IFERROR(VLOOKUP(D1018,Справка!$G$2:$H$579,2,0),\"\")","v":""}]
[null,null,null,null,{"$f":"IFERROR(VLOOKUP(D1019,Справка!$G$2:$H$579,2,0),\"\")","v":""}]
[null,null,null,null,{"$f":"IFERROR(VLOOKUP(D1020,Справка!$G$2:$H$579,2,0),\"\")","v":""}]
[null,null,null,null,{"$f":"IFERROR(VLOOKUP(D1021,Справка!$G$2:$H$579,2,0),\"\")","v":""}]
[null,null,null,null,{"$f":"IFERROR(VLOOKUP(D1022,Справка!$G$2:$H$579,2,0),\"\")","v":""}]
[null,null,null,null,{"$f":"IFERROR(VLOOKUP(D1023,Справка!$G$2:$H$579,2,0),\"\")","v":""}]
[null,null,null,null,{"$f":"IFERROR(VLOOKUP(D1024,Справка!$G$2:$H$579,2,0),\"\")","v":""}]
[null,null,null,null,{"$f":"IFERROR(VLOOKUP(D1025,Справка!$G$2:$H$579,2,0),\"\")","v":""}]
[null,null,null,null,{"$f":"IFERROR(VLOOKUP(D1026,Справка!$G$2:$H$579,2,0),\"\")","v":""}]
[null,null,null,null,{"$f":"IFERROR(VLOOKUP(D1027,Справка!$G$2:$H$579,2,0),\"\")","v":""}]
[null,null,null,null,{"$f":"IFERROR(VLOOKUP(D1028,Справка!$G$2:$H$579,2,0),\"\")","v":""}]
[null,null,null,null,{"$f":"IFERROR(VLOOKUP(D1029,Справка!$G$2:$H$579,2,0),\"\")","v":""}]
[null,null,null,null,{"$f":"IFERROR(VLOOKUP(D1030,Справка!$G$2:$H$579,2,0),\"\")","v":""}]
[null,null,null,null,{"$f":"IFERROR(VLOOKUP(D1031,Справка!$G$2:$H$579,2,0),\"\")","v":""}]
[null,null,null,null,{"$f":"IFERROR(VLOOKUP(D1032,Справка!$G$2:$H$579,2,0),\"\")","v":""}]
[null,null,null,null,{"$f":"IFERROR(VLOOKUP(D1033,Справка!$G$2:$H$579,2,0),\"\")","v":""}]
[null,null,null,null,{"$f":"IFERROR(VLOOKUP(D1034,Справка!$G$2:$H$579,2,0),\"\")","v":""}]
[null,null,null,null,{"$f":"IFERROR(VLOOKUP(D1035,Справка!$G$2:$H$579,2,0),\"\")","v":""}]
[null,null,null,null,{"$f":"IFERROR(VLOOKUP(D1036,Справка!$G$2:$H$579,2,0),\"\")","v":""}]
[null,null,null,null,{"$f":"IFERROR(VLOOKUP(D1037,Справка!$G$2:$H$579,2,0),\"\")","v":""}]
[null,null,null,null,{"$f":"IFERROR(VLOOKUP(D1038,Справка!$G$2:$H$579,2,0),\"\")","v":""}]
[null,null,null,null,{"$f":"IFERROR(VLOOKUP(D1039,Справка!$G$2:$H$579,2,0),\"\")","v":""}]
[null,null,null,null,{"$f":"IFERROR(VLOOKUP(D1040,Справка!$G$2:$H$579,2,0),\"\")","v":""}]
[null,null,null,null,{"$f":"IFERROR(VLOOKUP(D1041,Справка!$G$2:$H$579,2,0),\"\")","v":""}]
[null,null,null,null,{"$f":"IFERROR(VLOOKUP(D1042,Справка!$G$2:$H$579,2,0),\"\")","v":""}]
[null,null,null,null,{"$f":"IFERROR(VLOOKUP(D1043,Справка!$G$2:$H$579,2,0),\"\")","v":""}]
[null,null,null,null,{"$f":"IFERROR(VLOOKUP(D1044,Справка!$G$2:$H$579,2,0),\"\")","v":""}]
[null,null,null,null,{"$f":"IFERROR(VLOOKUP(D1045,Справка!$G$2:$H$579,2,0),\"\")","v":""}]
[null,null,null,null,{"$f":"IFERROR(VLOOKUP(D1046,Справка!$G$2:$H$579,2,0),\"\")","v":""}]
[null,null,null,null,{"$f":"IFERROR(VLOOKUP(D1047,Справка!$G$2:$H$579,2,0),\"\")","v":""}]
[null,null,null,null,{"$f":"IFERROR(VLOOKUP(D1048,Справка!$G$2:$H$579,2,0),\"\")","v":""}]
[null,null,null,null,{"$f":"IFERROR(VLOOKUP(D1049,Справка!$G$2:$H$579,2,0),\"\")","v":""}]
[null,null,null,null,{"$f":"IFERROR(VLOOKUP(D1050,Справка!$G$2:$H$579,2,0),\"\")","v":""}]
[null,null,null,null,{"$f":"IFERROR(VLOOKUP(D1051,Справка!$G$2:$H$579,2,0),\"\")","v":""}]
[null,null,null,null,{"$f":"IFERROR(VLOOKUP(D1052,Справка!$G$2:$H$579,2,0),\"\")","v":""}]
[null,null,null,null,{"$f":"IFERROR(VLOOKUP(D1053,Справка!$G$2:$H$579,2,0),\"\")","v":""}]
[null,null,null,null,{"$f":"IFERROR(VLOOKUP(D1054,Справка!$G$2:$H$579,2,0),\"\")","v":""}]
[null,null,null,null,{"$f":"IFERROR(VLOOKUP(D1055,Справка!$G$2:$H$579,2,0),\"\")","v":""}]
[null,null,null,null,{"$f":"IFERROR(VLOOKUP(D1056,Справка!$G$2:$H$579,2,0),\"\")","v":""}]
[null,null,null,null,{"$f":"IFERROR(VLOOKUP(D1057,Справка!$G$2:$H$579,2,0),\"\")","v":""}]
[null,null,null,null,{"$f":"IFERROR(VLOOKUP(D1058,Справка!$G$2:$H$579,2,0),\"\")","v":""}]
[null,null,null,null,{"$f":"IFERROR(VLOOKUP(D1059,Справка!$G$2:$H$579,2,0),\"\")","v":""}]
[null,null,null,null,{"$f":"IFERROR(VLOOKUP(D1060,Справка!$G$2:$H$579,2,0),\"\")","v":""}]
[null,null,null,null,{"$f":"IFERROR(VLOOKUP(D1061,Справка!$G$2:$H$579,2,0),\"\")","v":""}]
[null,null,null,null,{"$f":"IFERROR(VLOOKUP(D1062,Справка!$G$2:$H$579,2,0),\"\")","v":""}]
[null,null,null,null,{"$f":"IFERROR(VLOOKUP(D1063,Справка!$G$2:$H$579,2,0),\"\")","v":""}]
[null,null,null,null,{"$f":"IFERROR(VLOOKUP(D1064,Справка!$G$2:$H$579,2,0),\"\")","v":""}]
[null,null,null,null,{"$f":"IFERROR(VLOOKUP(D1065,Справка!$G$2:$H$579,2,0),\"\")","v":""}]
[null,null,null,null,{"$f":"IFERROR(VLOOKUP(D1066,Справка!$G$2:$H$579,2,0),\"\")","v":""}]
[null,null,null,null,{"$f":"IFERROR(VLOOKUP(D1067,Справка!$G$2:$H$579,2,0),\"\")","v":""}]
[null,null,null,null,{"$f":"IFERROR(VLOOKUP(D1068,Справка!$G$2:$H$579,2,0),\"\")","v":""}]
[null,null,null,null,{"$f":"IFERROR(VLOOKUP(D1069,Справка!$G$2:$H$579,2,0),\"\")","v":""}]
[null,null,null,null,{"$f":"IFERROR(VLOOKUP(D1070,Справка!$G$2:$H$579,2,0),\"\")","v":""}]
[null,null,null,null,{"$f":"IFERROR(VLOOKUP(D1071,Справка!$G$2:$H$579,2,0),\"\")","v":""}]
[null,null,null,null,{"$f":"IFERROR(VLOOKUP(D1072,Справка!$G$2:$H$579,2,0),\"\")","v":""}]
[null,null,null,null,{"$f":"IFERROR(VLOOKUP(D1073,Справка!$G$2:$H$579,2,0),\"\")","v":""}]
[null,null,null,null,{"$f":"IFERROR(VLOOKUP(D1074,Справка!$G$2:$H$579,2,0),\"\")","v":""}]
[null,null,null,null,{"$f":"IFERROR(VLOOKUP(D1075,Справка!$G$2:$H$579,2,0),\"\")","v":""}]
[null,null,null,null,{"$f":"IFERROR(VLOOKUP(D1076,Справка!$G$2:$H$579,2,0),\"\")","v":""}]
[null,null,null,null,{"$f":"IFERROR(VLOOKUP(D1077,Справка!$G$2:$H$579,2,0),\"\")","v":""}]
[null,null,null,null,{"$f":"IFERROR(VLOOKUP(D1078,Справка!$G$2:$H$579,2,0),\"\")","v":""}]
[null,null,null,null,{"$f":"IFERROR(VLOOKUP(D1079,Справка!$G$2:$H$579,2,0),\"\")","v":""}]
[null,null,null,null,{"$f":"IFERROR(VLOOKUP(D1080,Справка!$G$2:$H$579,2,0),\"\")","v":""}]
[null,null,null,null,{"$f":"IFERROR(VLOOKUP(D1081,Справка!$G$2:$H$579,2,0),\"\")","v":""}]
[null,null,null,null,{"$f":"IFERROR(VLOOKUP(D1082,Справка!$G$2:$H$579,2,0),\"\")","v":""}]
[null,null,null,null,{"$f":"IFERROR(VLOOKUP(D1083,Справка!$G$2:$H$579,2,0),\"\")","v":""}]
[null,null,null,null,{"$f":"IFERROR(VLOOKUP(D1084,Справка!$G$2:$H$579,2,0),\"\")","v":""}]
[null,null,null,null,{"$f":"IFERROR(VLOOKUP(D1085,Справка!$G$2:$H$579,2,0),\"\")","v":""}]
[null,null,null,null,{"$f":"IFERROR(VLOOKUP(D1086,Справка!$G$2:$H$579,2,0),\"\")","v":""}]
[null,null,null,null,{"$f":"IFERROR(VLOOKUP(D1087,Справка!$G$2:$H$579,2,0),\"\")","v":""}]
[null,null,null,null,{"$f":"IFERROR(VLOOKUP(D1088,Справка!$G$2:$H$579,2,0),\"\")","v":""}]
[null,null,null,null,{"$f":"IFERROR(VLOOKUP(D1089,Справка!$G$2:$H$579,2,0),\"\")","v":""}]
[null,null,null,null,{"$f":"IFERROR(VLOOKUP(D1090,Справка!$G$2:$H$579,2,0),\"\")","v":""}]
[null,null,null,null,{"$f":"IFERROR(VLOOKUP(D1091,Справка!$G$2:$H$579,2,0),\"\")","v":""}]
[null,null,null,null,{"$f":"IFERROR(VLOOKUP(D1092,Справка!$G$2:$H$579,2,0),\"\")","v":""}]
[null,null,null,null,{"$f":"IFERROR(VLOOKUP(D1093,Справка!$G$2:$H$579,2,0),\"\")","v":""}]
[null,null,null,null,{"$f":"IFERROR(VLOOKUP(D1094,Справка!$G$2:$H$579,2,0),\"\")","v":""}]
[null,null,null,null,{"$f":"IFERROR(VLOOKUP(D1095,Справка!$G$2:$H$579,2,0),\"\")","v":""}]
[null,null,null,null,{"$f":"IFERROR(VLOOKUP(D1096,Справка!$G$2:$H$579,2,0),\"\")","v":""}]
[null,null,null,null,{"$f":"IFERROR(VLOOKUP(D1097,Справка!$G$2:$H$579,2,0),\"\")","v":""}]
[null,null,null,null,{"$f":"IFERROR(VLOOKUP(D1098,Справка!$G$2:$H$579,2,0),\"\")","v":""}]
[null,null,null,null,{"$f":"IFERROR(VLOOKUP(D1099,Справка!$G$2:$H$579,2,0),\"\")","v":""}]
[null,null,null,null,{"$f":"IFERROR(VLOOKUP(D1100,Справка!$G$2:$H$579,2,0),\"\")","v":""}]
[null,null,null,null,{"$f":"IFERROR(VLOOKUP(D1101,Справка!$G$2:$H$579,2,0),\"\")","v":""}]
[null,null,null,null,{"$f":"IFERROR(VLOOKUP(D1102,Справка!$G$2:$H$579,2,0),\"\")","v":""}]
[null,null,null,null,{"$f":"IFERROR(VLOOKUP(D1103,Справка!$G$2:$H$579,2,0),\"\")","v":""}]
[null,null,null,null,{"$f":"IFERROR(VLOOKUP(D1104,Справка!$G$2:$H$579,2,0),\"\")","v":""}]
[null,null,null,null,{"$f":"IFERROR(VLOOKUP(D1105,Справка!$G$2:$H$579,2,0),\"\")","v":""}]
[null,null,null,null,{"$f":"IFERROR(VLOOKUP(D1106,Справка!$G$2:$H$579,2,0),\"\")","v":""}]
[null,null,null,null,{"$f":"IFERROR(VLOOKUP(D1107,Справка!$G$2:$H$579,2,0),\"\")","v":""}]
[null,null,null,null,{"$f":"IFERROR(VLOOKUP(D1108,Справка!$G$2:$H$579,2,0),\"\")","v":""}]
[null,null,null,null,{"$f":"IFERROR(VLOOKUP(D1109,Справка!$G$2:$H$579,2,0),\"\")","v":""}]
[null,null,null,null,{"$f":"IFERROR(VLOOKUP(D1110,Справка!$G$2:$H$579,2,0),\"\")","v":""}]
[null,null,null,null,{"$f":"IFERROR(VLOOKUP(D1111,Справка!$G$2:$H$579,2,0),\"\")","v":""}]
[null,null,null,null,{"$f":"IFERROR(VLOOKUP(D1112,Справка!$G$2:$H$579,2,0),\"\")","v":""}]
[null,null,null,null,{"$f":"IFERROR(VLOOKUP(D1113,Справка!$G$2:$H$579,2,0),\"\")","v":""}]
[null,null,null,null,{"$f":"IFERROR(VLOOKUP(D1114,Справка!$G$2:$H$579,2,0),\"\")","v":""}]
[null,null,null,null,{"$f":"IFERROR(VLOOKUP(D1115,Справка!$G$2:$H$579,2,0),\"\")","v":""}]
[null,null,null,null,{"$f":"IFERROR(VLOOKUP(D1116,Справка!$G$2:$H$579,2,0),\"\")","v":""}]
[null,null,null,null,{"$f":"IFERROR(VLOOKUP(D1117,Справка!$G$2:$H$579,2,0),\"\")","v":""}]
[null,null,null,null,{"$f":"IFERROR(VLOOKUP(D1118,Справка!$G$2:$H$579,2,0),\"\")","v":""}]
[null,null,null,null,{"$f":"IFERROR(VLOOKUP(D1119,Справка!$G$2:$H$579,2,0),\"\")","v":""}]
[null,null,null,null,{"$f":"IFERROR(VLOOKUP(D1120,Справка!$G$2:$H$579,2,0),\"\")","v":""}]
[null,null,null,null,{"$f":"IFERROR(VLOOKUP(D1121,Справка!$G$2:$H$579,2,0),\"\")","v":""}]
[null,null,null,null,{"$f":"IFERROR(VLOOKUP(D1122,Справка!$G$2:$H$579,2,0),\"\")","v":""}]
[null,null,null,null,{"$f":"IFERROR(VLOOKUP(D1123,Справка!$G$2:$H$579,2,0),\"\")","v":""}]
[null,null,null,null,{"$f":"IFERROR(VLOOKUP(D1124,Справка!$G$2:$H$579,2,0),\"\")","v":""}]
[null,null,null,null,{"$f":"IFERROR(VLOOKUP(D1125,Справка!$G$2:$H$579,2,0),\"\")","v":""}]
[null,null,null,null,{"$f":"IFERROR(VLOOKUP(D1126,Справка!$G$2:$H$579,2,0),\"\")","v":""}]
[null,null,null,null,{"$f":"IFERROR(VLOOKUP(D1127,Справка!$G$2:$H$579,2,0),\"\")","v":""}]
[null,null,null,null,{"$f":"IFERROR(VLOOKUP(D1128,Справка!$G$2:$H$579,2,0),\"\")","v":""}]
[null,null,null,null,{"$f":"IFERROR(VLOOKUP(D1129,Справка!$G$2:$H$579,2,0),\"\")","v":""}]
[null,null,null,null,{"$f":"IFERROR(VLOOKUP(D1130,Справка!$G$2:$H$579,2,0),\"\")","v":""}]
[null,null,null,null,{"$f":"IFERROR(VLOOKUP(D1131,Справка!$G$2:$H$579,2,0),\"\")","v":""}]
[null,null,null,null,{"$f":"IFERROR(VLOOKUP(D1132,Справка!$G$2:$H$579,2,0),\"\")","v":""}]
[null,null,null,null,{"$f":"IFERROR(VLOOKUP(D1133,Справка!$G$2:$H$579,2,0),\"\")","v":""}]
[null,null,null,null,{"$f":"IFERROR(VLOOKUP(D1134,Справка!$G$2:$H$579,2,0),\"\")","v":""}]
[null,null,null,null,{"$f":"IFERROR(VLOOKUP(D1135,Справка!$G$2:$H$579,2,0),\"\")","v":""}]
[null,null,null,null,{"$f":"IFERROR(VLOOKUP(D1136,Справка!$G$2:$H$579,2,0),\"\")","v":""}]
[null,null,null,null,{"$f":"IFERROR(VLOOKUP(D1137,Справка!$G$2:$H$579,2,0),\"\")","v":""}]
[null,null,null,null,{"$f":"IFERROR(VLOOKUP(D1138,Справка!$G$2:$H$579,2,0),\"\")","v":""}]
[null,null,null,null,{"$f":"IFERROR(VLOOKUP(D1139,Справка!$G$2:$H$579,2,0),\"\")","v":""}]
[null,null,null,null,{"$f":"IFERROR(VLOOKUP(D1140,Справка!$G$2:$H$579,2,0),\"\")","v":""}]
[null,null,null,null,{"$f":"IFERROR(VLOOKUP(D1141,Справка!$G$2:$H$579,2,0),\"\")","v":""}]
[null,null,null,null,{"$f":"IFERROR(VLOOKUP(D1142,Справка!$G$2:$H$579,2,0),\"\")","v":""}]
[null,null,null,null,{"$f":"IFERROR(VLOOKUP(D1143,Справка!$G$2:$H$579,2,0),\"\")","v":""}]
[null,null,null,null,{"$f":"IFERROR(VLOOKUP(D1144,Справка!$G$2:$H$579,2,0),\"\")","v":""}]
[null,null,null,null,{"$f":"IFERROR(VLOOKUP(D1145,Справка!$G$2:$H$579,2,0),\"\")","v":""}]
[null,null,null,null,{"$f":"IFERROR(VLOOKUP(D1146,Справка!$G$2:$H$579,2,0),\"\")","v":""}]
[null,null,null,null,{"$f":"IFERROR(VLOOKUP(D1147,Справка!$G$2:$H$579,2,0),\"\")","v":""}]
[null,null,null,null,{"$f":"IFERROR(VLOOKUP(D1148,Справка!$G$2:$H$579,2,0),\"\")","v":""}]
[null,null,null,null,{"$f":"IFERROR(VLOOKUP(D1149,Справка!$G$2:$H$579,2,0),\"\")","v":""}]
[null,null,null,null,{"$f":"IFERROR(VLOOKUP(D1150,Справка!$G$2:$H$579,2,0),\"\")","v":""}]
[null,null,null,null,{"$f":"IFERROR(VLOOKUP(D1151,Справка!$G$2:$H$579,2,0),\"\")","v":""}]
[null,null,null,null,{"$f":"IFERROR(VLOOKUP(D1152,Справка!$G$2:$H$579,2,0),\"\")","v":""}]
[null,null,null,null,{"$f":"IFERROR(VLOOKUP(D1153,Справка!$G$2:$H$579,2,0),\"\")","v":""}]
[null,null,null,null,{"$f":"IFERROR(VLOOKUP(D1154,Справка!$G$2:$H$579,2,0),\"\")","v":""}]
[null,null,null,null,{"$f":"IFERROR(VLOOKUP(D1155,Справка!$G$2:$H$579,2,0),\"\")","v":""}]
[null,null,null,null,{"$f":"IFERROR(VLOOKUP(D1156,Справка!$G$2:$H$579,2,0),\"\")","v":""}]
[null,null,null,null,{"$f":"IFERROR(VLOOKUP(D1157,Справка!$G$2:$H$579,2,0),\"\")","v":""}]
[null,null,null,null,{"$f":"IFERROR(VLOOKUP(D1158,Справка!$G$2:$H$579,2,0),\"\")","v":""}]
[null,null,null,null,{"$f":"IFERROR(VLOOKUP(D1159,Справка!$G$2:$H$579,2,0),\"\")","v":""}]
[null,null,null,null,{"$f":"IFERROR(VLOOKUP(D1160,Справка!$G$2:$H$579,2,0),\"\")","v":""}]
[null,null,null,null,{"$f":"IFERROR(VLOOKUP(D1161,Справка!$G$2:$H$579,2,0),\"\")","v":""}]
[null,null,null,null,{"$f":"IFERROR(VLOOKUP(D1162,Справка!$G$2:$H$579,2,0),\"\")","v":""}]
[null,null,null,null,{"$f":"IFERROR(VLOOKUP(D1163,Справка!$G$2:$H$579,2,0),\"\")","v":""}]
[null,null,null,null,{"$f":"IFERROR(VLOOKUP(D1164,Справка!$G$2:$H$579,2,0),\"\")","v":""}]
[null,null,null,null,{"$f":"IFERROR(VLOOKUP(D1165,Справка!$G$2:$H$579,2,0),\"\")","v":""}]
[null,null,null,null,{"$f":"IFERROR(VLOOKUP(D1166,Справка!$G$2:$H$579,2,0),\"\")","v":""}]
[null,null,null,null,{"$f":"IFERROR(VLOOKUP(D1167,Справка!$G$2:$H$579,2,0),\"\")","v":""}]
[null,null,null,null,{"$f":"IFERROR(VLOOKUP(D1168,Справка!$G$2:$H$579,2,0),\"\")","v":""}]
[null,null,null,null,{"$f":"IFERROR(VLOOKUP(D1169,Справка!$G$2:$H$579,2,0),\"\")","v":""}]
[null,null,null,null,{"$f":"IFERROR(VLOOKUP(D1170,Справка!$G$2:$H$579,2,0),\"\")","v":""}]
[null,null,null,null,{"$f":"IFERROR(VLOOKUP(D1171,Справка!$G$2:$H$579,2,0),\"\")","v":""}]
[null,null,null,null,{"$f":"IFERROR(VLOOKUP(D1172,Справка!$G$2:$H$579,2,0),\"\")","v":""}]
[null,null,null,null,{"$f":"IFERROR(VLOOKUP(D1173,Справка!$G$2:$H$579,2,0),\"\")","v":""}]
[null,null,null,null,{"$f":"IFERROR(VLOOKUP(D1174,Справка!$G$2:$H$579,2,0),\"\")","v":""}]
[null,null,null,null,{"$f":"IFERROR(VLOOKUP(D1175,Справка!$G$2:$H$579,2,0),\"\")","v":""}]
[null,null,null,null,{"$f":"IFERROR(VLOOKUP(D1176,Справка!$G$2:$H$579,2,0),\"\")","v":""}]
[null,null,null,null,{"$f":"IFERROR(VLOOKUP(D1177,Справка!$G$2:$H$579,2,0),\"\")","v":""}]
[null,null,null,null,{"$f":"IFERROR(VLOOKUP(D1178,Справка!$G$2:$H$579,2,0),\"\")","v":""}]
[null,null,null,null,{"$f":"IFERROR(VLOOKUP(D1179,Справка!$G$2:$H$579,2,0),\"\")","v":""}]
[null,null,null,null,{"$f":"IFERROR(VLOOKUP(D1180,Справка!$G$2:$H$579,2,0),\"\")","v":""}]
[null,null,null,null,{"$f":"IFERROR(VLOOKUP(D1181,Справка!$G$2:$H$579,2,0),\"\")","v":""}]
[null,null,null,null,{"$f":"IFERROR(VLOOKUP(D1182,Справка!$G$2:$H$579,2,0),\"\")","v":""}]
[null,null,null,null,{"$f":"IFERROR(VLOOKUP(D1183,Справка!$G$2:$H$579,2,0),\"\")","v":""}]
[null,null,null,null,{"$f":"IFERROR(VLOOKUP(D1184,Справка!$G$2:$H$579,2,0),\"\")","v":""}]
[null,null,null,null,{"$f":"IFERROR(VLOOKUP(D1185,Справка!$G$2:$H$579,2,0),\"\")","v":""}]
[null,null,null,null,{"$f":"IFERROR(VLOOKUP(D1186,Справка!$G$2:$H$579,2,0),\"\")","v":""}]
[null,null,null,null,{"$f":"IFERROR(VLOOKUP(D1187,Справка!$G$2:$H$579,2,0),\"\")","v":""}]
[null,null,null,null,{"$f":"IFERROR(VLOOKUP(D1188,Справка!$G$2:$H$579,2,0),\"\")","v":""}]
[null,null,null,null,{"$f":"IFERROR(VLOOKUP(D1189,Справка!$G$2:$H$579,2,0),\"\")","v":""}]
[null,null,null,null,{"$f":"IFERROR(VLOOKUP(D1190,Справка!$G$2:$H$579,2,0),\"\")","v":""}]
[null,null,null,null,{"$f":"IFERROR(VLOOKUP(D1191,Справка!$G$2:$H$579,2,0),\"\")","v":""}]
[null,null,null,null,{"$f":"IFERROR(VLOOKUP(D1192,Справка!$G$2:$H$579,2,0),\"\")","v":""}]
[null,null,null,null,{"$f":"IFERROR(VLOOKUP(D1193,Справка!$G$2:$H$579,2,0),\"\")","v":""}]
[null,null,null,null,{"$f":"IFERROR(VLOOKUP(D1194,Справка!$G$2:$H$579,2,0),\"\")","v":""}]
[null,null,null,null,{"$f":"IFERROR(VLOOKUP(D1195,Справка!$G$2:$H$579,2,0),\"\")","v":""}]
[null,null,null,null,{"$f":"IFERROR(VLOOKUP(D1196,Справка!$G$2:$H$579,2,0),\"\")","v":""}]
[null,null,null,null,{"$f":"IFERROR(VLOOKUP(D1197,Справка!$G$2:$H$579,2,0),\"\")","v":""}]
[null,null,null,null,{"$f":"IFERROR(VLOOKUP(D1198,Справка!$G$2:$H$579,2,0),\"\")","v":""}]
[null,null,null,null,{"$f":"IFERROR(VLOOKUP(D1199,Справка!$G$2:$H$579,2,0),\"\")","v":""}]
[null,null,null,null,{"$f":"IFERROR(VLOOKUP(D1200,Справка!$G$2:$H$579,2,0),\"\")","v":""}]
[null,null,null,null,{"$f":"IFERROR(VLOOKUP(D1201,Справка!$G$2:$H$579,2,0),\"\")","v":""}]
[null,null,null,null,{"$f":"IFERROR(VLOOKUP(D1202,Справка!$G$2:$H$579,2,0),\"\")","v":""}]
[null,null,null,null,{"$f":"IFERROR(VLOOKUP(D1203,Справка!$G$2:$H$579,2,0),\"\")","v":""}]
[null,null,null,null,{"$f":"IFERROR(VLOOKUP(D1204,Справка!$G$2:$H$579,2,0),\"\")","v":""}]
[null,null,null,null,{"$f":"IFERROR(VLOOKUP(D1205,Справка!$G$2:$H$579,2,0),\"\")","v":""}]
[null,null,null,null,{"$f":"IFERROR(VLOOKUP(D1206,Справка!$G$2:$H$579,2,0),\"\")","v":""}]
[null,null,null,null,{"$f":"IFERROR(VLOOKUP(D1207,Справка!$G$2:$H$579,2,0),\"\")","v":""}]
[null,null,null,null,{"$f":"IFERROR(VLOOKUP(D1208,Справка!$G$2:$H$579,2,0),\"\")","v":""}]
[null,null,null,null,{"$f":"IFERROR(VLOOKUP(D1209,Справка!$G$2:$H$579,2,0),\"\")","v":""}]
[null,null,null,null,{"$f":"IFERROR(VLOOKUP(D1210,Справка!$G$2:$H$579,2,0),\"\")","v":""}]
[null,null,null,null,{"$f":"IFERROR(VLOOKUP(D1211,Справка!$G$2:$H$579,2,0),\"\")","v":""}]
[null,null,null,null,{"$f":"IFERROR(VLOOKUP(D1212,Справка!$G$2:$H$579,2,0),\"\")","v":""}]
[null,null,null,null,{"$f":"IFERROR(VLOOKUP(D1213,Справка!$G$2:$H$579,2,0),\"\")","v":""}]
[null,null,null,null,{"$f":"IFERROR(VLOOKUP(D1214,Справка!$G$2:$H$579,2,0),\"\")","v":""}]
[null,null,null,null,{"$f":"IFERROR(VLOOKUP(D1215,Справка!$G$2:$H$579,2,0),\"\")","v":""}]
[null,null,null,null,{"$f":"IFERROR(VLOOKUP(D1216,Справка!$G$2:$H$579,2,0),\"\")","v":""}]
[null,null,null,null,{"$f":"IFERROR(VLOOKUP(D1217,Справка!$G$2:$H$579,2,0),\"\")","v":""}]
[null,null,null,null,{"$f":"IFERROR(VLOOKUP(D1218,Справка!$G$2:$H$579,2,0),\"\")","v":""}]
[null,null,null,null,{"$f":"IFERROR(VLOOKUP(D1219,Справка!$G$2:$H$579,2,0),\"\")","v":""}]
[null,null,null,null,{"$f":"IFERROR(VLOOKUP(D1220,Справка!$G$2:$H$579,2,0),\"\")","v":""}]
[null,null,null,null,{"$f":"IFERROR(VLOOKUP(D1221,Справка!$G$2:$H$579,2,0),\"\")","v":""}]
[null,null,null,null,{"$f":"IFERROR(VLOOKUP(D1222,Справка!$G$2:$H$579,2,0),\"\")","v":""}]
[null,null,null,null,{"$f":"IFERROR(VLOOKUP(D1223,Справка!$G$2:$H$579,2,0),\"\")","v":""}]
[null,null,null,null,{"$f":"IFERROR(VLOOKUP(D1224,Справка!$G$2:$H$579,2,0),\"\")","v":""}]
[null,null,null,null,{"$f":"IFERROR(VLOOKUP(D1225,Справка!$G$2:$H$579,2,0),\"\")","v":""}]
[null,null,null,null,{"$f":"IFERROR(VLOOKUP(D1226,Справка!$G$2:$H$579,2,0),\"\")","v":""}]
[null,null,null,null,{"$f":"IFERROR(VLOOKUP(D1227,Справка!$G$2:$H$579,2,0),\"\")","v":""}]
[null,null,null,null,{"$f":"IFERROR(VLOOKUP(D1228,Справка!$G$2:$H$579,2,0),\"\")","v":""}]
[null,null,null,null,{"$f":"IFERROR(VLOOKUP(D1229,Справка!$G$2:$H$579,2,0),\"\")","v":""}]
[null,null,null,null,{"$f":"IFERROR(VLOOKUP(D1230,Справка!$G$2:$H$579,2,0),\"\")","v":""}]
[null,null,null,null,{"$f":"IFERROR(VLOOKUP(D1231,Справка!$G$2:$H$579,2,0),\"\")","v":""}]
[null,null,null,null,{"$f":"IFERROR(VLOOKUP(D1232,Справка!$G$2:$H$579,2,0),\"\")","v":""}]
[null,null,null,null,{"$f":"IFERROR(VLOOKUP(D1233,Справка!$G$2:$H$579,2,0),\"\")","v":""}]
[null,null,null,null,{"$f":"IFERROR(VLOOKUP(D1234,Справка!$G$2:$H$579,2,0),\"\")","v":""}]
[null,null,null,null,{"$f":"IFERROR(VLOOKUP(D1235,Справка!$G$2:$H$579,2,0),\"\")","v":""}]
[null,null,null,null,{"$f":"IFERROR(VLOOKUP(D1236,Справка!$G$2:$H$579,2,0),\"\")","v":""}]
[null,null,null,null,{"$f":"IFERROR(VLOOKUP(D1237,Справка!$G$2:$H$579,2,0),\"\")","v":""}]
[null,null,null,null,{"$f":"IFERROR(VLOOKUP(D1238,Справка!$G$2:$H$579,2,0),\"\")","v":""}]
[null,null,null,null,{"$f":"IFERROR(VLOOKUP(D1239,Справка!$G$2:$H$579,2,0),\"\")","v":""}]
[null,null,null,null,{"$f":"IFERROR(VLOOKUP(D1240,Справка!$G$2:$H$579,2,0),\"\")","v":""}]
[null,null,null,null,{"$f":"IFERROR(VLOOKUP(D1241,Справка!$G$2:$H$579,2,0),\"\")","v":""}]
[null,null,null,null,{"$f":"IFERROR(VLOOKUP(D1242,Справка!$G$2:$H$579,2,0),\"\")","v":""}]
[null,null,null,null,{"$f":"IFERROR(VLOOKUP(D1243,Справка!$G$2:$H$579,2,0),\"\")","v":""}]
[null,null,null,null,{"$f":"IFERROR(VLOOKUP(D1244,Справка!$G$2:$H$579,2,0),\"\")","v":""}]
[null,null,null,null,{"$f":"IFERROR(VLOOKUP(D1245,Справка!$G$2:$H$579,2,0),\"\")","v":""}]
[null,null,null,null,{"$f":"IFERROR(VLOOKUP(D1246,Справка!$G$2:$H$579,2,0),\"\")","v":""}]
[null,null,null,null,{"$f":"IFERROR(VLOOKUP(D1247,Справка!$G$2:$H$579,2,0),\"\")","v":""}]
[null,null,null,null,{"$f":"IFERROR(VLOOKUP(D1248,Справка!$G$2:$H$579,2,0),\"\")","v":""}]
[null,null,null,null,{"$f":"IFERROR(VLOOKUP(D1249,Справка!$G$2:$H$579,2,0),\"\")","v":""}]
[null,null,null,null,{"$f":"IFERROR(VLOOKUP(D1250,Справка!$G$2:$H$579,2,0),\"\")","v":""}]
[null,null,null,null,{"$f":"IFERROR(VLOOKUP(D1251,Справка!$G$2:$H$579,2,0),\"\")","v":""}]
[null,null,null,null,{"$f":"IFERROR(VLOOKUP(D1252,Справка!$G$2:$H$579,2,0),\"\")","v":""}]
[null,null,null,null,{"$f":"IFERROR(VLOOKUP(D1253,Справка!$G$2:$H$579,2,0),\"\")","v":""}]
[null,null,null,null,{"$f":"IFERROR(VLOOKUP(D1254,Справка!$G$2:$H$579,2,0),\"\")","v":""}]
[null,null,null,null,{"$f":"IFERROR(VLOOKUP(D1255,Справка!$G$2:$H$579,2,0),\"\")","v":""}]
[null,null,null,null,{"$f":"IFERROR(VLOOKUP(D1256,Справка!$G$2:$H$579,2,0),\"\")","v":""}]
[null,null,null,null,{"$f":"IFERROR(VLOOKUP(D1257,Справка!$G$2:$H$579,2,0),\"\")","v":""}]
[null,null,null,null,{"$f":"IFERROR(VLOOKUP(D1258,Справка!$G$2:$H$579,2,0),\"\")","v":""}]
[null,null,null,null,{"$f":"IFERROR(VLOOKUP(D1259,Справка!$G$2:$H$579,2,0),\"\")","v":""}]
[null,null,null,null,{"$f":"IFERROR(VLOOKUP(D1260,Справка!$G$2:$H$579,2,0),\"\")","v":""}]
[null,null,null,null,{"$f":"IFERROR(VLOOKUP(D1261,Справка!$G$2:$H$579,2,0),\"\")","v":""}]
[null,null,null,null,{"$f":"IFERROR(VLOOKUP(D1262,Справка!$G$2:$H$579,2,0),\"\")","v":""}]
[null,null,null,null,{"$f":"IFERROR(VLOOKUP(D1263,Справка!$G$2:$H$579,2,0),\"\")","v":""}]
[null,null,null,null,{"$f":"IFERROR(VLOOKUP(D1264,Справка!$G$2:$H$579,2,0),\"\")","v":""}]
[null,null,null,null,{"$f":"IFERROR(VLOOKUP(D1265,Справка!$G$2:$H$579,2,0),\"\")","v":""}]
[null,null,null,null,{"$f":"IFERROR(VLOOKUP(D1266,Справка!$G$2:$H$579,2,0),\"\")","v":""}]
[null,null,null,null,{"$f":"IFERROR(VLOOKUP(D1267,Справка!$G$2:$H$579,2,0),\"\")","v":""}]
[null,null,null,null,{"$f":"IFERROR(VLOOKUP(D1268,Справка!$G$2:$H$579,2,0),\"\")","v":""}]
[null,null,null,null,{"$f":"IFERROR(VLOOKUP(D1269,Справка!$G$2:$H$579,2,0),\"\")","v":""}]
[null,null,null,null,{"$f":"IFERROR(VLOOKUP(D1270,Справка!$G$2:$H$579,2,0),\"\")","v":""}]
[null,null,null,null,{"$f":"IFERROR(VLOOKUP(D1271,Справка!$G$2:$H$579,2,0),\"\")","v":""}]
[null,null,null,null,{"$f":"IFERROR(VLOOKUP(D1272,Справка!$G$2:$H$579,2,0),\"\")","v":""}]
[null,null,null,null,{"$f":"IFERROR(VLOOKUP(D1273,Справка!$G$2:$H$579,2,0),\"\")","v":""}]
[null,null,null,null,{"$f":"IFERROR(VLOOKUP(D1274,Справка!$G$2:$H$579,2,0),\"\")","v":""}]
[null,null,null,null,{"$f":"IFERROR(VLOOKUP(D1275,Справка!$G$2:$H$579,2,0),\"\")","v":""}]
[null,null,null,null,{"$f":"IFERROR(VLOOKUP(D1276,Справка!$G$2:$H$579,2,0),\"\")","v":""}]
[null,null,null,null,{"$f":"IFERROR(VLOOKUP(D1277,Справка!$G$2:$H$579,2,0),\"\")","v":""}]
[null,null,null,null,{"$f":"IFERROR(VLOOKUP(D1278,Справка!$G$2:$H$579,2,0),\"\")","v":""}]
[null,null,null,null,{"$f":"IFERROR(VLOOKUP(D1279,Справка!$G$2:$H$579,2,0),\"\")","v":""}]
[null,null,null,null,{"$f":"IFERROR(VLOOKUP(D1280,Справка!$G$2:$H$579,2,0),\"\")","v":""}]
[null,null,null,null,{"$f":"IFERROR(VLOOKUP(D1281,Справка!$G$2:$H$579,2,0),\"\")","v":""}]
[null,null,null,null,{"$f":"IFERROR(VLOOKUP(D1282,Справка!$G$2:$H$579,2,0),\"\")","v":""}]
[null,null,null,null,{"$f":"IFERROR(VLOOKUP(D1283,Справка!$G$2:$H$579,2,0),\"\")","v":""}]
[null,null,null,null,{"$f":"IFERROR(VLOOKUP(D1284,Справка!$G$2:$H$579,2,0),\"\")","v":""}]
[null,null,null,null,{"$f":"IFERROR(VLOOKUP(D1285,Справка!$G$2:$H$579,2,0),\"\")","v":""}]
[null,null,null,null,{"$f":"IFERROR(VLOOKUP(D1286,Справка!$G$2:$H$579,2,0),\"\")","v":""}]
[null,null,null,null,{"$f":"IFERROR(VLOOKUP(D1287,Справка!$G$2:$H$579,2,0),\"\")","v":""}]
[null,null,null,null,{"$f":"IFERROR(VLOOKUP(D1288,Справка!$G$2:$H$579,2,0),\"\")","v":""}]
[null,null,null,null,{"$f":"IFERROR(VLOOKUP(D1289,Справка!$G$2:$H$579,2,0),\"\")","v":""}]
[null,null,null,null,{"$f":"IFERROR(VLOOKUP(D1290,Справка!$G$2:$H$579,2,0),\"\")","v":""}]
[null,null,null,null,{"$f":"IFERROR(VLOOKUP(D1291,Справка!$G$2:$H$579,2,0),\"\")","v":""}]
[null,null,null,null,{"$f":"IFERROR(VLOOKUP(D1292,Справка!$G$2:$H$579,2,0),\"\")","v":""}]
[null,null,null,null,{"$f":"IFERROR(VLOOKUP(D1293,Справка!$G$2:$H$579,2,0),\"\")","v":""}]
[null,null,null,null,{"$f":"IFERROR(VLOOKUP(D1294,Справка!$G$2:$H$579,2,0),\"\")","v":""}]
[null,null,null,null,{"$f":"IFERROR(VLOOKUP(D1295,Справка!$G$2:$H$579,2,0),\"\")","v":""}]
[null,null,null,null,{"$f":"IFERROR(VLOOKUP(D1296,Справка!$G$2:$H$579,2,0),\"\")","v":""}]
[null,null,null,null,{"$f":"IFERROR(VLOOKUP(D1297,Справка!$G$2:$H$579,2,0),\"\")","v":""}]
[null,null,null,null,{"$f":"IFERROR(VLOOKUP(D1298,Справка!$G$2:$H$579,2,0),\"\")","v":""}]
[null,null,null,null,{"$f":"IFERROR(VLOOKUP(D1299,Справка!$G$2:$H$579,2,0),\"\")","v":""}]
[null,null,null,null,{"$f":"IFERROR(VLOOKUP(D1300,Справка!$G$2:$H$579,2,0),\"\")","v":""}]
[null,null,null,null,{"$f":"IFERROR(VLOOKUP(D1301,Справка!$G$2:$H$579,2,0),\"\")","v":""}]
[null,null,null,null,{"$f":"IFERROR(VLOOKUP(D1302,Справка!$G$2:$H$579,2,0),\"\")","v":""}]
[null,null,null,null,{"$f":"IFERROR(VLOOKUP(D1303,Справка!$G$2:$H$579,2,0),\"\")","v":""}]
[null,null,null,null,{"$f":"IFERROR(VLOOKUP(D1304,Справка!$G$2:$H$579,2,0),\"\")","v":""}]
[null,null,null,null,{"$f":"IFERROR(VLOOKUP(D1305,Справка!$G$2:$H$579,2,0),\"\")","v":""}]
[null,null,null,null,{"$f":"IFERROR(VLOOKUP(D1306,Справка!$G$2:$H$579,2,0),\"\")","v":""}]
[null,null,null,null,{"$f":"IFERROR(VLOOKUP(D1307,Справка!$G$2:$H$579,2,0),\"\")","v":""}]
[null,null,null,null,{"$f":"IFERROR(VLOOKUP(D1308,Справка!$G$2:$H$579,2,0),\"\")","v":""}]
[null,null,null,null,{"$f":"IFERROR(VLOOKUP(D1309,Справка!$G$2:$H$579,2,0),\"\")","v":""}]
[null,null,null,null,{"$f":"IFERROR(VLOOKUP(D1310,Справка!$G$2:$H$579,2,0),\"\")","v":""}]
[null,null,null,null,{"$f":"IFERROR(VLOOKUP(D1311,Справка!$G$2:$H$579,2,0),\"\")","v":""}]
[null,null,null,null,{"$f":"IFERROR(VLOOKUP(D1312,Справка!$G$2:$H$579,2,0),\"\")","v":""}]
[null,null,null,null,{"$f":"IFERROR(VLOOKUP(D1313,Справка!$G$2:$H$579,2,0),\"\")","v":""}]
[null,null,null,null,{"$f":"IFERROR(VLOOKUP(D1314,Справка!$G$2:$H$579,2,0),\"\")","v":""}]
[null,null,null,null,{"$f":"IFERROR(VLOOKUP(D1315,Справка!$G$2:$H$579,2,0),\"\")","v":""}]
[null,null,null,null,{"$f":"IFERROR(VLOOKUP(D1316,Справка!$G$2:$H$579,2,0),\"\")","v":""}]
[null,null,null,null,{"$f":"IFERROR(VLOOKUP(D1317,Справка!$G$2:$H$579,2,0),\"\")","v":""}]
[null,null,null,null,{"$f":"IFERROR(VLOOKUP(D1318,Справка!$G$2:$H$579,2,0),\"\")","v":""}]
[null,null,null,null,{"$f":"IFERROR(VLOOKUP(D1319,Справка!$G$2:$H$579,2,0),\"\")","v":""}]
[null,null,null,null,{"$f":"IFERROR(VLOOKUP(D1320,Справка!$G$2:$H$579,2,0),\"\")","v":""}]
[null,null,null,null,{"$f":"IFERROR(VLOOKUP(D1321,Справка!$G$2:$H$579,2,0),\"\")","v":""}]
[null,null,null,null,{"$f":"IFERROR(VLOOKUP(D1322,Справка!$G$2:$H$579,2,0),\"\")","v":""}]
[null,null,null,null,{"$f":"IFERROR(VLOOKUP(D1323,Справка!$G$2:$H$579,2,0),\"\")","v":""}]
[null,null,null,null,{"$f":"IFERROR(VLOOKUP(D1324,Справка!$G$2:$H$579,2,0),\"\")","v":""}]
[null,null,null,null,{"$f":"IFERROR(VLOOKUP(D1325,Справка!$G$2:$H$579,2,0),\"\")","v":""}]
[null,null,null,null,{"$f":"IFERROR(VLOOKUP(D1326,Справка!$G$2:$H$579,2,0),\"\")","v":""}]
[null,null,null,null,{"$f":"IFERROR(VLOOKUP(D1327,Справка!$G$2:$H$579,2,0),\"\")","v":""}]
[null,null,null,null,{"$f":"IFERROR(VLOOKUP(D1328,Справка!$G$2:$H$579,2,0),\"\")","v":""}]
[null,null,null,null,{"$f":"IFERROR(VLOOKUP(D1329,Справка!$G$2:$H$579,2,0),\"\")","v":""}]
[null,null,null,null,{"$f":"IFERROR(VLOOKUP(D1330,Справка!$G$2:$H$579,2,0),\"\")","v":""}]
[null,null,null,null,{"$f":"IFERROR(VLOOKUP(D1331,Справка!$G$2:$H$579,2,0),\"\")","v":""}]
[null,null,null,null,{"$f":"IFERROR(VLOOKUP(D1332,Справка!$G$2:$H$579,2,0),\"\")","v":""}]
[null,null,null,null,{"$f":"IFERROR(VLOOKUP(D1333,Справка!$G$2:$H$579,2,0),\"\")","v":""}]
[null,null,null,null,{"$f":"IFERROR(VLOOKUP(D1334,Справка!$G$2:$H$579,2,0),\"\")","v":""}]
[null,null,null,null,{"$f":"IFERROR(VLOOKUP(D1335,Справка!$G$2:$H$579,2,0),\"\")","v":""}]
[null,null,null,null,{"$f":"IFERROR(VLOOKUP(D1336,Справка!$G$2:$H$579,2,0),\"\")","v":""}]
[null,null,null,null,{"$f":"IFERROR(VLOOKUP(D1337,Справка!$G$2:$H$579,2,0),\"\")","v":""}]
[null,null,null,null,{"$f":"IFERROR(VLOOKUP(D1338,Справка!$G$2:$H$579,2,0),\"\")","v":""}]
[null,null,null,null,{"$f":"IFERROR(VLOOKUP(D1339,Справка!$G$2:$H$579,2,0),\"\")","v":""}]
[null,null,null,null,{"$f":"IFERROR(VLOOKUP(D1340,Справка!$G$2:$H$579,2,0),\"\")","v":""}]
[null,null,null,null,{"$f":"IFERROR(VLOOKUP(D1341,Справка!$G$2:$H$579,2,0),\"\")","v":""}]
[null,null,null,null,{"$f":"IFERROR(VLOOKUP(D1342,Справка!$G$2:$H$579,2,0),\"\")","v":""}]
[null,null,null,null,{"$f":"IFERROR(VLOOKUP(D1343,Справка!$G$2:$H$579,2,0),\"\")","v":""}]
[null,null,null,null,{"$f":"IFERROR(VLOOKUP(D1344,Справка!$G$2:$H$579,2,0),\"\")","v":""}]
[null,null,null,null,{"$f":"IFERROR(VLOOKUP(D1345,Справка!$G$2:$H$579,2,0),\"\")","v":""}]
[null,null,null,null,{"$f":"IFERROR(VLOOKUP(D1346,Справка!$G$2:$H$579,2,0),\"\")","v":""}]
[null,null,null,null,{"$f":"IFERROR(VLOOKUP(D1347,Справка!$G$2:$H$579,2,0),\"\")","v":""}]
[null,null,null,null,{"$f":"IFERROR(VLOOKUP(D1348,Справка!$G$2:$H$579,2,0),\"\")","v":""}]
[null,null,null,null,{"$f":"IFERROR(VLOOKUP(D1349,Справка!$G$2:$H$579,2,0),\"\")","v":""}]
[null,null,null,null,{"$f":"IFERROR(VLOOKUP(D1350,Справка!$G$2:$H$579,2,0),\"\")","v":""}]
[null,null,null,null,{"$f":"IFERROR(VLOOKUP(D1351,Справка!$G$2:$H$579,2,0),\"\")","v":""}]
[null,null,null,null,{"$f":"IFERROR(VLOOKUP(D1352,Справка!$G$2:$H$579,2,0),\"\")","v":""}]
[null,null,null,null,{"$f":"IFERROR(VLOOKUP(D1353,Справка!$G$2:$H$579,2,0),\"\")","v":""}]
[null,null,null,null,{"$f":"IFERROR(VLOOKUP(D1354,Справка!$G$2:$H$579,2,0),\"\")","v":""}]
[null,null,null,null,{"$f":"IFERROR(VLOOKUP(D1355,Справка!$G$2:$H$579,2,0),\"\")","v":""}]
[null,null,null,null,{"$f":"IFERROR(VLOOKUP(D1356,Справка!$G$2:$H$579,2,0),\"\")","v":""}]
[null,null,null,null,{"$f":"IFERROR(VLOOKUP(D1357,Справка!$G$2:$H$579,2,0),\"\")","v":""}]
[null,null,null,null,{"$f":"IFERROR(VLOOKUP(D1358,Справка!$G$2:$H$579,2,0),\"\")","v":""}]
[null,null,null,null,{"$f":"IFERROR(VLOOKUP(D1359,Справка!$G$2:$H$579,2,0),\"\")","v":""}]
[null,null,null,null,{"$f":"IFERROR(VLOOKUP(D1360,Справка!$G$2:$H$579,2,0),\"\")","v":""}]
[null,null,null,null,{"$f":"IFERROR(VLOOKUP(D1361,Справка!$G$2:$H$579,2,0),\"\")","v":""}]
[null,null,null,null,{"$f":"IFERROR(VLOOKUP(D1362,Справка!$G$2:$H$579,2,0),\"\")","v":""}]
[null,null,null,null,{"$f":"IFERROR(VLOOKUP(D1363,Справка!$G$2:$H$579,2,0),\"\")","v":""}]
[null,null,null,null,{"$f":"IFERROR(VLOOKUP(D1364,Справка!$G$2:$H$579,2,0),\"\")","v":""}]
[null,null,null,null,{"$f":"IFERROR(VLOOKUP(D1365,Справка!$G$2:$H$579,2,0),\"\")","v":""}]
[null,null,null,null,{"$f":"IFERROR(VLOOKUP(D1366,Справка!$G$2:$H$579,2,0),\"\")","v":""}]
[null,null,null,null,{"$f":"IFERROR(VLOOKUP(D1367,Справка!$G$2:$H$579,2,0),\"\")","v":""}]
[null,null,null,null,{"$f":"IFERROR(VLOOKUP(D1368,Справка!$G$2:$H$579,2,0),\"\")","v":""}]
[null,null,null,null,{"$f":"IFERROR(VLOOKUP(D1369,Справка!$G$2:$H$579,2,0),\"\")","v":""}]
[null,null,null,null,{"$f":"IFERROR(VLOOKUP(D1370,Справка!$G$2:$H$579,2,0),\"\")","v":""}]
[null,null,null,null,{"$f":"IFERROR(VLOOKUP(D1371,Справка!$G$2:$H$579,2,0),\"\")","v":""}]
[null,null,null,null,{"$f":"IFERROR(VLOOKUP(D1372,Справка!$G$2:$H$579,2,0),\"\")","v":""}]
[null,null,null,null,{"$f":"IFERROR(VLOOKUP(D1373,Справка!$G$2:$H$579,2,0),\"\")","v":""}]
[null,null,null,null,{"$f":"IFERROR(VLOOKUP(D1374,Справка!$G$2:$H$579,2,0),\"\")","v":""}]
[null,null,null,null,{"$f":"IFERROR(VLOOKUP(D1375,Справка!$G$2:$H$579,2,0),\"\")","v":""}]
[null,null,null,null,{"$f":"IFERROR(VLOOKUP(D1376,Справка!$G$2:$H$579,2,0),\"\")","v":""}]
[null,null,null,null,{"$f":"IFERROR(VLOOKUP(D1377,Справка!$G$2:$H$579,2,0),\"\")","v":""}]
[null,null,null,null,{"$f":"IFERROR(VLOOKUP(D1378,Справка!$G$2:$H$579,2,0),\"\")","v":""}]
[null,null,null,null,{"$f":"IFERROR(VLOOKUP(D1379,Справка!$G$2:$H$579,2,0),\"\")","v":""}]
[null,null,null,null,{"$f":"IFERROR(VLOOKUP(D1380,Справка!$G$2:$H$579,2,0),\"\")","v":""}]
[null,null,null,null,{"$f":"IFERROR(VLOOKUP(D1381,Справка!$G$2:$H$579,2,0),\"\")","v":""}]
[null,null,null,null,{"$f":"IFERROR(VLOOKUP(D1382,Справка!$G$2:$H$579,2,0),\"\")","v":""}]
[null,null,null,null,{"$f":"IFERROR(VLOOKUP(D1383,Справка!$G$2:$H$579,2,0),\"\")","v":""}]
[null,null,null,null,{"$f":"IFERROR(VLOOKUP(D1384,Справка!$G$2:$H$579,2,0),\"\")","v":""}]
[null,null,null,null,{"$f":"IFERROR(VLOOKUP(D1385,Справка!$G$2:$H$579,2,0),\"\")","v":""}]
[null,null,null,null,{"$f":"IFERROR(VLOOKUP(D1386,Справка!$G$2:$H$579,2,0),\"\")","v":""}]
[null,null,null,null,{"$f":"IFERROR(VLOOKUP(D1387,Справка!$G$2:$H$579,2,0),\"\")","v":""}]
[null,null,null,null,{"$f":"IFERROR(VLOOKUP(D1388,Справка!$G$2:$H$579,2,0),\"\")","v":""}]
[null,null,null,null,{"$f":"IFERROR(VLOOKUP(D1389,Справка!$G$2:$H$579,2,0),\"\")","v":""}]
[null,null,null,null,{"$f":"IFERROR(VLOOKUP(D1390,Справка!$G$2:$H$579,2,0),\"\")","v":""}]
[null,null,null,null,{"$f":"IFERROR(VLOOKUP(D1391,Справка!$G$2:$H$579,2,0),\"\")","v":""}]
[null,null,null,null,{"$f":"IFERROR(VLOOKUP(D1392,Справка!$G$2:$H$579,2,0),\"\")","v":""}]
[null,null,null,null,{"$f":"IFERROR(VLOOKUP(D1393,Справка!$G$2:$H$579,2,0),\"\")","v":""}]
[null,null,null,null,{"$f":"IFERROR(VLOOKUP(D1394,Справка!$G$2:$H$579,2,0),\"\")","v":""}]
[null,null,null,null,{"$f":"IFERROR(VLOOKUP(D1395,Справка!$G$2:$H$579,2,0),\"\")","v":""}]
[null,null,null,null,{"$f":"IFERROR(VLOOKUP(D1396,Справка!$G$2:$H$579,2,0),\"\")","v":""}]
[null,null,null,null,{"$f":"IFERROR(VLOOKUP(D1397,Справка!$G$2:$H$579,2,0),\"\")","v":""}]
[null,null,null,null,{"$f":"IFERROR(VLOOKUP(D1398,Справка!$G$2:$H$579,2,0),\"\")","v":""}]
[null,null,null,null,{"$f":"IFERROR(VLOOKUP(D1399,Справка!$G$2:$H$579,2,0),\"\")","v":""}]
[null,null,null,null,{"$f":"IFERROR(VLOOKUP(D1400,Справка!$G$2:$H$579,2,0),\"\")","v":""}]
[null,null,null,null,{"$f":"IFERROR(VLOOKUP(D1401,Справка!$G$2:$H$579,2,0),\"\")","v":""}]
[null,null,null,null,{"$f":"IFERROR(VLOOKUP(D1402,Справка!$G$2:$H$579,2,0),\"\")","v":""}]
[null,null,null,null,{"$f":"IFERROR(VLOOKUP(D1403,Справка!$G$2:$H$579,2,0),\"\")","v":""}]
[null,null,null,null,{"$f":"IFERROR(VLOOKUP(D1404,Справка!$G$2:$H$579,2,0),\"\")","v":""}]
[null,null,null,null,{"$f":"IFERROR(VLOOKUP(D1405,Справка!$G$2:$H$579,2,0),\"\")","v":""}]
[null,null,null,null,{"$f":"IFERROR(VLOOKUP(D1406,Справка!$G$2:$H$579,2,0),\"\")","v":""}]
[null,null,null,null,{"$f":"IFERROR(VLOOKUP(D1407,Справка!$G$2:$H$579,2,0),\"\")","v":""}]
[null,null,null,null,{"$f":"IFERROR(VLOOKUP(D1408,Справка!$G$2:$H$579,2,0),\"\")","v":""}]
[null,null,null,null,{"$f":"IFERROR(VLOOKUP(D1409,Справка!$G$2:$H$579,2,0),\"\")","v":""}]
[null,null,null,null,{"$f":"IFERROR(VLOOKUP(D1410,Справка!$G$2:$H$579,2,0),\"\")","v":""}]
[null,null,null,null,{"$f":"IFERROR(VLOOKUP(D1411,Справка!$G$2:$H$579,2,0),\"\")","v":""}]
[null,null,null,null,{"$f":"IFERROR(VLOOKUP(D1412,Справка!$G$2:$H$579,2,0),\"\")","v":""}]
[null,null,null,null,{"$f":"IFERROR(VLOOKUP(D1413,Справка!$G$2:$H$579,2,0),\"\")","v":""}]
[null,null,null,null,{"$f":"IFERROR(VLOOKUP(D1414,Справка!$G$2:$H$579,2,0),\"\")","v":""}]
[null,null,null,null,{"$f":"IFERROR(VLOOKUP(D1415,Справка!$G$2:$H$579,2,0),\"\")","v":""}]
[null,null,null,null,{"$f":"IFERROR(VLOOKUP(D1416,Справка!$G$2:$H$579,2,0),\"\")","v":""}]
[null,null,null,null,{"$f":"IFERROR(VLOOKUP(D1417,Справка!$G$2:$H$579,2,0),\"\")","v":""}]
[null,null,null,null,{"$f":"IFERROR(VLOOKUP(D1418,Справка!$G$2:$H$579,2,0),\"\")","v":""}]
[null,null,null,null,{"$f":"IFERROR(VLOOKUP(D1419,Справка!$G$2:$H$579,2,0),\"\")","v":""}]
[null,null,null,null,{"$f":"IFERROR(VLOOKUP(D1420,Справка!$G$2:$H$579,2,0),\"\")","v":""}]
[null,null,null,null,{"$f":"IFERROR(VLOOKUP(D1421,Справка!$G$2:$H$579,2,0),\"\")","v":""}]
[null,null,null,null,{"$f":"IFERROR(VLOOKUP(D1422,Справка!$G$2:$H$579,2,0),\"\")","v":""}]
[null,null,null,null,{"$f":"IFERROR(VLOOKUP(D1423,Справка!$G$2:$H$579,2,0),\"\")","v":""}]
[null,null,null,null,{"$f":"IFERROR(VLOOKUP(D1424,Справка!$G$2:$H$579,2,0),\"\")","v":""}]
[null,null,null,null,{"$f":"IFERROR(VLOOKUP(D1425,Справка!$G$2:$H$579,2,0),\"\")","v":""}]
[null,null,null,null,{"$f":"IFERROR(VLOOKUP(D1426,Справка!$G$2:$H$579,2,0),\"\")","v":""}]
[null,null,null,null,{"$f":"IFERROR(VLOOKUP(D1427,Справка!$G$2:$H$579,2,0),\"\")","v":""}]
[null,null,null,null,{"$f":"IFERROR(VLOOKUP(D1428,Справка!$G$2:$H$579,2,0),\"\")","v":""}]
[null,null,null,null,{"$f":"IFERROR(VLOOKUP(D1429,Справка!$G$2:$H$579,2,0),\"\")","v":""}]
[null,null,null,null,{"$f":"IFERROR(VLOOKUP(D1430,Справка!$G$2:$H$579,2,0),\"\")","v":""}]
[null,null,null,null,{"$f":"IFERROR(VLOOKUP(D1431,Справка!$G$2:$H$579,2,0),\"\")","v":""}]
[null,null,null,null,{"$f":"IFERROR(VLOOKUP(D1432,Справка!$G$2:$H$579,2,0),\"\")","v":""}]
[null,null,null,null,{"$f":"IFERROR(VLOOKUP(D1433,Справка!$G$2:$H$579,2,0),\"\")","v":""}]
[null,null,null,null,{"$f":"IFERROR(VLOOKUP(D1434,Справка!$G$2:$H$579,2,0),\"\")","v":""}]
[null,null,null,null,{"$f":"IFERROR(VLOOKUP(D1435,Справка!$G$2:$H$579,2,0),\"\")","v":""}]
[null,null,null,null,{"$f":"IFERROR(VLOOKUP(D1436,Справка!$G$2:$H$579,2,0),\"\")","v":""}]
[null,null,null,null,{"$f":"IFERROR(VLOOKUP(D1437,Справка!$G$2:$H$579,2,0),\"\")","v":""}]
[null,null,null,null,{"$f":"IFERROR(VLOOKUP(D1438,Справка!$G$2:$H$579,2,0),\"\")","v":""}]
[null,null,null,null,{"$f":"IFERROR(VLOOKUP(D1439,Справка!$G$2:$H$579,2,0),\"\")","v":""}]
[null,null,null,null,{"$f":"IFERROR(VLOOKUP(D1440,Справка!$G$2:$H$579,2,0),\"\")","v":""}]
[null,null,null,null,{"$f":"IFERROR(VLOOKUP(D1441,Справка!$G$2:$H$579,2,0),\"\")","v":""}]
[null,null,null,null,{"$f":"IFERROR(VLOOKUP(D1442,Справка!$G$2:$H$579,2,0),\"\")","v":""}]
[null,null,null,null,{"$f":"IFERROR(VLOOKUP(D1443,Справка!$G$2:$H$579,2,0),\"\")","v":""}]
[null,null,null,null,{"$f":"IFERROR(VLOOKUP(D1444,Справка!$G$2:$H$579,2,0),\"\")","v":""}]
[null,null,null,null,{"$f":"IFERROR(VLOOKUP(D1445,Справка!$G$2:$H$579,2,0),\"\")","v":""}]
[null,null,null,null,{"$f":"IFERROR(VLOOKUP(D1446,Справка!$G$2:$H$579,2,0),\"\")","v":""}]
[null,null,null,null,{"$f":"IFERROR(VLOOKUP(D1447,Справка!$G$2:$H$579,2,0),\"\")","v":""}]
[null,null,null,null,{"$f":"IFERROR(VLOOKUP(D1448,Справка!$G$2:$H$579,2,0),\"\")","v":""}]
[null,null,null,null,{"$f":"IFERROR(VLOOKUP(D1449,Справка!$G$2:$H$579,2,0),\"\")","v":""}]
[null,null,null,null,{"$f":"IFERROR(VLOOKUP(D1450,Справка!$G$2:$H$579,2,0),\"\")","v":""}]
[null,null,null,null,{"$f":"IFERROR(VLOOKUP(D1451,Справка!$G$2:$H$579,2,0),\"\")","v":""}]
[null,null,null,null,{"$f":"IFERROR(VLOOKUP(D1452,Справка!$G$2:$H$579,2,0),\"\")","v":""}]
[null,null,null,null,{"$f":"IFERROR(VLOOKUP(D1453,Справка!$G$2:$H$579,2,0),\"\")","v":""}]
[null,null,null,null,{"$f":"IFERROR(VLOOKUP(D1454,Справка!$G$2:$H$579,2,0),\"\")","v":""}]
[null,null,null,null,{"$f":"IFERROR(VLOOKUP(D1455,Справка!$G$2:$H$579,2,0),\"\")","v":""}]
[null,null,null,null,{"$f":"IFERROR(VLOOKUP(D1456,Справка!$G$2:$H$579,2,0),\"\")","v":""}]
[null,null,null,null,{"$f":"IFERROR(VLOOKUP(D1457,Справка!$G$2:$H$579,2,0),\"\")","v":""}]
[null,null,null,null,{"$f":"IFERROR(VLOOKUP(D1458,Справка!$G$2:$H$579,2,0),\"\")","v":""}]
[null,null,null,null,{"$f":"IFERROR(VLOOKUP(D1459,Справка!$G$2:$H$579,2,0),\"\")","v":""}]
[null,null,null,null,{"$f":"IFERROR(VLOOKUP(D1460,Справка!$G$2:$H$579,2,0),\"\")","v":""}]
[null,null,null,null,{"$f":"IFERROR(VLOOKUP(D1461,Справка!$G$2:$H$579,2,0),\"\")","v":""}]
[null,null,null,null,{"$f":"IFERROR(VLOOKUP(D1462,Справка!$G$2:$H$579,2,0),\"\")","v":""}]
[null,null,null,null,{"$f":"IFERROR(VLOOKUP(D1463,Справка!$G$2:$H$579,2,0),\"\")","v":""}]
[null,null,null,null,{"$f":"IFERROR(VLOOKUP(D1464,Справка!$G$2:$H$579,2,0),\"\")","v":""}]
[null,null,null,null,{"$f":"IFERROR(VLOOKUP(D1465,Справка!$G$2:$H$579,2,0),\"\")","v":""}]
[null,null,null,null,{"$f":"IFERROR(VLOOKUP(D1466,Справка!$G$2:$H$579,2,0),\"\")","v":""}]
[null,null,null,null,{"$f":"IFERROR(VLOOKUP(D1467,Справка!$G$2:$H$579,2,0),\"\")","v":""}]
[null,null,null,null,{"$f":"IFERROR(VLOOKUP(D1468,Справка!$G$2:$H$579,2,0),\"\")","v":""}]
[null,null,null,null,{"$f":"IFERROR(VLOOKUP(D1469,Справка!$G$2:$H$579,2,0),\"\")","v":""}]
[null,null,null,null,{"$f":"IFERROR(VLOOKUP(D1470,Справка!$G$2:$H$579,2,0),\"\")","v":""}]
[null,null,null,null,{"$f":"IFERROR(VLOOKUP(D1471,Справка!$G$2:$H$579,2,0),\"\")","v":""}]
[null,null,null,null,{"$f":"IFERROR(VLOOKUP(D1472,Справка!$G$2:$H$579,2,0),\"\")","v":""}]
[null,null,null,null,{"$f":"IFERROR(VLOOKUP(D1473,Справка!$G$2:$H$579,2,0),\"\")","v":""}]
[null,null,null,null,{"$f":"IFERROR(VLOOKUP(D1474,Справка!$G$2:$H$579,2,0),\"\")","v":""}]
[null,null,null,null,{"$f":"IFERROR(VLOOKUP(D1475,Справка!$G$2:$H$579,2,0),\"\")","v":""}]
[null,null,null,null,{"$f":"IFERROR(VLOOKUP(D1476,Справка!$G$2:$H$579,2,0),\"\")","v":""}]
[null,null,null,null,{"$f":"IFERROR(VLOOKUP(D1477,Справка!$G$2:$H$579,2,0),\"\")","v":""}]
[null,null,null,null,{"$f":"IFERROR(VLOOKUP(D1478,Справка!$G$2:$H$579,2,0),\"\")","v":""}]
[null,null,null,null,{"$f":"IFERROR(VLOOKUP(D1479,Справка!$G$2:$H$579,2,0),\"\")","v":""}]
[null,null,null,null,{"$f":"IFERROR(VLOOKUP(D1480,Справка!$G$2:$H$579,2,0),\"\")","v":""}]
[null,null,null,null,{"$f":"IFERROR(VLOOKUP(D1481,Справка!$G$2:$H$579,2,0),\"\")","v":""}]
[null,null,null,null,{"$f":"IFERROR(VLOOKUP(D1482,Справка!$G$2:$H$579,2,0),\"\")","v":""}]
[null,null,null,null,{"$f":"IFERROR(VLOOKUP(D1483,Справка!$G$2:$H$579,2,0),\"\")","v":""}]
[null,null,null,null,{"$f":"IFERROR(VLOOKUP(D1484,Справка!$G$2:$H$579,2,0),\"\")","v":""}]
[null,null,null,null,{"$f":"IFERROR(VLOOKUP(D1485,Справка!$G$2:$H$579,2,0),\"\")","v":""}]
[null,null,null,null,{"$f":"IFERROR(VLOOKUP(D1486,Справка!$G$2:$H$579,2,0),\"\")","v":""}]
[null,null,null,null,{"$f":"IFERROR(VLOOKUP(D1487,Справка!$G$2:$H$579,2,0),\"\")","v":""}]
[null,null,null,null,{"$f":"IFERROR(VLOOKUP(D1488,Справка!$G$2:$H$579,2,0),\"\")","v":""}]
[null,null,null,null,{"$f":"IFERROR(VLOOKUP(D1489,Справка!$G$2:$H$579,2,0),\"\")","v":""}]
[null,null,null,null,{"$f":"IFERROR(VLOOKUP(D1490,Справка!$G$2:$H$579,2,0),\"\")","v":""}]
[null,null,null,null,{"$f":"IFERROR(VLOOKUP(D1491,Справка!$G$2:$H$579,2,0),\"\")","v":""}]
[null,null,null,null,{"$f":"IFERROR(VLOOKUP(D1492,Справка!$G$2:$H$579,2,0),\"\")","v":""}]
[null,null,null,null,{"$f":"IFERROR(VLOOKUP(D1493,Справка!$G$2:$H$579,2,0),\"\")","v":""}]
[null,null,null,null,{"$f":"IFERROR(VLOOKUP(D1494,Справка!$G$2:$H$579,2,0),\"\")","v":""}]
[null,null,null,null,{"$f":"IFERROR(VLOOKUP(D1495,Справка!$G$2:$H$579,2,0),\"\")","v":""}]
[null,null,null,null,{"$f":"IFERROR(VLOOKUP(D1496,Справка!$G$2:$H$579,2,0),\"\")","v":""}]
[null,null,null,null,{"$f":"IFERROR(VLOOKUP(D1497,Справка!$G$2:$H$579,2,0),\"\")","v":""}]
[null,null,null,null,{"$f":"IFERROR(VLOOKUP(D1498,Справка!$G$2:$H$579,2,0),\"\")","v":""}]
[null,null,null,null,{"$f":"IFERROR(VLOOKUP(D1499,Справка!$G$2:$H$579,2,0),\"\")","v":""}]
[null,null,null,null,{"$f":"IFERROR(VLOOKUP(D1500,Справка!$G$2:$H$579,2,0),\"\")","v":""}]
[null,null,null,null,{"$f":"IFERROR(VLOOKUP(D1501,Справка!$G$2:$H$579,2,0),\"\")","v":""}]
[null,null,null,null,{"$f":"IFERROR(VLOOKUP(D1502,Справка!$G$2:$H$579,2,0),\"\")","v":""}]
[null,null,null,null,{"$f":"IFERROR(VLOOKUP(D1503,Справка!$G$2:$H$579,2,0),\"\")","v":""}]
[null,null,null,null,{"$f":"IFERROR(VLOOKUP(D1504,Справка!$G$2:$H$579,2,0),\"\")","v":""}]
[null,null,null,null,{"$f":"IFERROR(VLOOKUP(D1505,Справка!$G$2:$H$579,2,0),\"\")","v":""}]
[null,null,null,null,{"$f":"IFERROR(VLOOKUP(D1506,Справка!$G$2:$H$579,2,0),\"\")","v":""}]
[null,null,null,null,{"$f":"IFERROR(VLOOKUP(D1507,Справка!$G$2:$H$579,2,0),\"\")","v":""}]
[null,null,null,null,{"$f":"IFERROR(VLOOKUP(D1508,Справка!$G$2:$H$579,2,0),\"\")","v":""}]
[null,null,null,null,{"$f":"IFERROR(VLOOKUP(D1509,Справка!$G$2:$H$579,2,0),\"\")","v":""}]
[null,null,null,null,{"$f":"IFERROR(VLOOKUP(D1510,Справка!$G$2:$H$579,2,0),\"\")","v":""}]
[null,null,null,null,{"$f":"IFERROR(VLOOKUP(D1511,Справка!$G$2:$H$579,2,0),\"\")","v":""}]
[null,null,null,null,{"$f":"IFERROR(VLOOKUP(D1512,Справка!$G$2:$H$579,2,0),\"\")","v":""}]
[null,null,null,null,{"$f":"IFERROR(VLOOKUP(D1513,Справка!$G$2:$H$579,2,0),\"\")","v":""}]
[null,null,null,null,{"$f":"IFERROR(VLOOKUP(D1514,Справка!$G$2:$H$579,2,0),\"\")","v":""}]
[null,null,null,null,{"$f":"IFERROR(VLOOKUP(D1515,Справка!$G$2:$H$579,2,0),\"\")","v":""}]
[null,null,null,null,{"$f":"IFERROR(VLOOKUP(D1516,Справка!$G$2:$H$579,2,0),\"\")","v":""}]
[null,null,null,null,{"$f":"IFERROR(VLOOKUP(D1517,Справка!$G$2:$H$579,2,0),\"\")","v":""}]
[null,null,null,null,{"$f":"IFERROR(VLOOKUP(D1518,Справка!$G$2:$H$579,2,0),\"\")","v":""}]
[null,null,null,null,{"$f":"IFERROR(VLOOKUP(D1519,Справка!$G$2:$H$579,2,0),\"\")","v":""}]
[null,null,null,null,{"$f":"IFERROR(VLOOKUP(D1520,Справка!$G$2:$H$579,2,0),\"\")","v":""}]
[null,null,null,null,{"$f":"IFERROR(VLOOKUP(D1521,Справка!$G$2:$H$579,2,0),\"\")","v":""}]
[null,null,null,null,{"$f":"IFERROR(VLOOKUP(D1522,Справка!$G$2:$H$579,2,0),\"\")","v":""}]
[null,null,null,null,{"$f":"IFERROR(VLOOKUP(D1523,Справка!$G$2:$H$579,2,0),\"\")","v":""}]
[null,null,null,null,{"$f":"IFERROR(VLOOKUP(D1524,Справка!$G$2:$H$579,2,0),\"\")","v":""}]
[null,null,null,null,{"$f":"IFERROR(VLOOKUP(D1525,Справка!$G$2:$H$579,2,0),\"\")","v":""}]
[null,null,null,null,{"$f":"IFERROR(VLOOKUP(D1526,Справка!$G$2:$H$579,2,0),\"\")","v":""}]
[null,null,null,null,{"$f":"IFERROR(VLOOKUP(D1527,Справка!$G$2:$H$579,2,0),\"\")","v":""}]
[null,null,null,null,{"$f":"IFERROR(VLOOKUP(D1528,Справка!$G$2:$H$579,2,0),\"\")","v":""}]
[null,null,null,null,{"$f":"IFERROR(VLOOKUP(D1529,Справка!$G$2:$H$579,2,0),\"\")","v":""}]
[null,null,null,null,{"$f":"IFERROR(VLOOKUP(D1530,Справка!$G$2:$H$579,2,0),\"\")","v":""}]
[null,null,null,null,{"$f":"IFERROR(VLOOKUP(D1531,Справка!$G$2:$H$579,2,0),\"\")","v":""}]
[null,null,null,null,{"$f":"IFERROR(VLOOKUP(D1532,Справка!$G$2:$H$579,2,0),\"\")","v":""}]
[null,null,null,null,{"$f":"IFERROR(VLOOKUP(D1533,Справка!$G$2:$H$579,2,0),\"\")","v":""}]
[null,null,null,null,{"$f":"IFERROR(VLOOKUP(D1534,Справка!$G$2:$H$579,2,0),\"\")","v":""}]
[null,null,null,null,{"$f":"IFERROR(VLOOKUP(D1535,Справка!$G$2:$H$579,2,0),\"\")","v":""}]
[null,null,null,null,{"$f":"IFERROR(VLOOKUP(D1536,Справка!$G$2:$H$579,2,0),\"\")","v":""}]
[null,null,null,null,{"$f":"IFERROR(VLOOKUP(D1537,Справка!$G$2:$H$579,2,0),\"\")","v":""}]
[null,null,null,null,{"$f":"IFERROR(VLOOKUP(D1538,Справка!$G$2:$H$579,2,0),\"\")","v":""}]
[null,null,null,null,{"$f":"IFERROR(VLOOKUP(D1539,Справка!$G$2:$H$579,2,0),\"\")","v":""}]
[null,null,null,null,{"$f":"IFERROR(VLOOKUP(D1540,Справка!$G$2:$H$579,2,0),\"\")","v":""}]
[null,null,null,null,{"$f":"IFERROR(VLOOKUP(D1541,Справка!$G$2:$H$579,2,0),\"\")","v":""}]
[null,null,null,null,{"$f":"IFERROR(VLOOKUP(D1542,Справка!$G$2:$H$579,2,0),\"\")","v":""}]
[null,null,null,null,{"$f":"IFERROR(VLOOKUP(D1543,Справка!$G$2:$H$579,2,0),\"\")","v":""}]
[null,null,null,null,{"$f":"IFERROR(VLOOKUP(D1544,Справка!$G$2:$H$579,2,0),\"\")","v":""}]
[null,null,null,null,{"$f":"IFERROR(VLOOKUP(D1545,Справка!$G$2:$H$579,2,0),\"\")","v":""}]
[null,null,null,null,{"$f":"IFERROR(VLOOKUP(D1546,Справка!$G$2:$H$579,2,0),\"\")","v":""}]
[null,null,null,null,{"$f":"IFERROR(VLOOKUP(D1547,Справка!$G$2:$H$579,2,0),\"\")","v":""}]
[null,null,null,null,{"$f":"IFERROR(VLOOKUP(D1548,Справка!$G$2:$H$579,2,0),\"\")","v":""}]
[null,null,null,null,{"$f":"IFERROR(VLOOKUP(D1549,Справка!$G$2:$H$579,2,0),\"\")","v":""}]
[null,null,null,null,{"$f":"IFERROR(VLOOKUP(D1550,Справка!$G$2:$H$579,2,0),\"\")","v":""}]
[null,null,null,null,{"$f":"IFERROR(VLOOKUP(D1551,Справка!$G$2:$H$579,2,0),\"\")","v":""}]
[null,null,null,null,{"$f":"IFERROR(VLOOKUP(D1552,Справка!$G$2:$H$579,2,0),\"\")","v":""}]
[null,null,null,null,{"$f":"IFERROR(VLOOKUP(D1553,Справка!$G$2:$H$579,2,0),\"\")","v":""}]
[null,null,null,null,{"$f":"IFERROR(VLOOKUP(D1554,Справка!$G$2:$H$579,2,0),\"\")","v":""}]
[null,null,null,null,{"$f":"IFERROR(VLOOKUP(D1555,Справка!$G$2:$H$579,2,0),\"\")","v":""}]
[null,null,null,null,{"$f":"IFERROR(VLOOKUP(D1556,Справка!$G$2:$H$579,2,0),\"\")","v":""}]
[null,null,null,null,{"$f":"IFERROR(VLOOKUP(D1557,Справка!$G$2:$H$579,2,0),\"\")","v":""}]
[null,null,null,null,{"$f":"IFERROR(VLOOKUP(D1558,Справка!$G$2:$H$579,2,0),\"\")","v":""}]
[null,null,null,null,{"$f":"IFERROR(VLOOKUP(D1559,Справка!$G$2:$H$579,2,0),\"\")","v":""}]
[null,null,null,null,{"$f":"IFERROR(VLOOKUP(D1560,Справка!$G$2:$H$579,2,0),\"\")","v":""}]
[null,null,null,null,{"$f":"IFERROR(VLOOKUP(D1561,Справка!$G$2:$H$579,2,0),\"\")","v":""}]
[null,null,null,null,{"$f":"IFERROR(VLOOKUP(D1562,Справка!$G$2:$H$579,2,0),\"\")","v":""}]
[null,null,null,null,{"$f":"IFERROR(VLOOKUP(D1563,Справка!$G$2:$H$579,2,0),\"\")","v":""}]
[null,null,null,null,{"$f":"IFERROR(VLOOKUP(D1564,Справка!$G$2:$H$579,2,0),\"\")","v":""}]
[null,null,null,null,{"$f":"IFERROR(VLOOKUP(D1565,Справка!$G$2:$H$579,2,0),\"\")","v":""}]
[null,null,null,null,{"$f":"IFERROR(VLOOKUP(D1566,Справка!$G$2:$H$579,2,0),\"\")","v":""}]
[null,null,null,null,{"$f":"IFERROR(VLOOKUP(D1567,Справка!$G$2:$H$579,2,0),\"\")","v":""}]
[null,null,null,null,{"$f":"IFERROR(VLOOKUP(D1568,Справка!$G$2:$H$579,2,0),\"\")","v":""}]
[null,null,null,null,{"$f":"IFERROR(VLOOKUP(D1569,Справка!$G$2:$H$579,2,0),\"\")","v":""}]
[null,null,null,null,{"$f":"IFERROR(VLOOKUP(D1570,Справка!$G$2:$H$579,2,0),\"\")","v":""}]
[null,null,null,null,{"$f":"IFERROR(VLOOKUP(D1571,Справка!$G$2:$H$579,2,0),\"\")","v":""}]
[null,null,null,null,{"$f":"IFERROR(VLOOKUP(D1572,Справка!$G$2:$H$579,2,0),\"\")","v":""}]
[null,null,null,null,{"$f":"IFERROR(VLOOKUP(D1573,Справка!$G$2:$H$579,2,0),\"\")","v":""}]
[null,null,null,null,{"$f":"IFERROR(VLOOKUP(D1574,Справка!$G$2:$H$579,2,0),\"\")","v":""}]
[null,null,null,null,{"$f":"IFERROR(VLOOKUP(D1575,Справка!$G$2:$H$579,2,0),\"\")","v":""}]
[null,null,null,null,{"$f":"IFERROR(VLOOKUP(D1576,Справка!$G$2:$H$579,2,0),\"\")","v":""}]
[null,null,null,null,{"$f":"IFERROR(VLOOKUP(D1577,Справка!$G$2:$H$579,2,0),\"\")","v":""}]
[null,null,null,null,{"$f":"IFERROR(VLOOKUP(D1578,Справка!$G$2:$H$579,2,0),\"\")","v":""}]
[null,null,null,null,{"$f":"IFERROR(VLOOKUP(D1579,Справка!$G$2:$H$579,2,0),\"\")","v":""}]
[null,null,null,null,{"$f":"IFERROR(VLOOKUP(D1580,Справка!$G$2:$H$579,2,0),\"\")","v":""}]
[null,null,null,null,{"$f":"IFERROR(VLOOKUP(D1581,Справка!$G$2:$H$579,2,0),\"\")","v":""}]
[null,null,null,null,{"$f":"IFERROR(VLOOKUP(D1582,Справка!$G$2:$H$579,2,0),\"\")","v":""}]
[null,null,null,null,{"$f":"IFERROR(VLOOKUP(D1583,Справка!$G$2:$H$579,2,0),\"\")","v":""}]
[null,null,null,null,{"$f":"IFERROR(VLOOKUP(D1584,Справка!$G$2:$H$579,2,0),\"\")","v":""}]
[null,null,null,null,{"$f":"IFERROR(VLOOKUP(D1585,Справка!$G$2:$H$579,2,0),\"\")","v":""}]
[null,null,null,null,{"$f":"IFERROR(VLOOKUP(D1586,Справка!$G$2:$H$579,2,0),\"\")","v":""}]
[null,null,null,null,{"$f":"IFERROR(VLOOKUP(D1587,Справка!$G$2:$H$579,2,0),\"\")","v":""}]
[null,null,null,null,{"$f":"IFERROR(VLOOKUP(D1588,Справка!$G$2:$H$579,2,0),\"\")","v":""}]
[null,null,null,null,{"$f":"IFERROR(VLOOKUP(D1589,Справка!$G$2:$H$579,2,0),\"\")","v":""}]
[null,null,null,null,{"$f":"IFERROR(VLOOKUP(D1590,Справка!$G$2:$H$579,2,0),\"\")","v":""}]
[null,null,null,null,{"$f":"IFERROR(VLOOKUP(D1591,Справка!$G$2:$H$579,2,0),\"\")","v":""}]
[null,null,null,null,{"$f":"IFERROR(VLOOKUP(D1592,Справка!$G$2:$H$579,2,0),\"\")","v":""}]
[null,null,null,null,{"$f":"IFERROR(VLOOKUP(D1593,Справка!$G$2:$H$579,2,0),\"\")","v":""}]
[null,null,null,null,{"$f":"IFERROR(VLOOKUP(D1594,Справка!$G$2:$H$579,2,0),\"\")","v":""}]
[null,null,null,null,{"$f":"IFERROR(VLOOKUP(D1595,Справка!$G$2:$H$579,2,0),\"\")","v":""}]
[null,null,null,null,{"$f":"IFERROR(VLOOKUP(D1596,Справка!$G$2:$H$579,2,0),\"\")","v":""}]
[null,null,null,null,{"$f":"IFERROR(VLOOKUP(D1597,Справка!$G$2:$H$579,2,0),\"\")","v":""}]
[null,null,null,null,{"$f":"IFERROR(VLOOKUP(D1598,Справка!$G$2:$H$579,2,0),\"\")","v":""}]
[null,null,null,null,{"$f":"IFERROR(VLOOKUP(D1599,Справка!$G$2:$H$579,2,0),\"\")","v":""}]
[null,null,null,null,{"$f":"IFERROR(VLOOKUP(D1600,Справка!$G$2:$H$579,2,0),\"\")","v":""}]
[null,null,null,null,{"$f":"IFERROR(VLOOKUP(D1601,Справка!$G$2:$H$579,2,0),\"\")","v":""}]
[null,null,null,null,{"$f":"IFERROR(VLOOKUP(D1602,Справка!$G$2:$H$579,2,0),\"\")","v":""}]
[null,null,null,null,{"$f":"IFERROR(VLOOKUP(D1603,Справка!$G$2:$H$579,2,0),\"\")","v":""}]
[null,null,null,null,{"$f":"IFERROR(VLOOKUP(D1604,Справка!$G$2:$H$579,2,0),\"\")","v":""}]
[null,null,null,null,{"$f":"IFERROR(VLOOKUP(D1605,Справка!$G$2:$H$579,2,0),\"\")","v":""}]
[null,null,null,null,{"$f":"IFERROR(VLOOKUP(D1606,Справка!$G$2:$H$579,2,0),\"\")","v":""}]
[null,null,null,null,{"$f":"IFERROR(VLOOKUP(D1607,Справка!$G$2:$H$579,2,0),\"\")","v":""}]
[null,null,null,null,{"$f":"IFERROR(VLOOKUP(D1608,Справка!$G$2:$H$579,2,0),\"\")","v":""}]
[null,null,null,null,{"$f":"IFERROR(VLOOKUP(D1609,Справка!$G$2:$H$579,2,0),\"\")","v":""}]
[null,null,null,null,{"$f":"IFERROR(VLOOKUP(D1610,Справка!$G$2:$H$579,2,0),\"\")","v":""}]
[null,null,null,null,{"$f":"IFERROR(VLOOKUP(D1611,Справка!$G$2:$H$579,2,0),\"\")","v":""}]
[null,null,null,null,{"$f":"IFERROR(VLOOKUP(D1612,Справка!$G$2:$H$579,2,0),\"\")","v":""}]
[null,null,null,null,{"$f":"IFERROR(VLOOKUP(D1613,Справка!$G$2:$H$579,2,0),\"\")","v":""}]
[null,null,null,null,{"$f":"IFERROR(VLOOKUP(D1614,Справка!$G$2:$H$579,2,0),\"\")","v":""}]
[null,null,null,null,{"$f":"IFERROR(VLOOKUP(D1615,Справка!$G$2:$H$579,2,0),\"\")","v":""}]
[null,null,null,null,{"$f":"IFERROR(VLOOKUP(D1616,Справка!$G$2:$H$579,2,0),\"\")","v":""}]
[null,null,null,null,{"$f":"IFERROR(VLOOKUP(D1617,Справка!$G$2:$H$579,2,0),\"\")","v":""}]
[null,null,null,null,{"$f":"IFERROR(VLOOKUP(D1618,Справка!$G$2:$H$579,2,0),\"\")","v":""}]
[null,null,null,null,{"$f":"IFERROR(VLOOKUP(D1619,Справка!$G$2:$H$579,2,0),\"\")","v":""}]
[null,null,null,null,{"$f":"IFERROR(VLOOKUP(D1620,Справка!$G$2:$H$579,2,0),\"\")","v":""}]
[null,null,null,null,{"$f":"IFERROR(VLOOKUP(D1621,Справка!$G$2:$H$579,2,0),\"\")","v":""}]
[null,null,null,null,{"$f":"IFERROR(VLOOKUP(D1622,Справка!$G$2:$H$579,2,0),\"\")","v":""}]
[null,null,null,null,{"$f":"IFERROR(VLOOKUP(D1623,Справка!$G$2:$H$579,2,0),\"\")","v":""}]
[null,null,null,null,{"$f":"IFERROR(VLOOKUP(D1624,Справка!$G$2:$H$579,2,0),\"\")","v":""}]
[null,null,null,null,{"$f":"IFERROR(VLOOKUP(D1625,Справка!$G$2:$H$579,2,0),\"\")","v":""}]
[null,null,null,null,{"$f":"IFERROR(VLOOKUP(D1626,Справка!$G$2:$H$579,2,0),\"\")","v":""}]
[null,null,null,null,{"$f":"IFERROR(VLOOKUP(D1627,Справка!$G$2:$H$579,2,0),\"\")","v":""}]
[null,null,null,null,{"$f":"IFERROR(VLOOKUP(D1628,Справка!$G$2:$H$579,2,0),\"\")","v":""}]
[null,null,null,null,{"$f":"IFERROR(VLOOKUP(D1629,Справка!$G$2:$H$579,2,0),\"\")","v":""}]
[null,null,null,null,{"$f":"IFERROR(VLOOKUP(D1630,Справка!$G$2:$H$579,2,0),\"\")","v":""}]
[null,null,null,null,{"$f":"IFERROR(VLOOKUP(D1631,Справка!$G$2:$H$579,2,0),\"\")","v":""}]
[null,null,null,null,{"$f":"IFERROR(VLOOKUP(D1632,Справка!$G$2:$H$579,2,0),\"\")","v":""}]
[null,null,null,null,{"$f":"IFERROR(VLOOKUP(D1633,Справка!$G$2:$H$579,2,0),\"\")","v":""}]
[null,null,null,null,{"$f":"IFERROR(VLOOKUP(D1634,Справка!$G$2:$H$579,2,0),\"\")","v":""}]
[null,null,null,null,{"$f":"IFERROR(VLOOKUP(D1635,Справка!$G$2:$H$579,2,0),\"\")","v":""}]
[null,null,null,null,{"$f":"IFERROR(VLOOKUP(D1636,Справка!$G$2:$H$579,2,0),\"\")","v":""}]
[null,null,null,null,{"$f":"IFERROR(VLOOKUP(D1637,Справка!$G$2:$H$579,2,0),\"\")","v":""}]
[null,null,null,null,{"$f":"IFERROR(VLOOKUP(D1638,Справка!$G$2:$H$579,2,0),\"\")","v":""}]
[null,null,null,null,{"$f":"IFERROR(VLOOKUP(D1639,Справка!$G$2:$H$579,2,0),\"\")","v":""}]
[null,null,null,null,{"$f":"IFERROR(VLOOKUP(D1640,Справка!$G$2:$H$579,2,0),\"\")","v":""}]
[null,null,null,null,{"$f":"IFERROR(VLOOKUP(D1641,Справка!$G$2:$H$579,2,0),\"\")","v":""}]
[null,null,null,null,{"$f":"IFERROR(VLOOKUP(D1642,Справка!$G$2:$H$579,2,0),\"\")","v":""}]
[null,null,null,null,{"$f":"IFERROR(VLOOKUP(D1643,Справка!$G$2:$H$579,2,0),\"\")","v":""}]
[null,null,null,null,{"$f":"IFERROR(VLOOKUP(D1644,Справка!$G$2:$H$579,2,0),\"\")","v":""}]
[null,null,null,null,{"$f":"IFERROR(VLOOKUP(D1645,Справка!$G$2:$H$579,2,0),\"\")","v":""}]
[null,null,null,null,{"$f":"IFERROR(VLOOKUP(D1646,Справка!$G$2:$H$579,2,0),\"\")","v":""}]
[null,null,null,null,{"$f":"IFERROR(VLOOKUP(D1647,Справка!$G$2:$H$579,2,0),\"\")","v":""}]
[null,null,null,null,{"$f":"IFERROR(VLOOKUP(D1648,Справка!$G$2:$H$579,2,0),\"\")","v":""}]
[null,null,null,null,{"$f":"IFERROR(VLOOKUP(D1649,Справка!$G$2:$H$579,2,0),\"\")","v":""}]
[null,null,null,null,{"$f":"IFERROR(VLOOKUP(D1650,Справка!$G$2:$H$579,2,0),\"\")","v":""}]
[null,null,null,null,{"$f":"IFERROR(VLOOKUP(D1651,Справка!$G$2:$H$579,2,0),\"\")","v":""}]
[null,null,null,null,{"$f":"IFERROR(VLOOKUP(D1652,Справка!$G$2:$H$579,2,0),\"\")","v":""}]
[null,null,null,null,{"$f":"IFERROR(VLOOKUP(D1653,Справка!$G$2:$H$579,2,0),\"\")","v":""}]
[null,null,null,null,{"$f":"IFERROR(VLOOKUP(D1654,Справка!$G$2:$H$579,2,0),\"\")","v":""}]
[null,null,null,null,{"$f":"IFERROR(VLOOKUP(D1655,Справка!$G$2:$H$579,2,0),\"\")","v":""}]
[null,null,null,null,{"$f":"IFERROR(VLOOKUP(D1656,Справка!$G$2:$H$579,2,0),\"\")","v":""}]
[null,null,null,null,{"$f":"IFERROR(VLOOKUP(D1657,Справка!$G$2:$H$579,2,0),\"\")","v":""}]
[null,null,null,null,{"$f":"IFERROR(VLOOKUP(D1658,Справка!$G$2:$H$579,2,0),\"\")","v":""}]
[null,null,null,null,{"$f":"IFERROR(VLOOKUP(D1659,Справка!$G$2:$H$579,2,0),\"\")","v":""}]
[null,null,null,null,{"$f":"IFERROR(VLOOKUP(D1660,Справка!$G$2:$H$579,2,0),\"\")","v":""}]
[null,null,null,null,{"$f":"IFERROR(VLOOKUP(D1661,Справка!$G$2:$H$579,2,0),\"\")","v":""}]
[null,null,null,null,{"$f":"IFERROR(VLOOKUP(D1662,Справка!$G$2:$H$579,2,0),\"\")","v":""}]
[null,null,null,null,{"$f":"IFERROR(VLOOKUP(D1663,Справка!$G$2:$H$579,2,0),\"\")","v":""}]
[null,null,null,null,{"$f":"IFERROR(VLOOKUP(D1664,Справка!$G$2:$H$579,2,0),\"\")","v":""}]
[null,null,null,null,{"$f":"IFERROR(VLOOKUP(D1665,Справка!$G$2:$H$579,2,0),\"\")","v":""}]
[null,null,null,null,{"$f":"IFERROR(VLOOKUP(D1666,Справка!$G$2:$H$579,2,0),\"\")","v":""}]
[null,null,null,null,{"$f":"IFERROR(VLOOKUP(D1667,Справка!$G$2:$H$579,2,0),\"\")","v":""}]
[null,null,null,null,{"$f":"IFERROR(VLOOKUP(D1668,Справка!$G$2:$H$579,2,0),\"\")","v":""}]
[null,null,null,null,{"$f":"IFERROR(VLOOKUP(D1669,Справка!$G$2:$H$579,2,0),\"\")","v":""}]
[null,null,null,null,{"$f":"IFERROR(VLOOKUP(D1670,Справка!$G$2:$H$579,2,0),\"\")","v":""}]
[null,null,null,null,{"$f":"IFERROR(VLOOKUP(D1671,Справка!$G$2:$H$579,2,0),\"\")","v":""}]
[null,null,null,null,{"$f":"IFERROR(VLOOKUP(D1672,Справка!$G$2:$H$579,2,0),\"\")","v":""}]
[null,null,null,null,{"$f":"IFERROR(VLOOKUP(D1673,Справка!$G$2:$H$579,2,0),\"\")","v":""}]
[null,null,null,null,{"$f":"IFERROR(VLOOKUP(D1674,Справка!$G$2:$H$579,2,0),\"\")","v":""}]
[null,null,null,null,{"$f":"IFERROR(VLOOKUP(D1675,Справка!$G$2:$H$579,2,0),\"\")","v":""}]
[null,null,null,null,{"$f":"IFERROR(VLOOKUP(D1676,Справка!$G$2:$H$579,2,0),\"\")","v":""}]
[null,null,null,null,{"$f":"IFERROR(VLOOKUP(D1677,Справка!$G$2:$H$579,2,0),\"\")","v":""}]
[null,null,null,null,{"$f":"IFERROR(VLOOKUP(D1678,Справка!$G$2:$H$579,2,0),\"\")","v":""}]
[null,null,null,null,{"$f":"IFERROR(VLOOKUP(D1679,Справка!$G$2:$H$579,2,0),\"\")","v":""}]
[null,null,null,null,{"$f":"IFERROR(VLOOKUP(D1680,Справка!$G$2:$H$579,2,0),\"\")","v":""}]
[null,null,null,null,{"$f":"IFERROR(VLOOKUP(D1681,Справка!$G$2:$H$579,2,0),\"\")","v":""}]
[null,null,null,null,{"$f":"IFERROR(VLOOKUP(D1682,Справка!$G$2:$H$579,2,0),\"\")","v":""}]
[null,null,null,null,{"$f":"IFERROR(VLOOKUP(D1683,Справка!$G$2:$H$579,2,0),\"\")","v":""}]
[null,null,null,null,{"$f":"IFERROR(VLOOKUP(D1684,Справка!$G$2:$H$579,2,0),\"\")","v":""}]
[null,null,null,null,{"$f":"IFERROR(VLOOKUP(D1685,Справка!$G$2:$H$579,2,0),\"\")","v":""}]
[null,null,null,null,{"$f":"IFERROR(VLOOKUP(D1686,Справка!$G$2:$H$579,2,0),\"\")","v":""}]
[null,null,null,null,{"$f":"IFERROR(VLOOKUP(D1687,Справка!$G$2:$H$579,2,0),\"\")","v":""}]
[null,null,null,null,{"$f":"IFERROR(VLOOKUP(D1688,Справка!$G$2:$H$579,2,0),\"\")","v":""}]
[null,null,null,null,{"$f":"IFERROR(VLOOKUP(D1689,Справка!$G$2:$H$579,2,0),\"\")","v":""}]
[null,null,null,null,{"$f":"IFERROR(VLOOKUP(D1690,Справка!$G$2:$H$579,2,0),\"\")","v":""}]
[null,null,null,null,{"$f":"IFERROR(VLOOKUP(D1691,Справка!$G$2:$H$579,2,0),\"\")","v":""}]
[null,null,null,null,{"$f":"IFERROR(VLOOKUP(D1692,Справка!$G$2:$H$579,2,0),\"\")","v":""}]
[null,null,null,null,{"$f":"IFERROR(VLOOKUP(D1693,Справка!$G$2:$H$579,2,0),\"\")","v":""}]
[null,null,null,null,{"$f":"IFERROR(VLOOKUP(D1694,Справка!$G$2:$H$579,2,0),\"\")","v":""}]
[null,null,null,null,{"$f":"IFERROR(VLOOKUP(D1695,Справка!$G$2:$H$579,2,0),\"\")","v":""}]
[null,null,null,null,{"$f":"IFERROR(VLOOKUP(D1696,Справка!$G$2:$H$579,2,0),\"\")","v":""}]
[null,null,null,null,{"$f":"IFERROR(VLOOKUP(D1697,Справка!$G$2:$H$579,2,0),\"\")","v":""}]
[null,null,null,null,{"$f":"IFERROR(VLOOKUP(D1698,Справка!$G$2:$H$579,2,0),\"\")","v":""}]
[null,null,null,null,{"$f":"IFERROR(VLOOKUP(D1699,Справка!$G$2:$H$579,2,0),\"\")","v":""}]
[null,null,null,null,{"$f":"IFERROR(VLOOKUP(D1700,Справка!$G$2:$H$579,2,0),\"\")","v":""}]
[null,null,null,null,{"$f":"IFERROR(VLOOKUP(D1701,Справка!$G$2:$H$579,2,0),\"\")","v":""}]
[null,null,null,null,{"$f":"IFERROR(VLOOKUP(D1702,Справка!$G$2:$H$579,2,0),\"\")","v":""}]
[null,null,null,null,{"$f":"IFERROR(VLOOKUP(D1703,Справка!$G$2:$H$579,2,0),\"\")","v":""}]
[null,null,null,null,{"$f":"IFERROR(VLOOKUP(D1704,Справка!$G$2:$H$579,2,0),\"\")","v":""}]
[null,null,null,null,{"$f":"IFERROR(VLOOKUP(D1705,Справка!$G$2:$H$579,2,0),\"\")","v":""}]
[null,null,null,null,{"$f":"IFERROR(VLOOKUP(D1706,Справка!$G$2:$H$579,2,0),\"\")","v":""}]
[null,null,null,null,{"$f":"IFERROR(VLOOKUP(D1707,Справка!$G$2:$H$579,2,0),\"\")","v":""}]
[null,null,null,null,{"$f":"IFERROR(VLOOKUP(D1708,Справка!$G$2:$H$579,2,0),\"\")","v":""}]
[null,null,null,null,{"$f":"IFERROR(VLOOKUP(D1709,Справка!$G$2:$H$579,2,0),\"\")","v":""}]
[null,null,null,null,{"$f":"IFERROR(VLOOKUP(D1710,Справка!$G$2:$H$579,2,0),\"\")","v":""}]
[null,null,null,null,{"$f":"IFERROR(VLOOKUP(D1711,Справка!$G$2:$H$579,2,0),\"\")","v":""}]
[null,null,null,null,{"$f":"IFERROR(VLOOKUP(D1712,Справка!$G$2:$H$579,2,0),\"\")","v":""}]
[null,null,null,null,{"$f":"IFERROR(VLOOKUP(D1713,Справка!$G$2:$H$579,2,0),\"\")","v":""}]
[null,null,null,null,{"$f":"IFERROR(VLOOKUP(D1714,Справка!$G$2:$H$579,2,0),\"\")","v":""}]
[null,null,null,null,{"$f":"IFERROR(VLOOKUP(D1715,Справка!$G$2:$H$579,2,0),\"\")","v":""}]
[null,null,null,null,{"$f":"IFERROR(VLOOKUP(D1716,Справка!$G$2:$H$579,2,0),\"\")","v":""}]
[null,null,null,null,{"$f":"IFERROR(VLOOKUP(D1717,Справка!$G$2:$H$579,2,0),\"\")","v":""}]
[null,null,null,null,{"$f":"IFERROR(VLOOKUP(D1718,Справка!$G$2:$H$579,2,0),\"\")","v":""}]
[null,null,null,null,{"$f":"IFERROR(VLOOKUP(D1719,Справка!$G$2:$H$579,2,0),\"\")","v":""}]
[null,null,null,null,{"$f":"IFERROR(VLOOKUP(D1720,Справка!$G$2:$H$579,2,0),\"\")","v":""}]
[null,null,null,null,{"$f":"IFERROR(VLOOKUP(D1721,Справка!$G$2:$H$579,2,0),\"\")","v":""}]
[null,null,null,null,{"$f":"IFERROR(VLOOKUP(D1722,Справка!$G$2:$H$579,2,0),\"\")","v":""}]
[null,null,null,null,{"$f":"IFERROR(VLOOKUP(D1723,Справка!$G$2:$H$579,2,0),\"\")","v":""}]
[null,null,null,null,{"$f":"IFERROR(VLOOKUP(D1724,Справка!$G$2:$H$579,2,0),\"\")","v":""}]
[null,null,null,null,{"$f":"IFERROR(VLOOKUP(D1725,Справка!$G$2:$H$579,2,0),\"\")","v":""}]
[null,null,null,null,{"$f":"IFERROR(VLOOKUP(D1726,Справка!$G$2:$H$579,2,0),\"\")","v":""}]
[null,null,null,null,{"$f":"IFERROR(VLOOKUP(D1727,Справка!$G$2:$H$579,2,0),\"\")","v":""}]
[null,null,null,null,{"$f":"IFERROR(VLOOKUP(D1728,Справка!$G$2:$H$579,2,0),\"\")","v":""}]
[null,null,null,null,{"$f":"IFERROR(VLOOKUP(D1729,Справка!$G$2:$H$579,2,0),\"\")","v":""}]
[null,null,null,null,{"$f":"IFERROR(VLOOKUP(D1730,Справка!$G$2:$H$579,2,0),\"\")","v":""}]
[null,null,null,null,{"$f":"IFERROR(VLOOKUP(D1731,Справка!$G$2:$H$579,2,0),\"\")","v":""}]
[null,null,null,null,{"$f":"IFERROR(VLOOKUP(D1732,Справка!$G$2:$H$579,2,0),\"\")","v":""}]
[null,null,null,null,{"$f":"IFERROR(VLOOKUP(D1733,Справка!$G$2:$H$579,2,0),\"\")","v":""}]
[null,null,null,null,{"$f":"IFERROR(VLOOKUP(D1734,Справка!$G$2:$H$579,2,0),\"\")","v":""}]
[null,null,null,null,{"$f":"IFERROR(VLOOKUP(D1735,Справка!$G$2:$H$579,2,0),\"\")","v":""}]
[null,null,null,null,{"$f":"IFERROR(VLOOKUP(D1736,Справка!$G$2:$H$579,2,0),\"\")","v":""}]
[null,null,null,null,{"$f":"IFERROR(VLOOKUP(D1737,Справка!$G$2:$H$579,2,0),\"\")","v":""}]
[null,null,null,null,{"$f":"IFERROR(VLOOKUP(D1738,Справка!$G$2:$H$579,2,0),\"\")","v":""}]
[null,null,null,null,{"$f":"IFERROR(VLOOKUP(D1739,Справка!$G$2:$H$579,2,0),\"\")","v":""}]
[null,null,null,null,{"$f":"IFERROR(VLOOKUP(D1740,Справка!$G$2:$H$579,2,0),\"\")","v":""}]
[null,null,null,null,{"$f":"IFERROR(VLOOKUP(D1741,Справка!$G$2:$H$579,2,0),\"\")","v":""}]
[null,null,null,null,{"$f":"IFERROR(VLOOKUP(D1742,Справка!$G$2:$H$579,2,0),\"\")","v":""}]
[null,null,null,null,{"$f":"IFERROR(VLOOKUP(D1743,Справка!$G$2:$H$579,2,0),\"\")","v":""}]
[null,null,null,null,{"$f":"IFERROR(VLOOKUP(D1744,Справка!$G$2:$H$579,2,0),\"\")","v":""}]
[null,null,null,null,{"$f":"IFERROR(VLOOKUP(D1745,Справка!$G$2:$H$579,2,0),\"\")","v":""}]
[null,null,null,null,{"$f":"IFERROR(VLOOKUP(D1746,Справка!$G$2:$H$579,2,0),\"\")","v":""}]
[null,null,null,null,{"$f":"IFERROR(VLOOKUP(D1747,Справка!$G$2:$H$579,2,0),\"\")","v":""}]
[null,null,null,null,{"$f":"IFERROR(VLOOKUP(D1748,Справка!$G$2:$H$579,2,0),\"\")","v":""}]
[null,null,null,null,{"$f":"IFERROR(VLOOKUP(D1749,Справка!$G$2:$H$579,2,0),\"\")","v":""}]
[null,null,null,null,{"$f":"IFERROR(VLOOKUP(D1750,Справка!$G$2:$H$579,2,0),\"\")","v":""}]
[null,null,null,null,{"$f":"IFERROR(VLOOKUP(D1751,Справка!$G$2:$H$579,2,0),\"\")","v":""}]
[null,null,null,null,{"$f":"IFERROR(VLOOKUP(D1752,Справка!$G$2:$H$579,2,0),\"\")","v":""}]
[null,null,null,null,{"$f":"IFERROR(VLOOKUP(D1753,Справка!$G$2:$H$579,2,0),\"\")","v":""}]
[null,null,null,null,{"$f":"IFERROR(VLOOKUP(D1754,Справка!$G$2:$H$579,2,0),\"\")","v":""}]
[null,null,null,null,{"$f":"IFERROR(VLOOKUP(D1755,Справка!$G$2:$H$579,2,0),\"\")","v":""}]
[null,null,null,null,{"$f":"IFERROR(VLOOKUP(D1756,Справка!$G$2:$H$579,2,0),\"\")","v":""}]
[null,null,null,null,{"$f":"IFERROR(VLOOKUP(D1757,Справка!$G$2:$H$579,2,0),\"\")","v":""}]
[null,null,null,null,{"$f":"IFERROR(VLOOKUP(D1758,Справка!$G$2:$H$579,2,0),\"\")","v":""}]
[null,null,null,null,{"$f":"IFERROR(VLOOKUP(D1759,Справка!$G$2:$H$579,2,0),\"\")","v":""}]
[null,null,null,null,{"$f":"IFERROR(VLOOKUP(D1760,Справка!$G$2:$H$579,2,0),\"\")","v":""}]
[null,null,null,null,{"$f":"IFERROR(VLOOKUP(D1761,Справка!$G$2:$H$579,2,0),\"\")","v":""}]
[null,null,null,null,{"$f":"IFERROR(VLOOKUP(D1762,Справка!$G$2:$H$579,2,0),\"\")","v":""}]
[null,null,null,null,{"$f":"IFERROR(VLOOKUP(D1763,Справка!$G$2:$H$579,2,0),\"\")","v":""}]
[null,null,null,null,{"$f":"IFERROR(VLOOKUP(D1764,Справка!$G$2:$H$579,2,0),\"\")","v":""}]
[null,null,null,null,{"$f":"IFERROR(VLOOKUP(D1765,Справка!$G$2:$H$579,2,0),\"\")","v":""}]
[null,null,null,null,{"$f":"IFERROR(VLOOKUP(D1766,Справка!$G$2:$H$579,2,0),\"\")","v":""}]
[null,null,null,null,{"$f":"IFERROR(VLOOKUP(D1767,Справка!$G$2:$H$579,2,0),\"\")","v":""}]
[null,null,null,null,{"$f":"IFERROR(VLOOKUP(D1768,Справка!$G$2:$H$579,2,0),\"\")","v":""}]
[null,null,null,null,{"$f":"IFERROR(VLOOKUP(D1769,Справка!$G$2:$H$579,2,0),\"\")","v":""}]
[null,null,null,null,{"$f":"IFERROR(VLOOKUP(D1770,Справка!$G$2:$H$579,2,0),\"\")","v":""}]
[null,null,null,null,{"$f":"IFERROR(VLOOKUP(D1771,Справка!$G$2:$H$579,2,0),\"\")","v":""}]
[null,null,null,null,{"$f":"IFERROR(VLOOKUP(D1772,Справка!$G$2:$H$579,2,0),\"\")","v":""}]
[null,null,null,null,{"$f":"IFERROR(VLOOKUP(D1773,Справка!$G$2:$H$579,2,0),\"\")","v":""}]
[null,null,null,null,{"$f":"IFERROR(VLOOKUP(D1774,Справка!$G$2:$H$579,2,0),\"\")","v":""}]
[null,null,null,null,{"$f":"IFERROR(VLOOKUP(D1775,Справка!$G$2:$H$579,2,0),\"\")","v":""}]
[null,null,null,null,{"$f":"IFERROR(VLOOKUP(D1776,Справка!$G$2:$H$579,2,0),\"\")","v":""}]
[null,null,null,null,{"$f":"IFERROR(VLOOKUP(D1777,Справка!$G$2:$H$579,2,0),\"\")","v":""}]
[null,null,null,null,{"$f":"IFERROR(VLOOKUP(D1778,Справка!$G$2:$H$579,2,0),\"\")","v":""}]
[null,null,null,null,{"$f":"IFERROR(VLOOKUP(D1779,Справка!$G$2:$H$579,2,0),\"\")","v":""}]
[null,null,null,null,{"$f":"IFERROR(VLOOKUP(D1780,Справка!$G$2:$H$579,2,0),\"\")","v":""}]
[null,null,null,null,{"$f":"IFERROR(VLOOKUP(D1781,Справка!$G$2:$H$579,2,0),\"\")","v":""}]
[null,null,null,null,{"$f":"IFERROR(VLOOKUP(D1782,Справка!$G$2:$H$579,2,0),\"\")","v":""}]
[null,null,null,null,{"$f":"IFERROR(VLOOKUP(D1783,Справка!$G$2:$H$579,2,0),\"\")","v":""}]
[null,null,null,null,{"$f":"IFERROR(VLOOKUP(D1784,Справка!$G$2:$H$579,2,0),\"\")","v":""}]
[null,null,null,null,{"$f":"IFERROR(VLOOKUP(D1785,Справка!$G$2:$H$579,2,0),\"\")","v":""}]
[null,null,null,null,{"$f":"IFERROR(VLOOKUP(D1786,Справка!$G$2:$H$579,2,0),\"\")","v":""}]
[null,null,null,null,{"$f":"IFERROR(VLOOKUP(D1787,Справка!$G$2:$H$579,2,0),\"\")","v":""}]
[null,null,null,null,{"$f":"IFERROR(VLOOKUP(D1788,Справка!$G$2:$H$579,2,0),\"\")","v":""}]
[null,null,null,null,{"$f":"IFERROR(VLOOKUP(D1789,Справка!$G$2:$H$579,2,0),\"\")","v":""}]
[null,null,null,null,{"$f":"IFERROR(VLOOKUP(D1790,Справка!$G$2:$H$579,2,0),\"\")","v":""}]
[null,null,null,null,{"$f":"IFERROR(VLOOKUP(D1791,Справка!$G$2:$H$579,2,0),\"\")","v":""}]
[null,null,null,null,{"$f":"IFERROR(VLOOKUP(D1792,Справка!$G$2:$H$579,2,0),\"\")","v":""}]
[null,null,null,null,{"$f":"IFERROR(VLOOKUP(D1793,Справка!$G$2:$H$579,2,0),\"\")","v":""}]
[null,null,null,null,{"$f":"IFERROR(VLOOKUP(D1794,Справка!$G$2:$H$579,2,0),\"\")","v":""}]
[null,null,null,null,{"$f":"IFERROR(VLOOKUP(D1795,Справка!$G$2:$H$579,2,0),\"\")","v":""}]
[null,null,null,null,{"$f":"IFERROR(VLOOKUP(D1796,Справка!$G$2:$H$579,2,0),\"\")","v":""}]
[null,null,null,null,{"$f":"IFERROR(VLOOKUP(D1797,Справка!$G$2:$H$579,2,0),\"\")","v":""}]
[null,null,null,null,{"$f":"IFERROR(VLOOKUP(D1798,Справка!$G$2:$H$579,2,0),\"\")","v":""}]
[null,null,null,null,{"$f":"IFERROR(VLOOKUP(D1799,Справка!$G$2:$H$579,2,0),\"\")","v":""}]
[null,null,null,null,{"$f":"IFERROR(VLOOKUP(D1800,Справка!$G$2:$H$579,2,0),\"\")","v":""}]
[null,null,null,null,{"$f":"IFERROR(VLOOKUP(D1801,Справка!$G$2:$H$579,2,0),\"\")","v":""}]
[null,null,null,null,{"$f":"IFERROR(VLOOKUP(D1802,Справка!$G$2:$H$579,2,0),\"\")","v":""}]
[null,null,null,null,{"$f":"IFERROR(VLOOKUP(D1803,Справка!$G$2:$H$579,2,0),\"\")","v":""}]
[null,null,null,null,{"$f":"IFERROR(VLOOKUP(D1804,Справка!$G$2:$H$579,2,0),\"\")","v":""}]
[null,null,null,null,{"$f":"IFERROR(VLOOKUP(D1805,Справка!$G$2:$H$579,2,0),\"\")","v":""}]
[null,null,null,null,{"$f":"IFERROR(VLOOKUP(D1806,Справка!$G$2:$H$579,2,0),\"\")","v":""}]
[null,null,null,null,{"$f":"IFERROR(VLOOKUP(D1807,Справка!$G$2:$H$579,2,0),\"\")","v":""}]
[null,null,null,null,{"$f":"IFERROR(VLOOKUP(D1808,Справка!$G$2:$H$579,2,0),\"\")","v":""}]
[null,null,null,null,{"$f":"IFERROR(VLOOKUP(D1809,Справка!$G$2:$H$579,2,0),\"\")","v":""}]
[null,null,null,null,{"$f":"IFERROR(VLOOKUP(D1810,Справка!$G$2:$H$579,2,0),\"\")","v":""}]
[null,null,null,null,{"$f":"IFERROR(VLOOKUP(D1811,Справка!$G$2:$H$579,2,0),\"\")","v":""}]
[null,null,null,null,{"$f":"IFERROR(VLOOKUP(D1812,Справка!$G$2:$H$579,2,0),\"\")","v":""}]
[null,null,null,null,{"$f":"IFERROR(VLOOKUP(D1813,Справка!$G$2:$H$579,2,0),\"\")","v":""}]
[null,null,null,null,{"$f":"IFERROR(VLOOKUP(D1814,Справка!$G$2:$H$579,2,0),\"\")","v":""}]
[null,null,null,null,{"$f":"IFERROR(VLOOKUP(D1815,Справка!$G$2:$H$579,2,0),\"\")","v":""}]
[null,null,null,null,{"$f":"IFERROR(VLOOKUP(D1816,Справка!$G$2:$H$579,2,0),\"\")","v":""}]
[null,null,null,null,{"$f":"IFERROR(VLOOKUP(D1817,Справка!$G$2:$H$579,2,0),\"\")","v":""}]
[null,null,null,null,{"$f":"IFERROR(VLOOKUP(D1818,Справка!$G$2:$H$579,2,0),\"\")","v":""}]
[null,null,null,null,{"$f":"IFERROR(VLOOKUP(D1819,Справка!$G$2:$H$579,2,0),\"\")","v":""}]
[null,null,null,null,{"$f":"IFERROR(VLOOKUP(D1820,Справка!$G$2:$H$579,2,0),\"\")","v":""}]
[null,null,null,null,{"$f":"IFERROR(VLOOKUP(D1821,Справка!$G$2:$H$579,2,0),\"\")","v":""}]
[null,null,null,null,{"$f":"IFERROR(VLOOKUP(D1822,Справка!$G$2:$H$579,2,0),\"\")","v":""}]
[null,null,null,null,{"$f":"IFERROR(VLOOKUP(D1823,Справка!$G$2:$H$579,2,0),\"\")","v":""}]
[null,null,null,null,{"$f":"IFERROR(VLOOKUP(D1824,Справка!$G$2:$H$579,2,0),\"\")","v":""}]
[null,null,null,null,{"$f":"IFERROR(VLOOKUP(D1825,Справка!$G$2:$H$579,2,0),\"\")","v":""}]
[null,null,null,null,{"$f":"IFERROR(VLOOKUP(D1826,Справка!$G$2:$H$579,2,0),\"\")","v":""}]
[null,null,null,null,{"$f":"IFERROR(VLOOKUP(D1827,Справка!$G$2:$H$579,2,0),\"\")","v":""}]
[null,null,null,null,{"$f":"IFERROR(VLOOKUP(D1828,Справка!$G$2:$H$579,2,0),\"\")","v":""}]
[null,null,null,null,{"$f":"IFERROR(VLOOKUP(D1829,Справка!$G$2:$H$579,2,0),\"\")","v":""}]
[null,null,null,null,{"$f":"IFERROR(VLOOKUP(D1830,Справка!$G$2:$H$579,2,0),\"\")","v":""}]
[null,null,null,null,{"$f":"IFERROR(VLOOKUP(D1831,Справка!$G$2:$H$579,2,0),\"\")","v":""}]
[null,null,null,null,{"$f":"IFERROR(VLOOKUP(D1832,Справка!$G$2:$H$579,2,0),\"\")","v":""}]
[null,null,null,null,{"$f":"IFERROR(VLOOKUP(D1833,Справка!$G$2:$H$579,2,0),\"\")","v":""}]
[null,null,null,null,{"$f":"IFERROR(VLOOKUP(D1834,Справка!$G$2:$H$579,2,0),\"\")","v":""}]
[null,null,null,null,{"$f":"IFERROR(VLOOKUP(D1835,Справка!$G$2:$H$579,2,0),\"\")","v":""}]
[null,null,null,null,{"$f":"IFERROR(VLOOKUP(D1836,Справка!$G$2:$H$579,2,0),\"\")","v":""}]
[null,null,null,null,{"$f":"IFERROR(VLOOKUP(D1837,Справка!$G$2:$H$579,2,0),\"\")","v":""}]
[null,null,null,null,{"$f":"IFERROR(VLOOKUP(D1838,Справка!$G$2:$H$579,2,0),\"\")","v":""}]
[null,null,null,null,{"$f":"IFERROR(VLOOKUP(D1839,Справка!$G$2:$H$579,2,0),\"\")","v":""}]
[null,null,null,null,{"$f":"IFERROR(VLOOKUP(D1840,Справка!$G$2:$H$579,2,0),\"\")","v":""}]
[null,null,null,null,{"$f":"IFERROR(VLOOKUP(D1841,Справка!$G$2:$H$579,2,0),\"\")","v":""}]
[null,null,null,null,{"$f":"IFERROR(VLOOKUP(D1842,Справка!$G$2:$H$579,2,0),\"\")","v":""}]
[null,null,null,null,{"$f":"IFERROR(VLOOKUP(D1843,Справка!$G$2:$H$579,2,0),\"\")","v":""}]
[null,null,null,null,{"$f":"IFERROR(VLOOKUP(D1844,Справка!$G$2:$H$579,2,0),\"\")","v":""}]
[null,null,null,null,{"$f":"IFERROR(VLOOKUP(D1845,Справка!$G$2:$H$579,2,0),\"\")","v":""}]
[null,null,null,null,{"$f":"IFERROR(VLOOKUP(D1846,Справка!$G$2:$H$579,2,0),\"\")","v":""}]
[null,null,null,null,{"$f":"IFERROR(VLOOKUP(D1847,Справка!$G$2:$H$579,2,0),\"\")","v":""}]
[null,null,null,null,{"$f":"IFERROR(VLOOKUP(D1848,Справка!$G$2:$H$579,2,0),\"\")","v":""}]
[null,null,null,null,{"$f":"IFERROR(VLOOKUP(D1849,Справка!$G$2:$H$579,2,0),\"\")","v":""}]
[null,null,null,null,{"$f":"IFERROR(VLOOKUP(D1850,Справка!$G$2:$H$579,2,0),\"\")","v":""}]
[null,null,null,null,{"$f":"IFERROR(VLOOKUP(D1851,Справка!$G$2:$H$579,2,0),\"\")","v":""}]
[null,null,null,null,{"$f":"IFERROR(VLOOKUP(D1852,Справка!$G$2:$H$579,2,0),\"\")","v":""}]
[null,null,null,null,{"$f":"IFERROR(VLOOKUP(D1853,Справка!$G$2:$H$579,2,0),\"\")","v":""}]
[null,null,null,null,{"$f":"IFERROR(VLOOKUP(D1854,Справка!$G$2:$H$579,2,0),\"\")","v":""}]
[null,null,null,null,{"$f":"IFERROR(VLOOKUP(D1855,Справка!$G$2:$H$579,2,0),\"\")","v":""}]
[null,null,null,null,{"$f":"IFERROR(VLOOKUP(D1856,Справка!$G$2:$H$579,2,0),\"\")","v":""}]
[null,null,null,null,{"$f":"IFERROR(VLOOKUP(D1857,Справка!$G$2:$H$579,2,0),\"\")","v":""}]
[null,null,null,null,{"$f":"IFERROR(VLOOKUP(D1858,Справка!$G$2:$H$579,2,0),\"\")","v":""}]
[null,null,null,null,{"$f":"IFERROR(VLOOKUP(D1859,Справка!$G$2:$H$579,2,0),\"\")","v":""}]
[null,null,null,null,{"$f":"IFERROR(VLOOKUP(D1860,Справка!$G$2:$H$579,2,0),\"\")","v":""}]
[null,null,null,null,{"$f":"IFERROR(VLOOKUP(D1861,Справка!$G$2:$H$579,2,0),\"\")","v":""}]
[null,null,null,null,{"$f":"IFERROR(VLOOKUP(D1862,Справка!$G$2:$H$579,2,0),\"\")","v":""}]
[null,null,null,null,{"$f":"IFERROR(VLOOKUP(D1863,Справка!$G$2:$H$579,2,0),\"\")","v":""}]
[null,null,null,null,{"$f":"IFERROR(VLOOKUP(D1864,Справка!$G$2:$H$579,2,0),\"\")","v":""}]
[null,null,null,null,{"$f":"IFERROR(VLOOKUP(D1865,Справка!$G$2:$H$579,2,0),\"\")","v":""}]
[null,null,null,null,{"$f":"IFERROR(VLOOKUP(D1866,Справка!$G$2:$H$579,2,0),\"\")","v":""}]
[null,null,null,null,{"$f":"IFERROR(VLOOKUP(D1867,Справка!$G$2:$H$579,2,0),\"\")","v":""}]
[null,null,null,null,{"$f":"IFERROR(VLOOKUP(D1868,Справка!$G$2:$H$579,2,0),\"\")","v":""}]
[null,null,null,null,{"$f":"IFERROR(VLOOKUP(D1869,Справка!$G$2:$H$579,2,0),\"\")","v":""}]
[null,null,null,null,{"$f":"IFERROR(VLOOKUP(D1870,Справка!$G$2:$H$579,2,0),\"\")","v":""}]
[null,null,null,null,{"$f":"IFERROR(VLOOKUP(D1871,Справка!$G$2:$H$579,2,0),\"\")","v":""}]
[null,null,null,null,{"$f":"IFERROR(VLOOKUP(D1872,Справка!$G$2:$H$579,2,0),\"\")","v":""}]
[null,null,null,null,{"$f":"IFERROR(VLOOKUP(D1873,Справка!$G$2:$H$579,2,0),\"\")","v":""}]
[null,null,null,null,{"$f":"IFERROR(VLOOKUP(D1874,Справка!$G$2:$H$579,2,0),\"\")","v":""}]
[null,null,null,null,{"$f":"IFERROR(VLOOKUP(D1875,Справка!$G$2:$H$579,2,0),\"\")","v":""}]
[null,null,null,null,{"$f":"IFERROR(VLOOKUP(D1876,Справка!$G$2:$H$579,2,0),\"\")","v":""}]
[null,null,null,null,{"$f":"IFERROR(VLOOKUP(D1877,Справка!$G$2:$H$579,2,0),\"\")","v":""}]
[null,null,null,null,{"$f":"IFERROR(VLOOKUP(D1878,Справка!$G$2:$H$579,2,0),\"\")","v":""}]
[null,null,null,null,{"$f":"IFERROR(VLOOKUP(D1879,Справка!$G$2:$H$579,2,0),\"\")","v":""}]
[null,null,null,null,{"$f":"IFERROR(VLOOKUP(D1880,Справка!$G$2:$H$579,2,0),\"\")","v":""}]
[null,null,null,null,{"$f":"IFERROR(VLOOKUP(D1881,Справка!$G$2:$H$579,2,0),\"\")","v":""}]
[null,null,null,null,{"$f":"IFERROR(VLOOKUP(D1882,Справка!$G$2:$H$579,2,0),\"\")","v":""}]
[null,null,null,null,{"$f":"IFERROR(VLOOKUP(D1883,Справка!$G$2:$H$579,2,0),\"\")","v":""}]
[null,null,null,null,{"$f":"IFERROR(VLOOKUP(D1884,Справка!$G$2:$H$579,2,0),\"\")","v":""}]
[null,null,null,null,{"$f":"IFERROR(VLOOKUP(D1885,Справка!$G$2:$H$579,2,0),\"\")","v":""}]
[null,null,null,null,{"$f":"IFERROR(VLOOKUP(D1886,Справка!$G$2:$H$579,2,0),\"\")","v":""}]
[null,null,null,null,{"$f":"IFERROR(VLOOKUP(D1887,Справка!$G$2:$H$579,2,0),\"\")","v":""}]
[null,null,null,null,{"$f":"IFERROR(VLOOKUP(D1888,Справка!$G$2:$H$579,2,0),\"\")","v":""}]
[null,null,null,null,{"$f":"IFERROR(VLOOKUP(D1889,Справка!$G$2:$H$579,2,0),\"\")","v":""}]
[null,null,null,null,{"$f":"IFERROR(VLOOKUP(D1890,Справка!$G$2:$H$579,2,0),\"\")","v":""}]
[null,null,null,null,{"$f":"IFERROR(VLOOKUP(D1891,Справка!$G$2:$H$579,2,0),\"\")","v":""}]
[null,null,null,null,{"$f":"IFERROR(VLOOKUP(D1892,Справка!$G$2:$H$579,2,0),\"\")","v":""}]
[null,null,null,null,{"$f":"IFERROR(VLOOKUP(D1893,Справка!$G$2:$H$579,2,0),\"\")","v":""}]
[null,null,null,null,{"$f":"IFERROR(VLOOKUP(D1894,Справка!$G$2:$H$579,2,0),\"\")","v":""}]
[null,null,null,null,{"$f":"IFERROR(VLOOKUP(D1895,Справка!$G$2:$H$579,2,0),\"\")","v":""}]
[null,null,null,null,{"$f":"IFERROR(VLOOKUP(D1896,Справка!$G$2:$H$579,2,0),\"\")","v":""}]
[null,null,null,null,{"$f":"IFERROR(VLOOKUP(D1897,Справка!$G$2:$H$579,2,0),\"\")","v":""}]
[null,null,null,null,{"$f":"IFERROR(VLOOKUP(D1898,Справка!$G$2:$H$579,2,0),\"\")","v":""}]
[null,null,null,null,{"$f":"IFERROR(VLOOKUP(D1899,Справка!$G$2:$H$579,2,0),\"\")","v":""}]
[null,null,null,null,{"$f":"IFERROR(VLOOKUP(D1900,Справка!$G$2:$H$579,2,0),\"\")","v":""}]
[null,null,null,null,{"$f":"IFERROR(VLOOKUP(D1901,Справка!$G$2:$H$579,2,0),\"\")","v":""}]
[null,null,null,null,{"$f":"IFERROR(VLOOKUP(D1902,Справка!$G$2:$H$579,2,0),\"\")","v":""}]
[null,null,null,null,{"$f":"IFERROR(VLOOKUP(D1903,Справка!$G$2:$H$579,2,0),\"\")","v":""}]
[null,null,null,null,{"$f":"IFERROR(VLOOKUP(D1904,Справка!$G$2:$H$579,2,0),\"\")","v":""}]
[null,null,null,null,{"$f":"IFERROR(VLOOKUP(D1905,Справка!$G$2:$H$579,2,0),\"\")","v":""}]
[null,null,null,null,{"$f":"IFERROR(VLOOKUP(D1906,Справка!$G$2:$H$579,2,0),\"\")","v":""}]
[null,null,null,null,{"$f":"IFERROR(VLOOKUP(D1907,Справка!$G$2:$H$579,2,0),\"\")","v":""}]
[null,null,null,null,{"$f":"IFERROR(VLOOKUP(D1908,Справка!$G$2:$H$579,2,0),\"\")","v":""}]
[null,null,null,null,{"$f":"IFERROR(VLOOKUP(D1909,Справка!$G$2:$H$579,2,0),\"\")","v":""}]
[null,null,null,null,{"$f":"IFERROR(VLOOKUP(D1910,Справка!$G$2:$H$579,2,0),\"\")","v":""}]
[null,null,null,null,{"$f":"IFERROR(VLOOKUP(D1911,Справка!$G$2:$H$579,2,0),\"\")","v":""}]
[null,null,null,null,{"$f":"IFERROR(VLOOKUP(D1912,Справка!$G$2:$H$579,2,0),\"\")","v":""}]
[null,null,null,null,{"$f":"IFERROR(VLOOKUP(D1913,Справка!$G$2:$H$579,2,0),\"\")","v":""}]
[null,null,null,null,{"$f":"IFERROR(VLOOKUP(D1914,Справка!$G$2:$H$579,2,0),\"\")","v":""}]
[null,null,null,null,{"$f":"IFERROR(VLOOKUP(D1915,Справка!$G$2:$H$579,2,0),\"\")","v":""}]
[null,null,null,null,{"$f":"IFERROR(VLOOKUP(D1916,Справка!$G$2:$H$579,2,0),\"\")","v":""}]
[null,null,null,null,{"$f":"IFERROR(VLOOKUP(D1917,Справка!$G$2:$H$579,2,0),\"\")","v":""}]
[null,null,null,null,{"$f":"IFERROR(VLOOKUP(D1918,Справка!$G$2:$H$579,2,0),\"\")","v":""}]
[null,null,null,null,{"$f":"IFERROR(VLOOKUP(D1919,Справка!$G$2:$H$579,2,0),\"\")","v":""}]
[null,null,null,null,{"$f":"IFERROR(VLOOKUP(D1920,Справка!$G$2:$H$579,2,0),\"\")","v":""}]
[null,null,null,null,{"$f":"IFERROR(VLOOKUP(D1921,Справка!$G$2:$H$579,2,0),\"\")","v":""}]
[null,null,null,null,{"$f":"IFERROR(VLOOKUP(D1922,Справка!$G$2:$H$579,2,0),\"\")","v":""}]
[null,null,null,null,{"$f":"IFERROR(VLOOKUP(D1923,Справка!$G$2:$H$579,2,0),\"\")","v":""}]
[null,null,null,null,{"$f":"IFERROR(VLOOKUP(D1924,Справка!$G$2:$H$579,2,0),\"\")","v":""}]
[null,null,null,null,{"$f":"IFERROR(VLOOKUP(D1925,Справка!$G$2:$H$579,2,0),\"\")","v":""}]
[null,null,null,null,{"$f":"IFERROR(VLOOKUP(D1926,Справка!$G$2:$H$579,2,0),\"\")","v":""}]
[null,null,null,null,{"$f":"IFERROR(VLOOKUP(D1927,Справка!$G$2:$H$579,2,0),\"\")","v":""}]
[null,null,null,null,{"$f":"IFERROR(VLOOKUP(D1928,Справка!$G$2:$H$579,2,0),\"\")","v":""}]
[null,null,null,null,{"$f":"IFERROR(VLOOKUP(D1929,Справка!$G$2:$H$579,2,0),\"\")","v":""}]
[null,null,null,null,{"$f":"IFERROR(VLOOKUP(D1930,Справка!$G$2:$H$579,2,0),\"\")","v":""}]
[null,null,null,null,{"$f":"IFERROR(VLOOKUP(D1931,Справка!$G$2:$H$579,2,0),\"\")","v":""}]
[null,null,null,null,{"$f":"IFERROR(VLOOKUP(D1932,Справка!$G$2:$H$579,2,0),\"\")","v":""}]
[null,null,null,null,{"$f":"IFERROR(VLOOKUP(D1933,Справка!$G$2:$H$579,2,0),\"\")","v":""}]
[null,null,null,null,{"$f":"IFERROR(VLOOKUP(D1934,Справка!$G$2:$H$579,2,0),\"\")","v":""}]
[null,null,null,null,{"$f":"IFERROR(VLOOKUP(D1935,Справка!$G$2:$H$579,2,0),\"\")","v":""}]
[null,null,null,null,{"$f":"IFERROR(VLOOKUP(D1936,Справка!$G$2:$H$579,2,0),\"\")","v":""}]
[null,null,null,null,{"$f":"IFERROR(VLOOKUP(D1937,Справка!$G$2:$H$579,2,0),\"\")","v":""}]
[null,null,null,null,{"$f":"IFERROR(VLOOKUP(D1938,Справка!$G$2:$H$579,2,0),\"\")","v":""}]
[null,null,null,null,{"$f":"IFERROR(VLOOKUP(D1939,Справка!$G$2:$H$579,2,0),\"\")","v":""}]
[null,null,null,null,{"$f":"IFERROR(VLOOKUP(D1940,Справка!$G$2:$H$579,2,0),\"\")","v":""}]
[null,null,null,null,{"$f":"IFERROR(VLOOKUP(D1941,Справка!$G$2:$H$579,2,0),\"\")","v":""}]
[null,null,null,null,{"$f":"IFERROR(VLOOKUP(D1942,Справка!$G$2:$H$579,2,0),\"\")","v":""}]
[null,null,null,null,{"$f":"IFERROR(VLOOKUP(D1943,Справка!$G$2:$H$579,2,0),\"\")","v":""}]
[null,null,null,null,{"$f":"IFERROR(VLOOKUP(D1944,Справка!$G$2:$H$579,2,0),\"\")","v":""}]
[null,null,null,null,{"$f":"IFERROR(VLOOKUP(D1945,Справка!$G$2:$H$579,2,0),\"\")","v":""}]
[null,null,null,null,{"$f":"IFERROR(VLOOKUP(D1946,Справка!$G$2:$H$579,2,0),\"\")","v":""}]
[null,null,null,null,{"$f":"IFERROR(VLOOKUP(D1947,Справка!$G$2:$H$579,2,0),\"\")","v":""}]
[null,null,null,null,{"$f":"IFERROR(VLOOKUP(D1948,Справка!$G$2:$H$579,2,0),\"\")","v":""}]
[null,null,null,null,{"$f":"IFERROR(VLOOKUP(D1949,Справка!$G$2:$H$579,2,0),\"\")","v":""}]
[null,null,null,null,{"$f":"IFERROR(VLOOKUP(D1950,Справка!$G$2:$H$579,2,0),\"\")","v":""}]
[null,null,null,null,{"$f":"IFERROR(VLOOKUP(D1951,Справка!$G$2:$H$579,2,0),\"\")","v":""}]
[null,null,null,null,{"$f":"IFERROR(VLOOKUP(D1952,Справка!$G$2:$H$579,2,0),\"\")","v":""}]
[null,null,null,null,{"$f":"IFERROR(VLOOKUP(D1953,Справка!$G$2:$H$579,2,0),\"\")","v":""}]
[null,null,null,null,{"$f":"IFERROR(VLOOKUP(D1954,Справка!$G$2:$H$579,2,0),\"\")","v":""}]
[null,null,null,null,{"$f":"IFERROR(VLOOKUP(D1955,Справка!$G$2:$H$579,2,0),\"\")","v":""}]
[null,null,null,null,{"$f":"IFERROR(VLOOKUP(D1956,Справка!$G$2:$H$579,2,0),\"\")","v":""}]
[null,null,null,null,{"$f":"IFERROR(VLOOKUP(D1957,Справка!$G$2:$H$579,2,0),\"\")","v":""}]
[null,null,null,null,{"$f":"IFERROR(VLOOKUP(D1958,Справка!$G$2:$H$579,2,0),\"\")","v":""}]
[null,null,null,null,{"$f":"IFERROR(VLOOKUP(D1959,Справка!$G$2:$H$579,2,0),\"\")","v":""}]
[null,null,null,null,{"$f":"IFERROR(VLOOKUP(D1960,Справка!$G$2:$H$579,2,0),\"\")","v":""}]
[null,null,null,null,{"$f":"IFERROR(VLOOKUP(D1961,Справка!$G$2:$H$579,2,0),\"\")","v":""}]
[null,null,null,null,{"$f":"IFERROR(VLOOKUP(D1962,Справка!$G$2:$H$579,2,0),\"\")","v":""}]
[null,null,null,null,{"$f":"IFERROR(VLOOKUP(D1963,Справка!$G$2:$H$579,2,0),\"\")","v":""}]
[null,null,null,null,{"$f":"IFERROR(VLOOKUP(D1964,Справка!$G$2:$H$579,2,0),\"\")","v":""}]
[null,null,null,null,{"$f":"IFERROR(VLOOKUP(D1965,Справка!$G$2:$H$579,2,0),\"\")","v":""}]
[null,null,null,null,{"$f":"IFERROR(VLOOKUP(D1966,Справка!$G$2:$H$579,2,0),\"\")","v":""}]
[null,null,null,null,{"$f":"IFERROR(VLOOKUP(D1967,Справка!$G$2:$H$579,2,0),\"\")","v":""}]
[null,null,null,null,{"$f":"IFERROR(VLOOKUP(D1968,Справка!$G$2:$H$579,2,0),\"\")","v":""}]
[null,null,null,null,{"$f":"IFERROR(VLOOKUP(D1969,Справка!$G$2:$H$579,2,0),\"\")","v":""}]
[null,null,null,null,{"$f":"IFERROR(VLOOKUP(D1970,Справка!$G$2:$H$579,2,0),\"\")","v":""}]
[null,null,null,null,{"$f":"IFERROR(VLOOKUP(D1971,Справка!$G$2:$H$579,2,0),\"\")","v":""}]
[null,null,null,null,{"$f":"IFERROR(VLOOKUP(D1972,Справка!$G$2:$H$579,2,0),\"\")","v":""}]
[null,null,null,null,{"$f":"IFERROR(VLOOKUP(D1973,Справка!$G$2:$H$579,2,0),\"\")","v":""}]
[null,null,null,null,{"$f":"IFERROR(VLOOKUP(D1974,Справка!$G$2:$H$579,2,0),\"\")","v":""}]
[null,null,null,null,{"$f":"IFERROR(VLOOKUP(D1975,Справка!$G$2:$H$579,2,0),\"\")","v":""}]
[null,null,null,null,{"$f":"IFERROR(VLOOKUP(D1976,Справка!$G$2:$H$579,2,0),\"\")","v":""}]
[null,null,null,null,{"$f":"IFERROR(VLOOKUP(D1977,Справка!$G$2:$H$579,2,0),\"\")","v":""}]
[null,null,null,null,{"$f":"IFERROR(VLOOKUP(D1978,Справка!$G$2:$H$579,2,0),\"\")","v":""}]
[null,null,null,null,{"$f":"IFERROR(VLOOKUP(D1979,Справка!$G$2:$H$579,2,0),\"\")","v":""}]
[null,null,null,null,{"$f":"IFERROR(VLOOKUP(D1980,Справка!$G$2:$H$579,2,0),\"\")","v":""}]
[null,null,null,null,{"$f":"IFERROR(VLOOKUP(D1981,Справка!$G$2:$H$579,2,0),\"\")","v":""}]
[null,null,null,null,{"$f":"IFERROR(VLOOKUP(D1982,Справка!$G$2:$H$579,2,0),\"\")","v":""}]
[null,null,null,null,{"$f":"IFERROR(VLOOKUP(D1983,Справка!$G$2:$H$579,2,0),\"\")","v":""}]
[null,null,null,null,{"$f":"IFERROR(VLOOKUP(D1984,Справка!$G$2:$H$579,2,0),\"\")","v":""}]
[null,null,null,null,{"$f":"IFERROR(VLOOKUP(D1985,Справка!$G$2:$H$579,2,0),\"\")","v":""}]
[null,null,null,null,{"$f":"IFERROR(VLOOKUP(D1986,Справка!$G$2:$H$579,2,0),\"\")","v":""}]
[null,null,null,null,{"$f":"IFERROR(VLOOKUP(D1987,Справка!$G$2:$H$579,2,0),\"\")","v":""}]
[null,null,null,null,{"$f":"IFERROR(VLOOKUP(D1988,Справка!$G$2:$H$579,2,0),\"\")","v":""}]
[null,null,null,null,{"$f":"IFERROR(VLOOKUP(D1989,Справка!$G$2:$H$579,2,0),\"\")","v":""}]
[null,null,null,null,{"$f":"IFERROR(VLOOKUP(D1990,Справка!$G$2:$H$579,2,0),\"\")","v":""}]
[null,null,null,null,{"$f":"IFERROR(VLOOKUP(D1991,Справка!$G$2:$H$579,2,0),\"\")","v":""}]
[null,null,null,null,{"$f":"IFERROR(VLOOKUP(D1992,Справка!$G$2:$H$579,2,0),\"\")","v":""}]
[null,null,null,null,{"$f":"IFERROR(VLOOKUP(D1993,Справка!$G$2:$H$579,2,0),\"\")","v":""}]
[null,null,null,null,{"$f":"IFERROR(VLOOKUP(D1994,Справка!$G$2:$H$579,2,0),\"\")","v":""}]
[null,null,null,null,{"$f":"IFERROR(VLOOKUP(D1995,Справка!$G$2:$H$579,2,0),\"\")","v":""}]
[null,null,null,null,{"$f":"IFERROR(VLOOKUP(D1996,Справка!$G$2:$H$579,2,0),\"\")","v":""}]
[null,null,null,null,{"$f":"IFERROR(VLOOKUP(D1997,Справка!$G$2:$H$579,2,0),\"\")","v":""}]
[null,null,null,null,{"$f":"IFERROR(VLOOKUP(D1998,Справка!$G$2:$H$579,2,0),\"\")","v":""}]
[null,null,null,null,{"$f":"IFERROR(VLOOKUP(D1999,Справка!$G$2:$H$579,2,0),\"\")","v":""}]
[null,null,null,null,{"$f":"IFERROR(VLOOKUP(D2000,Справка!$G$2:$H$579,2,0),\"\")","v":""}]
[null,null,null,null,{"$f":"IFERROR(VLOOKUP(D2001,Справка!$G$2:$H$579,2,0),\"\")","v":""}]
[null,null,null,null,{"$f":"IFERROR(VLOOKUP(D2002,Справка!$G$2:$H$579,2,0),\"\")","v":""}]
[null,null,null,null,{"$f":"IFERROR(VLOOKUP(D2003,Справка!$G$2:$H$579,2,0),\"\")","v":""}]
[null,null,null,null,{"$f":"IFERROR(VLOOKUP(D2004,Справка!$G$2:$H$579,2,0),\"\")","v":""}]
[null,null,null,null,{"$f":"IFERROR(VLOOKUP(D2005,Справка!$G$2:$H$579,2,0),\"\")","v":""}]
[null,null,null,null,{"$f":"IFERROR(VLOOKUP(D2006,Справка!$G$2:$H$579,2,0),\"\")","v":""}]
[null,null,null,null,{"$f":"IFERROR(VLOOKUP(D2007,Справка!$G$2:$H$579,2,0),\"\")","v":""}]
[null,null,null,null,{"$f":"IFERROR(VLOOKUP(D2008,Справка!$G$2:$H$579,2,0),\"\")","v":""}]
[null,null,null,null,{"$f":"IFERROR(VLOOKUP(D2009,Справка!$G$2:$H$579,2,0),\"\")","v":""}]
[null,null,null,null,{"$f":"IFERROR(VLOOKUP(D2010,Справка!$G$2:$H$579,2,0),\"\")","v":""}]
[null,null,null,null,{"$f":"IFERROR(VLOOKUP(D2011,Справка!$G$2:$H$579,2,0),\"\")","v":""}]
[null,null,null,null,{"$f":"IFERROR(VLOOKUP(D2012,Справка!$G$2:$H$579,2,0),\"\")","v":""}]
[null,null,null,null,{"$f":"IFERROR(VLOOKUP(D2013,Справка!$G$2:$H$579,2,0),\"\")","v":""}]
[null,null,null,null,{"$f":"IFERROR(VLOOKUP(D2014,Справка!$G$2:$H$579,2,0),\"\")","v":""}]
[null,null,null,null,{"$f":"IFERROR(VLOOKUP(D2015,Справка!$G$2:$H$579,2,0),\"\")","v":""}]
[null,null,null,null,{"$f":"IFERROR(VLOOKUP(D2016,Справка!$G$2:$H$579,2,0),\"\")","v":""}]
[null,null,null,null,{"$f":"IFERROR(VLOOKUP(D2017,Справка!$G$2:$H$579,2,0),\"\")","v":""}]
[null,null,null,null,{"$f":"IFERROR(VLOOKUP(D2018,Справка!$G$2:$H$579,2,0),\"\")","v":""}]
[null,null,null,null,{"$f":"IFERROR(VLOOKUP(D2019,Справка!$G$2:$H$579,2,0),\"\")","v":""}]
[null,null,null,null,{"$f":"IFERROR(VLOOKUP(D2020,Справка!$G$2:$H$579,2,0),\"\")","v":""}]
[null,null,null,null,{"$f":"IFERROR(VLOOKUP(D2021,Справка!$G$2:$H$579,2,0),\"\")","v":""}]
[null,null,null,null,{"$f":"IFERROR(VLOOKUP(D2022,Справка!$G$2:$H$579,2,0),\"\")","v":""}]
[null,null,null,null,{"$f":"IFERROR(VLOOKUP(D2023,Справка!$G$2:$H$579,2,0),\"\")","v":""}]
[null,null,null,null,{"$f":"IFERROR(VLOOKUP(D2024,Справка!$G$2:$H$579,2,0),\"\")","v":""}]
[null,null,null,null,{"$f":"IFERROR(VLOOKUP(D2025,Справка!$G$2:$H$579,2,0),\"\")","v":""}]
[null,null,null,null,{"$f":"IFERROR(VLOOKUP(D2026,Справка!$G$2:$H$579,2,0),\"\")","v":""}]
[null,null,null,null,{"$f":"IFERROR(VLOOKUP(D2027,Справка!$G$2:$H$579,2,0),\"\")","v":""}]
[null,null,null,null,{"$f":"IFERROR(VLOOKUP(D2028,Справка!$G$2:$H$579,2,0),\"\")","v":""}]
[null,null,null,null,{"$f":"IFERROR(VLOOKUP(D2029,Справка!$G$2:$H$579,2,0),\"\")","v":""}]
[null,null,null,null,{"$f":"IFERROR(VLOOKUP(D2030,Справка!$G$2:$H$579,2,0),\"\")","v":""}]
[null,null,null,null,{"$f":"IFERROR(VLOOKUP(D2031,Справка!$G$2:$H$579,2,0),\"\")","v":""}]
[null,null,null,null,{"$f":"IFERROR(VLOOKUP(D2032,Справка!$G$2:$H$579,2,0),\"\")","v":""}]
[null,null,null,null,{"$f":"IFERROR(VLOOKUP(D2033,Справка!$G$2:$H$579,2,0),\"\")","v":""}]
[null,null,null,null,{"$f":"IFERROR(VLOOKUP(D2034,Справка!$G$2:$H$579,2,0),\"\")","v":""}]
[null,null,null,null,{"$f":"IFERROR(VLOOKUP(D2035,Справка!$G$2:$H$579,2,0),\"\")","v":""}]
[null,null,null,null,{"$f":"IFERROR(VLOOKUP(D2036,Справка!$G$2:$H$579,2,0),\"\")","v":""}]
[null,null,null,null,{"$f":"IFERROR(VLOOKUP(D2037,Справка!$G$2:$H$579,2,0),\"\")","v":""}]
[null,null,null,null,{"$f":"IFERROR(VLOOKUP(D2038,Справка!$G$2:$H$579,2,0),\"\")","v":""}]
[null,null,null,null,{"$f":"IFERROR(VLOOKUP(D2039,Справка!$G$2:$H$579,2,0),\"\")","v":""}]
[null,null,null,null,{"$f":"IFERROR(VLOOKUP(D2040,Справка!$G$2:$H$579,2,0),\"\")","v":""}]
[null,null,null,null,{"$f":"IFERROR(VLOOKUP(D2041,Справка!$G$2:$H$579,2,0),\"\")","v":""}]
[null,null,null,null,{"$f":"IFERROR(VLOOKUP(D2042,Справка!$G$2:$H$579,2,0),\"\")","v":""}]
[null,null,null,null,{"$f":"IFERROR(VLOOKUP(D2043,Справка!$G$2:$H$579,2,0),\"\")","v":""}]
[null,null,null,null,{"$f":"IFERROR(VLOOKUP(D2044,Справка!$G$2:$H$579,2,0),\"\")","v":""}]
[null,null,null,null,{"$f":"IFERROR(VLOOKUP(D2045,Справка!$G$2:$H$579,2,0),\"\")","v":""}]
[null,null,null,null,{"$f":"IFERROR(VLOOKUP(D2046,Справка!$G$2:$H$579,2,0),\"\")","v":""}]
[null,null,null,null,{"$f":"IFERROR(VLOOKUP(D2047,Справка!$G$2:$H$579,2,0),\"\")","v":""}]
[null,null,null,null,{"$f":"IFERROR(VLOOKUP(D2048,Справка!$G$2:$H$579,2,0),\"\")","v":""}]
[null,null,null,null,{"$f":"IFERROR(VLOOKUP(D2049,Справка!$G$2:$H$579,2,0),\"\")","v":""}]
[null,null,null,null,{"$f":"IFERROR(VLOOKUP(D2050,Справка!$G$2:$H$579,2,0),\"\")","v":""}]
[null,null,null,null,{"$f":"IFERROR(VLOOKUP(D2051,Справка!$G$2:$H$579,2,0),\"\")","v":""}]
[null,null,null,null,{"$f":"IFERROR(VLOOKUP(D2052,Справка!$G$2:$H$579,2,0),\"\")","v":""}]
[null,null,null,null,{"$f":"IFERROR(VLOOKUP(D2053,Справка!$G$2:$H$579,2,0),\"\")","v":""}]
[null,null,null,null,{"$f":"IFERROR(VLOOKUP(D2054,Справка!$G$2:$H$579,2,0),\"\")","v":""}]
[null,null,null,null,{"$f":"IFERROR(VLOOKUP(D2055,Справка!$G$2:$H$579,2,0),\"\")","v":""}]
[null,null,null,null,{"$f":"IFERROR(VLOOKUP(D2056,Справка!$G$2:$H$579,2,0),\"\")","v":""}]
[null,null,null,null,{"$f":"IFERROR(VLOOKUP(D2057,Справка!$G$2:$H$579,2,0),\"\")","v":""}]
[null,null,null,null,{"$f":"IFERROR(VLOOKUP(D2058,Справка!$G$2:$H$579,2,0),\"\")","v":""}]
[null,null,null,null,{"$f":"IFERROR(VLOOKUP(D2059,Справка!$G$2:$H$579,2,0),\"\")","v":""}]
[null,null,null,null,{"$f":"IFERROR(VLOOKUP(D2060,Справка!$G$2:$H$579,2,0),\"\")","v":""}]
[null,null,null,null,{"$f":"IFERROR(VLOOKUP(D2061,Справка!$G$2:$H$579,2,0),\"\")","v":""}]
[null,null,null,null,{"$f":"IFERROR(VLOOKUP(D2062,Справка!$G$2:$H$579,2,0),\"\")","v":""}]
[null,null,null,null,{"$f":"IFERROR(VLOOKUP(D2063,Справка!$G$2:$H$579,2,0),\"\")","v":""}]
[null,null,null,null,{"$f":"IFERROR(VLOOKUP(D2064,Справка!$G$2:$H$579,2,0),\"\")","v":""}]
[null,null,null,null,{"$f":"IFERROR(VLOOKUP(D2065,Справка!$G$2:$H$579,2,0),\"\")","v":""}]
[null,null,null,null,{"$f":"IFERROR(VLOOKUP(D2066,Справка!$G$2:$H$579,2,0),\"\")","v":""}]
[null,null,null,null,{"$f":"IFERROR(VLOOKUP(D2067,Справка!$G$2:$H$579,2,0),\"\")","v":""}]
[null,null,null,null,{"$f":"IFERROR(VLOOKUP(D2068,Справка!$G$2:$H$579,2,0),\"\")","v":""}]
[null,null,null,null,{"$f":"IFERROR(VLOOKUP(D2069,Справка!$G$2:$H$579,2,0),\"\")","v":""}]
[null,null,null,null,{"$f":"IFERROR(VLOOKUP(D2070,Справка!$G$2:$H$579,2,0),\"\")","v":""}]
[null,null,null,null,{"$f":"IFERROR(VLOOKUP(D2071,Справка!$G$2:$H$579,2,0),\"\")","v":""}]
[null,null,null,null,{"$f":"IFERROR(VLOOKUP(D2072,Справка!$G$2:$H$579,2,0),\"\")","v":""}]
[null,null,null,null,{"$f":"IFERROR(VLOOKUP(D2073,Справка!$G$2:$H$579,2,0),\"\")","v":""}]
[null,null,null,null,{"$f":"IFERROR(VLOOKUP(D2074,Справка!$G$2:$H$579,2,0),\"\")","v":""}]
[null,null,null,null,{"$f":"IFERROR(VLOOKUP(D2075,Справка!$G$2:$H$579,2,0),\"\")","v":""}]
[null,null,null,null,{"$f":"IFERROR(VLOOKUP(D2076,Справка!$G$2:$H$579,2,0),\"\")","v":""}]
[null,null,null,null,{"$f":"IFERROR(VLOOKUP(D2077,Справка!$G$2:$H$579,2,0),\"\")","v":""}]
[null,null,null,null,{"$f":"IFERROR(VLOOKUP(D2078,Справка!$G$2:$H$579,2,0),\"\")","v":""}]
[null,null,null,null,{"$f":"IFERROR(VLOOKUP(D2079,Справка!$G$2:$H$579,2,0),\"\")","v":""}]
[null,null,null,null,{"$f":"IFERROR(VLOOKUP(D2080,Справка!$G$2:$H$579,2,0),\"\")","v":""}]
[null,null,null,null,{"$f":"IFERROR(VLOOKUP(D2081,Справка!$G$2:$H$579,2,0),\"\")","v":""}]
[null,null,null,null,{"$f":"IFERROR(VLOOKUP(D2082,Справка!$G$2:$H$579,2,0),\"\")","v":""}]
[null,null,null,null,{"$f":"IFERROR(VLOOKUP(D2083,Справка!$G$2:$H$579,2,0),\"\")","v":""}]
[null,null,null,null,{"$f":"IFERROR(VLOOKUP(D2084,Справка!$G$2:$H$579,2,0),\"\")","v":""}]
[null,null,null,null,{"$f":"IFERROR(VLOOKUP(D2085,Справка!$G$2:$H$579,2,0),\"\")","v":""}]
[null,null,null,null,{"$f":"IFERROR(VLOOKUP(D2086,Справка!$G$2:$H$579,2,0),\"\")","v":""}]
[null,null,null,null,{"$f":"IFERROR(VLOOKUP(D2087,Справка!$G$2:$H$579,2,0),\"\")","v":""}]
[null,null,null,null,{"$f":"IFERROR(VLOOKUP(D2088,Справка!$G$2:$H$579,2,0),\"\")","v":""}]
[null,null,null,null,{"$f":"IFERROR(VLOOKUP(D2089,Справка!$G$2:$H$579,2,0),\"\")","v":""}]
[null,null,null,null,{"$f":"IFERROR(VLOOKUP(D2090,Справка!$G$2:$H$579,2,0),\"\")","v":""}]
[null,null,null,null,{"$f":"IFERROR(VLOOKUP(D2091,Справка!$G$2:$H$579,2,0),\"\")","v":""}]
[null,null,null,null,{"$f":"IFERROR(VLOOKUP(D2092,Справка!$G$2:$H$579,2,0),\"\")","v":""}]
[null,null,null,null,{"$f":"IFERROR(VLOOKUP(D2093,Справка!$G$2:$H$579,2,0),\"\")","v":""}]
[null,null,null,null,{"$f":"IFERROR(VLOOKUP(D2094,Справка!$G$2:$H$579,2,0),\"\")","v":""}]
[null,null,null,null,{"$f":"IFERROR(VLOOKUP(D2095,Справка!$G$2:$H$579,2,0),\"\")","v":""}]
[null,null,null,null,{"$f":"IFERROR(VLOOKUP(D2096,Справка!$G$2:$H$579,2,0),\"\")","v":""}]
[null,null,null,null,{"$f":"IFERROR(VLOOKUP(D2097,Справка!$G$2:$H$579,2,0),\"\")","v":""}]
[null,null,null,null,{"$f":"IFERROR(VLOOKUP(D2098,Справка!$G$2:$H$579,2,0),\"\")","v":""}]
[null,null,null,null,{"$f":"IFERROR(VLOOKUP(D2099,Справка!$G$2:$H$579,2,0),\"\")","v":""}]
[null,null,null,null,{"$f":"IFERROR(VLOOKUP(D2100,Справка!$G$2:$H$579,2,0),\"\")","v":""}]
[null,null,null,null,{"$f":"IFERROR(VLOOKUP(D2101,Справка!$G$2:$H$579,2,0),\"\")","v":""}]
[null,null,null,null,{"$f":"IFERROR(VLOOKUP(D2102,Справка!$G$2:$H$579,2,0),\"\")","v":""}]
[null,null,null,null,{"$f":"IFERROR(VLOOKUP(D2103,Справка!$G$2:$H$579,2,0),\"\")","v":""}]
[null,null,null,null,{"$f":"IFERROR(VLOOKUP(D2104,Справка!$G$2:$H$579,2,0),\"\")","v":""}]
[null,null,null,null,{"$f":"IFERROR(VLOOKUP(D2105,Справка!$G$2:$H$579,2,0),\"\")","v":""}]
[null,null,null,null,{"$f":"IFERROR(VLOOKUP(D2106,Справка!$G$2:$H$579,2,0),\"\")","v":""}]
[null,null,null,null,{"$f":"IFERROR(VLOOKUP(D2107,Справка!$G$2:$H$579,2,0),\"\")","v":""}]
[null,null,null,null,{"$f":"IFERROR(VLOOKUP(D2108,Справка!$G$2:$H$579,2,0),\"\")","v":""}]
[null,null,null,null,{"$f":"IFERROR(VLOOKUP(D2109,Справка!$G$2:$H$579,2,0),\"\")","v":""}]
[null,null,null,null,{"$f":"IFERROR(VLOOKUP(D2110,Справка!$G$2:$H$579,2,0),\"\")","v":""}]
[null,null,null,null,{"$f":"IFERROR(VLOOKUP(D2111,Справка!$G$2:$H$579,2,0),\"\")","v":""}]
[null,null,null,null,{"$f":"IFERROR(VLOOKUP(D2112,Справка!$G$2:$H$579,2,0),\"\")","v":""}]
[null,null,null,null,{"$f":"IFERROR(VLOOKUP(D2113,Справка!$G$2:$H$579,2,0),\"\")","v":""}]
[null,null,null,null,{"$f":"IFERROR(VLOOKUP(D2114,Справка!$G$2:$H$579,2,0),\"\")","v":""}]
[null,null,null,null,{"$f":"IFERROR(VLOOKUP(D2115,Справка!$G$2:$H$579,2,0),\"\")","v":""}]
[null,null,null,null,{"$f":"IFERROR(VLOOKUP(D2116,Справка!$G$2:$H$579,2,0),\"\")","v":""}]
[null,null,null,null,{"$f":"IFERROR(VLOOKUP(D2117,Справка!$G$2:$H$579,2,0),\"\")","v":""}]
[null,null,null,null,{"$f":"IFERROR(VLOOKUP(D2118,Справка!$G$2:$H$579,2,0),\"\")","v":""}]
[null,null,null,null,{"$f":"IFERROR(VLOOKUP(D2119,Справка!$G$2:$H$579,2,0),\"\")","v":""}]
[null,null,null,null,{"$f":"IFERROR(VLOOKUP(D2120,Справка!$G$2:$H$579,2,0),\"\")","v":""}]
[null,null,null,null,{"$f":"IFERROR(VLOOKUP(D2121,Справка!$G$2:$H$579,2,0),\"\")","v":""}]
[null,null,null,null,{"$f":"IFERROR(VLOOKUP(D2122,Справка!$G$2:$H$579,2,0),\"\")","v":""}]
[null,null,null,null,{"$f":"IFERROR(VLOOKUP(D2123,Справка!$G$2:$H$579,2,0),\"\")","v":""}]
[null,null,null,null,{"$f":"IFERROR(VLOOKUP(D2124,Справка!$G$2:$H$579,2,0),\"\")","v":""}]
[null,null,null,null,{"$f":"IFERROR(VLOOKUP(D2125,Справка!$G$2:$H$579,2,0),\"\")","v":""}]
[null,null,null,null,{"$f":"IFERROR(VLOOKUP(D2126,Справка!$G$2:$H$579,2,0),\"\")","v":""}]
[null,null,null,null,{"$f":"IFERROR(VLOOKUP(D2127,Справка!$G$2:$H$579,2,0),\"\")","v":""}]
[null,null,null,null,{"$f":"IFERROR(VLOOKUP(D2128,Справка!$G$2:$H$579,2,0),\"\")","v":""}]
[null,null,null,null,{"$f":"IFERROR(VLOOKUP(D2129,Справка!$G$2:$H$579,2,0),\"\")","v":""}]
[null,null,null,null,{"$f":"IFERROR(VLOOKUP(D2130,Справка!$G$2:$H$579,2,0),\"\")","v":""}]
[null,null,null,null,{"$f":"IFERROR(VLOOKUP(D2131,Справка!$G$2:$H$579,2,0),\"\")","v":""}]
[null,null,null,null,{"$f":"IFERROR(VLOOKUP(D2132,Справка!$G$2:$H$579,2,0),\"\")","v":""}]
[null,null,null,null,{"$f":"IFERROR(VLOOKUP(D2133,Справка!$G$2:$H$579,2,0),\"\")","v":""}]
[null,null,null,null,{"$f":"IFERROR(VLOOKUP(D2134,Справка!$G$2:$H$579,2,0),\"\")","v":""}]
[null,null,null,null,{"$f":"IFERROR(VLOOKUP(D2135,Справка!$G$2:$H$579,2,0),\"\")","v":""}]
[null,null,null,null,{"$f":"IFERROR(VLOOKUP(D2136,Справка!$G$2:$H$579,2,0),\"\")","v":""}]
[null,null,null,null,{"$f":"IFERROR(VLOOKUP(D2137,Справка!$G$2:$H$579,2,0),\"\")","v":""}]
[null,null,null,null,{"$f":"IFERROR(VLOOKUP(D2138,Справка!$G$2:$H$579,2,0),\"\")","v":""}]
[null,null,null,null,{"$f":"IFERROR(VLOOKUP(D2139,Справка!$G$2:$H$579,2,0),\"\")","v":""}]
[null,null,null,null,{"$f":"IFERROR(VLOOKUP(D2140,Справка!$G$2:$H$579,2,0),\"\")","v":""}]
[null,null,null,null,{"$f":"IFERROR(VLOOKUP(D2141,Справка!$G$2:$H$579,2,0),\"\")","v":""}]
[null,null,null,null,{"$f":"IFERROR(VLOOKUP(D2142,Справка!$G$2:$H$579,2,0),\"\")","v":""}]
[null,null,null,null,{"$f":"IFERROR(VLOOKUP(D2143,Справка!$G$2:$H$579,2,0),\"\")","v":""}]
[null,null,null,null,{"$f":"IFERROR(VLOOKUP(D2144,Справка!$G$2:$H$579,2,0),\"\")","v":""}]
[null,null,null,null,{"$f":"IFERROR(VLOOKUP(D2145,Справка!$G$2:$H$579,2,0),\"\")","v":""}]
[null,null,null,null,{"$f":"IFERROR(VLOOKUP(D2146,Справка!$G$2:$H$579,2,0),\"\")","v":""}]
[null,null,null,null,{"$f":"IFERROR(VLOOKUP(D2147,Справка!$G$2:$H$579,2,0),\"\")","v":""}]
[null,null,null,null,{"$f":"IFERROR(VLOOKUP(D2148,Справка!$G$2:$H$579,2,0),\"\")","v":""}]
[null,null,null,null,{"$f":"IFERROR(VLOOKUP(D2149,Справка!$G$2:$H$579,2,0),\"\")","v":""}]
[null,null,null,null,{"$f":"IFERROR(VLOOKUP(D2150,Справка!$G$2:$H$579,2,0),\"\")","v":""}]
[null,null,null,null,{"$f":"IFERROR(VLOOKUP(D2151,Справка!$G$2:$H$579,2,0),\"\")","v":""}]
[null,null,null,null,{"$f":"IFERROR(VLOOKUP(D2152,Справка!$G$2:$H$579,2,0),\"\")","v":""}]
[null,null,null,null,{"$f":"IFERROR(VLOOKUP(D2153,Справка!$G$2:$H$579,2,0),\"\")","v":""}]
[null,null,null,null,{"$f":"IFERROR(VLOOKUP(D2154,Справка!$G$2:$H$579,2,0),\"\")","v":""}]
[null,null,null,null,{"$f":"IFERROR(VLOOKUP(D2155,Справка!$G$2:$H$579,2,0),\"\")","v":""}]
[null,null,null,null,{"$f":"IFERROR(VLOOKUP(D2156,Справка!$G$2:$H$579,2,0),\"\")","v":""}]
[null,null,null,null,{"$f":"IFERROR(VLOOKUP(D2157,Справка!$G$2:$H$579,2,0),\"\")","v":""}]
[null,null,null,null,{"$f":"IFERROR(VLOOKUP(D2158,Справка!$G$2:$H$579,2,0),\"\")","v":""}]
[null,null,null,null,{"$f":"IFERROR(VLOOKUP(D2159,Справка!$G$2:$H$579,2,0),\"\")","v":""}]
[null,null,null,null,{"$f":"IFERROR(VLOOKUP(D2160,Справка!$G$2:$H$579,2,0),\"\")","v":""}]
[null,null,null,null,{"$f":"IFERROR(VLOOKUP(D2161,Справка!$G$2:$H$579,2,0),\"\")","v":""}]
[null,null,null,null,{"$f":"IFERROR(VLOOKUP(D2162,Справка!$G$2:$H$579,2,0),\"\")","v":""}]
[null,null,null,null,{"$f":"IFERROR(VLOOKUP(D2163,Справка!$G$2:$H$579,2,0),\"\")","v":""}]
[null,null,null,null,{"$f":"IFERROR(VLOOKUP(D2164,Справка!$G$2:$H$579,2,0),\"\")","v":""}]
[null,null,null,null,{"$f":"IFERROR(VLOOKUP(D2165,Справка!$G$2:$H$579,2,0),\"\")","v":""}]
[null,null,null,null,{"$f":"IFERROR(VLOOKUP(D2166,Справка!$G$2:$H$579,2,0),\"\")","v":""}]
[null,null,null,null,{"$f":"IFERROR(VLOOKUP(D2167,Справка!$G$2:$H$579,2,0),\"\")","v":""}]
[null,null,null,null,{"$f":"IFERROR(VLOOKUP(D2168,Справка!$G$2:$H$579,2,0),\"\")","v":""}]
[null,null,null,null,{"$f":"IFERROR(VLOOKUP(D2169,Справка!$G$2:$H$579,2,0),\"\")","v":""}]
[null,null,null,null,{"$f":"IFERROR(VLOOKUP(D2170,Справка!$G$2:$H$579,2,0),\"\")","v":""}]
[null,null,null,null,{"$f":"IFERROR(VLOOKUP(D2171,Справка!$G$2:$H$579,2,0),\"\")","v":""}]
[null,null,null,null,{"$f":"IFERROR(VLOOKUP(D2172,Справка!$G$2:$H$579,2,0),\"\")","v":""}]
[null,null,null,null,{"$f":"IFERROR(VLOOKUP(D2173,Справка!$G$2:$H$579,2,0),\"\")","v":""}]
[null,null,null,null,{"$f":"IFERROR(VLOOKUP(D2174,Справка!$G$2:$H$579,2,0),\"\")","v":""}]
[null,null,null,null,{"$f":"IFERROR(VLOOKUP(D2175,Справка!$G$2:$H$579,2,0),\"\")","v":""}]
[null,null,null,null,{"$f":"IFERROR(VLOOKUP(D2176,Справка!$G$2:$H$579,2,0),\"\")","v":""}]
[null,null,null,null,{"$f":"IFERROR(VLOOKUP(D2177,Справка!$G$2:$H$579,2,0),\"\")","v":""}]
[null,null,null,null,{"$f":"IFERROR(VLOOKUP(D2178,Справка!$G$2:$H$579,2,0),\"\")","v":""}]
[null,null,null,null,{"$f":"IFERROR(VLOOKUP(D2179,Справка!$G$2:$H$579,2,0),\"\")","v":""}]
[null,null,null,null,{"$f":"IFERROR(VLOOKUP(D2180,Справка!$G$2:$H$579,2,0),\"\")","v":""}]
[null,null,null,null,{"$f":"IFERROR(VLOOKUP(D2181,Справка!$G$2:$H$579,2,0),\"\")","v":""}]
[null,null,null,null,{"$f":"IFERROR(VLOOKUP(D2182,Справка!$G$2:$H$579,2,0),\"\")","v":""}]
[null,null,null,null,{"$f":"IFERROR(VLOOKUP(D2183,Справка!$G$2:$H$579,2,0),\"\")","v":""}]
[null,null,null,null,{"$f":"IFERROR(VLOOKUP(D2184,Справка!$G$2:$H$579,2,0),\"\")","v":""}]
[null,null,null,null,{"$f":"IFERROR(VLOOKUP(D2185,Справка!$G$2:$H$579,2,0),\"\")","v":""}]
[null,null,null,null,{"$f":"IFERROR(VLOOKUP(D2186,Справка!$G$2:$H$579,2,0),\"\")","v":""}]
[null,null,null,null,{"$f":"IFERROR(VLOOKUP(D2187,Справка!$G$2:$H$579,2,0),\"\")","v":""}]
[null,null,null,null,{"$f":"IFERROR(VLOOKUP(D2188,Справка!$G$2:$H$579,2,0),\"\")","v":""}]
[null,null,null,null,{"$f":"IFERROR(VLOOKUP(D2189,Справка!$G$2:$H$579,2,0),\"\")","v":""}]
[null,null,null,null,{"$f":"IFERROR(VLOOKUP(D2190,Справка!$G$2:$H$579,2,0),\"\")","v":""}]
[null,null,null,null,{"$f":"IFERROR(VLOOKUP(D2191,Справка!$G$2:$H$579,2,0),\"\")","v":""}]
[null,null,null,null,{"$f":"IFERROR(VLOOKUP(D2192,Справка!$G$2:$H$579,2,0),\"\")","v":""}]
[null,null,null,null,{"$f":"IFERROR(VLOOKUP(D2193,Справка!$G$2:$H$579,2,0),\"\")","v":""}]
[null,null,null,null,{"$f":"IFERROR(VLOOKUP(D2194,Справка!$G$2:$H$579,2,0),\"\")","v":""}]
[null,null,null,null,{"$f":"IFERROR(VLOOKUP(D2195,Справка!$G$2:$H$579,2,0),\"\")","v":""}]
[null,null,null,null,{"$f":"IFERROR(VLOOKUP(D2196,Справка!$G$2:$H$579,2,0),\"\")","v":""}]
[null,null,null,null,{"$f":"IFERROR(VLOOKUP(D2197,Справка!$G$2:$H$579,2,0),\"\")","v":""}]
[null,null,null,null,{"$f":"IFERROR(VLOOKUP(D2198,Справка!$G$2:$H$579,2,0),\"\")","v":""}]
[null,null,null,null,{"$f":"IFERROR(VLOOKUP(D2199,Справка!$G$2:$H$579,2,0),\"\")","v":""}]
[null,null,null,null,{"$f":"IFERROR(VLOOKUP(D2200,Справка!$G$2:$H$579,2,0),\"\")","v":""}]
[null,null,null,null,{"$f":"IFERROR(VLOOKUP(D2201,Справка!$G$2:$H$579,2,0),\"\")","v":""}]
[null,null,null,null,{"$f":"IFERROR(VLOOKUP(D2202,Справка!$G$2:$H$579,2,0),\"\")","v":""}]
[null,null,null,null,{"$f":"IFERROR(VLOOKUP(D2203,Справка!$G$2:$H$579,2,0),\"\")","v":""}]
[null,null,null,null,{"$f":"IFERROR(VLOOKUP(D2204,Справка!$G$2:$H$579,2,0),\"\")","v":""}]
[null,null,null,null,{"$f":"IFERROR(VLOOKUP(D2205,Справка!$G$2:$H$579,2,0),\"\")","v":""}]
[null,null,null,null,{"$f":"IFERROR(VLOOKUP(D2206,Справка!$G$2:$H$579,2,0),\"\")","v":""}]
[null,null,null,null,{"$f":"IFERROR(VLOOKUP(D2207,Справка!$G$2:$H$579,2,0),\"\")","v":""}]
[null,null,null,null,{"$f":"IFERROR(VLOOKUP(D2208,Справка!$G$2:$H$579,2,0),\"\")","v":""}]
[null,null,null,null,{"$f":"IFERROR(VLOOKUP(D2209,Справка!$G$2:$H$579,2,0),\"\")","v":""}]
[null,null,null,null,{"$f":"IFERROR(VLOOKUP(D2210,Справка!$G$2:$H$579,2,0),\"\")","v":""}]
[null,null,null,null,{"$f":"IFERROR(VLOOKUP(D2211,Справка!$G$2:$H$579,2,0),\"\")","v":""}]
[null,null,null,null,{"$f":"IFERROR(VLOOKUP(D2212,Справка!$G$2:$H$579,2,0),\"\")","v":""}]
[null,null,null,null,{"$f":"IFERROR(VLOOKUP(D2213,Справка!$G$2:$H$579,2,0),\"\")","v":""}]
[null,null,null,null,{"$f":"IFERROR(VLOOKUP(D2214,Справка!$G$2:$H$579,2,0),\"\")","v":""}]
[null,null,null,null,{"$f":"IFERROR(VLOOKUP(D2215,Справка!$G$2:$H$579,2,0),\"\")","v":""}]
[null,null,null,null,{"$f":"IFERROR(VLOOKUP(D2216,Справка!$G$2:$H$579,2,0),\"\")","v":""}]
[null,null,null,null,{"$f":"IFERROR(VLOOKUP(D2217,Справка!$G$2:$H$579,2,0),\"\")","v":""}]
[null,null,null,null,{"$f":"IFERROR(VLOOKUP(D2218,Справка!$G$2:$H$579,2,0),\"\")","v":""}]
[null,null,null,null,{"$f":"IFERROR(VLOOKUP(D2219,Справка!$G$2:$H$579,2,0),\"\")","v":""}]
[null,null,null,null,{"$f":"IFERROR(VLOOKUP(D2220,Справка!$G$2:$H$579,2,0),\"\")","v":""}]
[null,null,null,null,{"$f":"IFERROR(VLOOKUP(D2221,Справка!$G$2:$H$579,2,0),\"\")","v":""}]
[null,null,null,null,{"$f":"IFERROR(VLOOKUP(D2222,Справка!$G$2:$H$579,2,0),\"\")","v":""}]
[null,null,null,null,{"$f":"IFERROR(VLOOKUP(D2223,Справка!$G$2:$H$579,2,0),\"\")","v":""}]
[null,null,null,null,{"$f":"IFERROR(VLOOKUP(D2224,Справка!$G$2:$H$579,2,0),\"\")","v":""}]
[null,null,null,null,{"$f":"IFERROR(VLOOKUP(D2225,Справка!$G$2:$H$579,2,0),\"\")","v":""}]
[null,null,null,null,{"$f":"IFERROR(VLOOKUP(D2226,Справка!$G$2:$H$579,2,0),\"\")","v":""}]
[null,null,null,null,{"$f":"IFERROR(VLOOKUP(D2227,Справка!$G$2:$H$579,2,0),\"\")","v":""}]
[null,null,null,null,{"$f":"IFERROR(VLOOKUP(D2228,Справка!$G$2:$H$579,2,0),\"\")","v":""}]
[null,null,null,null,{"$f":"IFERROR(VLOOKUP(D2229,Справка!$G$2:$H$579,2,0),\"\")","v":""}]
[null,null,null,null,{"$f":"IFERROR(VLOOKUP(D2230,Справка!$G$2:$H$579,2,0),\"\")","v":""}]
[null,null,null,null,{"$f":"IFERROR(VLOOKUP(D2231,Справка!$G$2:$H$579,2,0),\"\")","v":""}]
[null,null,null,null,{"$f":"IFERROR(VLOOKUP(D2232,Справка!$G$2:$H$579,2,0),\"\")","v":""}]
[null,null,null,null,{"$f":"IFERROR(VLOOKUP(D2233,Справка!$G$2:$H$579,2,0),\"\")","v":""}]
[null,null,null,null,{"$f":"IFERROR(VLOOKUP(D2234,Справка!$G$2:$H$579,2,0),\"\")","v":""}]
[null,null,null,null,{"$f":"IFERROR(VLOOKUP(D2235,Справка!$G$2:$H$579,2,0),\"\")","v":""}]
[null,null,null,null,{"$f":"IFERROR(VLOOKUP(D2236,Справка!$G$2:$H$579,2,0),\"\")","v":""}]
[null,null,null,null,{"$f":"IFERROR(VLOOKUP(D2237,Справка!$G$2:$H$579,2,0),\"\")","v":""}]
[null,null,null,null,{"$f":"IFERROR(VLOOKUP(D2238,Справка!$G$2:$H$579,2,0),\"\")","v":""}]
[null,null,null,null,{"$f":"IFERROR(VLOOKUP(D2239,Справка!$G$2:$H$579,2,0),\"\")","v":""}]
[null,null,null,null,{"$f":"IFERROR(VLOOKUP(D2240,Справка!$G$2:$H$579,2,0),\"\")","v":""}]
[null,null,null,null,{"$f":"IFERROR(VLOOKUP(D2241,Справка!$G$2:$H$579,2,0),\"\")","v":""}]
[null,null,null,null,{"$f":"IFERROR(VLOOKUP(D2242,Справка!$G$2:$H$579,2,0),\"\")","v":""}]
[null,null,null,null,{"$f":"IFERROR(VLOOKUP(D2243,Справка!$G$2:$H$579,2,0),\"\")","v":""}]
[null,null,null,null,{"$f":"IFERROR(VLOOKUP(D2244,Справка!$G$2:$H$579,2,0),\"\")","v":""}]
[null,null,null,null,{"$f":"IFERROR(VLOOKUP(D2245,Справка!$G$2:$H$579,2,0),\"\")","v":""}]
[null,null,null,null,{"$f":"IFERROR(VLOOKUP(D2246,Справка!$G$2:$H$579,2,0),\"\")","v":""}]
[null,null,null,null,{"$f":"IFERROR(VLOOKUP(D2247,Справка!$G$2:$H$579,2,0),\"\")","v":""}]
[null,null,null,null,{"$f":"IFERROR(VLOOKUP(D2248,Справка!$G$2:$H$579,2,0),\"\")","v":""}]
[null,null,null,null,{"$f":"IFERROR(VLOOKUP(D2249,Справка!$G$2:$H$579,2,0),\"\")","v":""}]
[null,null,null,null,{"$f":"IFERROR(VLOOKUP(D2250,Справка!$G$2:$H$579,2,0),\"\")","v":""}]
[null,null,null,null,{"$f":"IFERROR(VLOOKUP(D2251,Справка!$G$2:$H$579,2,0),\"\")","v":""}]
[null,null,null,null,{"$f":"IFERROR(VLOOKUP(D2252,Справка!$G$2:$H$579,2,0),\"\")","v":""}]
[null,null,null,null,{"$f":"IFERROR(VLOOKUP(D2253,Справка!$G$2:$H$579,2,0),\"\")","v":""}]
[null,null,null,null,{"$f":"IFERROR(VLOOKUP(D2254,Справка!$G$2:$H$579,2,0),\"\")","v":""}]
[null,null,null,null,{"$f":"IFERROR(VLOOKUP(D2255,Справка!$G$2:$H$579,2,0),\"\")","v":""}]
[null,null,null,null,{"$f":"IFERROR(VLOOKUP(D2256,Справка!$G$2:$H$579,2,0),\"\")","v":""}]
[null,null,null,null,{"$f":"IFERROR(VLOOKUP(D2257,Справка!$G$2:$H$579,2,0),\"\")","v":""}]
[null,null,null,null,{"$f":"IFERROR(VLOOKUP(D2258,Справка!$G$2:$H$579,2,0),\"\")","v":""}]
[null,null,null,null,{"$f":"IFERROR(VLOOKUP(D2259,Справка!$G$2:$H$579,2,0),\"\")","v":""}]
[null,null,null,null,{"$f":"IFERROR(VLOOKUP(D2260,Справка!$G$2:$H$579,2,0),\"\")","v":""}]
[null,null,null,null,{"$f":"IFERROR(VLOOKUP(D2261,Справка!$G$2:$H$579,2,0),\"\")","v":""}]
[null,null,null,null,{"$f":"IFERROR(VLOOKUP(D2262,Справка!$G$2:$H$579,2,0),\"\")","v":""}]
[null,null,null,null,{"$f":"IFERROR(VLOOKUP(D2263,Справка!$G$2:$H$579,2,0),\"\")","v":""}]
[null,null,null,null,{"$f":"IFERROR(VLOOKUP(D2264,Справка!$G$2:$H$579,2,0),\"\")","v":""}]
[null,null,null,null,{"$f":"IFERROR(VLOOKUP(D2265,Справка!$G$2:$H$579,2,0),\"\")","v":""}]
[null,null,null,null,{"$f":"IFERROR(VLOOKUP(D2266,Справка!$G$2:$H$579,2,0),\"\")","v":""}]
[null,null,null,null,{"$f":"IFERROR(VLOOKUP(D2267,Справка!$G$2:$H$579,2,0),\"\")","v":""}]
[null,null,null,null,{"$f":"IFERROR(VLOOKUP(D2268,Справка!$G$2:$H$579,2,0),\"\")","v":""}]
[null,null,null,null,{"$f":"IFERROR(VLOOKUP(D2269,Справка!$G$2:$H$579,2,0),\"\")","v":""}]
[null,null,null,null,{"$f":"IFERROR(VLOOKUP(D2270,Справка!$G$2:$H$579,2,0),\"\")","v":""}]
[null,null,null,null,{"$f":"IFERROR(VLOOKUP(D2271,Справка!$G$2:$H$579,2,0),\"\")","v":""}]
[null,null,null,null,{"$f":"IFERROR(VLOOKUP(D2272,Справка!$G$2:$H$579,2,0),\"\")","v":""}]
[null,null,null,null,{"$f":"IFERROR(VLOOKUP(D2273,Справка!$G$2:$H$579,2,0),\"\")","v":""}]
[null,null,null,null,{"$f":"IFERROR(VLOOKUP(D2274,Справка!$G$2:$H$579,2,0),\"\")","v":""}]
[null,null,null,null,{"$f":"IFERROR(VLOOKUP(D2275,Справка!$G$2:$H$579,2,0),\"\")","v":""}]
[null,null,null,null,{"$f":"IFERROR(VLOOKUP(D2276,Справка!$G$2:$H$579,2,0),\"\")","v":""}]
[null,null,null,null,{"$f":"IFERROR(VLOOKUP(D2277,Справка!$G$2:$H$579,2,0),\"\")","v":""}]
[null,null,null,null,{"$f":"IFERROR(VLOOKUP(D2278,Справка!$G$2:$H$579,2,0),\"\")","v":""}]
[null,null,null,null,{"$f":"IFERROR(VLOOKUP(D2279,Справка!$G$2:$H$579,2,0),\"\")","v":""}]
[null,null,null,null,{"$f":"IFERROR(VLOOKUP(D2280,Справка!$G$2:$H$579,2,0),\"\")","v":""}]
[null,null,null,null,{"$f":"IFERROR(VLOOKUP(D2281,Справка!$G$2:$H$579,2,0),\"\")","v":""}]
[null,null,null,null,{"$f":"IFERROR(VLOOKUP(D2282,Справка!$G$2:$H$579,2,0),\"\")","v":""}]
[null,null,null,null,{"$f":"IFERROR(VLOOKUP(D2283,Справка!$G$2:$H$579,2,0),\"\")","v":""}]
[null,null,null,null,{"$f":"IFERROR(VLOOKUP(D2284,Справка!$G$2:$H$579,2,0),\"\")","v":""}]
[null,null,null,null,{"$f":"IFERROR(VLOOKUP(D2285,Справка!$G$2:$H$579,2,0),\"\")","v":""}]
[null,null,null,null,{"$f":"IFERROR(VLOOKUP(D2286,Справка!$G$2:$H$579,2,0),\"\")","v":""}]
[null,null,null,null,{"$f":"IFERROR(VLOOKUP(D2287,Справка!$G$2:$H$579,2,0),\"\")","v":""}]
[null,null,null,null,{"$f":"IFERROR(VLOOKUP(D2288,Справка!$G$2:$H$579,2,0),\"\")","v":""}]
[null,null,null,null,{"$f":"IFERROR(VLOOKUP(D2289,Справка!$G$2:$H$579,2,0),\"\")","v":""}]
[null,null,null,null,{"$f":"IFERROR(VLOOKUP(D2290,Справка!$G$2:$H$579,2,0),\"\")","v":""}]
[null,null,null,null,{"$f":"IFERROR(VLOOKUP(D2291,Справка!$G$2:$H$579,2,0),\"\")","v":""}]
[null,null,null,null,{"$f":"IFERROR(VLOOKUP(D2292,Справка!$G$2:$H$579,2,0),\"\")","v":""}]
[null,null,null,null,{"$f":"IFERROR(VLOOKUP(D2293,Справка!$G$2:$H$579,2,0),\"\")","v":""}]
[null,null,null,null,{"$f":"IFERROR(VLOOKUP(D2294,Справка!$G$2:$H$579,2,0),\"\")","v":""}]
[null,null,null,null,{"$f":"IFERROR(VLOOKUP(D2295,Справка!$G$2:$H$579,2,0),\"\")","v":""}]
[null,null,null,null,{"$f":"IFERROR(VLOOKUP(D2296,Справка!$G$2:$H$579,2,0),\"\")","v":""}]
[null,null,null,null,{"$f":"IFERROR(VLOOKUP(D2297,Справка!$G$2:$H$579,2,0),\"\")","v":""}]
[null,null,null,null,{"$f":"IFERROR(VLOOKUP(D2298,Справка!$G$2:$H$579,2,0),\"\")","v":""}]
[null,null,null,null,{"$f":"IFERROR(VLOOKUP(D2299,Справка!$G$2:$H$579,2,0),\"\")","v":""}]
[null,null,null,null,{"$f":"IFERROR(VLOOKUP(D2300,Справка!$G$2:$H$579,2,0),\"\")","v":""}]
[null,null,null,null,{"$f":"IFERROR(VLOOKUP(D2301,Справка!$G$2:$H$579,2,0),\"\")","v":""}]
[null,null,null,null,{"$f":"IFERROR(VLOOKUP(D2302,Справка!$G$2:$H$579,2,0),\"\")","v":""}]
[null,null,null,null,{"$f":"IFERROR(VLOOKUP(D2303,Справка!$G$2:$H$579,2,0),\"\")","v":""}]
[null,null,null,null,{"$f":"IFERROR(VLOOKUP(D2304,Справка!$G$2:$H$579,2,0),\"\")","v":""}]
[null,null,null,null,{"$f":"IFERROR(VLOOKUP(D2305,Справка!$G$2:$H$579,2,0),\"\")","v":""}]
[null,null,null,null,{"$f":"IFERROR(VLOOKUP(D2306,Справка!$G$2:$H$579,2,0),\"\")","v":""}]
[null,null,null,null,{"$f":"IFERROR(VLOOKUP(D2307,Справка!$G$2:$H$579,2,0),\"\")","v":""}]
[null,null,null,null,{"$f":"IFERROR(VLOOKUP(D2308,Справка!$G$2:$H$579,2,0),\"\")","v":""}]
[null,null,null,null,{"$f":"IFERROR(VLOOKUP(D2309,Справка!$G$2:$H$579,2,0),\"\")","v":""}]
[null,null,null,null,{"$f":"IFERROR(VLOOKUP(D2310,Справка!$G$2:$H$579,2,0),\"\")","v":""}]
[null,null,null,null,{"$f":"IFERROR(VLOOKUP(D2311,Справка!$G$2:$H$579,2,0),\"\")","v":""}]
[null,null,null,null,{"$f":"IFERROR(VLOOKUP(D2312,Справка!$G$2:$H$579,2,0),\"\")","v":""}]
[null,null,null,null,{"$f":"IFERROR(VLOOKUP(D2313,Справка!$G$2:$H$579,2,0),\"\")","v":""}]
[null,null,null,null,{"$f":"IFERROR(VLOOKUP(D2314,Справка!$G$2:$H$579,2,0),\"\")","v":""}]
[null,null,null,null,{"$f":"IFERROR(VLOOKUP(D2315,Справка!$G$2:$H$579,2,0),\"\")","v":""}]
[null,null,null,null,{"$f":"IFERROR(VLOOKUP(D2316,Справка!$G$2:$H$579,2,0),\"\")","v":""}]
[null,null,null,null,{"$f":"IFERROR(VLOOKUP(D2317,Справка!$G$2:$H$579,2,0),\"\")","v":""}]
[null,null,null,null,{"$f":"IFERROR(VLOOKUP(D2318,Справка!$G$2:$H$579,2,0),\"\")","v":""}]
[null,null,null,null,{"$f":"IFERROR(VLOOKUP(D2319,Справка!$G$2:$H$579,2,0),\"\")","v":""}]
[null,null,null,null,{"$f":"IFERROR(VLOOKUP(D2320,Справка!$G$2:$H$579,2,0),\"\")","v":""}]
[null,null,null,null,{"$f":"IFERROR(VLOOKUP(D2321,Справка!$G$2:$H$579,2,0),\"\")","v":""}]
[null,null,null,null,{"$f":"IFERROR(VLOOKUP(D2322,Справка!$G$2:$H$579,2,0),\"\")","v":""}]
[null,null,null,null,{"$f":"IFERROR(VLOOKUP(D2323,Справка!$G$2:$H$579,2,0),\"\")","v":""}]
[null,null,null,null,{"$f":"IFERROR(VLOOKUP(D2324,Справка!$G$2:$H$579,2,0),\"\")","v":""}]
[null,null,null,null,{"$f":"IFERROR(VLOOKUP(D2325,Справка!$G$2:$H$579,2,0),\"\")","v":""}]
[null,null,null,null,{"$f":"IFERROR(VLOOKUP(D2326,Справка!$G$2:$H$579,2,0),\"\")","v":""}]
[null,null,null,null,{"$f":"IFERROR(VLOOKUP(D2327,Справка!$G$2:$H$579,2,0),\"\")","v":""}]
[null,null,null,null,{"$f":"IFERROR(VLOOKUP(D2328,Справка!$G$2:$H$579,2,0),\"\")","v":""}]
[null,null,null,null,{"$f":"IFERROR(VLOOKUP(D2329,Справка!$G$2:$H$579,2,0),\"\")","v":""}]
[null,null,null,null,{"$f":"IFERROR(VLOOKUP(D2330,Справка!$G$2:$H$579,2,0),\"\")","v":""}]
[null,null,null,null,{"$f":"IFERROR(VLOOKUP(D2331,Справка!$G$2:$H$579,2,0),\"\")","v":""}]
[null,null,null,null,{"$f":"IFERROR(VLOOKUP(D2332,Справка!$G$2:$H$579,2,0),\"\")","v":""}]
[null,null,null,null,{"$f":"IFERROR(VLOOKUP(D2333,Справка!$G$2:$H$579,2,0),\"\")","v":""}]
[null,null,null,null,{"$f":"IFERROR(VLOOKUP(D2334,Справка!$G$2:$H$579,2,0),\"\")","v":""}]
[null,null,null,null,{"$f":"IFERROR(VLOOKUP(D2335,Справка!$G$2:$H$579,2,0),\"\")","v":""}]
[null,null,null,null,{"$f":"IFERROR(VLOOKUP(D2336,Справка!$G$2:$H$579,2,0),\"\")","v":""}]
[null,null,null,null,{"$f":"IFERROR(VLOOKUP(D2337,Справка!$G$2:$H$579,2,0),\"\")","v":""}]
[null,null,null,null,{"$f":"IFERROR(VLOOKUP(D2338,Справка!$G$2:$H$579,2,0),\"\")","v":""}]
[null,null,null,null,{"$f":"IFERROR(VLOOKUP(D2339,Справка!$G$2:$H$579,2,0),\"\")","v":""}]
[null,null,null,null,{"$f":"IFERROR(VLOOKUP(D2340,Справка!$G$2:$H$579,2,0),\"\")","v":""}]
[null,null,null,null,{"$f":"IFERROR(VLOOKUP(D2341,Справка!$G$2:$H$579,2,0),\"\")","v":""}]
[null,null,null,null,{"$f":"IFERROR(VLOOKUP(D2342,Справка!$G$2:$H$579,2,0),\"\")","v":""}]
[null,null,null,null,{"$f":"IFERROR(VLOOKUP(D2343,Справка!$G$2:$H$579,2,0),\"\")","v":""}]
[null,null,null,null,{"$f":"IFERROR(VLOOKUP(D2344,Справка!$G$2:$H$579,2,0),\"\")","v":""}]
[null,null,null,null,{"$f":"IFERROR(VLOOKUP(D2345,Справка!$G$2:$H$579,2,0),\"\")","v":""}]
[null,null,null,null,{"$f":"IFERROR(VLOOKUP(D2346,Справка!$G$2:$H$579,2,0),\"\")","v":""}]
[null,null,null,null,{"$f":"IFERROR(VLOOKUP(D2347,Справка!$G$2:$H$579,2,0),\"\")","v":""}]
[null,null,null,null,{"$f":"IFERROR(VLOOKUP(D2348,Справка!$G$2:$H$579,2,0),\"\")","v":""}]
[null,null,null,null,{"$f":"IFERROR(VLOOKUP(D2349,Справка!$G$2:$H$579,2,0),\"\")","v":""}]
[null,null,null,null,{"$f":"IFERROR(VLOOKUP(D2350,Справка!$G$2:$H$579,2,0),\"\")","v":""}]
[null,null,null,null,{"$f":"IFERROR(VLOOKUP(D2351,Справка!$G$2:$H$579,2,0),\"\")","v":""}]
[null,null,null,null,{"$f":"IFERROR(VLOOKUP(D2352,Справка!$G$2:$H$579,2,0),\"\")","v":""}]
[null,null,null,null,{"$f":"IFERROR(VLOOKUP(D2353,Справка!$G$2:$H$579,2,0),\"\")","v":""}]
[null,null,null,null,{"$f":"IFERROR(VLOOKUP(D2354,Справка!$G$2:$H$579,2,0),\"\")","v":""}]
[null,null,null,null,{"$f":"IFERROR(VLOOKUP(D2355,Справка!$G$2:$H$579,2,0),\"\")","v":""}]
[null,null,null,null,{"$f":"IFERROR(VLOOKUP(D2356,Справка!$G$2:$H$579,2,0),\"\")","v":""}]
[null,null,null,null,{"$f":"IFERROR(VLOOKUP(D2357,Справка!$G$2:$H$579,2,0),\"\")","v":""}]
[null,null,null,null,{"$f":"IFERROR(VLOOKUP(D2358,Справка!$G$2:$H$579,2,0),\"\")","v":""}]
[null,null,null,null,{"$f":"IFERROR(VLOOKUP(D2359,Справка!$G$2:$H$579,2,0),\"\")","v":""}]
[null,null,null,null,{"$f":"IFERROR(VLOOKUP(D2360,Справка!$G$2:$H$579,2,0),\"\")","v":""}]
[null,null,null,null,{"$f":"IFERROR(VLOOKUP(D2361,Справка!$G$2:$H$579,2,0),\"\")","v":""}]
[null,null,null,null,{"$f":"IFERROR(VLOOKUP(D2362,Справка!$G$2:$H$579,2,0),\"\")","v":""}]
[null,null,null,null,{"$f":"IFERROR(VLOOKUP(D2363,Справка!$G$2:$H$579,2,0),\"\")","v":""}]
[null,null,null,null,{"$f":"IFERROR(VLOOKUP(D2364,Справка!$G$2:$H$579,2,0),\"\")","v":""}]
[null,null,null,null,{"$f":"IFERROR(VLOOKUP(D2365,Справка!$G$2:$H$579,2,0),\"\")","v":""}]
[null,null,null,null,{"$f":"IFERROR(VLOOKUP(D2366,Справка!$G$2:$H$579,2,0),\"\")","v":""}]
[null,null,null,null,{"$f":"IFERROR(VLOOKUP(D2367,Справка!$G$2:$H$579,2,0),\"\")","v":""}]
[null,null,null,null,{"$f":"IFERROR(VLOOKUP(D2368,Справка!$G$2:$H$579,2,0),\"\")","v":""}]
[null,null,null,null,{"$f":"IFERROR(VLOOKUP(D2369,Справка!$G$2:$H$579,2,0),\"\")","v":""}]
[null,null,null,null,{"$f":"IFERROR(VLOOKUP(D2370,Справка!$G$2:$H$579,2,0),\"\")","v":""}]
[null,null,null,null,{"$f":"IFERROR(VLOOKUP(D2371,Справка!$G$2:$H$579,2,0),\"\")","v":""}]
[null,null,null,null,{"$f":"IFERROR(VLOOKUP(D2372,Справка!$G$2:$H$579,2,0),\"\")","v":""}]
[null,null,null,null,{"$f":"IFERROR(VLOOKUP(D2373,Справка!$G$2:$H$579,2,0),\"\")","v":""}]
[null,null,null,null,{"$f":"IFERROR(VLOOKUP(D2374,Справка!$G$2:$H$579,2,0),\"\")","v":""}]
[null,null,null,null,{"$f":"IFERROR(VLOOKUP(D2375,Справка!$G$2:$H$579,2,0),\"\")","v":""}]
[null,null,null,null,{"$f":"IFERROR(VLOOKUP(D2376,Справка!$G$2:$H$579,2,0),\"\")","v":""}]
[null,null,null,null,{"$f":"IFERROR(VLOOKUP(D2377,Справка!$G$2:$H$579,2,0),\"\")","v":""}]
[null,null,null,null,{"$f":"IFERROR(VLOOKUP(D2378,Справка!$G$2:$H$579,2,0),\"\")","v":""}]
[null,null,null,null,{"$f":"IFERROR(VLOOKUP(D2379,Справка!$G$2:$H$579,2,0),\"\")","v":""}]
[null,null,null,null,{"$f":"IFERROR(VLOOKUP(D2380,Справка!$G$2:$H$579,2,0),\"\")","v":""}]
[null,null,null,null,{"$f":"IFERROR(VLOOKUP(D2381,Справка!$G$2:$H$579,2,0),\"\")","v":""}]
[null,null,null,null,{"$f":"IFERROR(VLOOKUP(D2382,Справка!$G$2:$H$579,2,0),\"\")","v":""}]
[null,null,null,null,{"$f":"IFERROR(VLOOKUP(D2383,Справка!$G$2:$H$579,2,0),\"\")","v":""}]
[null,null,null,null,{"$f":"IFERROR(VLOOKUP(D2384,Справка!$G$2:$H$579,2,0),\"\")","v":""}]
[null,null,null,null,{"$f":"IFERROR(VLOOKUP(D2385,Справка!$G$2:$H$579,2,0),\"\")","v":""}]
[null,null,null,null,{"$f":"IFERROR(VLOOKUP(D2386,Справка!$G$2:$H$579,2,0),\"\")","v":""}]
[null,null,null,null,{"$f":"IFERROR(VLOOKUP(D2387,Справка!$G$2:$H$579,2,0),\"\")","v":""}]
[null,null,null,null,{"$f":"IFERROR(VLOOKUP(D2388,Справка!$G$2:$H$579,2,0),\"\")","v":""}]
[null,null,null,null,{"$f":"IFERROR(VLOOKUP(D2389,Справка!$G$2:$H$579,2,0),\"\")","v":""}]
[null,null,null,null,{"$f":"IFERROR(VLOOKUP(D2390,Справка!$G$2:$H$579,2,0),\"\")","v":""}]
[null,null,null,null,{"$f":"IFERROR(VLOOKUP(D2391,Справка!$G$2:$H$579,2,0),\"\")","v":""}]
[null,null,null,null,{"$f":"IFERROR(VLOOKUP(D2392,Справка!$G$2:$H$579,2,0),\"\")","v":""}]
[null,null,null,null,{"$f":"IFERROR(VLOOKUP(D2393,Справка!$G$2:$H$579,2,0),\"\")","v":""}]
[null,null,null,null,{"$f":"IFERROR(VLOOKUP(D2394,Справка!$G$2:$H$579,2,0),\"\")","v":""}]
[null,null,null,null,{"$f":"IFERROR(VLOOKUP(D2395,Справка!$G$2:$H$579,2,0),\"\")","v":""}]
[null,null,null,null,{"$f":"IFERROR(VLOOKUP(D2396,Справка!$G$2:$H$579,2,0),\"\")","v":""}]
[null,null,null,null,{"$f":"IFERROR(VLOOKUP(D2397,Справка!$G$2:$H$579,2,0),\"\")","v":""}]
[null,null,null,null,{"$f":"IFERROR(VLOOKUP(D2398,Справка!$G$2:$H$579,2,0),\"\")","v":""}]
[null,null,null,null,{"$f":"IFERROR(VLOOKUP(D2399,Справка!$G$2:$H$579,2,0),\"\")","v":""}]
[null,null,null,null,{"$f":"IFERROR(VLOOKUP(D2400,Справка!$G$2:$H$579,2,0),\"\")","v":""}]
[null,null,null,null,{"$f":"IFERROR(VLOOKUP(D2401,Справка!$G$2:$H$579,2,0),\"\")","v":""}]
[null,null,null,null,{"$f":"IFERROR(VLOOKUP(D2402,Справка!$G$2:$H$579,2,0),\"\")","v":""}]
[null,null,null,null,{"$f":"IFERROR(VLOOKUP(D2403,Справка!$G$2:$H$579,2,0),\"\")","v":""}]
[null,null,null,null,{"$f":"IFERROR(VLOOKUP(D2404,Справка!$G$2:$H$579,2,0),\"\")","v":""}]
[null,null,null,null,{"$f":"IFERROR(VLOOKUP(D2405,Справка!$G$2:$H$579,2,0),\"\")","v":""}]
[null,null,null,null,{"$f":"IFERROR(VLOOKUP(D2406,Справка!$G$2:$H$579,2,0),\"\")","v":""}]
[null,null,null,null,{"$f":"IFERROR(VLOOKUP(D2407,Справка!$G$2:$H$579,2,0),\"\")","v":""}]
[null,null,null,null,{"$f":"IFERROR(VLOOKUP(D2408,Справка!$G$2:$H$579,2,0),\"\")","v":""}]
[null,null,null,null,{"$f":"IFERROR(VLOOKUP(D2409,Справка!$G$2:$H$579,2,0),\"\")","v":""}]
[null,null,null,null,{"$f":"IFERROR(VLOOKUP(D2410,Справка!$G$2:$H$579,2,0),\"\")","v":""}]
[null,null,null,null,{"$f":"IFERROR(VLOOKUP(D2411,Справка!$G$2:$H$579,2,0),\"\")","v":""}]
[null,null,null,null,{"$f":"IFERROR(VLOOKUP(D2412,Справка!$G$2:$H$579,2,0),\"\")","v":""}]
[null,null,null,null,{"$f":"IFERROR(VLOOKUP(D2413,Справка!$G$2:$H$579,2,0),\"\")","v":""}]
[null,null,null,null,{"$f":"IFERROR(VLOOKUP(D2414,Справка!$G$2:$H$579,2,0),\"\")","v":""}]
[null,null,null,null,{"$f":"IFERROR(VLOOKUP(D2415,Справка!$G$2:$H$579,2,0),\"\")","v":""}]
[null,null,null,null,{"$f":"IFERROR(VLOOKUP(D2416,Справка!$G$2:$H$579,2,0),\"\")","v":""}]
[null,null,null,null,{"$f":"IFERROR(VLOOKUP(D2417,Справка!$G$2:$H$579,2,0),\"\")","v":""}]
[null,null,null,null,{"$f":"IFERROR(VLOOKUP(D2418,Справка!$G$2:$H$579,2,0),\"\")","v":""}]
[null,null,null,null,{"$f":"IFERROR(VLOOKUP(D2419,Справка!$G$2:$H$579,2,0),\"\")","v":""}]
[null,null,null,null,{"$f":"IFERROR(VLOOKUP(D2420,Справка!$G$2:$H$579,2,0),\"\")","v":""}]
[null,null,null,null,{"$f":"IFERROR(VLOOKUP(D2421,Справка!$G$2:$H$579,2,0),\"\")","v":""}]
[null,null,null,null,{"$f":"IFERROR(VLOOKUP(D2422,Справка!$G$2:$H$579,2,0),\"\")","v":""}]
[null,null,null,null,{"$f":"IFERROR(VLOOKUP(D2423,Справка!$G$2:$H$579,2,0),\"\")","v":""}]
[null,null,null,null,{"$f":"IFERROR(VLOOKUP(D2424,Справка!$G$2:$H$579,2,0),\"\")","v":""}]
[null,null,null,null,{"$f":"IFERROR(VLOOKUP(D2425,Справка!$G$2:$H$579,2,0),\"\")","v":""}]
[null,null,null,null,{"$f":"IFERROR(VLOOKUP(D2426,Справка!$G$2:$H$579,2,0),\"\")","v":""}]
[null,null,null,null,{"$f":"IFERROR(VLOOKUP(D2427,Справка!$G$2:$H$579,2,0),\"\")","v":""}]
[null,null,null,null,{"$f":"IFERROR(VLOOKUP(D2428,Справка!$G$2:$H$579,2,0),\"\")","v":""}]
[null,null,null,null,{"$f":"IFERROR(VLOOKUP(D2429,Справка!$G$2:$H$579,2,0),\"\")","v":""}]
[null,null,null,null,{"$f":"IFERROR(VLOOKUP(D2430,Справка!$G$2:$H$579,2,0),\"\")","v":""}]
[null,null,null,null,{"$f":"IFERROR(VLOOKUP(D2431,Справка!$G$2:$H$579,2,0),\"\")","v":""}]
[null,null,null,null,{"$f":"IFERROR(VLOOKUP(D2432,Справка!$G$2:$H$579,2,0),\"\")","v":""}]
[null,null,null,null,{"$f":"IFERROR(VLOOKUP(D2433,Справка!$G$2:$H$579,2,0),\"\")","v":""}]
[null,null,null,null,{"$f":"IFERROR(VLOOKUP(D2434,Справка!$G$2:$H$579,2,0),\"\")","v":""}]
[null,null,null,null,{"$f":"IFERROR(VLOOKUP(D2435,Справка!$G$2:$H$579,2,0),\"\")","v":""}]
[null,null,null,null,{"$f":"IFERROR(VLOOKUP(D2436,Справка!$G$2:$H$579,2,0),\"\")","v":""}]
[null,null,null,null,{"$f":"IFERROR(VLOOKUP(D2437,Справка!$G$2:$H$579,2,0),\"\")","v":""}]
[null,null,null,null,{"$f":"IFERROR(VLOOKUP(D2438,Справка!$G$2:$H$579,2,0),\"\")","v":""}]
[null,null,null,null,{"$f":"IFERROR(VLOOKUP(D2439,Справка!$G$2:$H$579,2,0),\"\")","v":""}]
[null,null,null,null,{"$f":"IFERROR(VLOOKUP(D2440,Справка!$G$2:$H$579,2,0),\"\")","v":""}]
[null,null,null,null,{"$f":"IFERROR(VLOOKUP(D2441,Справка!$G$2:$H$579,2,0),\"\")","v":""}]
[null,null,null,null,{"$f":"IFERROR(VLOOKUP(D2442,Справка!$G$2:$H$579,2,0),\"\")","v":""}]
[null,null,null,null,{"$f":"IFERROR(VLOOKUP(D2443,Справка!$G$2:$H$579,2,0),\"\")","v":""}]
[null,null,null,null,{"$f":"IFERROR(VLOOKUP(D2444,Справка!$G$2:$H$579,2,0),\"\")","v":""}]
[null,null,null,null,{"$f":"IFERROR(VLOOKUP(D2445,Справка!$G$2:$H$579,2,0),\"\")","v":""}]
[null,null,null,null,{"$f":"IFERROR(VLOOKUP(D2446,Справка!$G$2:$H$579,2,0),\"\")","v":""}]
[null,null,null,null,{"$f":"IFERROR(VLOOKUP(D2447,Справка!$G$2:$H$579,2,0),\"\")","v":""}]
[null,null,null,null,{"$f":"IFERROR(VLOOKUP(D2448,Справка!$G$2:$H$579,2,0),\"\")","v":""}]
[null,null,null,null,{"$f":"IFERROR(VLOOKUP(D2449,Справка!$G$2:$H$579,2,0),\"\")","v":""}]
[null,null,null,null,{"$f":"IFERROR(VLOOKUP(D2450,Справка!$G$2:$H$579,2,0),\"\")","v":""}]
[null,null,null,null,{"$f":"IFERROR(VLOOKUP(D2451,Справка!$G$2:$H$579,2,0),\"\")","v":""}]
[null,null,null,null,{"$f":"IFERROR(VLOOKUP(D2452,Справка!$G$2:$H$579,2,0),\"\")","v":""}]
[null,null,null,null,{"$f":"IFERROR(VLOOKUP(D2453,Справка!$G$2:$H$579,2,0),\"\")","v":""}]
[null,null,null,null,{"$f":"IFERROR(VLOOKUP(D2454,Справка!$G$2:$H$579,2,0),\"\")","v":""}]
[null,null,null,null,{"$f":"IFERROR(VLOOKUP(D2455,Справка!$G$2:$H$579,2,0),\"\")","v":""}]
[null,null,null,null,{"$f":"IFERROR(VLOOKUP(D2456,Справка!$G$2:$H$579,2,0),\"\")","v":""}]
[null,null,null,null,{"$f":"IFERROR(VLOOKUP(D2457,Справка!$G$2:$H$579,2,0),\"\")","v":""}]
[null,null,null,null,{"$f":"IFERROR(VLOOKUP(D2458,Справка!$G$2:$H$579,2,0),\"\")","v":""}]
[null,null,null,null,{"$f":"IFERROR(VLOOKUP(D2459,Справка!$G$2:$H$579,2,0),\"\")","v":""}]
[null,null,null,null,{"$f":"IFERROR(VLOOKUP(D2460,Справка!$G$2:$H$579,2,0),\"\")","v":""}]
[null,null,null,null,{"$f":"IFERROR(VLOOKUP(D2461,Справка!$G$2:$H$579,2,0),\"\")","v":""}]
[null,null,null,null,{"$f":"IFERROR(VLOOKUP(D2462,Справка!$G$2:$H$579,2,0),\"\")","v":""}]
[null,null,null,null,{"$f":"IFERROR(VLOOKUP(D2463,Справка!$G$2:$H$579,2,0),\"\")","v":""}]
[null,null,null,null,{"$f":"IFERROR(VLOOKUP(D2464,Справка!$G$2:$H$579,2,0),\"\")","v":""}]
[null,null,null,null,{"$f":"IFERROR(VLOOKUP(D2465,Справка!$G$2:$H$579,2,0),\"\")","v":""}]
[null,null,null,null,{"$f":"IFERROR(VLOOKUP(D2466,Справка!$G$2:$H$579,2,0),\"\")","v":""}]
[null,null,null,null,{"$f":"IFERROR(VLOOKUP(D2467,Справка!$G$2:$H$579,2,0),\"\")","v":""}]
[null,null,null,null,{"$f":"IFERROR(VLOOKUP(D2468,Справка!$G$2:$H$579,2,0),\"\")","v":""}]
[null,null,null,null,{"$f":"IFERROR(VLOOKUP(D2469,Справка!$G$2:$H$579,2,0),\"\")","v":""}]
[null,null,null,null,{"$f":"IFERROR(VLOOKUP(D2470,Справка!$G$2:$H$579,2,0),\"\")","v":""}]
[null,null,null,null,{"$f":"IFERROR(VLOOKUP(D2471,Справка!$G$2:$H$579,2,0),\"\")","v":""}]
[null,null,null,null,{"$f":"IFERROR(VLOOKUP(D2472,Справка!$G$2:$H$579,2,0),\"\")","v":""}]
[null,null,null,null,{"$f":"IFERROR(VLOOKUP(D2473,Справка!$G$2:$H$579,2,0),\"\")","v":""}]
[null,null,null,null,{"$f":"IFERROR(VLOOKUP(D2474,Справка!$G$2:$H$579,2,0),\"\")","v":""}]
[null,null,null,null,{"$f":"IFERROR(VLOOKUP(D2475,Справка!$G$2:$H$579,2,0),\"\")","v":""}]
[null,null,null,null,{"$f":"IFERROR(VLOOKUP(D2476,Справка!$G$2:$H$579,2,0),\"\")","v":""}]
[null,null,null,null,{"$f":"IFERROR(VLOOKUP(D2477,Справка!$G$2:$H$579,2,0),\"\")","v":""}]
[null,null,null,null,{"$f":"IFERROR(VLOOKUP(D2478,Справка!$G$2:$H$579,2,0),\"\")","v":""}]
[null,null,null,null,{"$f":"IFERROR(VLOOKUP(D2479,Справка!$G$2:$H$579,2,0),\"\")","v":""}]
[null,null,null,null,{"$f":"IFERROR(VLOOKUP(D2480,Справка!$G$2:$H$579,2,0),\"\")","v":""}]
[null,null,null,null,{"$f":"IFERROR(VLOOKUP(D2481,Справка!$G$2:$H$579,2,0),\"\")","v":""}]
[null,null,null,null,{"$f":"IFERROR(VLOOKUP(D2482,Справка!$G$2:$H$579,2,0),\"\")","v":""}]
[null,null,null,null,{"$f":"IFERROR(VLOOKUP(D2483,Справка!$G$2:$H$579,2,0),\"\")","v":""}]
[null,null,null,null,{"$f":"IFERROR(VLOOKUP(D2484,Справка!$G$2:$H$579,2,0),\"\")","v":""}]
[null,null,null,null,{"$f":"IFERROR(VLOOKUP(D2485,Справка!$G$2:$H$579,2,0),\"\")","v":""}]
[null,null,null,null,{"$f":"IFERROR(VLOOKUP(D2486,Справка!$G$2:$H$579,2,0),\"\")","v":""}]
[null,null,null,null,{"$f":"IFERROR(VLOOKUP(D2487,Справка!$G$2:$H$579,2,0),\"\")","v":""}]
[null,null,null,null,{"$f":"IFERROR(VLOOKUP(D2488,Справка!$G$2:$H$579,2,0),\"\")","v":""}]
[null,null,null,null,{"$f":"IFERROR(VLOOKUP(D2489,Справка!$G$2:$H$579,2,0),\"\")","v":""}]
[null,null,null,null,{"$f":"IFERROR(VLOOKUP(D2490,Справка!$G$2:$H$579,2,0),\"\")","v":""}]
[null,null,null,null,{"$f":"IFERROR(VLOOKUP(D2491,Справка!$G$2:$H$579,2,0),\"\")","v":""}]
[null,null,null,null,{"$f":"IFERROR(VLOOKUP(D2492,Справка!$G$2:$H$579,2,0),\"\")","v":""}]
[null,null,null,null,{"$f":"IFERROR(VLOOKUP(D2493,Справка!$G$2:$H$579,2,0),\"\")","v":""}]
[null,null,null,null,{"$f":"IFERROR(VLOOKUP(D2494,Справка!$G$2:$H$579,2,0),\"\")","v":""}]
[null,null,null,null,{"$f":"IFERROR(VLOOKUP(D2495,Справка!$G$2:$H$579,2,0),\"\")","v":""}]
[null,null,null,null,{"$f":"IFERROR(VLOOKUP(D2496,Справка!$G$2:$H$579,2,0),\"\")","v":""}]
[null,null,null,null,{"$f":"IFERROR(VLOOKUP(D2497,Справка!$G$2:$H$579,2,0),\"\")","v":""}]
[null,null,null,null,{"$f":"IFERROR(VLOOKUP(D2498,Справка!$G$2:$H$579,2,0),\"\")","v":""}]
[null,null,null,null,{"$f":"IFERROR(VLOOKUP(D2499,Справка!$G$2:$H$579,2,0),\"\")","v":""}]
[null,null,null,null,{"$f":"IFERROR(VLOOKUP(D2500,Справка!$G$2:$H$579,2,0),\"\")","v":""}]
[null,null,null,null,{"$f":"IFERROR(VLOOKUP(D2501,Справка!$G$2:$H$579,2,0),\"\")","v":""}]
[null,null,null,null,{"$f":"IFERROR(VLOOKUP(D2502,Справка!$G$2:$H$579,2,0),\"\")","v":""}]
[null,null,null,null,{"$f":"IFERROR(VLOOKUP(D2503,Справка!$G$2:$H$579,2,0),\"\")","v":""}]
[null,null,null,null,{"$f":"IFERROR(VLOOKUP(D2504,Справка!$G$2:$H$579,2,0),\"\")","v":""}]
[null,null,null,null,{"$f":"IFERROR(VLOOKUP(D2505,Справка!$G$2:$H$579,2,0),\"\")","v":""}]
[null,null,null,null,{"$f":"IFERROR(VLOOKUP(D2506,Справка!$G$2:$H$579,2,0),\"\")","v":""}]
[null,null,null,null,{"$f":"IFERROR(VLOOKUP(D2507,Справка!$G$2:$H$579,2,0),\"\")","v":""}]
[null,null,null,null,{"$f":"IFERROR(VLOOKUP(D2508,Справка!$G$2:$H$579,2,0),\"\")","v":""}]
[null,null,null,null,{"$f":"IFERROR(VLOOKUP(D2509,Справка!$G$2:$H$579,2,0),\"\")","v":""}]
[null,null,null,null,{"$f":"IFERROR(VLOOKUP(D2510,Справка!$G$2:$H$579,2,0),\"\")","v":""}]
[null,null,null,null,{"$f":"IFERROR(VLOOKUP(D2511,Справка!$G$2:$H$579,2,0),\"\")","v":""}]
[null,null,null,null,{"$f":"IFERROR(VLOOKUP(D2512,Справка!$G$2:$H$579,2,0),\"\")","v":""}]
[null,null,null,null,{"$f":"IFERROR(VLOOKUP(D2513,Справка!$G$2:$H$579,2,0),\"\")","v":""}]
[null,null,null,null,{"$f":"IFERROR(VLOOKUP(D2514,Справка!$G$2:$H$579,2,0),\"\")","v":""}]
[null,null,null,null,{"$f":"IFERROR(VLOOKUP(D2515,Справка!$G$2:$H$579,2,0),\"\")","v":""}]
[null,null,null,null,{"$f":"IFERROR(VLOOKUP(D2516,Справка!$G$2:$H$579,2,0),\"\")","v":""}]
[null,null,null,null,{"$f":"IFERROR(VLOOKUP(D2517,Справка!$G$2:$H$579,2,0),\"\")","v":""}]
[null,null,null,null,{"$f":"IFERROR(VLOOKUP(D2518,Справка!$G$2:$H$579,2,0),\"\")","v":""}]
[null,null,null,null,{"$f":"IFERROR(VLOOKUP(D2519,Справка!$G$2:$H$579,2,0),\"\")","v":""}]
[null,null,null,null,{"$f":"IFERROR(VLOOKUP(D2520,Справка!$G$2:$H$579,2,0),\"\")","v":""}]
[null,null,null,null,{"$f":"IFERROR(VLOOKUP(D2521,Справка!$G$2:$H$579,2,0),\"\")","v":""}]
[null,null,null,null,{"$f":"IFERROR(VLOOKUP(D2522,Справка!$G$2:$H$579,2,0),\"\")","v":""}]
[null,null,null,null,{"$f":"IFERROR(VLOOKUP(D2523,Справка!$G$2:$H$579,2,0),\"\")","v":""}]
[null,null,null,null,{"$f":"IFERROR(VLOOKUP(D2524,Справка!$G$2:$H$579,2,0),\"\")","v":""}]
[null,null,null,null,{"$f":"IFERROR(VLOOKUP(D2525,Справка!$G$2:$H$579,2,0),\"\")","v":""}]
[null,null,null,null,{"$f":"IFERROR(VLOOKUP(D2526,Справка!$G$2:$H$579,2,0),\"\")","v":""}]
[null,null,null,null,{"$f":"IFERROR(VLOOKUP(D2527,Справка!$G$2:$H$579,2,0),\"\")","v":""}]
[null,null,null,null,{"$f":"IFERROR(VLOOKUP(D2528,Справка!$G$2:$H$579,2,0),\"\")","v":""}]
[null,null,null,null,{"$f":"IFERROR(VLOOKUP(D2529,Справка!$G$2:$H$579,2,0),\"\")","v":""}]
[null,null,null,null,{"$f":"IFERROR(VLOOKUP(D2530,Справка!$G$2:$H$579,2,0),\"\")","v":""}]
[null,null,null,null,{"$f":"IFERROR(VLOOKUP(D2531,Справка!$G$2:$H$579,2,0),\"\")","v":""}]
[null,null,null,null,{"$f":"IFERROR(VLOOKUP(D2532,Справка!$G$2:$H$579,2,0),\"\")","v":""}]
[null,null,null,null,{"$f":"IFERROR(VLOOKUP(D2533,Справка!$G$2:$H$579,2,0),\"\")","v":""}]
[null,null,null,null,{"$f":"IFERROR(VLOOKUP(D2534,Справка!$G$2:$H$579,2,0),\"\")","v":""}]
[null,null,null,null,{"$f":"IFERROR(VLOOKUP(D2535,Справка!$G$2:$H$579,2,0),\"\")","v":""}]
[null,null,null,null,{"$f":"IFERROR(VLOOKUP(D2536,Справка!$G$2:$H$579,2,0),\"\")","v":""}]
[null,null,null,null,{"$f":"IFERROR(VLOOKUP(D2537,Справка!$G$2:$H$579,2,0),\"\")","v":""}]
[null,null,null,null,{"$f":"IFERROR(VLOOKUP(D2538,Справка!$G$2:$H$579,2,0),\"\")","v":""}]
[null,null,null,null,{"$f":"IFERROR(VLOOKUP(D2539,Справка!$G$2:$H$579,2,0),\"\")","v":""}]
[null,null,null,null,{"$f":"IFERROR(VLOOKUP(D2540,Справка!$G$2:$H$579,2,0),\"\")","v":""}]
[null,null,null,null,{"$f":"IFERROR(VLOOKUP(D2541,Справка!$G$2:$H$579,2,0),\"\")","v":""}]
[null,null,null,null,{"$f":"IFERROR(VLOOKUP(D2542,Справка!$G$2:$H$579,2,0),\"\")","v":""}]
[null,null,null,null,{"$f":"IFERROR(VLOOKUP(D2543,Справка!$G$2:$H$579,2,0),\"\")","v":""}]
[null,null,null,null,{"$f":"IFERROR(VLOOKUP(D2544,Справка!$G$2:$H$579,2,0),\"\")","v":""}]
[null,null,null,null,{"$f":"IFERROR(VLOOKUP(D2545,Справка!$G$2:$H$579,2,0),\"\")","v":""}]
[null,null,null,null,{"$f":"IFERROR(VLOOKUP(D2546,Справка!$G$2:$H$579,2,0),\"\")","v":""}]
[null,null,null,null,{"$f":"IFERROR(VLOOKUP(D2547,Справка!$G$2:$H$579,2,0),\"\")","v":""}]
[null,null,null,null,{"$f":"IFERROR(VLOOKUP(D2548,Справка!$G$2:$H$579,2,0),\"\")","v":""}]
[null,null,null,null,{"$f":"IFERROR(VLOOKUP(D2549,Справка!$G$2:$H$579,2,0),\"\")","v":""}]
[null,null,null,null,{"$f":"IFERROR(VLOOKUP(D2550,Справка!$G$2:$H$579,2,0),\"\")","v":""}]
[null,null,null,null,{"$f":"IFERROR(VLOOKUP(D2551,Справка!$G$2:$H$579,2,0),\"\")","v":""}]
[null,null,null,null,{"$f":"IFERROR(VLOOKUP(D2552,Справка!$G$2:$H$579,2,0),\"\")","v":""}]
[null,null,null,null,{"$f":"IFERROR(VLOOKUP(D2553,Справка!$G$2:$H$579,2,0),\"\")","v":""}]
[null,null,null,null,{"$f":"IFERROR(VLOOKUP(D2554,Справка!$G$2:$H$579,2,0),\"\")","v":""}]
[null,null,null,null,{"$f":"IFERROR(VLOOKUP(D2555,Справка!$G$2:$H$579,2,0),\"\")","v":""}]
[null,null,null,null,{"$f":"IFERROR(VLOOKUP(D2556,Справка!$G$2:$H$579,2,0),\"\")","v":""}]
[null,null,null,null,{"$f":"IFERROR(VLOOKUP(D2557,Справка!$G$2:$H$579,2,0),\"\")","v":""}]
[null,null,null,null,{"$f":"IFERROR(VLOOKUP(D2558,Справка!$G$2:$H$579,2,0),\"\")","v":""}]
[null,null,null,null,{"$f":"IFERROR(VLOOKUP(D2559,Справка!$G$2:$H$579,2,0),\"\")","v":""}]
[null,null,null,null,{"$f":"IFERROR(VLOOKUP(D2560,Справка!$G$2:$H$579,2,0),\"\")","v":""}]
[null,null,null,null,{"$f":"IFERROR(VLOOKUP(D2561,Справка!$G$2:$H$579,2,0),\"\")","v":""}]
[null,null,null,null,{"$f":"IFERROR(VLOOKUP(D2562,Справка!$G$2:$H$579,2,0),\"\")","v":""}]
[null,null,null,null,{"$f":"IFERROR(VLOOKUP(D2563,Справка!$G$2:$H$579,2,0),\"\")","v":""}]
[null,null,null,null,{"$f":"IFERROR(VLOOKUP(D2564,Справка!$G$2:$H$579,2,0),\"\")","v":""}]
[null,null,null,null,{"$f":"IFERROR(VLOOKUP(D2565,Справка!$G$2:$H$579,2,0),\"\")","v":""}]
[null,null,null,null,{"$f":"IFERROR(VLOOKUP(D2566,Справка!$G$2:$H$579,2,0),\"\")","v":""}]
[null,null,null,null,{"$f":"IFERROR(VLOOKUP(D2567,Справка!$G$2:$H$579,2,0),\"\")","v":""}]
[null,null,null,null,{"$f":"IFERROR(VLOOKUP(D2568,Справка!$G$2:$H$579,2,0),\"\")","v":""}]
[null,null,null,null,{"$f":"IFERROR(VLOOKUP(D2569,Справка!$G$2:$H$579,2,0),\"\")","v":""}]
[null,null,null,null,{"$f":"IFERROR(VLOOKUP(D2570,Справка!$G$2:$H$579,2,0),\"\")","v":""}]
[null,null,null,null,{"$f":"IFERROR(VLOOKUP(D2571,Справка!$G$2:$H$579,2,0),\"\")","v":""}]
[null,null,null,null,{"$f":"IFERROR(VLOOKUP(D2572,Справка!$G$2:$H$579,2,0),\"\")","v":""}]
[null,null,null,null,{"$f":"IFERROR(VLOOKUP(D2573,Справка!$G$2:$H$579,2,0),\"\")","v":""}]
[null,null,null,null,{"$f":"IFERROR(VLOOKUP(D2574,Справка!$G$2:$H$579,2,0),\"\")","v":""}]
[null,null,null,null,{"$f":"IFERROR(VLOOKUP(D2575,Справка!$G$2:$H$579,2,0),\"\")","v":""}]
[null,null,null,null,{"$f":"IFERROR(VLOOKUP(D2576,Справка!$G$2:$H$579,2,0),\"\")","v":""}]
[null,null,null,null,{"$f":"IFERROR(VLOOKUP(D2577,Справка!$G$2:$H$579,2,0),\"\")","v":""}]
[null,null,null,null,{"$f":"IFERROR(VLOOKUP(D2578,Справка!$G$2:$H$579,2,0),\"\")","v":""}]
[null,null,null,null,{"$f":"IFERROR(VLOOKUP(D2579,Справка!$G$2:$H$579,2,0),\"\")","v":""}]
[null,null,null,null,{"$f":"IFERROR(VLOOKUP(D2580,Справка!$G$2:$H$579,2,0),\"\")","v":""}]
[null,null,null,null,{"$f":"IFERROR(VLOOKUP(D2581,Справка!$G$2:$H$579,2,0),\"\")","v":""}]
[null,null,null,null,{"$f":"IFERROR(VLOOKUP(D2582,Справка!$G$2:$H$579,2,0),\"\")","v":""}]
[null,null,null,null,{"$f":"IFERROR(VLOOKUP(D2583,Справка!$G$2:$H$579,2,0),\"\")","v":""}]
[null,null,null,null,{"$f":"IFERROR(VLOOKUP(D2584,Справка!$G$2:$H$579,2,0),\"\")","v":""}]
[null,null,null,null,{"$f":"IFERROR(VLOOKUP(D2585,Справка!$G$2:$H$579,2,0),\"\")","v":""}]
[null,null,null,null,{"$f":"IFERROR(VLOOKUP(D2586,Справка!$G$2:$H$579,2,0),\"\")","v":""}]
[null,null,null,null,{"$f":"IFERROR(VLOOKUP(D2587,Справка!$G$2:$H$579,2,0),\"\")","v":""}]
[null,null,null,null,{"$f":"IFERROR(VLOOKUP(D2588,Справка!$G$2:$H$579,2,0),\"\")","v":""}]
[null,null,null,null,{"$f":"IFERROR(VLOOKUP(D2589,Справка!$G$2:$H$579,2,0),\"\")","v":""}]
[null,null,null,null,{"$f":"IFERROR(VLOOKUP(D2590,Справка!$G$2:$H$579,2,0),\"\")","v":""}]
[null,null,null,null,{"$f":"IFERROR(VLOOKUP(D2591,Справка!$G$2:$H$579,2,0),\"\")","v":""}]
[null,null,null,null,{"$f":"IFERROR(VLOOKUP(D2592,Справка!$G$2:$H$579,2,0),\"\")","v":""}]
[null,null,null,null,{"$f":"IFERROR(VLOOKUP(D2593,Справка!$G$2:$H$579,2,0),\"\")","v":""}]
[null,null,null,null,{"$f":"IFERROR(VLOOKUP(D2594,Справка!$G$2:$H$579,2,0),\"\")","v":""}]
[null,null,null,null,{"$f":"IFERROR(VLOOKUP(D2595,Справка!$G$2:$H$579,2,0),\"\")","v":""}]
[null,null,null,null,{"$f":"IFERROR(VLOOKUP(D2596,Справка!$G$2:$H$579,2,0),\"\")","v":""}]
[null,null,null,null,{"$f":"IFERROR(VLOOKUP(D2597,Справка!$G$2:$H$579,2,0),\"\")","v":""}]
[null,null,null,null,{"$f":"IFERROR(VLOOKUP(D2598,Справка!$G$2:$H$579,2,0),\"\")","v":""}]
[null,null,null,null,{"$f":"IFERROR(VLOOKUP(D2599,Справка!$G$2:$H$579,2,0),\"\")","v":""}]
[null,null,null,null,{"$f":"IFERROR(VLOOKUP(D2600,Справка!$G$2:$H$579,2,0),\"\")","v":""}]
[null,null,null,null,{"$f":"IFERROR(VLOOKUP(D2601,Справка!$G$2:$H$579,2,0),\"\")","v":""}]
[null,null,null,null,{"$f":"IFERROR(VLOOKUP(D2602,Справка!$G$2:$H$579,2,0),\"\")","v":""}]
[null,null,null,null,{"$f":"IFERROR(VLOOKUP(D2603,Справка!$G$2:$H$579,2,0),\"\")","v":""}]
[null,null,null,null,{"$f":"IFERROR(VLOOKUP(D2604,Справка!$G$2:$H$579,2,0),\"\")","v":""}]
[null,null,null,null,{"$f":"IFERROR(VLOOKUP(D2605,Справка!$G$2:$H$579,2,0),\"\")","v":""}]
[null,null,null,null,{"$f":"IFERROR(VLOOKUP(D2606,Справка!$G$2:$H$579,2,0),\"\")","v":""}]
[null,null,null,null,{"$f":"IFERROR(VLOOKUP(D2607,Справка!$G$2:$H$579,2,0),\"\")","v":""}]
[null,null,null,null,{"$f":"IFERROR(VLOOKUP(D2608,Справка!$G$2:$H$579,2,0),\"\")","v":""}]
[null,null,null,null,{"$f":"IFERROR(VLOOKUP(D2609,Справка!$G$2:$H$579,2,0),\"\")","v":""}]
[null,null,null,null,{"$f":"IFERROR(VLOOKUP(D2610,Справка!$G$2:$H$579,2,0),\"\")","v":""}]
[null,null,null,null,{"$f":"IFERROR(VLOOKUP(D2611,Справка!$G$2:$H$579,2,0),\"\")","v":""}]
[null,null,null,null,{"$f":"IFERROR(VLOOKUP(D2612,Справка!$G$2:$H$579,2,0),\"\")","v":""}]
[null,null,null,null,{"$f":"IFERROR(VLOOKUP(D2613,Справка!$G$2:$H$579,2,0),\"\")","v":""}]
[null,null,null,null,{"$f":"IFERROR(VLOOKUP(D2614,Справка!$G$2:$H$579,2,0),\"\")","v":""}]
[null,null,null,null,{"$f":"IFERROR(VLOOKUP(D2615,Справка!$G$2:$H$579,2,0),\"\")","v":""}]
[null,null,null,null,{"$f":"IFERROR(VLOOKUP(D2616,Справка!$G$2:$H$579,2,0),\"\")","v":""}]
[null,null,null,null,{"$f":"IFERROR(VLOOKUP(D2617,Справка!$G$2:$H$579,2,0),\"\")","v":""}]
[null,null,null,null,{"$f":"IFERROR(VLOOKUP(D2618,Справка!$G$2:$H$579,2,0),\"\")","v":""}]
[null,null,null,null,{"$f":"IFERROR(VLOOKUP(D2619,Справка!$G$2:$H$579,2,0),\"\")","v":""}]
[null,null,null,null,{"$f":"IFERROR(VLOOKUP(D2620,Справка!$G$2:$H$579,2,0),\"\")","v":""}]
[null,null,null,null,{"$f":"IFERROR(VLOOKUP(D2621,Справка!$G$2:$H$579,2,0),\"\")","v":""}]
[null,null,null,null,{"$f":"IFERROR(VLOOKUP(D2622,Справка!$G$2:$H$579,2,0),\"\")","v":""}]
[null,null,null,null,{"$f":"IFERROR(VLOOKUP(D2623,Справка!$G$2:$H$579,2,0),\"\")","v":""}]
[null,null,null,null,{"$f":"IFERROR(VLOOKUP(D2624,Справка!$G$2:$H$579,2,0),\"\")","v":""}]
[null,null,null,null,{"$f":"IFERROR(VLOOKUP(D2625,Справка!$G$2:$H$579,2,0),\"\")","v":""}]
[null,null,null,null,{"$f":"IFERROR(VLOOKUP(D2626,Справка!$G$2:$H$579,2,0),\"\")","v":""}]
[null,null,null,null,{"$f":"IFERROR(VLOOKUP(D2627,Справка!$G$2:$H$579,2,0),\"\")","v":""}]
[null,null,null,null,{"$f":"IFERROR(VLOOKUP(D2628,Справка!$G$2:$H$579,2,0),\"\")","v":""}]
[null,null,null,null,{"$f":"IFERROR(VLOOKUP(D2629,Справка!$G$2:$H$579,2,0),\"\")","v":""}]
[null,null,null,null,{"$f":"IFERROR(VLOOKUP(D2630,Справка!$G$2:$H$579,2,0),\"\")","v":""}]
[null,null,null,null,{"$f":"IFERROR(VLOOKUP(D2631,Справка!$G$2:$H$579,2,0),\"\")","v":""}]
[null,null,null,null,{"$f":"IFERROR(VLOOKUP(D2632,Справка!$G$2:$H$579,2,0),\"\")","v":""}]
[null,null,null,null,{"$f":"IFERROR(VLOOKUP(D2633,Справка!$G$2:$H$579,2,0),\"\")","v":""}]
[null,null,null,null,{"$f":"IFERROR(VLOOKUP(D2634,Справка!$G$2:$H$579,2,0),\"\")","v":""}]
[null,null,null,null,{"$f":"IFERROR(VLOOKUP(D2635,Справка!$G$2:$H$579,2,0),\"\")","v":""}]
[null,null,null,null,{"$f":"IFERROR(VLOOKUP(D2636,Справка!$G$2:$H$579,2,0),\"\")","v":""}]
[null,null,null,null,{"$f":"IFERROR(VLOOKUP(D2637,Справка!$G$2:$H$579,2,0),\"\")","v":""}]
[null,null,null,null,{"$f":"IFERROR(VLOOKUP(D2638,Справка!$G$2:$H$579,2,0),\"\")","v":""}]
[null,null,null,null,{"$f":"IFERROR(VLOOKUP(D2639,Справка!$G$2:$H$579,2,0),\"\")","v":""}]
[null,null,null,null,{"$f":"IFERROR(VLOOKUP(D2640,Справка!$G$2:$H$579,2,0),\"\")","v":""}]
[null,null,null,null,{"$f":"IFERROR(VLOOKUP(D2641,Справка!$G$2:$H$579,2,0),\"\")","v":""}]
[null,null,null,null,{"$f":"IFERROR(VLOOKUP(D2642,Справка!$G$2:$H$579,2,0),\"\")","v":""}]
[null,null,null,null,{"$f":"IFERROR(VLOOKUP(D2643,Справка!$G$2:$H$579,2,0),\"\")","v":""}]
[null,null,null,null,{"$f":"IFERROR(VLOOKUP(D2644,Справка!$G$2:$H$579,2,0),\"\")","v":""}]
[null,null,null,null,{"$f":"IFERROR(VLOOKUP(D2645,Справка!$G$2:$H$579,2,0),\"\")","v":""}]
[null,null,null,null,{"$f":"IFERROR(VLOOKUP(D2646,Справка!$G$2:$H$579,2,0),\"\")","v":""}]
[null,null,null,null,{"$f":"IFERROR(VLOOKUP(D2647,Справка!$G$2:$H$579,2,0),\"\")","v":""}]
[null,null,null,null,{"$f":"IFERROR(VLOOKUP(D2648,Справка!$G$2:$H$579,2,0),\"\")","v":""}]
[null,null,null,null,{"$f":"IFERROR(VLOOKUP(D2649,Справка!$G$2:$H$579,2,0),\"\")","v":""}]
[null,null,null,null,{"$f":"IFERROR(VLOOKUP(D2650,Справка!$G$2:$H$579,2,0),\"\")","v":""}]
[null,null,null,null,{"$f":"IFERROR(VLOOKUP(D2651,Справка!$G$2:$H$579,2,0),\"\")","v":""}]
[null,null,null,null,{"$f":"IFERROR(VLOOKUP(D2652,Справка!$G$2:$H$579,2,0),\"\")","v":""}]
[null,null,null,null,{"$f":"IFERROR(VLOOKUP(D2653,Справка!$G$2:$H$579,2,0),\"\")","v":""}]
[null,null,null,null,{"$f":"IFERROR(VLOOKUP(D2654,Справка!$G$2:$H$579,2,0),\"\")","v":""}]
[null,null,null,null,{"$f":"IFERROR(VLOOKUP(D2655,Справка!$G$2:$H$579,2,0),\"\")","v":""}]
[null,null,null,null,{"$f":"IFERROR(VLOOKUP(D2656,Справка!$G$2:$H$579,2,0),\"\")","v":""}]
[null,null,null,null,{"$f":"IFERROR(VLOOKUP(D2657,Справка!$G$2:$H$579,2,0),\"\")","v":""}]
[null,null,null,null,{"$f":"IFERROR(VLOOKUP(D2658,Справка!$G$2:$H$579,2,0),\"\")","v":""}]
[null,null,null,null,{"$f":"IFERROR(VLOOKUP(D2659,Справка!$G$2:$H$579,2,0),\"\")","v":""}]
[null,null,null,null,{"$f":"IFERROR(VLOOKUP(D2660,Справка!$G$2:$H$579,2,0),\"\")","v":""}]
[null,null,null,null,{"$f":"IFERROR(VLOOKUP(D2661,Справка!$G$2:$H$579,2,0),\"\")","v":""}]
[null,null,null,null,{"$f":"IFERROR(VLOOKUP(D2662,Справка!$G$2:$H$579,2,0),\"\")","v":""}]
[null,null,null,null,{"$f":"IFERROR(VLOOKUP(D2663,Справка!$G$2:$H$579,2,0),\"\")","v":""}]
[null,null,null,null,{"$f":"IFERROR(VLOOKUP(D2664,Справка!$G$2:$H$579,2,0),\"\")","v":""}]
[null,null,null,null,{"$f":"IFERROR(VLOOKUP(D2665,Справка!$G$2:$H$579,2,0),\"\")","v":""}]
[null,null,null,null,{"$f":"IFERROR(VLOOKUP(D2666,Справка!$G$2:$H$579,2,0),\"\")","v":""}]
[null,null,null,null,{"$f":"IFERROR(VLOOKUP(D2667,Справка!$G$2:$H$579,2,0),\"\")","v":""}]
[null,null,null,null,{"$f":"IFERROR(VLOOKUP(D2668,Справка!$G$2:$H$579,2,0),\"\")","v":""}]
[null,null,null,null,{"$f":"IFERROR(VLOOKUP(D2669,Справка!$G$2:$H$579,2,0),\"\")","v":""}]
[null,null,null,null,{"$f":"IFERROR(VLOOKUP(D2670,Справка!$G$2:$H$579,2,0),\"\")","v":""}]
[null,null,null,null,{"$f":"IFERROR(VLOOKUP(D2671,Справка!$G$2:$H$579,2,0),\"\")","v":""}]
[null,null,null,null,{"$f":"IFERROR(VLOOKUP(D2672,Справка!$G$2:$H$579,2,0),\"\")","v":""}]
[null,null,null,null,{"$f":"IFERROR(VLOOKUP(D2673,Справка!$G$2:$H$579,2,0),\"\")","v":""}]
[null,null,null,null,{"$f":"IFERROR(VLOOKUP(D2674,Справка!$G$2:$H$579,2,0),\"\")","v":""}]
[null,null,null,null,{"$f":"IFERROR(VLOOKUP(D2675,Справка!$G$2:$H$579,2,0),\"\")","v":""}]
[null,null,null,null,{"$f":"IFERROR(VLOOKUP(D2676,Справка!$G$2:$H$579,2,0),\"\")","v":""}]
[null,null,null,null,{"$f":"IFERROR(VLOOKUP(D2677,Справка!$G$2:$H$579,2,0),\"\")","v":""}]
[null,null,null,null,{"$f":"IFERROR(VLOOKUP(D2678,Справка!$G$2:$H$579,2,0),\"\")","v":""}]
[null,null,null,null,{"$f":"IFERROR(VLOOKUP(D2679,Справка!$G$2:$H$579,2,0),\"\")","v":""}]
[null,null,null,null,{"$f":"IFERROR(VLOOKUP(D2680,Справка!$G$2:$H$579,2,0),\"\")","v":""}]
[null,null,null,null,{"$f":"IFERROR(VLOOKUP(D2681,Справка!$G$2:$H$579,2,0),\"\")","v":""}]
[null,null,null,null,{"$f":"IFERROR(VLOOKUP(D2682,Справка!$G$2:$H$579,2,0),\"\")","v":""}]
[null,null,null,null,{"$f":"IFERROR(VLOOKUP(D2683,Справка!$G$2:$H$579,2,0),\"\")","v":""}]
[null,null,null,null,{"$f":"IFERROR(VLOOKUP(D2684,Справка!$G$2:$H$579,2,0),\"\")","v":""}]
[null,null,null,null,{"$f":"IFERROR(VLOOKUP(D2685,Справка!$G$2:$H$579,2,0),\"\")","v":""}]
[null,null,null,null,{"$f":"IFERROR(VLOOKUP(D2686,Справка!$G$2:$H$579,2,0),\"\")","v":""}]
[null,null,null,null,{"$f":"IFERROR(VLOOKUP(D2687,Справка!$G$2:$H$579,2,0),\"\")","v":""}]
[null,null,null,null,{"$f":"IFERROR(VLOOKUP(D2688,Справка!$G$2:$H$579,2,0),\"\")","v":""}]
[null,null,null,null,{"$f":"IFERROR(VLOOKUP(D2689,Справка!$G$2:$H$579,2,0),\"\")","v":""}]
[null,null,null,null,{"$f":"IFERROR(VLOOKUP(D2690,Справка!$G$2:$H$579,2,0),\"\")","v":""}]
[null,null,null,null,{"$f":"IFERROR(VLOOKUP(D2691,Справка!$G$2:$H$579,2,0),\"\")","v":""}]
[null,null,null,null,{"$f":"IFERROR(VLOOKUP(D2692,Справка!$G$2:$H$579,2,0),\"\")","v":""}]
[null,null,null,null,{"$f":"IFERROR(VLOOKUP(D2693,Справка!$G$2:$H$579,2,0),\"\")","v":""}]
[null,null,null,null,{"$f":"IFERROR(VLOOKUP(D2694,Справка!$G$2:$H$579,2,0),\"\")","v":""}]
[null,null,null,null,{"$f":"IFERROR(VLOOKUP(D2695,Справка!$G$2:$H$579,2,0),\"\")","v":""}]
[null,null,null,null,{"$f":"IFERROR(VLOOKUP(D2696,Справка!$G$2:$H$579,2,0),\"\")","v":""}]
[null,null,null,null,{"$f":"IFERROR(VLOOKUP(D2697,Справка!$G$2:$H$579,2,0),\"\")","v":""}]
[null,null,null,null,{"$f":"IFERROR(VLOOKUP(D2698,Справка!$G$2:$H$579,2,0),\"\")","v":""}]
[null,null,null,null,{"$f":"IFERROR(VLOOKUP(D2699,Справка!$G$2:$H$579,2,0),\"\")","v":""}]
[null,null,null,null,{"$f":"IFERROR(VLOOKUP(D2700,Справка!$G$2:$H$579,2,0),\"\")","v":""}]
[null,null,null,null,{"$f":"IFERROR(VLOOKUP(D2701,Справка!$G$2:$H$579,2,0),\"\")","v":""}]
[null,null,null,null,{"$f":"IFERROR(VLOOKUP(D2702,Справка!$G$2:$H$579,2,0),\"\")","v":""}]
[null,null,null,null,{"$f":"IFERROR(VLOOKUP(D2703,Справка!$G$2:$H$579,2,0),\"\")","v":""}]
[null,null,null,null,{"$f":"IFERROR(VLOOKUP(D2704,Справка!$G$2:$H$579,2,0),\"\")","v":""}]
[null,null,null,null,{"$f":"IFERROR(VLOOKUP(D2705,Справка!$G$2:$H$579,2,0),\"\")","v":""}]
[null,null,null,null,{"$f":"IFERROR(VLOOKUP(D2706,Справка!$G$2:$H$579,2,0),\"\")","v":""}]
[null,null,null,null,{"$f":"IFERROR(VLOOKUP(D2707,Справка!$G$2:$H$579,2,0),\"\")","v":""}]
[null,null,null,null,{"$f":"IFERROR(VLOOKUP(D2708,Справка!$G$2:$H$579,2,0),\"\")","v":""}]
[null,null,null,null,{"$f":"IFERROR(VLOOKUP(D2709,Справка!$G$2:$H$579,2,0),\"\")","v":""}]
[null,null,null,null,{"$f":"IFERROR(VLOOKUP(D2710,Справка!$G$2:$H$579,2,0),\"\")","v":""}]
[null,null,null,null,{"$f":"IFERROR(VLOOKUP(D2711,Справка!$G$2:$H$579,2,0),\"\")","v":""}]
[null,null,null,null,{"$f":"IFERROR(VLOOKUP(D2712,Справка!$G$2:$H$579,2,0),\"\")","v":""}]
[null,null,null,null,{"$f":"IFERROR(VLOOKUP(D2713,Справка!$G$2:$H$579,2,0),\"\")","v":""}]
[null,null,null,null,{"$f":"IFERROR(VLOOKUP(D2714,Справка!$G$2:$H$579,2,0),\"\")","v":""}]
[null,null,null,null,{"$f":"IFERROR(VLOOKUP(D2715,Справка!$G$2:$H$579,2,0),\"\")","v":""}]
[null,null,null,null,{"$f":"IFERROR(VLOOKUP(D2716,Справка!$G$2:$H$579,2,0),\"\")","v":""}]
[null,null,null,null,{"$f":"IFERROR(VLOOKUP(D2717,Справка!$G$2:$H$579,2,0),\"\")","v":""}]
[null,null,null,null,{"$f":"IFERROR(VLOOKUP(D2718,Справка!$G$2:$H$579,2,0),\"\")","v":""}]
[null,null,null,null,{"$f":"IFERROR(VLOOKUP(D2719,Справка!$G$2:$H$579,2,0),\"\")","v":""}]
[null,null,null,null,{"$f":"IFERROR(VLOOKUP(D2720,Справка!$G$2:$H$579,2,0),\"\")","v":""}]
[null,null,null,null,{"$f":"IFERROR(VLOOKUP(D2721,Справка!$G$2:$H$579,2,0),\"\")","v":""}]
[null,null,null,null,{"$f":"IFERROR(VLOOKUP(D2722,Справка!$G$2:$H$579,2,0),\"\")","v":""}]
[null,null,null,null,{"$f":"IFERROR(VLOOKUP(D2723,Справка!$G$2:$H$579,2,0),\"\")","v":""}]
[null,null,null,null,{"$f":"IFERROR(VLOOKUP(D2724,Справка!$G$2:$H$579,2,0),\"\")","v":""}]
[null,null,null,null,{"$f":"IFERROR(VLOOKUP(D2725,Справка!$G$2:$H$579,2,0),\"\")","v":""}]
[null,null,null,null,{"$f":"IFERROR(VLOOKUP(D2726,Справка!$G$2:$H$579,2,0),\"\")","v":""}]
[null,null,null,null,{"$f":"IFERROR(VLOOKUP(D2727,Справка!$G$2:$H$579,2,0),\"\")","v":""}]
[null,null,null,null,{"$f":"IFERROR(VLOOKUP(D2728,Справка!$G$2:$H$579,2,0),\"\")","v":""}]
[null,null,null,null,{"$f":"IFERROR(VLOOKUP(D2729,Справка!$G$2:$H$579,2,0),\"\")","v":""}]
[null,null,null,null,{"$f":"IFERROR(VLOOKUP(D2730,Справка!$G$2:$H$579,2,0),\"\")","v":""}]
[null,null,null,null,{"$f":"IFERROR(VLOOKUP(D2731,Справка!$G$2:$H$579,2,0),\"\")","v":""}]
[null,null,null,null,{"$f":"IFERROR(VLOOKUP(D2732,Справка!$G$2:$H$579,2,0),\"\")","v":""}]
[null,null,null,null,{"$f":"IFERROR(VLOOKUP(D2733,Справка!$G$2:$H$579,2,0),\"\")","v":""}]
[null,null,null,null,{"$f":"IFERROR(VLOOKUP(D2734,Справка!$G$2:$H$579,2,0),\"\")","v":""}]
[null,null,null,null,{"$f":"IFERROR(VLOOKUP(D2735,Справка!$G$2:$H$579,2,0),\"\")","v":""}]
[null,null,null,null,{"$f":"IFERROR(VLOOKUP(D2736,Справка!$G$2:$H$579,2,0),\"\")","v":""}]
[null,null,null,null,{"$f":"IFERROR(VLOOKUP(D2737,Справка!$G$2:$H$579,2,0),\"\")","v":""}]
[null,null,null,null,{"$f":"IFERROR(VLOOKUP(D2738,Справка!$G$2:$H$579,2,0),\"\")","v":""}]
[null,null,null,null,{"$f":"IFERROR(VLOOKUP(D2739,Справка!$G$2:$H$579,2,0),\"\")","v":""}]
[null,null,null,null,{"$f":"IFERROR(VLOOKUP(D2740,Справка!$G$2:$H$579,2,0),\"\")","v":""}]
[null,null,null,null,{"$f":"IFERROR(VLOOKUP(D2741,Справка!$G$2:$H$579,2,0),\"\")","v":""}]
[null,null,null,null,{"$f":"IFERROR(VLOOKUP(D2742,Справка!$G$2:$H$579,2,0),\"\")","v":""}]
[null,null,null,null,{"$f":"IFERROR(VLOOKUP(D2743,Справка!$G$2:$H$579,2,0),\"\")","v":""}]
[null,null,null,null,{"$f":"IFERROR(VLOOKUP(D2744,Справка!$G$2:$H$579,2,0),\"\")","v":""}]
[null,null,null,null,{"$f":"IFERROR(VLOOKUP(D2745,Справка!$G$2:$H$579,2,0),\"\")","v":""}]
[null,null,null,null,{"$f":"IFERROR(VLOOKUP(D2746,Справка!$G$2:$H$579,2,0),\"\")","v":""}]
[null,null,null,null,{"$f":"IFERROR(VLOOKUP(D2747,Справка!$G$2:$H$579,2,0),\"\")","v":""}]
[null,null,null,null,{"$f":"IFERROR(VLOOKUP(D2748,Справка!$G$2:$H$579,2,0),\"\")","v":""}]
[null,null,null,null,{"$f":"IFERROR(VLOOKUP(D2749,Справка!$G$2:$H$579,2,0),\"\")","v":""}]
[null,null,null,null,{"$f":"IFERROR(VLOOKUP(D2750,Справка!$G$2:$H$579,2,0),\"\")","v":""}]
[null,null,null,null,{"$f":"IFERROR(VLOOKUP(D2751,Справка!$G$2:$H$579,2,0),\"\")","v":""}]
[null,null,null,null,{"$f":"IFERROR(VLOOKUP(D2752,Справка!$G$2:$H$579,2,0),\"\")","v":""}]
[null,null,null,null,{"$f":"IFERROR(VLOOKUP(D2753,Справка!$G$2:$H$579,2,0),\"\")","v":""}]
[null,null,null,null,{"$f":"IFERROR(VLOOKUP(D2754,Справка!$G$2:$H$579,2,0),\"\")","v":""}]
[null,null,null,null,{"$f":"IFERROR(VLOOKUP(D2755,Справка!$G$2:$H$579,2,0),\"\")","v":""}]
[null,null,null,null,{"$f":"IFERROR(VLOOKUP(D2756,Справка!$G$2:$H$579,2,0),\"\")","v":""}]
[null,null,null,null,{"$f":"IFERROR(VLOOKUP(D2757,Справка!$G$2:$H$579,2,0),\"\")","v":""}]
[null,null,null,null,{"$f":"IFERROR(VLOOKUP(D2758,Справка!$G$2:$H$579,2,0),\"\")","v":""}]
[null,null,null,null,{"$f":"IFERROR(VLOOKUP(D2759,Справка!$G$2:$H$579,2,0),\"\")","v":""}]
[null,null,null,null,{"$f":"IFERROR(VLOOKUP(D2760,Справка!$G$2:$H$579,2,0),\"\")","v":""}]
[null,null,null,null,{"$f":"IFERROR(VLOOKUP(D2761,Справка!$G$2:$H$579,2,0),\"\")","v":""}]
[null,null,null,null,{"$f":"IFERROR(VLOOKUP(D2762,Справка!$G$2:$H$579,2,0),\"\")","v":""}]
[null,null,null,null,{"$f":"IFERROR(VLOOKUP(D2763,Справка!$G$2:$H$579,2,0),\"\")","v":""}]
[null,null,null,null,{"$f":"IFERROR(VLOOKUP(D2764,Справка!$G$2:$H$579,2,0),\"\")","v":""}]
[null,null,null,null,{"$f":"IFERROR(VLOOKUP(D2765,Справка!$G$2:$H$579,2,0),\"\")","v":""}]
[null,null,null,null,{"$f":"IFERROR(VLOOKUP(D2766,Справка!$G$2:$H$579,2,0),\"\")","v":""}]
[null,null,null,null,{"$f":"IFERROR(VLOOKUP(D2767,Справка!$G$2:$H$579,2,0),\"\")","v":""}]
[null,null,null,null,{"$f":"IFERROR(VLOOKUP(D2768,Справка!$G$2:$H$579,2,0),\"\")","v":""}]
[null,null,null,null,{"$f":"IFERROR(VLOOKUP(D2769,Справка!$G$2:$H$579,2,0),\"\")","v":""}]
[null,null,null,null,{"$f":"IFERROR(VLOOKUP(D2770,Справка!$G$2:$H$579,2,0),\"\")","v":""}]
[null,null,null,null,{"$f":"IFERROR(VLOOKUP(D2771,Справка!$G$2:$H$579,2,0),\"\")","v":""}]
[null,null,null,null,{"$f":"IFERROR(VLOOKUP(D2772,Справка!$G$2:$H$579,2,0),\"\")","v":""}]
[null,null,null,null,{"$f":"IFERROR(VLOOKUP(D2773,Справка!$G$2:$H$579,2,0),\"\")","v":""}]
[null,null,null,null,{"$f":"IFERROR(VLOOKUP(D2774,Справка!$G$2:$H$579,2,0),\"\")","v":""}]
[null,null,null,null,{"$f":"IFERROR(VLOOKUP(D2775,Справка!$G$2:$H$579,2,0),\"\")","v":""}]
[null,null,null,null,{"$f":"IFERROR(VLOOKUP(D2776,Справка!$G$2:$H$579,2,0),\"\")","v":""}]
[null,null,null,null,{"$f":"IFERROR(VLOOKUP(D2777,Справка!$G$2:$H$579,2,0),\"\")","v":""}]
[null,null,null,null,{"$f":"IFERROR(VLOOKUP(D2778,Справка!$G$2:$H$579,2,0),\"\")","v":""}]
[null,null,null,null,{"$f":"IFERROR(VLOOKUP(D2779,Справка!$G$2:$H$579,2,0),\"\")","v":""}]
[null,null,null,null,{"$f":"IFERROR(VLOOKUP(D2780,Справка!$G$2:$H$579,2,0),\"\")","v":""}]
[null,null,null,null,{"$f":"IFERROR(VLOOKUP(D2781,Справка!$G$2:$H$579,2,0),\"\")","v":""}]
[null,null,null,null,{"$f":"IFERROR(VLOOKUP(D2782,Справка!$G$2:$H$579,2,0),\"\")","v":""}]
[null,null,null,null,{"$f":"IFERROR(VLOOKUP(D2783,Справка!$G$2:$H$579,2,0),\"\")","v":""}]
[null,null,null,null,{"$f":"IFERROR(VLOOKUP(D2784,Справка!$G$2:$H$579,2,0),\"\")","v":""}]
[null,null,null,null,{"$f":"IFERROR(VLOOKUP(D2785,Справка!$G$2:$H$579,2,0),\"\")","v":""}]
[null,null,null,null,{"$f":"IFERROR(VLOOKUP(D2786,Справка!$G$2:$H$579,2,0),\"\")","v":""}]
[null,null,null,null,{"$f":"IFERROR(VLOOKUP(D2787,Справка!$G$2:$H$579,2,0),\"\")","v":""}]
[null,null,null,null,{"$f":"IFERROR(VLOOKUP(D2788,Справка!$G$2:$H$579,2,0),\"\")","v":""}]
[null,null,null,null,{"$f":"IFERROR(VLOOKUP(D2789,Справка!$G$2:$H$579,2,0),\"\")","v":""}]
[null,null,null,null,{"$f":"IFERROR(VLOOKUP(D2790,Справка!$G$2:$H$579,2,0),\"\")","v":""}]
[null,null,null,null,{"$f":"IFERROR(VLOOKUP(D2791,Справка!$G$2:$H$579,2,0),\"\")","v":""}]
[null,null,null,null,{"$f":"IFERROR(VLOOKUP(D2792,Справка!$G$2:$H$579,2,0),\"\")","v":""}]
[null,null,null,null,{"$f":"IFERROR(VLOOKUP(D2793,Справка!$G$2:$H$579,2,0),\"\")","v":""}]
[null,null,null,null,{"$f":"IFERROR(VLOOKUP(D2794,Справка!$G$2:$H$579,2,0),\"\")","v":""}]
[null,null,null,null,{"$f":"IFERROR(VLOOKUP(D2795,Справка!$G$2:$H$579,2,0),\"\")","v":""}]
[null,null,null,null,{"$f":"IFERROR(VLOOKUP(D2796,Справка!$G$2:$H$579,2,0),\"\")","v":""}]
[null,null,null,null,{"$f":"IFERROR(VLOOKUP(D2797,Справка!$G$2:$H$579,2,0),\"\")","v":""}]
[null,null,null,null,{"$f":"IFERROR(VLOOKUP(D2798,Справка!$G$2:$H$579,2,0),\"\")","v":""}]
[null,null,null,null,{"$f":"IFERROR(VLOOKUP(D2799,Справка!$G$2:$H$579,2,0),\"\")","v":""}]
[null,null,null,null,{"$f":"IFERROR(VLOOKUP(D2800,Справка!$G$2:$H$579,2,0),\"\")","v":""}]
[null,null,null,null,{"$f":"IFERROR(VLOOKUP(D2801,Справка!$G$2:$H$579,2,0),\"\")","v":""}]
[null,null,null,null,{"$f":"IFERROR(VLOOKUP(D2802,Справка!$G$2:$H$579,2,0),\"\")","v":""}]
[null,null,null,null,{"$f":"IFERROR(VLOOKUP(D2803,Справка!$G$2:$H$579,2,0),\"\")","v":""}]
[null,null,null,null,{"$f":"IFERROR(VLOOKUP(D2804,Справка!$G$2:$H$579,2,0),\"\")","v":""}]
[null,null,null,null,{"$f":"IFERROR(VLOOKUP(D2805,Справка!$G$2:$H$579,2,0),\"\")","v":""}]
[null,null,null,null,{"$f":"IFERROR(VLOOKUP(D2806,Справка!$G$2:$H$579,2,0),\"\")","v":""}]
[null,null,null,null,{"$f":"IFERROR(VLOOKUP(D2807,Справка!$G$2:$H$579,2,0),\"\")","v":""}]
[null,null,null,null,{"$f":"IFERROR(VLOOKUP(D2808,Справка!$G$2:$H$579,2,0),\"\")","v":""}]
[null,null,null,null,{"$f":"IFERROR(VLOOKUP(D2809,Справка!$G$2:$H$579,2,0),\"\")","v":""}]
[null,null,null,null,{"$f":"IFERROR(VLOOKUP(D2810,Справка!$G$2:$H$579,2,0),\"\")","v":""}]
[null,null,null,null,{"$f":"IFERROR(VLOOKUP(D2811,Справка!$G$2:$H$579,2,0),\"\")","v":""}]
[null,null,null,null,{"$f":"IFERROR(VLOOKUP(D2812,Справка!$G$2:$H$579,2,0),\"\")","v":""}]
[null,null,null,null,{"$f":"IFERROR(VLOOKUP(D2813,Справка!$G$2:$H$579,2,0),\"\")","v":""}]
[null,null,null,null,{"$f":"IFERROR(VLOOKUP(D2814,Справка!$G$2:$H$579,2,0),\"\")","v":""}]
[null,null,null,null,{"$f":"IFERROR(VLOOKUP(D2815,Справка!$G$2:$H$579,2,0),\"\")","v":""}]
[null,null,null,null,{"$f":"IFERROR(VLOOKUP(D2816,Справка!$G$2:$H$579,2,0),\"\")","v":""}]
[null,null,null,null,{"$f":"IFERROR(VLOOKUP(D2817,Справка!$G$2:$H$579,2,0),\"\")","v":""}]
[null,null,null,null,{"$f":"IFERROR(VLOOKUP(D2818,Справка!$G$2:$H$579,2,0),\"\")","v":""}]
[null,null,null,null,{"$f":"IFERROR(VLOOKUP(D2819,Справка!$G$2:$H$579,2,0),\"\")","v":""}]
[null,null,null,null,{"$f":"IFERROR(VLOOKUP(D2820,Справка!$G$2:$H$579,2,0),\"\")","v":""}]
[null,null,null,null,{"$f":"IFERROR(VLOOKUP(D2821,Справка!$G$2:$H$579,2,0),\"\")","v":""}]
[null,null,null,null,{"$f":"IFERROR(VLOOKUP(D2822,Справка!$G$2:$H$579,2,0),\"\")","v":""}]
[null,null,null,null,{"$f":"IFERROR(VLOOKUP(D2823,Справка!$G$2:$H$579,2,0),\"\")","v":""}]
[null,null,null,null,{"$f":"IFERROR(VLOOKUP(D2824,Справка!$G$2:$H$579,2,0),\"\")","v":""}]
[null,null,null,null,{"$f":"IFERROR(VLOOKUP(D2825,Справка!$G$2:$H$579,2,0),\"\")","v":""}]
[null,null,null,null,{"$f":"IFERROR(VLOOKUP(D2826,Справка!$G$2:$H$579,2,0),\"\")","v":""}]
[null,null,null,null,{"$f":"IFERROR(VLOOKUP(D2827,Справка!$G$2:$H$579,2,0),\"\")","v":""}]
[null,null,null,null,{"$f":"IFERROR(VLOOKUP(D2828,Справка!$G$2:$H$579,2,0),\"\")","v":""}]
[null,null,null,null,{"$f":"IFERROR(VLOOKUP(D2829,Справка!$G$2:$H$579,2,0),\"\")","v":""}]
[null,null,null,null,{"$f":"IFERROR(VLOOKUP(D2830,Справка!$G$2:$H$579,2,0),\"\")","v":""}]
[null,null,null,null,{"$f":"IFERROR(VLOOKUP(D2831,Справка!$G$2:$H$579,2,0),\"\")","v":""}]
[null,null,null,null,{"$f":"IFERROR(VLOOKUP(D2832,Справка!$G$2:$H$579,2,0),\"\")","v":""}]
[null,null,null,null,{"$f":"IFERROR(VLOOKUP(D2833,Справка!$G$2:$H$579,2,0),\"\")","v":""}]
[null,null,null,null,{"$f":"IFERROR(VLOOKUP(D2834,Справка!$G$2:$H$579,2,0),\"\")","v":""}]
[null,null,null,null,{"$f":"IFERROR(VLOOKUP(D2835,Справка!$G$2:$H$579,2,0),\"\")","v":""}]
[null,null,null,null,{"$f":"IFERROR(VLOOKUP(D2836,Справка!$G$2:$H$579,2,0),\"\")","v":""}]
[null,null,null,null,{"$f":"IFERROR(VLOOKUP(D2837,Справка!$G$2:$H$579,2,0),\"\")","v":""}]
[null,null,null,null,{"$f":"IFERROR(VLOOKUP(D2838,Справка!$G$2:$H$579,2,0),\"\")","v":""}]
[null,null,null,null,{"$f":"IFERROR(VLOOKUP(D2839,Справка!$G$2:$H$579,2,0),\"\")","v":""}]
[null,null,null,null,{"$f":"IFERROR(VLOOKUP(D2840,Справка!$G$2:$H$579,2,0),\"\")","v":""}]
[null,null,null,null,{"$f":"IFERROR(VLOOKUP(D2841,Справка!$G$2:$H$579,2,0),\"\")","v":""}]
[null,null,null,null,{"$f":"IFERROR(VLOOKUP(D2842,Справка!$G$2:$H$579,2,0),\"\")","v":""}]
[null,null,null,null,{"$f":"IFERROR(VLOOKUP(D2843,Справка!$G$2:$H$579,2,0),\"\")","v":""}]
[null,null,null,null,{"$f":"IFERROR(VLOOKUP(D2844,Справка!$G$2:$H$579,2,0),\"\")","v":""}]
[null,null,null,null,{"$f":"IFERROR(VLOOKUP(D2845,Справка!$G$2:$H$579,2,0),\"\")","v":""}]
[null,null,null,null,{"$f":"IFERROR(VLOOKUP(D2846,Справка!$G$2:$H$579,2,0),\"\")","v":""}]
[null,null,null,null,{"$f":"IFERROR(VLOOKUP(D2847,Справка!$G$2:$H$579,2,0),\"\")","v":""}]
[null,null,null,null,{"$f":"IFERROR(VLOOKUP(D2848,Справка!$G$2:$H$579,2,0),\"\")","v":""}]
[null,null,null,null,{"$f":"IFERROR(VLOOKUP(D2849,Справка!$G$2:$H$579,2,0),\"\")","v":""}]
[null,null,null,null,{"$f":"IFERROR(VLOOKUP(D2850,Справка!$G$2:$H$579,2,0),\"\")","v":""}]
[null,null,null,null,{"$f":"IFERROR(VLOOKUP(D2851,Справка!$G$2:$H$579,2,0),\"\")","v":""}]
[null,null,null,null,{"$f":"IFERROR(VLOOKUP(D2852,Справка!$G$2:$H$579,2,0),\"\")","v":""}]
[null,null,null,null,{"$f":"IFERROR(VLOOKUP(D2853,Справка!$G$2:$H$579,2,0),\"\")","v":""}]
[null,null,null,null,{"$f":"IFERROR(VLOOKUP(D2854,Справка!$G$2:$H$579,2,0),\"\")","v":""}]
[null,null,null,null,{"$f":"IFERROR(VLOOKUP(D2855,Справка!$G$2:$H$579,2,0),\"\")","v":""}]
[null,null,null,null,{"$f":"IFERROR(VLOOKUP(D2856,Справка!$G$2:$H$579,2,0),\"\")","v":""}]
[null,null,null,null,{"$f":"IFERROR(VLOOKUP(D2857,Справка!$G$2:$H$579,2,0),\"\")","v":""}]
[null,null,null,null,{"$f":"IFERROR(VLOOKUP(D2858,Справка!$G$2:$H$579,2,0),\"\")","v":""}]
[null,null,null,null,{"$f":"IFERROR(VLOOKUP(D2859,Справка!$G$2:$H$579,2,0),\"\")","v":""}]
[null,null,null,null,{"$f":"IFERROR(VLOOKUP(D2860,Справка!$G$2:$H$579,2,0),\"\")","v":""}]
[null,null,null,null,{"$f":"IFERROR(VLOOKUP(D2861,Справка!$G$2:$H$579,2,0),\"\")","v":""}]
[null,null,null,null,{"$f":"IFERROR(VLOOKUP(D2862,Справка!$G$2:$H$579,2,0),\"\")","v":""}]
[null,null,null,null,{"$f":"IFERROR(VLOOKUP(D2863,Справка!$G$2:$H$579,2,0),\"\")","v":""}]
[null,null,null,null,{"$f":"IFERROR(VLOOKUP(D2864,Справка!$G$2:$H$579,2,0),\"\")","v":""}]
[null,null,null,null,{"$f":"IFERROR(VLOOKUP(D2865,Справка!$G$2:$H$579,2,0),\"\")","v":""}]
[null,null,null,null,{"$f":"IFERROR(VLOOKUP(D2866,Справка!$G$2:$H$579,2,0),\"\")","v":""}]
[null,null,null,null,{"$f":"IFERROR(VLOOKUP(D2867,Справка!$G$2:$H$579,2,0),\"\")","v":""}]
[null,null,null,null,{"$f":"IFERROR(VLOOKUP(D2868,Справка!$G$2:$H$579,2,0),\"\")","v":""}]
[null,null,null,null,{"$f":"IFERROR(VLOOKUP(D2869,Справка!$G$2:$H$579,2,0),\"\")","v":""}]
[null,null,null,null,{"$f":"IFERROR(VLOOKUP(D2870,Справка!$G$2:$H$579,2,0),\"\")","v":""}]
[null,null,null,null,{"$f":"IFERROR(VLOOKUP(D2871,Справка!$G$2:$H$579,2,0),\"\")","v":""}]
[null,null,null,null,{"$f":"IFERROR(VLOOKUP(D2872,Справка!$G$2:$H$579,2,0),\"\")","v":""}]
[null,null,null,null,{"$f":"IFERROR(VLOOKUP(D2873,Справка!$G$2:$H$579,2,0),\"\")","v":""}]
[null,null,null,null,{"$f":"IFERROR(VLOOKUP(D2874,Справка!$G$2:$H$579,2,0),\"\")","v":""}]
[null,null,null,null,{"$f":"IFERROR(VLOOKUP(D2875,Справка!$G$2:$H$579,2,0),\"\")","v":""}]
[null,null,null,null,{"$f":"IFERROR(VLOOKUP(D2876,Справка!$G$2:$H$579,2,0),\"\")","v":""}]
[null,null,null,null,{"$f":"IFERROR(VLOOKUP(D2877,Справка!$G$2:$H$579,2,0),\"\")","v":""}]
[null,null,null,null,{"$f":"IFERROR(VLOOKUP(D2878,Справка!$G$2:$H$579,2,0),\"\")","v":""}]
[null,null,null,null,{"$f":"IFERROR(VLOOKUP(D2879,Справка!$G$2:$H$579,2,0),\"\")","v":""}]
[null,null,null,null,{"$f":"IFERROR(VLOOKUP(D2880,Справка!$G$2:$H$579,2,0),\"\")","v":""}]
[null,null,null,null,{"$f":"IFERROR(VLOOKUP(D2881,Справка!$G$2:$H$579,2,0),\"\")","v":""}]
[null,null,null,null,{"$f":"IFERROR(VLOOKUP(D2882,Справка!$G$2:$H$579,2,0),\"\")","v":""}]
[null,null,null,null,{"$f":"IFERROR(VLOOKUP(D2883,Справка!$G$2:$H$579,2,0),\"\")","v":""}]
[null,null,null,null,{"$f":"IFERROR(VLOOKUP(D2884,Справка!$G$2:$H$579,2,0),\"\")","v":""}]
[null,null,null,null,{"$f":"IFERROR(VLOOKUP(D2885,Справка!$G$2:$H$579,2,0),\"\")","v":""}]
[null,null,null,null,{"$f":"IFERROR(VLOOKUP(D2886,Справка!$G$2:$H$579,2,0),\"\")","v":""}]
[null,null,null,null,{"$f":"IFERROR(VLOOKUP(D2887,Справка!$G$2:$H$579,2,0),\"\")","v":""}]
[null,null,null,null,{"$f":"IFERROR(VLOOKUP(D2888,Справка!$G$2:$H$579,2,0),\"\")","v":""}]
[null,null,null,null,{"$f":"IFERROR(VLOOKUP(D2889,Справка!$G$2:$H$579,2,0),\"\")","v":""}]
[null,null,null,null,{"$f":"IFERROR(VLOOKUP(D2890,Справка!$G$2:$H$579,2,0),\"\")","v":""}]
[null,null,null,null,{"$f":"IFERROR(VLOOKUP(D2891,Справка!$G$2:$H$579,2,0),\"\")","v":""}]
[null,null,null,null,{"$f":"IFERROR(VLOOKUP(D2892,Справка!$G$2:$H$579,2,0),\"\")","v":""}]
[null,null,null,null,{"$f":"IFERROR(VLOOKUP(D2893,Справка!$G$2:$H$579,2,0),\"\")","v":""}]
[null,null,null,null,{"$f":"IFERROR(VLOOKUP(D2894,Справка!$G$2:$H$579,2,0),\"\")","v":""}]
[null,null,null,null,{"$f":"IFERROR(VLOOKUP(D2895,Справка!$G$2:$H$579,2,0),\"\")","v":""}]
[null,null,null,null,{"$f":"IFERROR(VLOOKUP(D2896,Справка!$G$2:$H$579,2,0),\"\")","v":""}]
[null,null,null,null,{"$f":"IFERROR(VLOOKUP(D2897,Справка!$G$2:$H$579,2,0),\"\")","v":""}]
[null,null,null,null,{"$f":"IFERROR(VLOOKUP(D2898,Справка!$G$2:$H$579,2,0),\"\")","v":""}]
[null,null,null,null,{"$f":"IFERROR(VLOOKUP(D2899,Справка!$G$2:$H$579,2,0),\"\")","v":""}]
[null,null,null,null,{"$f":"IFERROR(VLOOKUP(D2900,Справка!$G$2:$H$579,2,0),\"\")","v":""}]
[null,null,null,null,{"$f":"IFERROR(VLOOKUP(D2901,Справка!$G$2:$H$579,2,0),\"\")","v":""}]
[null,null,null,null,{"$f":"IFERROR(VLOOKUP(D2902,Справка!$G$2:$H$579,2,0),\"\")","v":""}]
[null,null,null,null,{"$f":"IFERROR(VLOOKUP(D2903,Справка!$G$2:$H$579,2,0),\"\")","v":""}]
[null,null,null,null,{"$f":"IFERROR(VLOOKUP(D2904,Справка!$G$2:$H$579,2,0),\"\")","v":""}]
[null,null,null,null,{"$f":"IFERROR(VLOOKUP(D2905,Справка!$G$2:$H$579,2,0),\"\")","v":""}]
[null,null,null,null,{"$f":"IFERROR(VLOOKUP(D2906,Справка!$G$2:$H$579,2,0),\"\")","v":""}]
[null,null,null,null,{"$f":"IFERROR(VLOOKUP(D2907,Справка!$G$2:$H$579,2,0),\"\")","v":""}]
[null,null,null,null,{"$f":"IFERROR(VLOOKUP(D2908,Справка!$G$2:$H$579,2,0),\"\")","v":""}]
[null,null,null,null,{"$f":"IFERROR(VLOOKUP(D2909,Справка!$G$2:$H$579,2,0),\"\")","v":""}]
[null,null,null,null,{"$f":"IFERROR(VLOOKUP(D2910,Справка!$G$2:$H$579,2,0),\"\")","v":""}]
[null,null,null,null,{"$f":"IFERROR(VLOOKUP(D2911,Справка!$G$2:$H$579,2,0),\"\")","v":""}]
[null,null,null,null,{"$f":"IFERROR(VLOOKUP(D2912,Справка!$G$2:$H$579,2,0),\"\")","v":""}]
[null,null,null,null,{"$f":"IFERROR(VLOOKUP(D2913,Справка!$G$2:$H$579,2,0),\"\")","v":""}]
[null,null,null,null,{"$f":"IFERROR(VLOOKUP(D2914,Справка!$G$2:$H$579,2,0),\"\")","v":""}]
[null,null,null,null,{"$f":"IFERROR(VLOOKUP(D2915,Справка!$G$2:$H$579,2,0),\"\")","v":""}]
[null,null,null,null,{"$f":"IFERROR(VLOOKUP(D2916,Справка!$G$2:$H$579,2,0),\"\")","v":""}]
[null,null,null,null,{"$f":"IFERROR(VLOOKUP(D2917,Справка!$G$2:$H$579,2,0),\"\")","v":""}]
[null,null,null,null,{"$f":"IFERROR(VLOOKUP(D2918,Справка!$G$2:$H$579,2,0),\"\")","v":""}]
[null,null,null,null,{"$f":"IFERROR(VLOOKUP(D2919,Справка!$G$2:$H$579,2,0),\"\")","v":""}]
[null,null,null,null,{"$f":"IFERROR(VLOOKUP(D2920,Справка!$G$2:$H$579,2,0),\"\")","v":""}]
[null,null,null,null,{"$f":"IFERROR(VLOOKUP(D2921,Справка!$G$2:$H$579,2,0),\"\")","v":""}]
[null,null,null,null,{"$f":"IFERROR(VLOOKUP(D2922,Справка!$G$2:$H$579,2,0),\"\")","v":""}]
[null,null,null,null,{"$f":"IFERROR(VLOOKUP(D2923,Справка!$G$2:$H$579,2,0),\"\")","v":""}]
[null,null,null,null,{"$f":"IFERROR(VLOOKUP(D2924,Справка!$G$2:$H$579,2,0),\"\")","v":""}]
[null,null,null,null,{"$f":"IFERROR(VLOOKUP(D2925,Справка!$G$2:$H$579,2,0),\"\")","v":""}]
[null,null,null,null,{"$f":"IFERROR(VLOOKUP(D2926,Справка!$G$2:$H$579,2,0),\"\")","v":""}]
[null,null,null,null,{"$f":"IFERROR(VLOOKUP(D2927,Справка!$G$2:$H$579,2,0),\"\")","v":""}]
[null,null,null,null,{"$f":"IFERROR(VLOOKUP(D2928,Справка!$G$2:$H$579,2,0),\"\")","v":""}]
[null,null,null,null,{"$f":"IFERROR(VLOOKUP(D2929,Справка!$G$2:$H$579,2,0),\"\")","v":""}]
[null,null,null,null,{"$f":"IFERROR(VLOOKUP(D2930,Справка!$G$2:$H$579,2,0),\"\")","v":""}]
[null,null,null,null,{"$f":"IFERROR(VLOOKUP(D2931,Справка!$G$2:$H$579,2,0),\"\")","v":""}]
[null,null,null,null,{"$f":"IFERROR(VLOOKUP(D2932,Справка!$G$2:$H$579,2,0),\"\")","v":""}]
[null,null,null,null,{"$f":"IFERROR(VLOOKUP(D2933,Справка!$G$2:$H$579,2,0),\"\")","v":""}]
[null,null,null,null,{"$f":"IFERROR(VLOOKUP(D2934,Справка!$G$2:$H$579,2,0),\"\")","v":""}]
[null,null,null,null,{"$f":"IFERROR(VLOOKUP(D2935,Справка!$G$2:$H$579,2,0),\"\")","v":""}]
[null,null,null,null,{"$f":"IFERROR(VLOOKUP(D2936,Справка!$G$2:$H$579,2,0),\"\")","v":""}]
[null,null,null,null,{"$f":"IFERROR(VLOOKUP(D2937,Справка!$G$2:$H$579,2,0),\"\")","v":""}]
[null,null,null,null,{"$f":"IFERROR(VLOOKUP(D2938,Справка!$G$2:$H$579,2,0),\"\")","v":""}]
[null,null,null,null,{"$f":"IFERROR(VLOOKUP(D2939,Справка!$G$2:$H$579,2,0),\"\")","v":""}]
[null,null,null,null,{"$f":"IFERROR(VLOOKUP(D2940,Справка!$G$2:$H$579,2,0),\"\")","v":""}]
[null,null,null,null,{"$f":"IFERROR(VLOOKUP(D2941,Справка!$G$2:$H$579,2,0),\"\")","v":""}]
[null,null,null,null,{"$f":"IFERROR(VLOOKUP(D2942,Справка!$G$2:$H$579,2,0),\"\")","v":""}]
[null,null,null,null,{"$f":"IFERROR(VLOOKUP(D2943,Справка!$G$2:$H$579,2,0),\"\")","v":""}]
[null,null,null,null,{"$f":"IFERROR(VLOOKUP(D2944,Справка!$G$2:$H$579,2,0),\"\")","v":""}]
[null,null,null,null,{"$f":"IFERROR(VLOOKUP(D2945,Справка!$G$2:$H$579,2,0),\"\")","v":""}]
[null,null,null,null,{"$f":"IFERROR(VLOOKUP(D2946,Справка!$G$2:$H$579,2,0),\"\")","v":""}]
[null,null,null,null,{"$f":"IFERROR(VLOOKUP(D2947,Справка!$G$2:$H$579,2,0),\"\")","v":""}]
[null,null,null,null,{"$f":"IFERROR(VLOOKUP(D2948,Справка!$G$2:$H$579,2,0),\"\")","v":""}]
[null,null,null,null,{"$f":"IFERROR(VLOOKUP(D2949,Справка!$G$2:$H$579,2,0),\"\")","v":""}]
[null,null,null,null,{"$f":"IFERROR(VLOOKUP(D2950,Справка!$G$2:$H$579,2,0),\"\")","v":""}]
[null,null,null,null,{"$f":"IFERROR(VLOOKUP(D2951,Справка!$G$2:$H$579,2,0),\"\")","v":""}]
[null,null,null,null,{"$f":"IFERROR(VLOOKUP(D2952,Справка!$G$2:$H$579,2,0),\"\")","v":""}]
[null,null,null,null,{"$f":"IFERROR(VLOOKUP(D2953,Справка!$G$2:$H$579,2,0),\"\")","v":""}]
[null,null,null,null,{"$f":"IFERROR(VLOOKUP(D2954,Справка!$G$2:$H$579,2,0),\"\")","v":""}]
[null,null,null,null,{"$f":"IFERROR(VLOOKUP(D2955,Справка!$G$2:$H$579,2,0),\"\")","v":""}]
[null,null,null,null,{"$f":"IFERROR(VLOOKUP(D2956,Справка!$G$2:$H$579,2,0),\"\")","v":""}]
[null,null,null,null,{"$f":"IFERROR(VLOOKUP(D2957,Справка!$G$2:$H$579,2,0),\"\")","v":""}]
[null,null,null,null,{"$f":"IFERROR(VLOOKUP(D2958,Справка!$G$2:$H$579,2,0),\"\")","v":""}]
[null,null,null,null,{"$f":"IFERROR(VLOOKUP(D2959,Справка!$G$2:$H$579,2,0),\"\")","v":""}]
[null,null,null,null,{"$f":"IFERROR(VLOOKUP(D2960,Справка!$G$2:$H$579,2,0),\"\")","v":""}]
[null,null,null,null,{"$f":"IFERROR(VLOOKUP(D2961,Справка!$G$2:$H$579,2,0),\"\")","v":""}]
[null,null,null,null,{"$f":"IFERROR(VLOOKUP(D2962,Справка!$G$2:$H$579,2,0),\"\")","v":""}]
[null,null,null,null,{"$f":"IFERROR(VLOOKUP(D2963,Справка!$G$2:$H$579,2,0),\"\")","v":""}]
[null,null,null,null,{"$f":"IFERROR(VLOOKUP(D2964,Справка!$G$2:$H$579,2,0),\"\")","v":""}]
[null,null,null,null,{"$f":"IFERROR(VLOOKUP(D2965,Справка!$G$2:$H$579,2,0),\"\")","v":""}]
[null,null,null,null,{"$f":"IFERROR(VLOOKUP(D2966,Справка!$G$2:$H$579,2,0),\"\")","v":""}]
[null,null,null,null,{"$f":"IFERROR(VLOOKUP(D2967,Справка!$G$2:$H$579,2,0),\"\")","v":""}]
[null,null,null,null,{"$f":"IFERROR(VLOOKUP(D2968,Справка!$G$2:$H$579,2,0),\"\")","v":""}]
[null,null,null,null,{"$f":"IFERROR(VLOOKUP(D2969,Справка!$G$2:$H$579,2,0),\"\")","v":""}]
[null,null,null,null,{"$f":"IFERROR(VLOOKUP(D2970,Справка!$G$2:$H$579,2,0),\"\")","v":""}]
[null,null,null,null,{"$f":"IFERROR(VLOOKUP(D2971,Справка!$G$2:$H$579,2,0),\"\")","v":""}]
[null,null,null,null,{"$f":"IFERROR(VLOOKUP(D2972,Справка!$G$2:$H$579,2,0),\"\")","v":""}]
[null,null,null,null,{"$f":"IFERROR(VLOOKUP(D2973,Справка!$G$2:$H$579,2,0),\"\")","v":""}]
[null,null,null,null,{"$f":"IFERROR(VLOOKUP(D2974,Справка!$G$2:$H$579,2,0),\"\")","v":""}]
[null,null,null,null,{"$f":"IFERROR(VLOOKUP(D2975,Справка!$G$2:$H$579,2,0),\"\")","v":""}]
[null,null,null,null,{"$f":"IFERROR(VLOOKUP(D2976,Справка!$G$2:$H$579,2,0),\"\")","v":""}]
[null,null,null,null,{"$f":"IFERROR(VLOOKUP(D2977,Справка!$G$2:$H$579,2,0),\"\")","v":""}]
[null,null,null,null,{"$f":"IFERROR(VLOOKUP(D2978,Справка!$G$2:$H$579,2,0),\"\")","v":""}]
[null,null,null,null,{"$f":"IFERROR(VLOOKUP(D2979,Справка!$G$2:$H$579,2,0),\"\")","v":""}]
[null,null,null,null,{"$f":"IFERROR(VLOOKUP(D2980,Справка!$G$2:$H$579,2,0),\"\")","v":""}]
[null,null,null,null,{"$f":"IFERROR(VLOOKUP(D2981,Справка!$G$2:$H$579,2,0),\"\")","v":""}]
[null,null,null,null,{"$f":"IFERROR(VLOOKUP(D2982,Справка!$G$2:$H$579,2,0),\"\")","v":""}]
[null,null,null,null,{"$f":"IFERROR(VLOOKUP(D2983,Справка!$G$2:$H$579,2,0),\"\")","v":""}]
[null,null,null,null,{"$f":"IFERROR(VLOOKUP(D2984,Справка!$G$2:$H$579,2,0),\"\")","v":""}]
[null,null,null,null,{"$f":"IFERROR(VLOOKUP(D2985,Справка!$G$2:$H$579,2,0),\"\")","v":""}]
[null,null,null,null,{"$f":"IFERROR(VLOOKUP(D2986,Справка!$G$2:$H$579,2,0),\"\")","v":""}]
[null,null,null,null,{"$f":"IFERROR(VLOOKUP(D2987,Справка!$G$2:$H$579,2,0),\"\")","v":""}]
[null,null,null,null,{"$f":"IFERROR(VLOOKUP(D2988,Справка!$G$2:$H$579,2,0),\"\")","v":""}]
[null,null,null,null,{"$f":"IFERROR(VLOOKUP(D2989,Справка!$G$2:$H$579,2,0),\"\")","v":""}]
[null,null,null,null,{"$f":"IFERROR(VLOOKUP(D2990,Справка!$G$2:$H$579,2,0),\"\")","v":""}]
[null,null,null,null,{"$f":"IFERROR(VLOOKUP(D2991,Справка!$G$2:$H$579,2,0),\"\")","v":""}]
[null,null,null,null,{"$f":"IFERROR(VLOOKUP(D2992,Справка!$G$2:$H$579,2,0),\"\")","v":""}]
[null,null,null,null,{"$f":"IFERROR(VLOOKUP(D2993,Справка!$G$2:$H$579,2,0),\"\")","v":""}]
[null,null,null,null,{"$f":"IFERROR(VLOOKUP(D2994,Справка!$G$2:$H$579,2,0),\"\")","v":""}]
[null,null,null,null,{"$f":"IFERROR(VLOOKUP(D2995,Справка!$G$2:$H$579,2,0),\"\")","v":""}]
[null,null,null,null,{"$f":"IFERROR(VLOOKUP(D2996,Справка!$G$2:$H$579,2,0),\"\")","v":""}]
[null,null,null,null,{"$f":"IFERROR(VLOOKUP(D2997,Справка!$G$2:$H$579,2,0),\"\")","v":""}]
[null,null,null,null,{"$f":"IFERROR(VLOOKUP(D2998,Справка!$G$2:$H$579,2,0),\"\")","v":""}]
[null,null,null,null,{"$f":"IFERROR(VLOOKUP(D2999,Справка!$G$2:$H$579,2,0),\"\")","v":""}]
[null,null,null,null,{"$f":"IFERROR(VLOOKUP(D3000,Справка!$G$2:$H$579,2,0),\"\")","v":""}]
[null,null,null,null,{"$f":"IFERROR(VLOOKUP(D3001,Справка!$G$2:$H$579,2,0),\"\")","v":""}]
[null,null,null,null,{"$f":"IFERROR(VLOOKUP(D3002,Справка!$G$2:$H$579,2,0),\"\")","v":""}]
[null,null,null,null,{"$f":"IFERROR(VLOOKUP(D3003,Справка!$G$2:$H$579,2,0),\"\")","v":""}]
[null,null,null,null,{"$f":"IFERROR(VLOOKUP(D3004,Справка!$G$2:$H$579,2,0),\"\")","v":""}]
[null,null,null,null,{"$f":"IFERROR(VLOOKUP(D3005,Справка!$G$2:$H$579,2,0),\"\")","v":""}]
[null,null,null,null,{"$f":"IFERROR(VLOOKUP(D3006,Справка!$G$2:$H$579,2,0),\"\")","v":""}]
[null,null,null,null,{"$f":"IFERROR(VLOOKUP(D3007,Справка!$G$2:$H$579,2,0),\"\")","v":""}]
[null,null,null,null,{"$f":"IFERROR(VLOOKUP(D3008,Справка!$G$2:$H$579,2,0),\"\")","v":""}]
[null,null,null,null,{"$f":"IFERROR(VLOOKUP(D3009,Справка!$G$2:$H$579,2,0),\"\")","v":""}]
[null,null,null,null,{"$f":"IFERROR(VLOOKUP(D3010,Справка!$G$2:$H$579,2,0),\"\")","v":""}]
[null,null,null,null,{"$f":"IFERROR(VLOOKUP(D3011,Справка!$G$2:$H$579,2,0),\"\")","v":""}]
[null,null,null,null,{"$f":"IFERROR(VLOOKUP(D3012,Справка!$G$2:$H$579,2,0),\"\")","v":""}]
[null,null,null,null,{"$f":"IFERROR(VLOOKUP(D3013,Справка!$G$2:$H$579,2,0),\"\")","v":""}]
[null,null,null,null,{"$f":"IFERROR(VLOOKUP(D3014,Справка!$G$2:$H$579,2,0),\"\")","v":""}]
[null,null,null,null,{"$f":"IFERROR(VLOOKUP(D3015,Справка!$G$2:$H$579,2,0),\"\")","v":""}]
[null,null,null,null,{"$f":"IFERROR(VLOOKUP(D3016,Справка!$G$2:$H$579,2,0),\"\")","v":""}]
[null,null,null,null,{"$f":"IFERROR(VLOOKUP(D3017,Справка!$G$2:$H$579,2,0),\"\")","v":""}]
[null,null,null,null,{"$f":"IFERROR(VLOOKUP(D3018,Справка!$G$2:$H$579,2,0),\"\")","v":""}]
[null,null,null,null,{"$f":"IFERROR(VLOOKUP(D3019,Справка!$G$2:$H$579,2,0),\"\")","v":""}]
[null,null,null,null,{"$f":"IFERROR(VLOOKUP(D3020,Справка!$G$2:$H$579,2,0),\"\")","v":""}]
[null,null,null,null,{"$f":"IFERROR(VLOOKUP(D3021,Справка!$G$2:$H$579,2,0),\"\")","v":""}]
[null,null,null,null,{"$f":"IFERROR(VLOOKUP(D3022,Справка!$G$2:$H$579,2,0),\"\")","v":""}]
[null,null,null,null,{"$f":"IFERROR(VLOOKUP(D3023,Справка!$G$2:$H$579,2,0),\"\")","v":""}]
[null,null,null,null,{"$f":"IFERROR(VLOOKUP(D3024,Справка!$G$2:$H$579,2,0),\"\")","v":""}]
[null,null,null,null,{"$f":"IFERROR(VLOOKUP(D3025,Справка!$G$2:$H$579,2,0),\"\")","v":""}]
[null,null,null,null,{"$f":"IFERROR(VLOOKUP(D3026,Справка!$G$2:$H$579,2,0),\"\")","v":""}]
[null,null,null,null,{"$f":"IFERROR(VLOOKUP(D3027,Справка!$G$2:$H$579,2,0),\"\")","v":""}]
[null,null,null,null,{"$f":"IFERROR(VLOOKUP(D3028,Справка!$G$2:$H$579,2,0),\"\")","v":""}]
[null,null,null,null,{"$f":"IFERROR(VLOOKUP(D3029,Справка!$G$2:$H$579,2,0),\"\")","v":""}]
[null,null,null,null,{"$f":"IFERROR(VLOOKUP(D3030,Справка!$G$2:$H$579,2,0),\"\")","v":""}]
[null,null,null,null,{"$f":"IFERROR(VLOOKUP(D3031,Справка!$G$2:$H$579,2,0),\"\")","v":""}]
[null,null,null,null,{"$f":"IFERROR(VLOOKUP(D3032,Справка!$G$2:$H$579,2,0),\"\")","v":""}]
[null,null,null,null,{"$f":"IFERROR(VLOOKUP(D3033,Справка!$G$2:$H$579,2,0),\"\")","v":""}]
[null,null,null,null,{"$f":"IFERROR(VLOOKUP(D3034,Справка!$G$2:$H$579,2,0),\"\")","v":""}]
[null,null,null,null,{"$f":"IFERROR(VLOOKUP(D3035,Справка!$G$2:$H$579,2,0),\"\")","v":""}]
[null,null,null,null,{"$f":"IFERROR(VLOOKUP(D3036,Справка!$G$2:$H$579,2,0),\"\")","v":""}]
[null,null,null,null,{"$f":"IFERROR(VLOOKUP(D3037,Справка!$G$2:$H$579,2,0),\"\")","v":""}]
[null,null,null,null,{"$f":"IFERROR(VLOOKUP(D3038,Справка!$G$2:$H$579,2,0),\"\")","v":""}]
[null,null,null,null,{"$f":"IFERROR(VLOOKUP(D3039,Справка!$G$2:$H$579,2,0),\"\")","v":""}]
[null,null,null,null,{"$f":"IFERROR(VLOOKUP(D3040,Справка!$G$2:$H$579,2,0),\"\")","v":""}]
[null,null,null,null,{"$f":"IFERROR(VLOOKUP(D3041,Справка!$G$2:$H$579,2,0),\"\")","v":""}]
[null,null,null,null,{"$f":"IFERROR(VLOOKUP(D3042,Справка!$G$2:$H$579,2,0),\"\")","v":""}]
[null,null,null,null,{"$f":"IFERROR(VLOOKUP(D3043,Справка!$G$2:$H$579,2,0),\"\")","v":""}]
[null,null,null,null,{"$f":"IFERROR(VLOOKUP(D3044,Справка!$G$2:$H$579,2,0),\"\")","v":""}]
[null,null,null,null,{"$f":"IFERROR(VLOOKUP(D3045,Справка!$G$2:$H$579,2,0),\"\")","v":""}]
[null,null,null,null,{"$f":"IFERROR(VLOOKUP(D3046,Справка!$G$2:$H$579,2,0),\"\")","v":""}]
[null,null,null,null,{"$f":"IFERROR(VLOOKUP(D3047,Справка!$G$2:$H$579,2,0),\"\")","v":""}]
[null,null,null,null,{"$f":"IFERROR(VLOOKUP(D3048,Справка!$G$2:$H$579,2,0),\"\")","v":""}]
[null,null,null,null,{"$f":"IFERROR(VLOOKUP(D3049,Справка!$G$2:$H$579,2,0),\"\")","v":""}]
[null,null,null,null,{"$f":"IFERROR(VLOOKUP(D3050,Справка!$G$2:$H$579,2,0),\"\")","v":""}]
[null,null,null,null,{"$f":"IFERROR(VLOOKUP(D3051,Справка!$G$2:$H$579,2,0),\"\")","v":""}]
[null,null,null,null,{"$f":"IFERROR(VLOOKUP(D3052,Справка!$G$2:$H$579,2,0),\"\")","v":""}]
[null,null,null,null,{"$f":"IFERROR(VLOOKUP(D3053,Справка!$G$2:$H$579,2,0),\"\")","v":""}]
[null,null,null,null,{"$f":"IFERROR(VLOOKUP(D3054,Справка!$G$2:$H$579,2,0),\"\")","v":""}]
[null,null,null,null,{"$f":"IFERROR(VLOOKUP(D3055,Справка!$G$2:$H$579,2,0),\"\")","v":""}]
[null,null,null,null,{"$f":"IFERROR(VLOOKUP(D3056,Справка!$G$2:$H$579,2,0),\"\")","v":""}]
[null,null,null,null,{"$f":"IFERROR(VLOOKUP(D3057,Справка!$G$2:$H$579,2,0),\"\")","v":""}]
[null,null,null,null,{"$f":"IFERROR(VLOOKUP(D3058,Справка!$G$2:$H$579,2,0),\"\")","v":""}]
[null,null,null,null,{"$f":"IFERROR(VLOOKUP(D3059,Справка!$G$2:$H$579,2,0),\"\")","v":""}]
[null,null,null,null,{"$f":"IFERROR(VLOOKUP(D3060,Справка!$G$2:$H$579,2,0),\"\")","v":""}]
[null,null,null,null,{"$f":"IFERROR(VLOOKUP(D3061,Справка!$G$2:$H$579,2,0),\"\")","v":""}]
[null,null,null,null,{"$f":"IFERROR(VLOOKUP(D3062,Справка!$G$2:$H$579,2,0),\"\")","v":""}]
[null,null,null,null,{"$f":"IFERROR(VLOOKUP(D3063,Справка!$G$2:$H$579,2,0),\"\")","v":""}]
[null,null,null,null,{"$f":"IFERROR(VLOOKUP(D3064,Справка!$G$2:$H$579,2,0),\"\")","v":""}]
[null,null,null,null,{"$f":"IFERROR(VLOOKUP(D3065,Справка!$G$2:$H$579,2,0),\"\")","v":""}]
[null,null,null,null,{"$f":"IFERROR(VLOOKUP(D3066,Справка!$G$2:$H$579,2,0),\"\")","v":""}]
[null,null,null,null,{"$f":"IFERROR(VLOOKUP(D3067,Справка!$G$2:$H$579,2,0),\"\")","v":""}]
[null,null,null,null,{"$f":"IFERROR(VLOOKUP(D3068,Справка!$G$2:$H$579,2,0),\"\")","v":""}]
[null,null,null,null,{"$f":"IFERROR(VLOOKUP(D3069,Справка!$G$2:$H$579,2,0),\"\")","v":""}]
[null,null,null,null,{"$f":"IFERROR(VLOOKUP(D3070,Справка!$G$2:$H$579,2,0),\"\")","v":""}]
[null,null,null,null,{"$f":"IFERROR(VLOOKUP(D3071,Справка!$G$2:$H$579,2,0),\"\")","v":""}]
[null,null,null,null,{"$f":"IFERROR(VLOOKUP(D3072,Справка!$G$2:$H$579,2,0),\"\")","v":""}]
[null,null,null,null,{"$f":"IFERROR(VLOOKUP(D3073,Справка!$G$2:$H$579,2,0),\"\")","v":""}]
[null,null,null,null,{"$f":"IFERROR(VLOOKUP(D3074,Справка!$G$2:$H$579,2,0),\"\")","v":""}]
[null,null,null,null,{"$f":"IFERROR(VLOOKUP(D3075,Справка!$G$2:$H$579,2,0),\"\")","v":""}]
[null,null,null,null,{"$f":"IFERROR(VLOOKUP(D3076,Справка!$G$2:$H$579,2,0),\"\")","v":""}]
[null,null,null,null,{"$f":"IFERROR(VLOOKUP(D3077,Справка!$G$2:$H$579,2,0),\"\")","v":""}]
[null,null,null,null,{"$f":"IFERROR(VLOOKUP(D3078,Справка!$G$2:$H$579,2,0),\"\")","v":""}]
[null,null,null,null,{"$f":"IFERROR(VLOOKUP(D3079,Справка!$G$2:$H$579,2,0),\"\")","v":""}]
[null,null,null,null,{"$f":"IFERROR(VLOOKUP(D3080,Справка!$G$2:$H$579,2,0),\"\")","v":""}]
[null,null,null,null,{"$f":"IFERROR(VLOOKUP(D3081,Справка!$G$2:$H$579,2,0),\"\")","v":""}]
[null,null,null,null,{"$f":"IFERROR(VLOOKUP(D3082,Справка!$G$2:$H$579,2,0),\"\")","v":""}]
[null,null,null,null,{"$f":"IFERROR(VLOOKUP(D3083,Справка!$G$2:$H$579,2,0),\"\")","v":""}]
[null,null,null,null,{"$f":"IFERROR(VLOOKUP(D3084,Справка!$G$2:$H$579,2,0),\"\")","v":""}]
[null,null,null,null,{"$f":"IFERROR(VLOOKUP(D3085,Справка!$G$2:$H$579,2,0),\"\")","v":""}]
[null,null,null,null,{"$f":"IFERROR(VLOOKUP(D3086,Справка!$G$2:$H$579,2,0),\"\")","v":""}]
[null,null,null,null,{"$f":"IFERROR(VLOOKUP(D3087,Справка!$G$2:$H$579,2,0),\"\")","v":""}]
[null,null,null,null,{"$f":"IFERROR(VLOOKUP(D3088,Справка!$G$2:$H$579,2,0),\"\")","v":""}]
[null,null,null,null,{"$f":"IFERROR(VLOOKUP(D3089,Справка!$G$2:$H$579,2,0),\"\")","v":""}]
[null,null,null,null,{"$f":"IFERROR(VLOOKUP(D3090,Справка!$G$2:$H$579,2,0),\"\")","v":""}]
[null,null,null,null,{"$f":"IFERROR(VLOOKUP(D3091,Справка!$G$2:$H$579,2,0),\"\")","v":""}]
[null,null,null,null,{"$f":"IFERROR(VLOOKUP(D3092,Справка!$G$2:$H$579,2,0),\"\")","v":""}]
[null,null,null,null,{"$f":"IFERROR(VLOOKUP(D3093,Справка!$G$2:$H$579,2,0),\"\")","v":""}]
[null,null,null,null,{"$f":"IFERROR(VLOOKUP(D3094,Справка!$G$2:$H$579,2,0),\"\")","v":""}]
[null,null,null,null,{"$f":"IFERROR(VLOOKUP(D3095,Справка!$G$2:$H$579,2,0),\"\")","v":""}]
[null,null,null,null,{"$f":"IFERROR(VLOOKUP(D3096,Справка!$G$2:$H$579,2,0),\"\")","v":""}]
[null,null,null,null,{"$f":"IFERROR(VLOOKUP(D3097,Справка!$G$2:$H$579,2,0),\"\")","v":""}]
[null,null,null,null,{"$f":"IFERROR(VLOOKUP(D3098,Справка!$G$2:$H$579,2,0),\"\")","v":""}]
[null,null,null,null,{"$f":"IFERROR(VLOOKUP(D3099,Справка!$G$2:$H$579,2,0),\"\")","v":""}]
[null,null,null,null,{"$f":"IFERROR(VLOOKUP(D3100,Справка!$G$2:$H$579,2,0),\"\")","v":""}]
[null,null,null,null,{"$f":"IFERROR(VLOOKUP(D3101,Справка!$G$2:$H$579,2,0),\"\")","v":""}]
[null,null,null,null,{"$f":"IFERROR(VLOOKUP(D3102,Справка!$G$2:$H$579,2,0),\"\")","v":""}]
[null,null,null,null,{"$f":"IFERROR(VLOOKUP(D3103,Справка!$G$2:$H$579,2,0),\"\")","v":""}]
[null,null,null,null,{"$f":"IFERROR(VLOOKUP(D3104,Справка!$G$2:$H$579,2,0),\"\")","v":""}]
[null,null,null,null,{"$f":"IFERROR(VLOOKUP(D3105,Справка!$G$2:$H$579,2,0),\"\")","v":""}]
[null,null,null,null,{"$f":"IFERROR(VLOOKUP(D3106,Справка!$G$2:$H$579,2,0),\"\")","v":""}]
[null,null,null,null,{"$f":"IFERROR(VLOOKUP(D3107,Справка!$G$2:$H$579,2,0),\"\")","v":""}]
[null,null,null,null,{"$f":"IFERROR(VLOOKUP(D3108,Справка!$G$2:$H$579,2,0),\"\")","v":""}]
[null,null,null,null,{"$f":"IFERROR(VLOOKUP(D3109,Справка!$G$2:$H$579,2,0),\"\")","v":""}]
[null,null,null,null,{"$f":"IFERROR(VLOOKUP(D3110,Справка!$G$2:$H$579,2,0),\"\")","v":""}]
[null,null,null,null,{"$f":"IFERROR(VLOOKUP(D3111,Справка!$G$2:$H$579,2,0),\"\")","v":""}]
[null,null,null,null,{"$f":"IFERROR(VLOOKUP(D3112,Справка!$G$2:$H$579,2,0),\"\")","v":""}]
[null,null,null,null,{"$f":"IFERROR(VLOOKUP(D3113,Справка!$G$2:$H$579,2,0),\"\")","v":""}]
[null,null,null,null,{"$f":"IFERROR(VLOOKUP(D3114,Справка!$G$2:$H$579,2,0),\"\")","v":""}]
[null,null,null,null,{"$f":"IFERROR(VLOOKUP(D3115,Справка!$G$2:$H$579,2,0),\"\")","v":""}]
[null,null,null,null,{"$f":"IFERROR(VLOOKUP(D3116,Справка!$G$2:$H$579,2,0),\"\")","v":""}]
[null,null,null,null,{"$f":"IFERROR(VLOOKUP(D3117,Справка!$G$2:$H$579,2,0),\"\")","v":""}]
[null,null,null,null,{"$f":"IFERROR(VLOOKUP(D3118,Справка!$G$2:$H$579,2,0),\"\")","v":""}]
[null,null,null,null,{"$f":"IFERROR(VLOOKUP(D3119,Справка!$G$2:$H$579,2,0),\"\")","v":""}]
[null,null,null,null,{"$f":"IFERROR(VLOOKUP(D3120,Справка!$G$2:$H$579,2,0),\"\")","v":""}]
[null,null,null,null,{"$f":"IFERROR(VLOOKUP(D3121,Справка!$G$2:$H$579,2,0),\"\")","v":""}]
[null,null,null,null,{"$f":"IFERROR(VLOOKUP(D3122,Справка!$G$2:$H$579,2,0),\"\")","v":""}]
[null,null,null,null,{"$f":"IFERROR(VLOOKUP(D3123,Справка!$G$2:$H$579,2,0),\"\")","v":""}]
[null,null,null,null,{"$f":"IFERROR(VLOOKUP(D3124,Справка!$G$2:$H$579,2,0),\"\")","v":""}]
[null,null,null,null,{"$f":"IFERROR(VLOOKUP(D3125,Справка!$G$2:$H$579,2,0),\"\")","v":""}]
[null,null,null,null,{"$f":"IFERROR(VLOOKUP(D3126,Справка!$G$2:$H$579,2,0),\"\")","v":""}]
[null,null,null,null,{"$f":"IFERROR(VLOOKUP(D3127,Справка!$G$2:$H$579,2,0),\"\")","v":""}]
[null,null,null,null,{"$f":"IFERROR(VLOOKUP(D3128,Справка!$G$2:$H$579,2,0),\"\")","v":""}]
[null,null,null,null,{"$f":"IFERROR(VLOOKUP(D3129,Справка!$G$2:$H$579,2,0),\"\")","v":""}]
[null,null,null,null,{"$f":"IFERROR(VLOOKUP(D3130,Справка!$G$2:$H$579,2,0),\"\")","v":""}]
[null,null,null,null,{"$f":"IFERROR(VLOOKUP(D3131,Справка!$G$2:$H$579,2,0),\"\")","v":""}]
[null,null,null,null,{"$f":"IFERROR(VLOOKUP(D3132,Справка!$G$2:$H$579,2,0),\"\")","v":""}]
[null,null,null,null,{"$f":"IFERROR(VLOOKUP(D3133,Справка!$G$2:$H$579,2,0),\"\")","v":""}]
[null,null,null,null,{"$f":"IFERROR(VLOOKUP(D3134,Справка!$G$2:$H$579,2,0),\"\")","v":""}]
[null,null,null,null,{"$f":"IFERROR(VLOOKUP(D3135,Справка!$G$2:$H$579,2,0),\"\")","v":""}]
[null,null,null,null,{"$f":"IFERROR(VLOOKUP(D3136,Справка!$G$2:$H$579,2,0),\"\")","v":""}]
[null,null,null,null,{"$f":"IFERROR(VLOOKUP(D3137,Справка!$G$2:$H$579,2,0),\"\")","v":""}]
[null,null,null,null,{"$f":"IFERROR(VLOOKUP(D3138,Справка!$G$2:$H$579,2,0),\"\")","v":""}]
[null,null,null,null,{"$f":"IFERROR(VLOOKUP(D3139,Справка!$G$2:$H$579,2,0),\"\")","v":""}]
[null,null,null,null,{"$f":"IFERROR(VLOOKUP(D3140,Справка!$G$2:$H$579,2,0),\"\")","v":""}]
[null,null,null,null,{"$f":"IFERROR(VLOOKUP(D3141,Справка!$G$2:$H$579,2,0),\"\")","v":""}]
[null,null,null,null,{"$f":"IFERROR(VLOOKUP(D3142,Справка!$G$2:$H$579,2,0),\"\")","v":""}]
[null,null,null,null,{"$f":"IFERROR(VLOOKUP(D3143,Справка!$G$2:$H$579,2,0),\"\")","v":""}]
[null,null,null,null,{"$f":"IFERROR(VLOOKUP(D3144,Справка!$G$2:$H$579,2,0),\"\")","v":""}]
[null,null,null,null,{"$f":"IFERROR(VLOOKUP(D3145,Справка!$G$2:$H$579,2,0),\"\")","v":""}]
[null,null,null,null,{"$f":"IFERROR(VLOOKUP(D3146,Справка!$G$2:$H$579,2,0),\"\")","v":""}]
[null,null,null,null,{"$f":"IFERROR(VLOOKUP(D3147,Справка!$G$2:$H$579,2,0),\"\")","v":""}]
[null,null,null,null,{"$f":"IFERROR(VLOOKUP(D3148,Справка!$G$2:$H$579,2,0),\"\")","v":""}]
[null,null,null,null,{"$f":"IFERROR(VLOOKUP(D3149,Справка!$G$2:$H$579,2,0),\"\")","v":""}]
[null,null,null,null,{"$f":"IFERROR(VLOOKUP(D3150,Справка!$G$2:$H$579,2,0),\"\")","v":""}]
[null,null,null,null,{"$f":"IFERROR(VLOOKUP(D3151,Справка!$G$2:$H$579,2,0),\"\")","v":""}]
[null,null,null,null,{"$f":"IFERROR(VLOOKUP(D3152,Справка!$G$2:$H$579,2,0),\"\")","v":""}]
[null,null,null,null,{"$f":"IFERROR(VLOOKUP(D3153,Справка!$G$2:$H$579,2,0),\"\")","v":""}]
[null,null,null,null,{"$f":"IFERROR(VLOOKUP(D3154,Справка!$G$2:$H$579,2,0),\"\")","v":""}]
[null,null,null,null,{"$f":"IFERROR(VLOOKUP(D3155,Справка!$G$2:$H$579,2,0),\"\")","v":""}]
[null,null,null,null,{"$f":"IFERROR(VLOOKUP(D3156,Справка!$G$2:$H$579,2,0),\"\")","v":""}]
[null,null,null,null,{"$f":"IFERROR(VLOOKUP(D3157,Справка!$G$2:$H$579,2,0),\"\")","v":""}]
[null,null,null,null,{"$f":"IFERROR(VLOOKUP(D3158,Справка!$G$2:$H$579,2,0),\"\")","v":""}]
[null,null,null,null,{"$f":"IFERROR(VLOOKUP(D3159,Справка!$G$2:$H$579,2,0),\"\")","v":""}]
[null,null,null,null,{"$f":"IFERROR(VLOOKUP(D3160,Справка!$G$2:$H$579,2,0),\"\")","v":""}]
[null,null,null,null,{"$f":"IFERROR(VLOOKUP(D3161,Справка!$G$2:$H$579,2,0),\"\")","v":""}]
[null,null,null,null,{"$f":"IFERROR(VLOOKUP(D3162,Справка!$G$2:$H$579,2,0),\"\")","v":""}]
[null,null,null,null,{"$f":"IFERROR(VLOOKUP(D3163,Справка!$G$2:$H$579,2,0),\"\")","v":""}]
[null,null,null,null,{"$f":"IFERROR(VLOOKUP(D3164,Справка!$G$2:$H$579,2,0),\"\")","v":""}]
[null,null,null,null,{"$f":"IFERROR(VLOOKUP(D3165,Справка!$G$2:$H$579,2,0),\"\")","v":""}]
[null,null,null,null,{"$f":"IFERROR(VLOOKUP(D3166,Справка!$G$2:$H$579,2,0),\"\")","v":""}]
[null,null,null,null,{"$f":"IFERROR(VLOOKUP(D3167,Справка!$G$2:$H$579,2,0),\"\")","v":""}]
[null,null,null,null,{"$f":"IFERROR(VLOOKUP(D3168,Справка!$G$2:$H$579,2,0),\"\")","v":""}]
[null,null,null,null,{"$f":"IFERROR(VLOOKUP(D3169,Справка!$G$2:$H$579,2,0),\"\")","v":""}]
[null,null,null,null,{"$f":"IFERROR(VLOOKUP(D3170,Справка!$G$2:$H$579,2,0),\"\")","v":""}]
[null,null,null,null,{"$f":"IFERROR(VLOOKUP(D3171,Справка!$G$2:$H$579,2,0),\"\")","v":""}]
[null,null,null,null,{"$f":"IFERROR(VLOOKUP(D3172,Справка!$G$2:$H$579,2,0),\"\")","v":""}]
[null,null,null,null,{"$f":"IFERROR(VLOOKUP(D3173,Справка!$G$2:$H$579,2,0),\"\")","v":""}]
[null,null,null,null,{"$f":"IFERROR(VLOOKUP(D3174,Справка!$G$2:$H$579,2,0),\"\")","v":""}]
[null,null,null,null,{"$f":"IFERROR(VLOOKUP(D3175,Справка!$G$2:$H$579,2,0),\"\")","v":""}]
[null,null,null,null,{"$f":"IFERROR(VLOOKUP(D3176,Справка!$G$2:$H$579,2,0),\"\")","v":""}]
[null,null,null,null,{"$f":"IFERROR(VLOOKUP(D3177,Справка!$G$2:$H$579,2,0),\"\")","v":""}]
[null,null,null,null,{"$f":"IFERROR(VLOOKUP(D3178,Справка!$G$2:$H$579,2,0),\"\")","v":""}]
[null,null,null,null,{"$f":"IFERROR(VLOOKUP(D3179,Справка!$G$2:$H$579,2,0),\"\")","v":""}]
[null,null,null,null,{"$f":"IFERROR(VLOOKUP(D3180,Справка!$G$2:$H$579,2,0),\"\")","v":""}]
[null,null,null,null,{"$f":"IFERROR(VLOOKUP(D3181,Справка!$G$2:$H$579,2,0),\"\")","v":""}]
[null,null,null,null,{"$f":"IFERROR(VLOOKUP(D3182,Справка!$G$2:$H$579,2,0),\"\")","v":""}]
[null,null,null,null,{"$f":"IFERROR(VLOOKUP(D3183,Справка!$G$2:$H$579,2,0),\"\")","v":""}]
[null,null,null,null,{"$f":"IFERROR(VLOOKUP(D3184,Справка!$G$2:$H$579,2,0),\"\")","v":""}]
[null,null,null,null,{"$f":"IFERROR(VLOOKUP(D3185,Справка!$G$2:$H$579,2,0),\"\")","v":""}]
[null,null,null,null,{"$f":"IFERROR(VLOOKUP(D3186,Справка!$G$2:$H$579,2,0),\"\")","v":""}]
[null,null,null,null,{"$f":"IFERROR(VLOOKUP(D3187,Справка!$G$2:$H$579,2,0),\"\")","v":""}]
[null,null,null,null,{"$f":"IFERROR(VLOOKUP(D3188,Справка!$G$2:$H$579,2,0),\"\")","v":""}]
[null,null,null,null,{"$f":"IFERROR(VLOOKUP(D3189,Справка!$G$2:$H$579,2,0),\"\")","v":""}]
[null,null,null,null,{"$f":"IFERROR(VLOOKUP(D3190,Справка!$G$2:$H$579,2,0),\"\")","v":""}]
[null,null,null,null,{"$f":"IFERROR(VLOOKUP(D3191,Справка!$G$2:$H$579,2,0),\"\")","v":""}]
[null,null,null,null,{"$f":"IFERROR(VLOOKUP(D3192,Справка!$G$2:$H$579,2,0),\"\")","v":""}]
[null,null,null,null,{"$f":"IFERROR(VLOOKUP(D3193,Справка!$G$2:$H$579,2,0),\"\")","v":""}]
[null,null,null,null,{"$f":"IFERROR(VLOOKUP(D3194,Справка!$G$2:$H$579,2,0),\"\")","v":""}]
[null,null,null,null,{"$f":"IFERROR(VLOOKUP(D3195,Справка!$G$2:$H$579,2,0),\"\")","v":""}]
[null,null,null,null,{"$f":"IFERROR(VLOOKUP(D3196,Справка!$G$2:$H$579,2,0),\"\")","v":""}]
[null,null,null,null,{"$f":"IFERROR(VLOOKUP(D3197,Справка!$G$2:$H$579,2,0),\"\")","v":""}]
[null,null,null,null,{"$f":"IFERROR(VLOOKUP(D3198,Справка!$G$2:$H$579,2,0),\"\")","v":""}]
[null,null,null,null,{"$f":"IFERROR(VLOOKUP(D3199,Справка!$G$2:$H$579,2,0),\"\")","v":""}]
[null,null,null,null,{"$f":"IFERROR(VLOOKUP(D3200,Справка!$G$2:$H$579,2,0),\"\")","v":""}]
[null,null,null,null,{"$f":"IFERROR(VLOOKUP(D3201,Справка!$G$2:$H$579,2,0),\"\")","v":""}]
[null,null,null,null,{"$f":"IFERROR(VLOOKUP(D3202,Справка!$G$2:$H$579,2,0),\"\")","v":""}]
[null,null,null,null,{"$f":"IFERROR(VLOOKUP(D3203,Справка!$G$2:$H$579,2,0),\"\")","v":""}]
[null,null,null,null,{"$f":"IFERROR(VLOOKUP(D3204,Справка!$G$2:$H$579,2,0),\"\")","v":""}]
[null,null,null,null,{"$f":"IFERROR(VLOOKUP(D3205,Справка!$G$2:$H$579,2,0),\"\")","v":""}]
[null,null,null,null,{"$f":"IFERROR(VLOOKUP(D3206,Справка!$G$2:$H$579,2,0),\"\")","v":""}]
[null,null,null,null,{"$f":"IFERROR(VLOOKUP(D3207,Справка!$G$2:$H$579,2,0),\"\")","v":""}]
[null,null,null,null,{"$f":"IFERROR(VLOOKUP(D3208,Справка!$G$2:$H$579,2,0),\"\")","v":""}]
[null,null,null,null,{"$f":"IFERROR(VLOOKUP(D3209,Справка!$G$2:$H$579,2,0),\"\")","v":""}]
[null,null,null,null,{"$f":"IFERROR(VLOOKUP(D3210,Справка!$G$2:$H$579,2,0),\"\")","v":""}]
[null,null,null,null,{"$f":"IFERROR(VLOOKUP(D3211,Справка!$G$2:$H$579,2,0),\"\")","v":""}]
[null,null,null,null,{"$f":"IFERROR(VLOOKUP(D3212,Справка!$G$2:$H$579,2,0),\"\")","v":""}]
[null,null,null,null,{"$f":"IFERROR(VLOOKUP(D3213,Справка!$G$2:$H$579,2,0),\"\")","v":""}]
[null,null,null,null,{"$f":"IFERROR(VLOOKUP(D3214,Справка!$G$2:$H$579,2,0),\"\")","v":""}]
[null,null,null,null,{"$f":"IFERROR(VLOOKUP(D3215,Справка!$G$2:$H$579,2,0),\"\")","v":""}]
[null,null,null,null,{"$f":"IFERROR(VLOOKUP(D3216,Справка!$G$2:$H$579,2,0),\"\")","v":""}]
[null,null,null,null,{"$f":"IFERROR(VLOOKUP(D3217,Справка!$G$2:$H$579,2,0),\"\")","v":""}]
[null,null,null,null,{"$f":"IFERROR(VLOOKUP(D3218,Справка!$G$2:$H$579,2,0),\"\")","v":""}]
[null,null,null,null,{"$f":"IFERROR(VLOOKUP(D3219,Справка!$G$2:$H$579,2,0),\"\")","v":""}]
[null,null,null,null,{"$f":"IFERROR(VLOOKUP(D3220,Справка!$G$2:$H$579,2,0),\"\")","v":""}]
[null,null,null,null,{"$f":"IFERROR(VLOOKUP(D3221,Справка!$G$2:$H$579,2,0),\"\")","v":""}]
[null,null,null,null,{"$f":"IFERROR(VLOOKUP(D3222,Справка!$G$2:$H$579,2,0),\"\")","v":""}]
[null,null,null,null,{"$f":"IFERROR(VLOOKUP(D3223,Справка!$G$2:$H$579,2,0),\"\")","v":""}]
[null,null,null,null,{"$f":"IFERROR(VLOOKUP(D3224,Справка!$G$2:$H$579,2,0),\"\")","v":""}]
[null,null,null,null,{"$f":"IFERROR(VLOOKUP(D3225,Справка!$G$2:$H$579,2,0),\"\")","v":""}]
[null,null,null,null,{"$f":"IFERROR(VLOOKUP(D3226,Справка!$G$2:$H$579,2,0),\"\")","v":""}]
[null,null,null,null,{"$f":"IFERROR(VLOOKUP(D3227,Справка!$G$2:$H$579,2,0),\"\")","v":""}]
[null,null,null,null,{"$f":"IFERROR(VLOOKUP(D3228,Справка!$G$2:$H$579,2,0),\"\")","v":""}]
[null,null,null,null,{"$f":"IFERROR(VLOOKUP(D3229,Справка!$G$2:$H$579,2,0),\"\")","v":""}]
[null,null,null,null,{"$f":"IFERROR(VLOOKUP(D3230,Справка!$G$2:$H$579,2,0),\"\")","v":""}]
[null,null,null,null,{"$f":"IFERROR(VLOOKUP(D3231,Справка!$G$2:$H$579,2,0),\"\")","v":""}]
[null,null,null,null,{"$f":"IFERROR(VLOOKUP(D3232,Справка!$G$2:$H$579,2,0),\"\")","v":""}]
[null,null,null,null,{"$f":"IFERROR(VLOOKUP(D3233,Справка!$G$2:$H$579,2,0),\"\")","v":""}]
[null,null,null,null,{"$f":"IFERROR(VLOOKUP(D3234,Справка!$G$2:$H$579,2,0),\"\")","v":""}]
[null,null,null,null,{"$f":"IFERROR(VLOOKUP(D3235,Справка!$G$2:$H$579,2,0),\"\")","v":""}]
[null,null,null,null,{"$f":"IFERROR(VLOOKUP(D3236,Справка!$G$2:$H$579,2,0),\"\")","v":""}]
[null,null,null,null,{"$f":"IFERROR(VLOOKUP(D3237,Справка!$G$2:$H$579,2,0),\"\")","v":""}]
[null,null,null,null,{"$f":"IFERROR(VLOOKUP(D3238,Справка!$G$2:$H$579,2,0),\"\")","v":""}]
[null,null,null,null,{"$f":"IFERROR(VLOOKUP(D3239,Справка!$G$2:$H$579,2,0),\"\")","v":""}]
[null,null,null,null,{"$f":"IFERROR(VLOOKUP(D3240,Справка!$G$2:$H$579,2,0),\"\")","v":""}]
[null,null,null,null,{"$f":"IFERROR(VLOOKUP(D3241,Справка!$G$2:$H$579,2,0),\"\")","v":""}]
[null,null,null,null,{"$f":"IFERROR(VLOOKUP(D3242,Справка!$G$2:$H$579,2,0),\"\")","v":""}]
[null,null,null,null,{"$f":"IFERROR(VLOOKUP(D3243,Справка!$G$2:$H$579,2,0),\"\")","v":""}]
[null,null,null,null,{"$f":"IFERROR(VLOOKUP(D3244,Справка!$G$2:$H$579,2,0),\"\")","v":""}]
[null,null,null,null,{"$f":"IFERROR(VLOOKUP(D3245,Справка!$G$2:$H$579,2,0),\"\")","v":""}]
[null,null,null,null,{"$f":"IFERROR(VLOOKUP(D3246,Справка!$G$2:$H$579,2,0),\"\")","v":""}]
[null,null,null,null,{"$f":"IFERROR(VLOOKUP(D3247,Справка!$G$2:$H$579,2,0),\"\")","v":""}]
[null,null,null,null,{"$f":"IFERROR(VLOOKUP(D3248,Справка!$G$2:$H$579,2,0),\"\")","v":""}]
[null,null,null,null,{"$f":"IFERROR(VLOOKUP(D3249,Справка!$G$2:$H$579,2,0),\"\")","v":""}]
[null,null,null,null,{"$f":"IFERROR(VLOOKUP(D3250,Справка!$G$2:$H$579,2,0),\"\")","v":""}]
[null,null,null,null,{"$f":"IFERROR(VLOOKUP(D3251,Справка!$G$2:$H$579,2,0),\"\")","v":""}]
[null,null,null,null,{"$f":"IFERROR(VLOOKUP(D3252,Справка!$G$2:$H$579,2,0),\"\")","v":""}]
[null,null,null,null,{"$f":"IFERROR(VLOOKUP(D3253,Справка!$G$2:$H$579,2,0),\"\")","v":""}]
[null,null,null,null,{"$f":"IFERROR(VLOOKUP(D3254,Справка!$G$2:$H$579,2,0),\"\")","v":""}]
[null,null,null,null,{"$f":"IFERROR(VLOOKUP(D3255,Справка!$G$2:$H$579,2,0),\"\")","v":""}]
[null,null,null,null,{"$f":"IFERROR(VLOOKUP(D3256,Справка!$G$2:$H$579,2,0),\"\")","v":""}]
[null,null,null,null,{"$f":"IFERROR(VLOOKUP(D3257,Справка!$G$2:$H$579,2,0),\"\")","v":""}]
[null,null,null,null,{"$f":"IFERROR(VLOOKUP(D3258,Справка!$G$2:$H$579,2,0),\"\")","v":""}]
[null,null,null,null,{"$f":"IFERROR(VLOOKUP(D3259,Справка!$G$2:$H$579,2,0),\"\")","v":""}]
[null,null,null,null,{"$f":"IFERROR(VLOOKUP(D3260,Справка!$G$2:$H$579,2,0),\"\")","v":""}]
[null,null,null,null,{"$f":"IFERROR(VLOOKUP(D3261,Справка!$G$2:$H$579,2,0),\"\")","v":""}]
[null,null,null,null,{"$f":"IFERROR(VLOOKUP(D3262,Справка!$G$2:$H$579,2,0),\"\")","v":""}]
[null,null,null,null,{"$f":"IFERROR(VLOOKUP(D3263,Справка!$G$2:$H$579,2,0),\"\")","v":""}]
[null,null,null,null,{"$f":"IFERROR(VLOOKUP(D3264,Справка!$G$2:$H$579,2,0),\"\")","v":""}]
[null,null,null,null,{"$f":"IFERROR(VLOOKUP(D3265,Справка!$G$2:$H$579,2,0),\"\")","v":""}]
[null,null,null,null,{"$f":"IFERROR(VLOOKUP(D3266,Справка!$G$2:$H$579,2,0),\"\")","v":""}]
[null,null,null,null,{"$f":"IFERROR(VLOOKUP(D3267,Справка!$G$2:$H$579,2,0),\"\")","v":""}]
[null,null,null,null,{"$f":"IFERROR(VLOOKUP(D3268,Справка!$G$2:$H$579,2,0),\"\")","v":""}]
[null,null,null,null,{"$f":"IFERROR(VLOOKUP(D3269,Справка!$G$2:$H$579,2,0),\"\")","v":""}]
[null,null,null,null,{"$f":"IFERROR(VLOOKUP(D3270,Справка!$G$2:$H$579,2,0),\"\")","v":""}]
[null,null,null,null,{"$f":"IFERROR(VLOOKUP(D3271,Справка!$G$2:$H$579,2,0),\"\")","v":""}]
[null,null,null,null,{"$f":"IFERROR(VLOOKUP(D3272,Справка!$G$2:$H$579,2,0),\"\")","v":""}]
[null,null,null,null,{"$f":"IFERROR(VLOOKUP(D3273,Справка!$G$2:$H$579,2,0),\"\")","v":""}]
[null,null,null,null,{"$f":"IFERROR(VLOOKUP(D3274,Справка!$G$2:$H$579,2,0),\"\")","v":""}]
[null,null,null,null,{"$f":"IFERROR(VLOOKUP(D3275,Справка!$G$2:$H$579,2,0),\"\")","v":""}]
[null,null,null,null,{"$f":"IFERROR(VLOOKUP(D3276,Справка!$G$2:$H$579,2,0),\"\")","v":""}]
[null,null,null,null,{"$f":"IFERROR(VLOOKUP(D3277,Справка!$G$2:$H$579,2,0),\"\")","v":""}]
[null,null,null,null,{"$f":"IFERROR(VLOOKUP(D3278,Справка!$G$2:$H$579,2,0),\"\")","v":""}]
[null,null,null,null,{"$f":"IFERROR(VLOOKUP(D3279,Справка!$G$2:$H$579,2,0),\"\")","v":""}]
[null,null,null,null,{"$f":"IFERROR(VLOOKUP(D3280,Справка!$G$2:$H$579,2,0),\"\")","v":""}]
[null,null,null,null,{"$f":"IFERROR(VLOOKUP(D3281,Справка!$G$2:$H$579,2,0),\"\")","v":""}]
[null,null,null,null,{"$f":"IFERROR(VLOOKUP(D3282,Справка!$G$2:$H$579,2,0),\"\")","v":""}]
[null,null,null,null,{"$f":"IFERROR(VLOOKUP(D3283,Справка!$G$2:$H$579,2,0),\"\")","v":""}]
[null,null,null,null,{"$f":"IFERROR(VLOOKUP(D3284,Справка!$G$2:$H$579,2,0),\"\")","v":""}]
[null,null,null,null,{"$f":"IFERROR(VLOOKUP(D3285,Справка!$G$2:$H$579,2,0),\"\")","v":""}]
[null,null,null,null,{"$f":"IFERROR(VLOOKUP(D3286,Справка!$G$2:$H$579,2,0),\"\")","v":""}]
[null,null,null,null,{"$f":"IFERROR(VLOOKUP(D3287,Справка!$G$2:$H$579,2,0),\"\")","v":""}]
[null,null,null,null,{"$f":"IFERROR(VLOOKUP(D3288,Справка!$G$2:$H$579,2,0),\"\")","v":""}]
[null,null,null,null,{"$f":"IFERROR(VLOOKUP(D3289,Справка!$G$2:$H$579,2,0),\"\")","v":""}]
[null,null,null,null,{"$f":"IFERROR(VLOOKUP(D3290,Справка!$G$2:$H$579,2,0),\"\")","v":""}]
[null,null,null,null,{"$f":"IFERROR(VLOOKUP(D3291,Справка!$G$2:$H$579,2,0),\"\")","v":""}]
[null,null,null,null,{"$f":"IFERROR(VLOOKUP(D3292,Справка!$G$2:$H$579,2,0),\"\")","v":""}]
[null,null,null,null,{"$f":"IFERROR(VLOOKUP(D3293,Справка!$G$2:$H$579,2,0),\"\")","v":""}]
[null,null,null,null,{"$f":"IFERROR(VLOOKUP(D3294,Справка!$G$2:$H$579,2,0),\"\")","v":""}]
[null,null,null,null,{"$f":"IFERROR(VLOOKUP(D3295,Справка!$G$2:$H$579,2,0),\"\")","v":""}]
[null,null,null,null,{"$f":"IFERROR(VLOOKUP(D3296,Справка!$G$2:$H$579,2,0),\"\")","v":""}]
[null,null,null,null,{"$f":"IFERROR(VLOOKUP(D3297,Справка!$G$2:$H$579,2,0),\"\")","v":""}]
[null,null,null,null,{"$f":"IFERROR(VLOOKUP(D3298,Справка!$G$2:$H$579,2,0),\"\")","v":""}]
[null,null,null,null,{"$f":"IFERROR(VLOOKUP(D3299,Справка!$G$2:$H$579,2,0),\"\")","v":""}]
[null,null,null,null,{"$f":"IFERROR(VLOOKUP(D3300,Справка!$G$2:$H$579,2,0),\"\")","v":""}]
[null,null,null,null,{"$f":"IFERROR(VLOOKUP(D3301,Справка!$G$2:$H$579,2,0),\"\")","v":""}]
[null,null,null,null,{"$f":"IFERROR(VLOOKUP(D3302,Справка!$G$2:$H$579,2,0),\"\")","v":""}]
[null,null,null,null,{"$f":"IFERROR(VLOOKUP(D3303,Справка!$G$2:$H$579,2,0),\"\")","v":""}]
[null,null,null,null,{"$f":"IFERROR(VLOOKUP(D3304,Справка!$G$2:$H$579,2,0),\"\")","v":""}]
[null,null,null,null,{"$f":"IFERROR(VLOOKUP(D3305,Справка!$G$2:$H$579,2,0),\"\")","v":""}]
[null,null,null,null,{"$f":"IFERROR(VLOOKUP(D3306,Справка!$G$2:$H$579,2,0),\"\")","v":""}]
[null,null,null,null,{"$f":"IFERROR(VLOOKUP(D3307,Справка!$G$2:$H$579,2,0),\"\")","v":""}]
[null,null,null,null,{"$f":"IFERROR(VLOOKUP(D3308,Справка!$G$2:$H$579,2,0),\"\")","v":""}]
[null,null,null,null,{"$f":"IFERROR(VLOOKUP(D3309,Справка!$G$2:$H$579,2,0),\"\")","v":""}]
[null,null,null,null,{"$f":"IFERROR(VLOOKUP(D3310,Справка!$G$2:$H$579,2,0),\"\")","v":""}]
[null,null,null,null,{"$f":"IFERROR(VLOOKUP(D3311,Справка!$G$2:$H$579,2,0),\"\")","v":""}]
[null,null,null,null,{"$f":"IFERROR(VLOOKUP(D3312,Справка!$G$2:$H$579,2,0),\"\")","v":""}]
[null,null,null,null,{"$f":"IFERROR(VLOOKUP(D3313,Справка!$G$2:$H$579,2,0),\"\")","v":""}]
[null,null,null,null,{"$f":"IFERROR(VLOOKUP(D3314,Справка!$G$2:$H$579,2,0),\"\")","v":""}]
[null,null,null,null,{"$f":"IFERROR(VLOOKUP(D3315,Справка!$G$2:$H$579,2,0),\"\")","v":""}]
[null,null,null,null,{"$f":"IFERROR(VLOOKUP(D3316,Справка!$G$2:$H$579,2,0),\"\")","v":""}]
[null,null,null,null,{"$f":"IFERROR(VLOOKUP(D3317,Справка!$G$2:$H$579,2,0),\"\")","v":""}]
[null,null,null,null,{"$f":"IFERROR(VLOOKUP(D3318,Справка!$G$2:$H$579,2,0),\"\")","v":""}]
[null,null,null,null,{"$f":"IFERROR(VLOOKUP(D3319,Справка!$G$2:$H$579,2,0),\"\")","v":""}]
[null,null,null,null,{"$f":"IFERROR(VLOOKUP(D3320,Справка!$G$2:$H$579,2,0),\"\")","v":""}]
[null,null,null,null,{"$f":"IFERROR(VLOOKUP(D3321,Справка!$G$2:$H$579,2,0),\"\")","v":""}]
[null,null,null,null,{"$f":"IFERROR(VLOOKUP(D3322,Справка!$G$2:$H$579,2,0),\"\")","v":""}]
[null,null,null,null,{"$f":"IFERROR(VLOOKUP(D3323,Справка!$G$2:$H$579,2,0),\"\")","v":""}]
[null,null,null,null,{"$f":"IFERROR(VLOOKUP(D3324,Справка!$G$2:$H$579,2,0),\"\")","v":""}]
[null,null,null,null,{"$f":"IFERROR(VLOOKUP(D3325,Справка!$G$2:$H$579,2,0),\"\")","v":""}]
[null,null,null,null,{"$f":"IFERROR(VLOOKUP(D3326,Справка!$G$2:$H$579,2,0),\"\")","v":""}]
[null,null,null,null,{"$f":"IFERROR(VLOOKUP(D3327,Справка!$G$2:$H$579,2,0),\"\")","v":""}]
[null,null,null,null,{"$f":"IFERROR(VLOOKUP(D3328,Справка!$G$2:$H$579,2,0),\"\")","v":""}]
[null,null,null,null,{"$f":"IFERROR(VLOOKUP(D3329,Справка!$G$2:$H$579,2,0),\"\")","v":""}]
[null,null,null,null,{"$f":"IFERROR(VLOOKUP(D3330,Справка!$G$2:$H$579,2,0),\"\")","v":""}]
[null,null,null,null,{"$f":"IFERROR(VLOOKUP(D3331,Справка!$G$2:$H$579,2,0),\"\")","v":""}]
[null,null,null,null,{"$f":"IFERROR(VLOOKUP(D3332,Справка!$G$2:$H$579,2,0),\"\")","v":""}]
[null,null,null,null,{"$f":"IFERROR(VLOOKUP(D3333,Справка!$G$2:$H$579,2,0),\"\")","v":""}]
[null,null,null,null,{"$f":"IFERROR(VLOOKUP(D3334,Справка!$G$2:$H$579,2,0),\"\")","v":""}]
[null,null,null,null,{"$f":"IFERROR(VLOOKUP(D3335,Справка!$G$2:$H$579,2,0),\"\")","v":""}]
[null,null,null,null,{"$f":"IFERROR(VLOOKUP(D3336,Справка!$G$2:$H$579,2,0),\"\")","v":""}]
[null,null,null,null,{"$f":"IFERROR(VLOOKUP(D3337,Справка!$G$2:$H$579,2,0),\"\")","v":""}]
[null,null,null,null,{"$f":"IFERROR(VLOOKUP(D3338,Справка!$G$2:$H$579,2,0),\"\")","v":""}]
[null,null,null,null,{"$f":"IFERROR(VLOOKUP(D3339,Справка!$G$2:$H$579,2,0),\"\")","v":""}]
[null,null,null,null,{"$f":"IFERROR(VLOOKUP(D3340,Справка!$G$2:$H$579,2,0),\"\")","v":""}]
[null,null,null,null,{"$f":"IFERROR(VLOOKUP(D3341,Справка!$G$2:$H$579,2,0),\"\")","v":""}]
[null,null,null,null,{"$f":"IFERROR(VLOOKUP(D3342,Справка!$G$2:$H$579,2,0),\"\")","v":""}]
[null,null,null,null,{"$f":"IFERROR(VLOOKUP(D3343,Справка!$G$2:$H$579,2,0),\"\")","v":""}]
[null,null,null,null,{"$f":"IFERROR(VLOOKUP(D3344,Справка!$G$2:$H$579,2,0),\"\")","v":""}]
[null,null,null,null,{"$f":"IFERROR(VLOOKUP(D3345,Справка!$G$2:$H$579,2,0),\"\")","v":""}]
[null,null,null,null,{"$f":"IFERROR(VLOOKUP(D3346,Справка!$G$2:$H$579,2,0),\"\")","v":""}]
[null,null,null,null,{"$f":"IFERROR(VLOOKUP(D3347,Справка!$G$2:$H$579,2,0),\"\")","v":""}]
[null,null,null,null,{"$f":"IFERROR(VLOOKUP(D3348,Справка!$G$2:$H$579,2,0),\"\")","v":""}]
[null,null,null,null,{"$f":"IFERROR(VLOOKUP(D3349,Справка!$G$2:$H$579,2,0),\"\")","v":""}]
[null,null,null,null,{"$f":"IFERROR(VLOOKUP(D3350,Справка!$G$2:$H$579,2,0),\"\")","v":""}]
[null,null,null,null,{"$f":"IFERROR(VLOOKUP(D3351,Справка!$G$2:$H$579,2,0),\"\")","v":""}]
[null,null,null,null,{"$f":"IFERROR(VLOOKUP(D3352,Справка!$G$2:$H$579,2,0),\"\")","v":""}]
[null,null,null,null,{"$f":"IFERROR(VLOOKUP(D3353,Справка!$G$2:$H$579,2,0),\"\")","v":""}]
[null,null,null,null,{"$f":"IFERROR(VLOOKUP(D3354,Справка!$G$2:$H$579,2,0),\"\")","v":""}]
[null,null,null,null,{"$f":"IFERROR(VLOOKUP(D3355,Справка!$G$2:$H$579,2,0),\"\")","v":""}]
[null,null,null,null,{"$f":"IFERROR(VLOOKUP(D3356,Справка!$G$2:$H$579,2,0),\"\")","v":""}]
[null,null,null,null,{"$f":"IFERROR(VLOOKUP(D3357,Справка!$G$2:$H$579,2,0),\"\")","v":""}]
[null,null,null,null,{"$f":"IFERROR(VLOOKUP(D3358,Справка!$G$2:$H$579,2,0),\"\")","v":""}]
[null,null,null,null,{"$f":"IFERROR(VLOOKUP(D3359,Справка!$G$2:$H$579,2,0),\"\")","v":""}]
[null,null,null,null,{"$f":"IFERROR(VLOOKUP(D3360,Справка!$G$2:$H$579,2,0),\"\")","v":""}]
[null,null,null,null,{"$f":"IFERROR(VLOOKUP(D3361,Справка!$G$2:$H$579,2,0),\"\")","v":""}]
[null,null,null,null,{"$f":"IFERROR(VLOOKUP(D3362,Справка!$G$2:$H$579,2,0),\"\")","v":""}]
[null,null,null,null,{"$f":"IFERROR(VLOOKUP(D3363,Справка!$G$2:$H$579,2,0),\"\")","v":""}]
[null,null,null,null,{"$f":"IFERROR(VLOOKUP(D3364,Справка!$G$2:$H$579,2,0),\"\")","v":""}]
[null,null,null,null,{"$f":"IFERROR(VLOOKUP(D3365,Справка!$G$2:$H$579,2,0),\"\")","v":""}]
[null,null,null,null,{"$f":"IFERROR(VLOOKUP(D3366,Справка!$G$2:$H$579,2,0),\"\")","v":""}]
[null,null,null,null,{"$f":"IFERROR(VLOOKUP(D3367,Справка!$G$2:$H$579,2,0),\"\")","v":""}]
[null,null,null,null,{"$f":"IFERROR(VLOOKUP(D3368,Справка!$G$2:$H$579,2,0),\"\")","v":""}]
[null,null,null,null,{"$f":"IFERROR(VLOOKUP(D3369,Справка!$G$2:$H$579,2,0),\"\")","v":""}]
[null,null,null,null,{"$f":"IFERROR(VLOOKUP(D3370,Справка!$G$2:$H$579,2,0),\"\")","v":""}]
[null,null,null,null,{"$f":"IFERROR(VLOOKUP(D3371,Справка!$G$2:$H$579,2,0),\"\")","v":""}]
[null,null,null,null,{"$f":"IFERROR(VLOOKUP(D3372,Справка!$G$2:$H$579,2,0),\"\")","v":""}]
[null,null,null,null,{"$f":"IFERROR(VLOOKUP(D3373,Справка!$G$2:$H$579,2,0),\"\")","v":""}]
[null,null,null,null,{"$f":"IFERROR(VLOOKUP(D3374,Справка!$G$2:$H$579,2,0),\"\")","v":""}]
[null,null,null,null,{"$f":"IFERROR(VLOOKUP(D3375,Справка!$G$2:$H$579,2,0),\"\")","v":""}]
[null,null,null,null,{"$f":"IFERROR(VLOOKUP(D3376,Справка!$G$2:$H$579,2,0),\"\")","v":""}]
[null,null,null,null,{"$f":"IFERROR(VLOOKUP(D3377,Справка!$G$2:$H$579,2,0),\"\")","v":""}]
[null,null,null,null,{"$f":"IFERROR(VLOOKUP(D3378,Справка!$G$2:$H$579,2,0),\"\")","v":""}]
[null,null,null,null,{"$f":"IFERROR(VLOOKUP(D3379,Справка!$G$2:$H$579,2,0),\"\")","v":""}]
[null,null,null,null,{"$f":"IFERROR(VLOOKUP(D3380,Справка!$G$2:$H$579,2,0),\"\")","v":""}]
[null,null,null,null,{"$f":"IFERROR(VLOOKUP(D3381,Справка!$G$2:$H$579,2,0),\"\")","v":""}]
[null,null,null,null,{"$f":"IFERROR(VLOOKUP(D3382,Справка!$G$2:$H$579,2,0),\"\")","v":""}]
[null,null,null,null,{"$f":"IFERROR(VLOOKUP(D3383,Справка!$G$2:$H$579,2,0),\"\")","v":""}]
[null,null,null,null,{"$f":"IFERROR(VLOOKUP(D3384,Справка!$G$2:$H$579,2,0),\"\")","v":""}]
[null,null,null,null,{"$f":"IFERROR(VLOOKUP(D3385,Справка!$G$2:$H$579,2,0),\"\")","v":""}]
[null,null,null,null,{"$f":"IFERROR(VLOOKUP(D3386,Справка!$G$2:$H$579,2,0),\"\")","v":""}]
[null,null,null,null,{"$f":"IFERROR(VLOOKUP(D3387,Справка!$G$2:$H$579,2,0),\"\")","v":""}]
[null,null,null,null,{"$f":"IFERROR(VLOOKUP(D3388,Справка!$G$2:$H$579,2,0),\"\")","v":""}]
[null,null,null,null,{"$f":"IFERROR(VLOOKUP(D3389,Справка!$G$2:$H$579,2,0),\"\")","v":""}]
[null,null,null,null,{"$f":"IFERROR(VLOOKUP(D3390,Справка!$G$2:$H$579,2,0),\"\")","v":""}]
[null,null,null,null,{"$f":"IFERROR(VLOOKUP(D3391,Справка!$G$2:$H$579,2,0),\"\")","v":""}]
[null,null,null,null,{"$f":"IFERROR(VLOOKUP(D3392,Справка!$G$2:$H$579,2,0),\"\")","v":""}]
[null,null,null,null,{"$f":"IFERROR(VLOOKUP(D3393,Справка!$G$2:$H$579,2,0),\"\")","v":""}]
[null,null,null,null,{"$f":"IFERROR(VLOOKUP(D3394,Справка!$G$2:$H$579,2,0),\"\")","v":""}]
[null,null,null,null,{"$f":"IFERROR(VLOOKUP(D3395,Справка!$G$2:$H$579,2,0),\"\")","v":""}]
[null,null,null,null,{"$f":"IFERROR(VLOOKUP(D3396,Справка!$G$2:$H$579,2,0),\"\")","v":""}]
[null,null,null,null,{"$f":"IFERROR(VLOOKUP(D3397,Справка!$G$2:$H$579,2,0),\"\")","v":""}]
[null,null,null,null,{"$f":"IFERROR(VLOOKUP(D3398,Справка!$G$2:$H$579,2,0),\"\")","v":""}]
[null,null,null,null,{"$f":"IFERROR(VLOOKUP(D3399,Справка!$G$2:$H$579,2,0),\"\")","v":""}]
[null,null,null,null,{"$f":"IFERROR(VLOOKUP(D3400,Справка!$G$2:$H$579,2,0),\"\")","v":""}]
[null,null,null,null,{"$f":"IFERROR(VLOOKUP(D3401,Справка!$G$2:$H$579,2,0),\"\")","v":""}]
[null,null,null,null,{"$f":"IFERROR(VLOOKUP(D3402,Справка!$G$2:$H$579,2,0),\"\")","v":""}]
[null,null,null,null,{"$f":"IFERROR(VLOOKUP(D3403,Справка!$G$2:$H$579,2,0),\"\")","v":""}]
[null,null,null,null,{"$f":"IFERROR(VLOOKUP(D3404,Справка!$G$2:$H$579,2,0),\"\")","v":""}]
[null,null,null,null,{"$f":"IFERROR(VLOOKUP(D3405,Справка!$G$2:$H$579,2,0),\"\")","v":""}]
[null,null,null,null,{"$f":"IFERROR(VLOOKUP(D3406,Справка!$G$2:$H$579,2,0),\"\")","v":""}]
[null,null,null,null,{"$f":"IFERROR(VLOOKUP(D3407,Справка!$G$2:$H$579,2,0),\"\")","v":""}]
[null,null,null,null,{"$f":"IFERROR(VLOOKUP(D3408,Справка!$G$2:$H$579,2,0),\"\")","v":""}]
[null,null,null,null,{"$f":"IFERROR(VLOOKUP(D3409,Справка!$G$2:$H$579,2,0),\"\")","v":""}]
[null,null,null,null,{"$f":"IFERROR(VLOOKUP(D3410,Справка!$G$2:$H$579,2,0),\"\")","v":""}]
[null,null,null,null,{"$f":"IFERROR(VLOOKUP(D3411,Справка!$G$2:$H$579,2,0),\"\")","v":""}]
[null,null,null,null,{"$f":"IFERROR(VLOOKUP(D3412,Справка!$G$2:$H$579,2,0),\"\")","v":""}]
[null,null,null,null,{"$f":"IFERROR(VLOOKUP(D3413,Справка!$G$2:$H$579,2,0),\"\")","v":""}]
[null,null,null,null,{"$f":"IFERROR(VLOOKUP(D3414,Справка!$G$2:$H$579,2,0),\"\")","v":""}]
[null,null,null,null,{"$f":"IFERROR(VLOOKUP(D3415,Справка!$G$2:$H$579,2,0),\"\")","v":""}]
[null,null,null,null,{"$f":"IFERROR(VLOOKUP(D3416,Справка!$G$2:$H$579,2,0),\"\")","v":""}]
[null,null,null,null,{"$f":"IFERROR(VLOOKUP(D3417,Справка!$G$2:$H$579,2,0),\"\")","v":""}]
[null,null,null,null,{"$f":"IFERROR(VLOOKUP(D3418,Справка!$G$2:$H$579,2,0),\"\")","v":""}]
[null,null,null,null,{"$f":"IFERROR(VLOOKUP(D3419,Справка!$G$2:$H$579,2,0),\"\")","v":""}]
[null,null,null,null,{"$f":"IFERROR(VLOOKUP(D3420,Справка!$G$2:$H$579,2,0),\"\")","v":""}]
[null,null,null,null,{"$f":"IFERROR(VLOOKUP(D3421,Справка!$G$2:$H$579,2,0),\"\")","v":""}]
[null,null,null,null,{"$f":"IFERROR(VLOOKUP(D3422,Справка!$G$2:$H$579,2,0),\"\")","v":""}]
[null,null,null,null,{"$f":"IFERROR(VLOOKUP(D3423,Справка!$G$2:$H$579,2,0),\"\")","v":""}]
[null,null,null,null,{"$f":"IFERROR(VLOOKUP(D3424,Справка!$G$2:$H$579,2,0),\"\")","v":""}]
[null,null,null,null,{"$f":"IFERROR(VLOOKUP(D3425,Справка!$G$2:$H$579,2,0),\"\")","v":""}]
[null,null,null,null,{"$f":"IFERROR(VLOOKUP(D3426,Справка!$G$2:$H$579,2,0),\"\")","v":""}]
[null,null,null,null,{"$f":"IFERROR(VLOOKUP(D3427,Справка!$G$2:$H$579,2,0),\"\")","v":""}]
[null,null,null,null,{"$f":"IFERROR(VLOOKUP(D3428,Справка!$G$2:$H$579,2,0),\"\")","v":""}]
[null,null,null,null,{"$f":"IFERROR(VLOOKUP(D3429,Справка!$G$2:$H$579,2,0),\"\")","v":""}]
[null,null,null,null,{"$f":"IFERROR(VLOOKUP(D3430,Справка!$G$2:$H$579,2,0),\"\")","v":""}]
[null,null,null,null,{"$f":"IFERROR(VLOOKUP(D3431,Справка!$G$2:$H$579,2,0),\"\")","v":""}]
[null,null,null,null,{"$f":"IFERROR(VLOOKUP(D3432,Справка!$G$2:$H$579,2,0),\"\")","v":""}]
[null,null,null,null,{"$f":"IFERROR(VLOOKUP(D3433,Справка!$G$2:$H$579,2,0),\"\")","v":""}]
[null,null,null,null,{"$f":"IFERROR(VLOOKUP(D3434,Справка!$G$2:$H$579,2,0),\"\")","v":""}]
[null,null,null,null,{"$f":"IFERROR(VLOOKUP(D3435,Справка!$G$2:$H$579,2,0),\"\")","v":""}]
[null,null,null,null,{"$f":"IFERROR(VLOOKUP(D3436,Справка!$G$2:$H$579,2,0),\"\")","v":""}]
[null,null,null,null,{"$f":"IFERROR(VLOOKUP(D3437,Справка!$G$2:$H$579,2,0),\"\")","v":""}]
[null,null,null,null,{"$f":"IFERROR(VLOOKUP(D3438,Справка!$G$2:$H$579,2,0),\"\")","v":""}]
[null,null,null,null,{"$f":"IFERROR(VLOOKUP(D3439,Справка!$G$2:$H$579,2,0),\"\")","v":""}]
[null,null,null,null,{"$f":"IFERROR(VLOOKUP(D3440,Справка!$G$2:$H$579,2,0),\"\")","v":""}]
[null,null,null,null,{"$f":"IFERROR(VLOOKUP(D3441,Справка!$G$2:$H$579,2,0),\"\")","v":""}]
[null,null,null,null,{"$f":"IFERROR(VLOOKUP(D3442,Справка!$G$2:$H$579,2,0),\"\")","v":""}]
[null,null,null,null,{"$f":"IFERROR(VLOOKUP(D3443,Справка!$G$2:$H$579,2,0),\"\")","v":""}]
[null,null,null,null,{"$f":"IFERROR(VLOOKUP(D3444,Справка!$G$2:$H$579,2,0),\"\")","v":""}]
[null,null,null,null,{"$f":"IFERROR(VLOOKUP(D3445,Справка!$G$2:$H$579,2,0),\"\")","v":""}]
[null,null,null,null,{"$f":"IFERROR(VLOOKUP(D3446,Справка!$G$2:$H$579,2,0),\"\")","v":""}]
[null,null,null,null,{"$f":"IFERROR(VLOOKUP(D3447,Справка!$G$2:$H$579,2,0),\"\")","v":""}]
[null,null,null,null,{"$f":"IFERROR(VLOOKUP(D3448,Справка!$G$2:$H$579,2,0),\"\")","v":""}]
[null,null,null,null,{"$f":"IFERROR(VLOOKUP(D3449,Справка!$G$2:$H$579,2,0),\"\")","v":""}]
[null,null,null,null,{"$f":"IFERROR(VLOOKUP(D3450,Справка!$G$2:$H$579,2,0),\"\")","v":""}]
[null,null,null,null,{"$f":"IFERROR(VLOOKUP(D3451,Справка!$G$2:$H$579,2,0),\"\")","v":""}]
[null,null,null,null,{"$f":"IFERROR(VLOOKUP(D3452,Справка!$G$2:$H$579,2,0),\"\")","v":""}]
[null,null,null,null,{"$f":"IFERROR(VLOOKUP(D3453,Справка!$G$2:$H$579,2,0),\"\")","v":""}]
[null,null,null,null,{"$f":"IFERROR(VLOOKUP(D3454,Справка!$G$2:$H$579,2,0),\"\")","v":""}]
[null,null,null,null,{"$f":"IFERROR(VLOOKUP(D3455,Справка!$G$2:$H$579,2,0),\"\")","v":""}]
[null,null,null,null,{"$f":"IFERROR(VLOOKUP(D3456,Справка!$G$2:$H$579,2,0),\"\")","v":""}]
[null,null,null,null,{"$f":"IFERROR(VLOOKUP(D3457,Справка!$G$2:$H$579,2,0),\"\")","v":""}]
[null,null,null,null,{"$f":"IFERROR(VLOOKUP(D3458,Справка!$G$2:$H$579,2,0),\"\")","v":""}]
[null,null,null,null,{"$f":"IFERROR(VLOOKUP(D3459,Справка!$G$2:$H$579,2,0),\"\")","v":""}]
[null,null,null,null,{"$f":"IFERROR(VLOOKUP(D3460,Справка!$G$2:$H$579,2,0),\"\")","v":""}]
[null,null,null,null,{"$f":"IFERROR(VLOOKUP(D3461,Справка!$G$2:$H$579,2,0),\"\")","v":""}]
[null,null,null,null,{"$f":"IFERROR(VLOOKUP(D3462,Справка!$G$2:$H$579,2,0),\"\")","v":""}]
[null,null,null,null,{"$f":"IFERROR(VLOOKUP(D3463,Справка!$G$2:$H$579,2,0),\"\")","v":""}]
[null,null,null,null,{"$f":"IFERROR(VLOOKUP(D3464,Справка!$G$2:$H$579,2,0),\"\")","v":""}]
[null,null,null,null,{"$f":"IFERROR(VLOOKUP(D3465,Справка!$G$2:$H$579,2,0),\"\")","v":""}]
[null,null,null,null,{"$f":"IFERROR(VLOOKUP(D3466,Справка!$G$2:$H$579,2,0),\"\")","v":""}]
[null,null,null,null,{"$f":"IFERROR(VLOOKUP(D3467,Справка!$G$2:$H$579,2,0),\"\")","v":""}]
[null,null,null,null,{"$f":"IFERROR(VLOOKUP(D3468,Справка!$G$2:$H$579,2,0),\"\")","v":""}]
[null,null,null,null,{"$f":"IFERROR(VLOOKUP(D3469,Справка!$G$2:$H$579,2,0),\"\")","v":""}]
[null,null,null,null,{"$f":"IFERROR(VLOOKUP(D3470,Справка!$G$2:$H$579,2,0),\"\")","v":""}]
[null,null,null,null,{"$f":"IFERROR(VLOOKUP(D3471,Справка!$G$2:$H$579,2,0),\"\")","v":""}]
[null,null,null,null,{"$f":"IFERROR(VLOOKUP(D3472,Справка!$G$2:$H$579,2,0),\"\")","v":""}]
[null,null,null,null,{"$f":"IFERROR(VLOOKUP(D3473,Справка!$G$2:$H$579,2,0),\"\")","v":""}]
[null,null,null,null,{"$f":"IFERROR(VLOOKUP(D3474,Справка!$G$2:$H$579,2,0),\"\")","v":""}]
[null,null,null,null,{"$f":"IFERROR(VLOOKUP(D3475,Справка!$G$2:$H$579,2,0),\"\")","v":""}]
[null,null,null,null,{"$f":"IFERROR(VLOOKUP(D3476,Справка!$G$2:$H$579,2,0),\"\")","v":""}]
[null,null,null,null,{"$f":"IFERROR(VLOOKUP(D3477,Справка!$G$2:$H$579,2,0),\"\")","v":""}]
[null,null,null,null,{"$f":"IFERROR(VLOOKUP(D3478,Справка!$G$2:$H$579,2,0),\"\")","v":""}]
[null,null,null,null,{"$f":"IFERROR(VLOOKUP(D3479,Справка!$G$2:$H$579,2,0),\"\")","v":""}]
[null,null,null,null,{"$f":"IFERROR(VLOOKUP(D3480,Справка!$G$2:$H$579,2,0),\"\")","v":""}]
[null,null,null,null,{"$f":"IFERROR(VLOOKUP(D3481,Справка!$G$2:$H$579,2,0),\"\")","v":""}]
[null,null,null,null,{"$f":"IFERROR(VLOOKUP(D3482,Справка!$G$2:$H$579,2,0),\"\")","v":""}]
[null,null,null,null,{"$f":"IFERROR(VLOOKUP(D3483,Справка!$G$2:$H$579,2,0),\"\")","v":""}]
[null,null,null,null,{"$f":"IFERROR(VLOOKUP(D3484,Справка!$G$2:$H$579,2,0),\"\")","v":""}]
[null,null,null,null,{"$f":"IFERROR(VLOOKUP(D3485,Справка!$G$2:$H$579,2,0),\"\")","v":""}]
[null,null,null,null,{"$f":"IFERROR(VLOOKUP(D3486,Справка!$G$2:$H$579,2,0),\"\")","v":""}]
[null,null,null,null,{"$f":"IFERROR(VLOOKUP(D3487,Справка!$G$2:$H$579,2,0),\"\")","v":""}]
[null,null,null,null,{"$f":"IFERROR(VLOOKUP(D3488,Справка!$G$2:$H$579,2,0),\"\")","v":""}]
[null,null,null,null,{"$f":"IFERROR(VLOOKUP(D3489,Справка!$G$2:$H$579,2,0),\"\")","v":""}]
[null,null,null,null,{"$f":"IFERROR(VLOOKUP(D3490,Справка!$G$2:$H$579,2,0),\"\")","v":""}]
[null,null,null,null,{"$f":"IFERROR(VLOOKUP(D3491,Справка!$G$2:$H$579,2,0),\"\")","v":""}]
[null,null,null,null,{"$f":"IFERROR(VLOOKUP(D3492,Справка!$G$2:$H$579,2,0),\"\")","v":""}]
[null,null,null,null,{"$f":"IFERROR(VLOOKUP(D3493,Справка!$G$2:$H$579,2,0),\"\")","v":""}]
[null,null,null,null,{"$f":"IFERROR(VLOOKUP(D3494,Справка!$G$2:$H$579,2,0),\"\")","v":""}]
[null,null,null,null,{"$f":"IFERROR(VLOOKUP(D3495,Справка!$G$2:$H$579,2,0),\"\")","v":""}]
[null,null,null,null,{"$f":"IFERROR(VLOOKUP(D3496,Справка!$G$2:$H$579,2,0),\"\")","v":""}]
[null,null,null,null,{"$f":"IFERROR(VLOOKUP(D3497,Справка!$G$2:$H$579,2,0),\"\")","v":""}]
[null,null,null,null,{"$f":"IFERROR(VLOOKUP(D3498,Справка!$G$2:$H$579,2,0),\"\")","v":""}]
[null,null,null,null,{"$f":"IFERROR(VLOOKUP(D3499,Справка!$G$2:$H$579,2,0),\"\")","v":""}]
[null,null,null,null,{"$f":"IFERROR(VLOOKUP(D3500,Справка!$G$2:$H$579,2,0),\"\")","v":""}]
[null,null,null,null,{"$f":"IFERROR(VLOOKUP(D3501,Справка!$G$2:$H$579,2,0),\"\")","v":""}]
[null,null,null,null,{"$f":"IFERROR(VLOOKUP(D3502,Справка!$G$2:$H$579,2,0),\"\")","v":""}]
[null,null,null,null,{"$f":"IFERROR(VLOOKUP(D3503,Справка!$G$2:$H$579,2,0),\"\")","v":""}]
[null,null,null,null,{"$f":"IFERROR(VLOOKUP(D3504,Справка!$G$2:$H$579,2,0),\"\")","v":""}]
[null,null,null,null,{"$f":"IFERROR(VLOOKUP(D3505,Справка!$G$2:$H$579,2,0),\"\")","v":""}]
[null,null,null,null,{"$f":"IFERROR(VLOOKUP(D3506,Справка!$G$2:$H$579,2,0),\"\")","v":""}]
[null,null,null,null,{"$f":"IFERROR(VLOOKUP(D3507,Справка!$G$2:$H$579,2,0),\"\")","v":""}]
[null,null,null,null,{"$f":"IFERROR(VLOOKUP(D3508,Справка!$G$2:$H$579,2,0),\"\")","v":""}]
[null,null,null,null,{"$f":"IFERROR(VLOOKUP(D3509,Справка!$G$2:$H$579,2,0),\"\")","v":""}]
[null,null,null,null,{"$f":"IFERROR(VLOOKUP(D3510,Справка!$G$2:$H$579,2,0),\"\")","v":""}]
[null,null,null,null,{"$f":"IFERROR(VLOOKUP(D3511,Справка!$G$2:$H$579,2,0),\"\")","v":""}]
[null,null,null,null,{"$f":"IFERROR(VLOOKUP(D3512,Справка!$G$2:$H$579,2,0),\"\")","v":""}]
[null,null,null,null,{"$f":"IFERROR(VLOOKUP(D3513,Справка!$G$2:$H$579,2,0),\"\")","v":""}]
[null,null,null,null,{"$f":"IFERROR(VLOOKUP(D3514,Справка!$G$2:$H$579,2,0),\"\")","v":""}]
[null,null,null,null,{"$f":"IFERROR(VLOOKUP(D3515,Справка!$G$2:$H$579,2,0),\"\")","v":""}]
[null,null,null,null,{"$f":"IFERROR(VLOOKUP(D3516,Справка!$G$2:$H$579,2,0),\"\")","v":""}]
[null,null,null,null,{"$f":"IFERROR(VLOOKUP(D3517,Справка!$G$2:$H$579,2,0),\"\")","v":""}]
[null,null,null,null,{"$f":"IFERROR(VLOOKUP(D3518,Справка!$G$2:$H$579,2,0),\"\")","v":""}]
[null,null,null,null,{"$f":"IFERROR(VLOOKUP(D3519,Справка!$G$2:$H$579,2,0),\"\")","v":""}]
[null,null,null,null,{"$f":"IFERROR(VLOOKUP(D3520,Справка!$G$2:$H$579,2,0),\"\")","v":""}]
[null,null,null,null,{"$f":"IFERROR(VLOOKUP(D3521,Справка!$G$2:$H$579,2,0),\"\")","v":""}]
[null,null,null,null,{"$f":"IFERROR(VLOOKUP(D3522,Справка!$G$2:$H$579,2,0),\"\")","v":""}]
[null,null,null,null,{"$f":"IFERROR(VLOOKUP(D3523,Справка!$G$2:$H$579,2,0),\"\")","v":""}]
[null,null,null,null,{"$f":"IFERROR(VLOOKUP(D3524,Справка!$G$2:$H$579,2,0),\"\")","v":""}]
[null,null,null,null,{"$f":"IFERROR(VLOOKUP(D3525,Справка!$G$2:$H$579,2,0),\"\")","v":""}]
[null,null,null,null,{"$f":"IFERROR(VLOOKUP(D3526,Справка!$G$2:$H$579,2,0),\"\")","v":""}]
[null,null,null,null,{"$f":"IFERROR(VLOOKUP(D3527,Справка!$G$2:$H$579,2,0),\"\")","v":""}]
[null,null,null,null,{"$f":"IFERROR(VLOOKUP(D3528,Справка!$G$2:$H$579,2,0),\"\")","v":""}]
[null,null,null,null,{"$f":"IFERROR(VLOOKUP(D3529,Справка!$G$2:$H$579,2,0),\"\")","v":""}]
[null,null,null,null,{"$f":"IFERROR(VLOOKUP(D3530,Справка!$G$2:$H$579,2,0),\"\")","v":""}]
[null,null,null,null,{"$f":"IFERROR(VLOOKUP(D3531,Справка!$G$2:$H$579,2,0),\"\")","v":""}]
[null,null,null,null,{"$f":"IFERROR(VLOOKUP(D3532,Справка!$G$2:$H$579,2,0),\"\")","v":""}]
[null,null,null,null,{"$f":"IFERROR(VLOOKUP(D3533,Справка!$G$2:$H$579,2,0),\"\")","v":""}]
[null,null,null,null,{"$f":"IFERROR(VLOOKUP(D3534,Справка!$G$2:$H$579,2,0),\"\")","v":""}]
[null,null,null,null,{"$f":"IFERROR(VLOOKUP(D3535,Справка!$G$2:$H$579,2,0),\"\")","v":""}]
[null,null,null,null,{"$f":"IFERROR(VLOOKUP(D3536,Справка!$G$2:$H$579,2,0),\"\")","v":""}]
[null,null,null,null,{"$f":"IFERROR(VLOOKUP(D3537,Справка!$G$2:$H$579,2,0),\"\")","v":""}]
[null,null,null,null,{"$f":"IFERROR(VLOOKUP(D3538,Справка!$G$2:$H$579,2,0),\"\")","v":""}]
[null,null,null,null,{"$f":"IFERROR(VLOOKUP(D3539,Справка!$G$2:$H$579,2,0),\"\")","v":""}]
[null,null,null,null,{"$f":"IFERROR(VLOOKUP(D3540,Справка!$G$2:$H$579,2,0),\"\")","v":""}]
[null,null,null,null,{"$f":"IFERROR(VLOOKUP(D3541,Справка!$G$2:$H$579,2,0),\"\")","v":""}]
[null,null,null,null,{"$f":"IFERROR(VLOOKUP(D3542,Справка!$G$2:$H$579,2,0),\"\")","v":""}]
[null,null,null,null,{"$f":"IFERROR(VLOOKUP(D3543,Справка!$G$2:$H$579,2,0),\"\")","v":""}]
[null,null,null,null,{"$f":"IFERROR(VLOOKUP(D3544,Справка!$G$2:$H$579,2,0),\"\")","v":""}]
[null,null,null,null,{"$f":"IFERROR(VLOOKUP(D3545,Справка!$G$2:$H$579,2,0),\"\")","v":""}]
[null,null,null,null,{"$f":"IFERROR(VLOOKUP(D3546,Справка!$G$2:$H$579,2,0),\"\")","v":""}]
[null,null,null,null,{"$f":"IFERROR(VLOOKUP(D3547,Справка!$G$2:$H$579,2,0),\"\")","v":""}]
[null,null,null,null,{"$f":"IFERROR(VLOOKUP(D3548,Справка!$G$2:$H$579,2,0),\"\")","v":""}]
[null,null,null,null,{"$f":"IFERROR(VLOOKUP(D3549,Справка!$G$2:$H$579,2,0),\"\")","v":""}]
[null,null,null,null,{"$f":"IFERROR(VLOOKUP(D3550,Справка!$G$2:$H$579,2,0),\"\")","v":""}]
[null,null,null,null,{"$f":"IFERROR(VLOOKUP(D3551,Справка!$G$2:$H$579,2,0),\"\")","v":""}]
[null,null,null,null,{"$f":"IFERROR(VLOOKUP(D3552,Справка!$G$2:$H$579,2,0),\"\")","v":""}]
[null,null,null,null,{"$f":"IFERROR(VLOOKUP(D3553,Справка!$G$2:$H$579,2,0),\"\")","v":""}]
[null,null,null,null,{"$f":"IFERROR(VLOOKUP(D3554,Справка!$G$2:$H$579,2,0),\"\")","v":""}]
[null,null,null,null,{"$f":"IFERROR(VLOOKUP(D3555,Справка!$G$2:$H$579,2,0),\"\")","v":""}]
[null,null,null,null,{"$f":"IFERROR(VLOOKUP(D3556,Справка!$G$2:$H$579,2,0),\"\")","v":""}]
[null,null,null,null,{"$f":"IFERROR(VLOOKUP(D3557,Справка!$G$2:$H$579,2,0),\"\")","v":""}]
[null,null,null,null,{"$f":"IFERROR(VLOOKUP(D3558,Справка!$G$2:$H$579,2,0),\"\")","v":""}]
[null,null,null,null,{"$f":"IFERROR(VLOOKUP(D3559,Справка!$G$2:$H$579,2,0),\"\")","v":""}]
[null,null,null,null,{"$f":"IFERROR(VLOOKUP(D3560,Справка!$G$2:$H$579,2,0),\"\")","v":""}]
[null,null,null,null,{"$f":"IFERROR(VLOOKUP(D3561,Справка!$G$2:$H$579,2,0),\"\")","v":""}]
[null,null,null,null,{"$f":"IFERROR(VLOOKUP(D3562,Справка!$G$2:$H$579,2,0),\"\")","v":""}]
[null,null,null,null,{"$f":"IFERROR(VLOOKUP(D3563,Справка!$G$2:$H$579,2,0),\"\")","v":""}]
[null,null,null,null,{"$f":"IFERROR(VLOOKUP(D3564,Справка!$G$2:$H$579,2,0),\"\")","v":""}]
[null,null,null,null,{"$f":"IFERROR(VLOOKUP(D3565,Справка!$G$2:$H$579,2,0),\"\")","v":""}]
[null,null,null,null,{"$f":"IFERROR(VLOOKUP(D3566,Справка!$G$2:$H$579,2,0),\"\")","v":""}]
[null,null,null,null,{"$f":"IFERROR(VLOOKUP(D3567,Справка!$G$2:$H$579,2,0),\"\")","v":""}]
[null,null,null,null,{"$f":"IFERROR(VLOOKUP(D3568,Справка!$G$2:$H$579,2,0),\"\")","v":""}]
[null,null,null,null,{"$f":"IFERROR(VLOOKUP(D3569,Справка!$G$2:$H$579,2,0),\"\")","v":""}]
[null,null,null,null,{"$f":"IFERROR(VLOOKUP(D3570,Справка!$G$2:$H$579,2,0),\"\")","v":""}]
[null,null,null,null,{"$f":"IFERROR(VLOOKUP(D3571,Справка!$G$2:$H$579,2,0),\"\")","v":""}]
[null,null,null,null,{"$f":"IFERROR(VLOOKUP(D3572,Справка!$G$2:$H$579,2,0),\"\")","v":""}]
[null,null,null,null,{"$f":"IFERROR(VLOOKUP(D3573,Справка!$G$2:$H$579,2,0),\"\")","v":""}]
[null,null,null,null,{"$f":"IFERROR(VLOOKUP(D3574,Справка!$G$2:$H$579,2,0),\"\")","v":""}]
[null,null,null,null,{"$f":"IFERROR(VLOOKUP(D3575,Справка!$G$2:$H$579,2,0),\"\")","v":""}]
[null,null,null,null,{"$f":"IFERROR(VLOOKUP(D3576,Справка!$G$2:$H$579,2,0),\"\")","v":""}]
[null,null,null,null,{"$f":"IFERROR(VLOOKUP(D3577,Справка!$G$2:$H$579,2,0),\"\")","v":""}]
[null,null,null,null,{"$f":"IFERROR(VLOOKUP(D3578,Справка!$G$2:$H$579,2,0),\"\")","v":""}]
[null,null,null,null,{"$f":"IFERROR(VLOOKUP(D3579,Справка!$G$2:$H$579,2,0),\"\")","v":""}]
[null,null,null,null,{"$f":"IFERROR(VLOOKUP(D3580,Справка!$G$2:$H$579,2,0),\"\")","v":""}]
[null,null,null,null,{"$f":"IFERROR(VLOOKUP(D3581,Справка!$G$2:$H$579,2,0),\"\")","v":""}]
[null,null,null,null,{"$f":"IFERROR(VLOOKUP(D3582,Справка!$G$2:$H$579,2,0),\"\")","v":""}]
[null,null,null,null,{"$f":"IFERROR(VLOOKUP(D3583,Справка!$G$2:$H$579,2,0),\"\")","v":""}]
[null,null,null,null,{"$f":"IFERROR(VLOOKUP(D3584,Справка!$G$2:$H$579,2,0),\"\")","v":""}]
[null,null,null,null,{"$f":"IFERROR(VLOOKUP(D3585,Справка!$G$2:$H$579,2,0),\"\")","v":""}]
[null,null,null,null,{"$f":"IFERROR(VLOOKUP(D3586,Справка!$G$2:$H$579,2,0),\"\")","v":""}]
[null,null,null,null,{"$f":"IFERROR(VLOOKUP(D3587,Справка!$G$2:$H$579,2,0),\"\")","v":""}]
[null,null,null,null,{"$f":"IFERROR(VLOOKUP(D3588,Справка!$G$2:$H$579,2,0),\"\")","v":""}]
[null,null,null,null,{"$f":"IFERROR(VLOOKUP(D3589,Справка!$G$2:$H$579,2,0),\"\")","v":""}]
[null,null,null,null,{"$f":"IFERROR(VLOOKUP(D3590,Справка!$G$2:$H$579,2,0),\"\")","v":""}]
[null,null,null,null,{"$f":"IFERROR(VLOOKUP(D3591,Справка!$G$2:$H$579,2,0),\"\")","v":""}]
[null,null,null,null,{"$f":"IFERROR(VLOOKUP(D3592,Справка!$G$2:$H$579,2,0),\"\")","v":""}]
[null,null,null,null,{"$f":"IFERROR(VLOOKUP(D3593,Справка!$G$2:$H$579,2,0),\"\")","v":""}]
[null,null,null,null,{"$f":"IFERROR(VLOOKUP(D3594,Справка!$G$2:$H$579,2,0),\"\")","v":""}]
[null,null,null,null,{"$f":"IFERROR(VLOOKUP(D3595,Справка!$G$2:$H$579,2,0),\"\")","v":""}]
[null,null,null,null,{"$f":"IFERROR(VLOOKUP(D3596,Справка!$G$2:$H$579,2,0),\"\")","v":""}]
[null,null,null,null,{"$f":"IFERROR(VLOOKUP(D3597,Справка!$G$2:$H$579,2,0),\"\")","v":""}]
[null,null,null,null,{"$f":"IFERROR(VLOOKUP(D3598,Справка!$G$2:$H$579,2,0),\"\")","v":""}]
[null,null,null,null,{"$f":"IFERROR(VLOOKUP(D3599,Справка!$G$2:$H$579,2,0),\"\")","v":""}]
[null,null,null,null,{"$f":"IFERROR(VLOOKUP(D3600,Справка!$G$2:$H$579,2,0),\"\")","v":""}]
[null,null,null,null,{"$f":"IFERROR(VLOOKUP(D3601,Справка!$G$2:$H$579,2,0),\"\")","v":""}]
[null,null,null,null,{"$f":"IFERROR(VLOOKUP(D3602,Справка!$G$2:$H$579,2,0),\"\")","v":""}]
[null,null,null,null,{"$f":"IFERROR(VLOOKUP(D3603,Справка!$G$2:$H$579,2,0),\"\")","v":""}]
[null,null,null,null,{"$f":"IFERROR(VLOOKUP(D3604,Справка!$G$2:$H$579,2,0),\"\")","v":""}]
[null,null,null,null,{"$f":"IFERROR(VLOOKUP(D3605,Справка!$G$2:$H$579,2,0),\"\")","v":""}]
[null,null,null,null,{"$f":"IFERROR(VLOOKUP(D3606,Справка!$G$2:$H$579,2,0),\"\")","v":""}]
[null,null,null,null,{"$f":"IFERROR(VLOOKUP(D3607,Справка!$G$2:$H$579,2,0),\"\")","v":""}]
[null,null,null,null,{"$f":"IFERROR(VLOOKUP(D3608,Справка!$G$2:$H$579,2,0),\"\")","v":""}]
[null,null,null,null,{"$f":"IFERROR(VLOOKUP(D3609,Справка!$G$2:$H$579,2,0),\"\")","v":""}]
[null,null,null,null,{"$f":"IFERROR(VLOOKUP(D3610,Справка!$G$2:$H$579,2,0),\"\")","v":""}]
[null,null,null,null,{"$f":"IFERROR(VLOOKUP(D3611,Справка!$G$2:$H$579,2,0),\"\")","v":""}]
[null,null,null,null,{"$f":"IFERROR(VLOOKUP(D3612,Справка!$G$2:$H$579,2,0),\"\")","v":""}]
[null,null,null,null,{"$f":"IFERROR(VLOOKUP(D3613,Справка!$G$2:$H$579,2,0),\"\")","v":""}]
[null,null,null,null,{"$f":"IFERROR(VLOOKUP(D3614,Справка!$G$2:$H$579,2,0),\"\")","v":""}]
[null,null,null,null,{"$f":"IFERROR(VLOOKUP(D3615,Справка!$G$2:$H$579,2,0),\"\")","v":""}]
[null,null,null,null,{"$f":"IFERROR(VLOOKUP(D3616,Справка!$G$2:$H$579,2,0),\"\")","v":""}]
[null,null,null,null,{"$f":"IFERROR(VLOOKUP(D3617,Справка!$G$2:$H$579,2,0),\"\")","v":""}]
[null,null,null,null,{"$f":"IFERROR(VLOOKUP(D3618,Справка!$G$2:$H$579,2,0),\"\")","v":""}]
[null,null,null,null,{"$f":"IFERROR(VLOOKUP(D3619,Справка!$G$2:$H$579,2,0),\"\")","v":""}]
[null,null,null,null,{"$f":"IFERROR(VLOOKUP(D3620,Справка!$G$2:$H$579,2,0),\"\")","v":""}]
[null,null,null,null,{"$f":"IFERROR(VLOOKUP(D3621,Справка!$G$2:$H$579,2,0),\"\")","v":""}]
[null,null,null,null,{"$f":"IFERROR(VLOOKUP(D3622,Справка!$G$2:$H$579,2,0),\"\")","v":""}]
[null,null,null,null,{"$f":"IFERROR(VLOOKUP(D3623,Справка!$G$2:$H$579,2,0),\"\")","v":""}]
[null,null,null,null,{"$f":"IFERROR(VLOOKUP(D3624,Справка!$G$2:$H$579,2,0),\"\")","v":""}]
[null,null,null,null,{"$f":"IFERROR(VLOOKUP(D3625,Справка!$G$2:$H$579,2,0),\"\")","v":""}]
[null,null,null,null,{"$f":"IFERROR(VLOOKUP(D3626,Справка!$G$2:$H$579,2,0),\"\")","v":""}]
[null,null,null,null,{"$f":"IFERROR(VLOOKUP(D3627,Справка!$G$2:$H$579,2,0),\"\")","v":""}]
[null,null,null,null,{"$f":"IFERROR(VLOOKUP(D3628,Справка!$G$2:$H$579,2,0),\"\")","v":""}]
[null,null,null,null,{"$f":"IFERROR(VLOOKUP(D3629,Справка!$G$2:$H$579,2,0),\"\")","v":""}]
[null,null,null,null,{"$f":"IFERROR(VLOOKUP(D3630,Справка!$G$2:$H$579,2,0),\"\")","v":""}]
[null,null,null,null,{"$f":"IFERROR(VLOOKUP(D3631,Справка!$G$2:$H$579,2,0),\"\")","v":""}]
[null,null,null,null,{"$f":"IFERROR(VLOOKUP(D3632,Справка!$G$2:$H$579,2,0),\"\")","v":""}]
[null,null,null,null,{"$f":"IFERROR(VLOOKUP(D3633,Справка!$G$2:$H$579,2,0),\"\")","v":""}]
[null,null,null,null,{"$f":"IFERROR(VLOOKUP(D3634,Справка!$G$2:$H$579,2,0),\"\")","v":""}]
[null,null,null,null,{"$f":"IFERROR(VLOOKUP(D3635,Справка!$G$2:$H$579,2,0),\"\")","v":""}]
[null,null,null,null,{"$f":"IFERROR(VLOOKUP(D3636,Справка!$G$2:$H$579,2,0),\"\")","v":""}]
[null,null,null,null,{"$f":"IFERROR(VLOOKUP(D3637,Справка!$G$2:$H$579,2,0),\"\")","v":""}]
[null,null,null,null,{"$f":"IFERROR(VLOOKUP(D3638,Справка!$G$2:$H$579,2,0),\"\")","v":""}]
[null,null,null,null,{"$f":"IFERROR(VLOOKUP(D3639,Справка!$G$2:$H$579,2,0),\"\")","v":""}]
[null,null,null,null,{"$f":"IFERROR(VLOOKUP(D3640,Справка!$G$2:$H$579,2,0),\"\")","v":""}]
[null,null,null,null,{"$f":"IFERROR(VLOOKUP(D3641,Справка!$G$2:$H$579,2,0),\"\")","v":""}]
[null,null,null,null,{"$f":"IFERROR(VLOOKUP(D3642,Справка!$G$2:$H$579,2,0),\"\")","v":""}]
[null,null,null,null,{"$f":"IFERROR(VLOOKUP(D3643,Справка!$G$2:$H$579,2,0),\"\")","v":""}]
[null,null,null,null,{"$f":"IFERROR(VLOOKUP(D3644,Справка!$G$2:$H$579,2,0),\"\")","v":""}]
[null,null,null,null,{"$f":"IFERROR(VLOOKUP(D3645,Справка!$G$2:$H$579,2,0),\"\")","v":""}]
[null,null,null,null,{"$f":"IFERROR(VLOOKUP(D3646,Справка!$G$2:$H$579,2,0),\"\")","v":""}]
[null,null,null,null,{"$f":"IFERROR(VLOOKUP(D3647,Справка!$G$2:$H$579,2,0),\"\")","v":""}]
[null,null,null,null,{"$f":"IFERROR(VLOOKUP(D3648,Справка!$G$2:$H$579,2,0),\"\")","v":""}]
[null,null,null,null,{"$f":"IFERROR(VLOOKUP(D3649,Справка!$G$2:$H$579,2,0),\"\")","v":""}]
[null,null,null,null,{"$f":"IFERROR(VLOOKUP(D3650,Справка!$G$2:$H$579,2,0),\"\")","v":""}]
[null,null,null,null,{"$f":"IFERROR(VLOOKUP(D3651,Справка!$G$2:$H$579,2,0),\"\")","v":""}]
[null,null,null,null,{"$f":"IFERROR(VLOOKUP(D3652,Справка!$G$2:$H$579,2,0),\"\")","v":""}]
[null,null,null,null,{"$f":"IFERROR(VLOOKUP(D3653,Справка!$G$2:$H$579,2,0),\"\")","v":""}]
[null,null,null,null,{"$f":"IFERROR(VLOOKUP(D3654,Справка!$G$2:$H$579,2,0),\"\")","v":""}]
[null,null,null,null,{"$f":"IFERROR(VLOOKUP(D3655,Справка!$G$2:$H$579,2,0),\"\")","v":""}]
[null,null,null,null,{"$f":"IFERROR(VLOOKUP(D3656,Справка!$G$2:$H$579,2,0),\"\")","v":""}]
[null,null,null,null,{"$f":"IFERROR(VLOOKUP(D3657,Справка!$G$2:$H$579,2,0),\"\")","v":""}]
[null,null,null,null,{"$f":"IFERROR(VLOOKUP(D3658,Справка!$G$2:$H$579,2,0),\"\")","v":""}]
[null,null,null,null,{"$f":"IFERROR(VLOOKUP(D3659,Справка!$G$2:$H$579,2,0),\"\")","v":""}]
[null,null,null,null,{"$f":"IFERROR(VLOOKUP(D3660,Справка!$G$2:$H$579,2,0),\"\")","v":""}]
[null,null,null,null,{"$f":"IFERROR(VLOOKUP(D3661,Справка!$G$2:$H$579,2,0),\"\")","v":""}]
[null,null,null,null,{"$f":"IFERROR(VLOOKUP(D3662,Справка!$G$2:$H$579,2,0),\"\")","v":""}]
[null,null,null,null,{"$f":"IFERROR(VLOOKUP(D3663,Справка!$G$2:$H$579,2,0),\"\")","v":""}]
[null,null,null,null,{"$f":"IFERROR(VLOOKUP(D3664,Справка!$G$2:$H$579,2,0),\"\")","v":""}]
[null,null,null,null,{"$f":"IFERROR(VLOOKUP(D3665,Справка!$G$2:$H$579,2,0),\"\")","v":""}]
[null,null,null,null,{"$f":"IFERROR(VLOOKUP(D3666,Справка!$G$2:$H$579,2,0),\"\")","v":""}]
[null,null,null,null,{"$f":"IFERROR(VLOOKUP(D3667,Справка!$G$2:$H$579,2,0),\"\")","v":""}]
[null,null,null,null,{"$f":"IFERROR(VLOOKUP(D3668,Справка!$G$2:$H$579,2,0),\"\")","v":""}]
[null,null,null,null,{"$f":"IFERROR(VLOOKUP(D3669,Справка!$G$2:$H$579,2,0),\"\")","v":""}]
[null,null,null,null,{"$f":"IFERROR(VLOOKUP(D3670,Справка!$G$2:$H$579,2,0),\"\")","v":""}]
[null,null,null,null,{"$f":"IFERROR(VLOOKUP(D3671,Справка!$G$2:$H$579,2,0),\"\")","v":""}]
[null,null,null,null,{"$f":"IFERROR(VLOOKUP(D3672,Справка!$G$2:$H$579,2,0),\"\")","v":""}]
[null,null,null,null,{"$f":"IFERROR(VLOOKUP(D3673,Справка!$G$2:$H$579,2,0),\"\")","v":""}]
[null,null,null,null,{"$f":"IFERROR(VLOOKUP(D3674,Справка!$G$2:$H$579,2,0),\"\")","v":""}]
[null,null,null,null,{"$f":"IFERROR(VLOOKUP(D3675,Справка!$G$2:$H$579,2,0),\"\")","v":""}]
[null,null,null,null,{"$f":"IFERROR(VLOOKUP(D3676,Справка!$G$2:$H$579,2,0),\"\")","v":""}]
[null,null,null,null,{"$f":"IFERROR(VLOOKUP(D3677,Справка!$G$2:$H$579,2,0),\"\")","v":""}]
[null,null,null,null,{"$f":"IFERROR(VLOOKUP(D3678,Справка!$G$2:$H$579,2,0),\"\")","v":""}]
[null,null,null,null,{"$f":"IFERROR(VLOOKUP(D3679,Справка!$G$2:$H$579,2,0),\"\")","v":""}]
[null,null,null,null,{"$f":"IFERROR(VLOOKUP(D3680,Справка!$G$2:$H$579,2,0),\"\")","v":""}]
[null,null,null,null,{"$f":"IFERROR(VLOOKUP(D3681,Справка!$G$2:$H$579,2,0),\"\")","v":""}]
[null,null,null,null,{"$f":"IFERROR(VLOOKUP(D3682,Справка!$G$2:$H$579,2,0),\"\")","v":""}]
[null,null,null,null,{"$f":"IFERROR(VLOOKUP(D3683,Справка!$G$2:$H$579,2,0),\"\")","v":""}]
[null,null,null,null,{"$f":"IFERROR(VLOOKUP(D3684,Справка!$G$2:$H$579,2,0),\"\")","v":""}]
[null,null,null,null,{"$f":"IFERROR(VLOOKUP(D3685,Справка!$G$2:$H$579,2,0),\"\")","v":""}]
[null,null,null,null,{"$f":"IFERROR(VLOOKUP(D3686,Справка!$G$2:$H$579,2,0),\"\")","v":""}]
[null,null,null,null,{"$f":"IFERROR(VLOOKUP(D3687,Справка!$G$2:$H$579,2,0),\"\")","v":""}]
[null,null,null,null,{"$f":"IFERROR(VLOOKUP(D3688,Справка!$G$2:$H$579,2,0),\"\")","v":""}]
[null,null,null,null,{"$f":"IFERROR(VLOOKUP(D3689,Справка!$G$2:$H$579,2,0),\"\")","v":""}]
[null,null,null,null,{"$f":"IFERROR(VLOOKUP(D3690,Справка!$G$2:$H$579,2,0),\"\")","v":""}]
[null,null,null,null,{"$f":"IFERROR(VLOOKUP(D3691,Справка!$G$2:$H$579,2,0),\"\")","v":""}]
[null,null,null,null,{"$f":"IFERROR(VLOOKUP(D3692,Справка!$G$2:$H$579,2,0),\"\")","v":""}]
[null,null,null,null,{"$f":"IFERROR(VLOOKUP(D3693,Справка!$G$2:$H$579,2,0),\"\")","v":""}]
[null,null,null,null,{"$f":"IFERROR(VLOOKUP(D3694,Справка!$G$2:$H$579,2,0),\"\")","v":""}]
[null,null,null,null,{"$f":"IFERROR(VLOOKUP(D3695,Справка!$G$2:$H$579,2,0),\"\")","v":""}]
[null,null,null,null,{"$f":"IFERROR(VLOOKUP(D3696,Справка!$G$2:$H$579,2,0),\"\")","v":""}]
[null,null,null,null,{"$f":"IFERROR(VLOOKUP(D3697,Справка!$G$2:$H$579,2,0),\"\")","v":""}]
[null,null,null,null,{"$f":"IFERROR(VLOOKUP(D3698,Справка!$G$2:$H$579,2,0),\"\")","v":""}]
[null,null,null,null,{"$f":"IFERROR(VLOOKUP(D3699,Справка!$G$2:$H$579,2,0),\"\")","v":""}]
[null,null,null,null,{"$f":"IFERROR(VLOOKUP(D3700,Справка!$G$2:$H$579,2,0),\"\")","v":""}]
[null,null,null,null,{"$f":"IFERROR(VLOOKUP(D3701,Справка!$G$2:$H$579,2,0),\"\")","v":""}]
[null,null,null,null,{"$f":"IFERROR(VLOOKUP(D3702,Справка!$G$2:$H$579,2,0),\"\")","v":""}]
[null,null,null,null,{"$f":"IFERROR(VLOOKUP(D3703,Справка!$G$2:$H$579,2,0),\"\")","v":""}]
[null,null,null,null,{"$f":"IFERROR(VLOOKUP(D3704,Справка!$G$2:$H$579,2,0),\"\")","v":""}]
[null,null,null,null,{"$f":"IFERROR(VLOOKUP(D3705,Справка!$G$2:$H$579,2,0),\"\")","v":""}]
[null,null,null,null,{"$f":"IFERROR(VLOOKUP(D3706,Справка!$G$2:$H$579,2,0),\"\")","v":""}]
[null,null,null,null,{"$f":"IFERROR(VLOOKUP(D3707,Справка!$G$2:$H$579,2,0),\"\")","v":""}]
[null,null,null,null,{"$f":"IFERROR(VLOOKUP(D3708,Справка!$G$2:$H$579,2,0),\"\")","v":""}]
[null,null,null,null,{"$f":"IFERROR(VLOOKUP(D3709,Справка!$G$2:$H$579,2,0),\"\")","v":""}]
[null,null,null,null,{"$f":"IFERROR(VLOOKUP(D3710,Справка!$G$2:$H$579,2,0),\"\")","v":""}]
[null,null,null,null,{"$f":"IFERROR(VLOOKUP(D3711,Справка!$G$2:$H$579,2,0),\"\")","v":""}]
[null,null,null,null,{"$f":"IFERROR(VLOOKUP(D3712,Справка!$G$2:$H$579,2,0),\"\")","v":""}]
[null,null,null,null,{"$f":"IFERROR(VLOOKUP(D3713,Справка!$G$2:$H$579,2,0),\"\")","v":""}]
[null,null,null,null,{"$f":"IFERROR(VLOOKUP(D3714,Справка!$G$2:$H$579,2,0),\"\")","v":""}]
[null,null,null,null,{"$f":"IFERROR(VLOOKUP(D3715,Справка!$G$2:$H$579,2,0),\"\")","v":""}]
[null,null,null,null,{"$f":"IFERROR(VLOOKUP(D3716,Справка!$G$2:$H$579,2,0),\"\")","v":""}]
[null,null,null,null,{"$f":"IFERROR(VLOOKUP(D3717,Справка!$G$2:$H$579,2,0),\"\")","v":""}]
[null,null,null,null,{"$f":"IFERROR(VLOOKUP(D3718,Справка!$G$2:$H$579,2,0),\"\")","v":""}]
[null,null,null,null,{"$f":"IFERROR(VLOOKUP(D3719,Справка!$G$2:$H$579,2,0),\"\")","v":""}]
[null,null,null,null,{"$f":"IFERROR(VLOOKUP(D3720,Справка!$G$2:$H$579,2,0),\"\")","v":""}]
[null,null,null,null,{"$f":"IFERROR(VLOOKUP(D3721,Справка!$G$2:$H$579,2,0),\"\")","v":""}]
[null,null,null,null,{"$f":"IFERROR(VLOOKUP(D3722,Справка!$G$2:$H$579,2,0),\"\")","v":""}]
[null,null,null,null,{"$f":"IFERROR(VLOOKUP(D3723,Справка!$G$2:$H$579,2,0),\"\")","v":""}]
[null,null,null,null,{"$f":"IFERROR(VLOOKUP(D3724,Справка!$G$2:$H$579,2,0),\"\")","v":""}]
[null,null,null,null,{"$f":"IFERROR(VLOOKUP(D3725,Справка!$G$2:$H$579,2,0),\"\")","v":""}]
[null,null,null,null,{"$f":"IFERROR(VLOOKUP(D3726,Справка!$G$2:$H$579,2,0),\"\")","v":""}]
[null,null,null,null,{"$f":"IFERROR(VLOOKUP(D3727,Справка!$G$2:$H$579,2,0),\"\")","v":""}]
[null,null,null,null,{"$f":"IFERROR(VLOOKUP(D3728,Справка!$G$2:$H$579,2,0),\"\")","v":""}]
[null,null,null,null,{"$f":"IFERROR(VLOOKUP(D3729,Справка!$G$2:$H$579,2,0),\"\")","v":""}]
[null,null,null,null,{"$f":"IFERROR(VLOOKUP(D3730,Справка!$G$2:$H$579,2,0),\"\")","v":""}]
[null,null,null,null,{"$f":"IFERROR(VLOOKUP(D3731,Справка!$G$2:$H$579,2,0),\"\")","v":""}]
[null,null,null,null,{"$f":"IFERROR(VLOOKUP(D3732,Справка!$G$2:$H$579,2,0),\"\")","v":""}]
[null,null,null,null,{"$f":"IFERROR(VLOOKUP(D3733,Справка!$G$2:$H$579,2,0),\"\")","v":""}]
[null,null,null,null,{"$f":"IFERROR(VLOOKUP(D3734,Справка!$G$2:$H$579,2,0),\"\")","v":""}]
[null,null,null,null,{"$f":"IFERROR(VLOOKUP(D3735,Справка!$G$2:$H$579,2,0),\"\")","v":""}]
[null,null,null,null,{"$f":"IFERROR(VLOOKUP(D3736,Справка!$G$2:$H$579,2,0),\"\")","v":""}]
[null,null,null,null,{"$f":"IFERROR(VLOOKUP(D3737,Справка!$G$2:$H$579,2,0),\"\")","v":""}]
[null,null,null,null,{"$f":"IFERROR(VLOOKUP(D3738,Справка!$G$2:$H$579,2,0),\"\")","v":""}]
[null,null,null,null,{"$f":"IFERROR(VLOOKUP(D3739,Справка!$G$2:$H$579,2,0),\"\")","v":""}]
[null,null,null,null,{"$f":"IFERROR(VLOOKUP(D3740,Справка!$G$2:$H$579,2,0),\"\")","v":""}]
[null,null,null,null,{"$f":"IFERROR(VLOOKUP(D3741,Справка!$G$2:$H$579,2,0),\"\")","v":""}]
[null,null,null,null,{"$f":"IFERROR(VLOOKUP(D3742,Справка!$G$2:$H$579,2,0),\"\")","v":""}]
[null,null,null,null,{"$f":"IFERROR(VLOOKUP(D3743,Справка!$G$2:$H$579,2,0),\"\")","v":""}]
[null,null,null,null,{"$f":"IFERROR(VLOOKUP(D3744,Справка!$G$2:$H$579,2,0),\"\")","v":""}]
[null,null,null,null,{"$f":"IFERROR(VLOOKUP(D3745,Справка!$G$2:$H$579,2,0),\"\")","v":""}]
[null,null,null,null,{"$f":"IFERROR(VLOOKUP(D3746,Справка!$G$2:$H$579,2,0),\"\")","v":""}]
[null,null,null,null,{"$f":"IFERROR(VLOOKUP(D3747,Справка!$G$2:$H$579,2,0),\"\")","v":""}]
[null,null,null,null,{"$f":"IFERROR(VLOOKUP(D3748,Справка!$G$2:$H$579,2,0),\"\")","v":""}]
[null,null,null,null,{"$f":"IFERROR(VLOOKUP(D3749,Справка!$G$2:$H$579,2,0),\"\")","v":""}]
[null,null,null,null,{"$f":"IFERROR(VLOOKUP(D3750,Справка!$G$2:$H$579,2,0),\"\")","v":""}]
[null,null,null,null,{"$f":"IFERROR(VLOOKUP(D3751,Справка!$G$2:$H$579,2,0),\"\")","v":""}]
[null,null,null,null,{"$f":"IFERROR(VLOOKUP(D3752,Справка!$G$2:$H$579,2,0),\"\")","v":""}]
[null,null,null,null,{"$f":"IFERROR(VLOOKUP(D3753,Справка!$G$2:$H$579,2,0),\"\")","v":""}]
[null,null,null,null,{"$f":"IFERROR(VLOOKUP(D3754,Справка!$G$2:$H$579,2,0),\"\")","v":""}]
[null,null,null,null,{"$f":"IFERROR(VLOOKUP(D3755,Справка!$G$2:$H$579,2,0),\"\")","v":""}]
[null,null,null,null,{"$f":"IFERROR(VLOOKUP(D3756,Справка!$G$2:$H$579,2,0),\"\")","v":""}]
[null,null,null,null,{"$f":"IFERROR(VLOOKUP(D3757,Справка!$G$2:$H$579,2,0),\"\")","v":""}]
[null,null,null,null,{"$f":"IFERROR(VLOOKUP(D3758,Справка!$G$2:$H$579,2,0),\"\")","v":""}]
[null,null,null,null,{"$f":"IFERROR(VLOOKUP(D3759,Справка!$G$2:$H$579,2,0),\"\")","v":""}]
[null,null,null,null,{"$f":"IFERROR(VLOOKUP(D3760,Справка!$G$2:$H$579,2,0),\"\")","v":""}]
[null,null,null,null,{"$f":"IFERROR(VLOOKUP(D3761,Справка!$G$2:$H$579,2,0),\"\")","v":""}]
[null,null,null,null,{"$f":"IFERROR(VLOOKUP(D3762,Справка!$G$2:$H$579,2,0),\"\")","v":""}]
[null,null,null,null,{"$f":"IFERROR(VLOOKUP(D3763,Справка!$G$2:$H$579,2,0),\"\")","v":""}]
[null,null,null,null,{"$f":"IFERROR(VLOOKUP(D3764,Справка!$G$2:$H$579,2,0),\"\")","v":""}]
[null,null,null,null,{"$f":"IFERROR(VLOOKUP(D3765,Справка!$G$2:$H$579,2,0),\"\")","v":""}]
[null,null,null,null,{"$f":"IFERROR(VLOOKUP(D3766,Справка!$G$2:$H$579,2,0),\"\")","v":""}]
[null,null,null,null,{"$f":"IFERROR(VLOOKUP(D3767,Справка!$G$2:$H$579,2,0),\"\")","v":""}]
[null,null,null,null,{"$f":"IFERROR(VLOOKUP(D3768,Справка!$G$2:$H$579,2,0),\"\")","v":""}]
[null,null,null,null,{"$f":"IFERROR(VLOOKUP(D3769,Справка!$G$2:$H$579,2,0),\"\")","v":""}]
[null,null,null,null,{"$f":"IFERROR(VLOOKUP(D3770,Справка!$G$2:$H$579,2,0),\"\")","v":""}]
[null,null,null,null,{"$f":"IFERROR(VLOOKUP(D3771,Справка!$G$2:$H$579,2,0),\"\")","v":""}]
[null,null,null,null,{"$f":"IFERROR(VLOOKUP(D3772,Справка!$G$2:$H$579,2,0),\"\")","v":""}]
[null,null,null,null,{"$f":"IFERROR(VLOOKUP(D3773,Справка!$G$2:$H$579,2,0),\"\")","v":""}]
[null,null,null,null,{"$f":"IFERROR(VLOOKUP(D3774,Справка!$G$2:$H$579,2,0),\"\")","v":""}]
[null,null,null,null,{"$f":"IFERROR(VLOOKUP(D3775,Справка!$G$2:$H$579,2,0),\"\")","v":""}]
[null,null,null,null,{"$f":"IFERROR(VLOOKUP(D3776,Справка!$G$2:$H$579,2,0),\"\")","v":""}]
[null,null,null,null,{"$f":"IFERROR(VLOOKUP(D3777,Справка!$G$2:$H$579,2,0),\"\")","v":""}]
[null,null,null,null,{"$f":"IFERROR(VLOOKUP(D3778,Справка!$G$2:$H$579,2,0),\"\")","v":""}]
[null,null,null,null,{"$f":"IFERROR(VLOOKUP(D3779,Справка!$G$2:$H$579,2,0),\"\")","v":""}]
[null,null,null,null,{"$f":"IFERROR(VLOOKUP(D3780,Справка!$G$2:$H$579,2,0),\"\")","v":""}]
[null,null,null,null,{"$f":"IFERROR(VLOOKUP(D3781,Справка!$G$2:$H$579,2,0),\"\")","v":""}]
[null,null,null,null,{"$f":"IFERROR(VLOOKUP(D3782,Справка!$G$2:$H$579,2,0),\"\")","v":""}]
[null,null,null,null,{"$f":"IFERROR(VLOOKUP(D3783,Справка!$G$2:$H$579,2,0),\"\")","v":""}]
[null,null,null,null,{"$f":"IFERROR(VLOOKUP(D3784,Справка!$G$2:$H$579,2,0),\"\")","v":""}]
[null,null,null,null,{"$f":"IFERROR(VLOOKUP(D3785,Справка!$G$2:$H$579,2,0),\"\")","v":""}]
[null,null,null,null,{"$f":"IFERROR(VLOOKUP(D3786,Справка!$G$2:$H$579,2,0),\"\")","v":""}]
[null,null,null,null,{"$f":"IFERROR(VLOOKUP(D3787,Справка!$G$2:$H$579,2,0),\"\")","v":""}]
[null,null,null,null,{"$f":"IFERROR(VLOOKUP(D3788,Справка!$G$2:$H$579,2,0),\"\")","v":""}]
[null,null,null,null,{"$f":"IFERROR(VLOOKUP(D3789,Справка!$G$2:$H$579,2,0),\"\")","v":""}]
[null,null,null,null,{"$f":"IFERROR(VLOOKUP(D3790,Справка!$G$2:$H$579,2,0),\"\")","v":""}]
[null,null,null,null,{"$f":"IFERROR(VLOOKUP(D3791,Справка!$G$2:$H$579,2,0),\"\")","v":""}]
[null,null,null,null,{"$f":"IFERROR(VLOOKUP(D3792,Справка!$G$2:$H$579,2,0),\"\")","v":""}]
[null,null,null,null,{"$f":"IFERROR(VLOOKUP(D3793,Справка!$G$2:$H$579,2,0),\"\")","v":""}]
[null,null,null,null,{"$f":"IFERROR(VLOOKUP(D3794,Справка!$G$2:$H$579,2,0),\"\")","v":""}]
[null,null,null,null,{"$f":"IFERROR(VLOOKUP(D3795,Справка!$G$2:$H$579,2,0),\"\")","v":""}]
[null,null,null,null,{"$f":"IFERROR(VLOOKUP(D3796,Справка!$G$2:$H$579,2,0),\"\")","v":""}]
[null,null,null,null,{"$f":"IFERROR(VLOOKUP(D3797,Справка!$G$2:$H$579,2,0),\"\")","v":""}]
[null,null,null,null,{"$f":"IFERROR(VLOOKUP(D3798,Справка!$G$2:$H$579,2,0),\"\")","v":""}]
[null,null,null,null,{"$f":"IFERROR(VLOOKUP(D3799,Справка!$G$2:$H$579,2,0),\"\")","v":""}]
[null,null,null,null,{"$f":"IFERROR(VLOOKUP(D3800,Справка!$G$2:$H$579,2,0),\"\")","v":""}]
[null,null,null,null,{"$f":"IFERROR(VLOOKUP(D3801,Справка!$G$2:$H$579,2,0),\"\")","v":""}]
[null,null,null,null,{"$f":"IFERROR(VLOOKUP(D3802,Справка!$G$2:$H$579,2,0),\"\")","v":""}]
[null,null,null,null,{"$f":"IFERROR(VLOOKUP(D3803,Справка!$G$2:$H$579,2,0),\"\")","v":""}]
[null,null,null,null,{"$f":"IFERROR(VLOOKUP(D3804,Справка!$G$2:$H$579,2,0),\"\")","v":""}]
[null,null,null,null,{"$f":"IFERROR(VLOOKUP(D3805,Справка!$G$2:$H$579,2,0),\"\")","v":""}]
[null,null,null,null,{"$f":"IFERROR(VLOOKUP(D3806,Справка!$G$2:$H$579,2,0),\"\")","v":""}]
[null,null,null,null,{"$f":"IFERROR(VLOOKUP(D3807,Справка!$G$2:$H$579,2,0),\"\")","v":""}]
[null,null,null,null,{"$f":"IFERROR(VLOOKUP(D3808,Справка!$G$2:$H$579,2,0),\"\")","v":""}]
[null,null,null,null,{"$f":"IFERROR(VLOOKUP(D3809,Справка!$G$2:$H$579,2,0),\"\")","v":""}]
[null,null,null,null,{"$f":"IFERROR(VLOOKUP(D3810,Справка!$G$2:$H$579,2,0),\"\")","v":""}]
[null,null,null,null,{"$f":"IFERROR(VLOOKUP(D3811,Справка!$G$2:$H$579,2,0),\"\")","v":""}]
[null,null,null,null,{"$f":"IFERROR(VLOOKUP(D3812,Справка!$G$2:$H$579,2,0),\"\")","v":""}]
[null,null,null,null,{"$f":"IFERROR(VLOOKUP(D3813,Справка!$G$2:$H$579,2,0),\"\")","v":""}]
[null,null,null,null,{"$f":"IFERROR(VLOOKUP(D3814,Справка!$G$2:$H$579,2,0),\"\")","v":""}]
[null,null,null,null,{"$f":"IFERROR(VLOOKUP(D3815,Справка!$G$2:$H$579,2,0),\"\")","v":""}]
[null,null,null,null,{"$f":"IFERROR(VLOOKUP(D3816,Справка!$G$2:$H$579,2,0),\"\")","v":""}]
[null,null,null,null,{"$f":"IFERROR(VLOOKUP(D3817,Справка!$G$2:$H$579,2,0),\"\")","v":""}]
[null,null,null,null,{"$f":"IFERROR(VLOOKUP(D3818,Справка!$G$2:$H$579,2,0),\"\")","v":""}]
[null,null,null,null,{"$f":"IFERROR(VLOOKUP(D3819,Справка!$G$2:$H$579,2,0),\"\")","v":""}]
[null,null,null,null,{"$f":"IFERROR(VLOOKUP(D3820,Справка!$G$2:$H$579,2,0),\"\")","v":""}]
[null,null,null,null,{"$f":"IFERROR(VLOOKUP(D3821,Справка!$G$2:$H$579,2,0),\"\")","v":""}]
[null,null,null,null,{"$f":"IFERROR(VLOOKUP(D3822,Справка!$G$2:$H$579,2,0),\"\")","v":""}]
[null,null,null,null,{"$f":"IFERROR(VLOOKUP(D3823,Справка!$G$2:$H$579,2,0),\"\")","v":""}]
[null,null,null,null,{"$f":"IFERROR(VLOOKUP(D3824,Справка!$G$2:$H$579,2,0),\"\")","v":""}]
[null,null,null,null,{"$f":"IFERROR(VLOOKUP(D3825,Справка!$G$2:$H$579,2,0),\"\")","v":""}]
[null,null,null,null,{"$f":"IFERROR(VLOOKUP(D3826,Справка!$G$2:$H$579,2,0),\"\")","v":""}]
[null,null,null,null,{"$f":"IFERROR(VLOOKUP(D3827,Справка!$G$2:$H$579,2,0),\"\")","v":""}]
[null,null,null,null,{"$f":"IFERROR(VLOOKUP(D3828,Справка!$G$2:$H$579,2,0),\"\")","v":""}]
[null,null,null,null,{"$f":"IFERROR(VLOOKUP(D3829,Справка!$G$2:$H$579,2,0),\"\")","v":""}]
[null,null,null,null,{"$f":"IFERROR(VLOOKUP(D3830,Справка!$G$2:$H$579,2,0),\"\")","v":""}]
[null,null,null,null,{"$f":"IFERROR(VLOOKUP(D3831,Справка!$G$2:$H$579,2,0),\"\")","v":""}]
[null,null,null,null,{"$f":"IFERROR(VLOOKUP(D3832,Справка!$G$2:$H$579,2,0),\"\")","v":""}]
[null,null,null,null,{"$f":"IFERROR(VLOOKUP(D3833,Справка!$G$2:$H$579,2,0),\"\")","v":""}]
[null,null,null,null,{"$f":"IFERROR(VLOOKUP(D3834,Справка!$G$2:$H$579,2,0),\"\")","v":""}]
[null,null,null,null,{"$f":"IFERROR(VLOOKUP(D3835,Справка!$G$2:$H$579,2,0),\"\")","v":""}]
[null,null,null,null,{"$f":"IFERROR(VLOOKUP(D3836,Справка!$G$2:$H$579,2,0),\"\")","v":""}]
[null,null,null,null,{"$f":"IFERROR(VLOOKUP(D3837,Справка!$G$2:$H$579,2,0),\"\")","v":""}]
[null,null,null,null,{"$f":"IFERROR(VLOOKUP(D3838,Справка!$G$2:$H$579,2,0),\"\")","v":""}]
[null,null,null,null,{"$f":"IFERROR(VLOOKUP(D3839,Справка!$G$2:$H$579,2,0),\"\")","v":""}]
[null,null,null,null,{"$f":"IFERROR(VLOOKUP(D3840,Справка!$G$2:$H$579,2,0),\"\")","v":""}]
[null,null,null,null,{"$f":"IFERROR(VLOOKUP(D3841,Справка!$G$2:$H$579,2,0),\"\")","v":""}]
[null,null,null,null,{"$f":"IFERROR(VLOOKUP(D3842,Справка!$G$2:$H$579,2,0),\"\")","v":""}]
[null,null,null,null,{"$f":"IFERROR(VLOOKUP(D3843,Справка!$G$2:$H$579,2,0),\"\")","v":""}]
[null,null,null,null,{"$f":"IFERROR(VLOOKUP(D3844,Справка!$G$2:$H$579,2,0),\"\")","v":""}]
[null,null,null,null,{"$f":"IFERROR(VLOOKUP(D3845,Справка!$G$2:$H$579,2,0),\"\")","v":""}]
[null,null,null,null,{"$f":"IFERROR(VLOOKUP(D3846,Справка!$G$2:$H$579,2,0),\"\")","v":""}]
[null,null,null,null,{"$f":"IFERROR(VLOOKUP(D3847,Справка!$G$2:$H$579,2,0),\"\")","v":""}]
[null,null,null,null,{"$f":"IFERROR(VLOOKUP(D3848,Справка!$G$2:$H$579,2,0),\"\")","v":""}]
[null,null,null,null,{"$f":"IFERROR(VLOOKUP(D3849,Справка!$G$2:$H$579,2,0),\"\")","v":""}]
[null,null,null,null,{"$f":"IFERROR(VLOOKUP(D3850,Справка!$G$2:$H$579,2,0),\"\")","v":""}]
[null,null,null,null,{"$f":"IFERROR(VLOOKUP(D3851,Справка!$G$2:$H$579,2,0),\"\")","v":""}]
[null,null,null,null,{"$f":"IFERROR(VLOOKUP(D3852,Справка!$G$2:$H$579,2,0),\"\")","v":""}]
[null,null,null,null,{"$f":"IFERROR(VLOOKUP(D3853,Справка!$G$2:$H$579,2,0),\"\")","v":""}]
[null,null,null,null,{"$f":"IFERROR(VLOOKUP(D3854,Справка!$G$2:$H$579,2,0),\"\")","v":""}]
[null,null,null,null,{"$f":"IFERROR(VLOOKUP(D3855,Справка!$G$2:$H$579,2,0),\"\")","v":""}]
[null,null,null,null,{"$f":"IFERROR(VLOOKUP(D3856,Справка!$G$2:$H$579,2,0),\"\")","v":""}]
[null,null,null,null,{"$f":"IFERROR(VLOOKUP(D3857,Справка!$G$2:$H$579,2,0),\"\")","v":""}]
[null,null,null,null,{"$f":"IFERROR(VLOOKUP(D3858,Справка!$G$2:$H$579,2,0),\"\")","v":""}]
[null,null,null,null,{"$f":"IFERROR(VLOOKUP(D3859,Справка!$G$2:$H$579,2,0),\"\")","v":""}]
[null,null,null,null,{"$f":"IFERROR(VLOOKUP(D3860,Справка!$G$2:$H$579,2,0),\"\")","v":""}]
[null,null,null,null,{"$f":"IFERROR(VLOOKUP(D3861,Справка!$G$2:$H$579,2,0),\"\")","v":""}]
[null,null,null,null,{"$f":"IFERROR(VLOOKUP(D3862,Справка!$G$2:$H$579,2,0),\"\")","v":""}]
[null,null,null,null,{"$f":"IFERROR(VLOOKUP(D3863,Справка!$G$2:$H$579,2,0),\"\")","v":""}]
[null,null,null,null,{"$f":"IFERROR(VLOOKUP(D3864,Справка!$G$2:$H$579,2,0),\"\")","v":""}]
[null,null,null,null,{"$f":"IFERROR(VLOOKUP(D3865,Справка!$G$2:$H$579,2,0),\"\")","v":""}]
[null,null,null,null,{"$f":"IFERROR(VLOOKUP(D3866,Справка!$G$2:$H$579,2,0),\"\")","v":""}]
[null,null,null,null,{"$f":"IFERROR(VLOOKUP(D3867,Справка!$G$2:$H$579,2,0),\"\")","v":""}]
[null,null,null,null,{"$f":"IFERROR(VLOOKUP(D3868,Справка!$G$2:$H$579,2,0),\"\")","v":""}]
[null,null,null,null,{"$f":"IFERROR(VLOOKUP(D3869,Справка!$G$2:$H$579,2,0),\"\")","v":""}]
[null,null,null,null,{"$f":"IFERROR(VLOOKUP(D3870,Справка!$G$2:$H$579,2,0),\"\")","v":""}]
[null,null,null,null,{"$f":"IFERROR(VLOOKUP(D3871,Справка!$G$2:$H$579,2,0),\"\")","v":""}]
[null,null,null,null,{"$f":"IFERROR(VLOOKUP(D3872,Справка!$G$2:$H$579,2,0),\"\")","v":""}]
[null,null,null,null,{"$f":"IFERROR(VLOOKUP(D3873,Справка!$G$2:$H$579,2,0),\"\")","v":""}]
[null,null,null,null,{"$f":"IFERROR(VLOOKUP(D3874,Справка!$G$2:$H$579,2,0),\"\")","v":""}]
[null,null,null,null,{"$f":"IFERROR(VLOOKUP(D3875,Справка!$G$2:$H$579,2,0),\"\")","v":""}]
[null,null,null,null,{"$f":"IFERROR(VLOOKUP(D3876,Справка!$G$2:$H$579,2,0),\"\")","v":""}]
[null,null,null,null,{"$f":"IFERROR(VLOOKUP(D3877,Справка!$G$2:$H$579,2,0),\"\")","v":""}]
[null,null,null,null,{"$f":"IFERROR(VLOOKUP(D3878,Справка!$G$2:$H$579,2,0),\"\")","v":""}]
[null,null,null,null,{"$f":"IFERROR(VLOOKUP(D3879,Справка!$G$2:$H$579,2,0),\"\")","v":""}]
[null,null,null,null,{"$f":"IFERROR(VLOOKUP(D3880,Справка!$G$2:$H$579,2,0),\"\")","v":""}]
[null,null,null,null,{"$f":"IFERROR(VLOOKUP(D3881,Справка!$G$2:$H$579,2,0),\"\")","v":""}]
[null,null,null,null,{"$f":"IFERROR(VLOOKUP(D3882,Справка!$G$2:$H$579,2,0),\"\")","v":""}]
[null,null,null,null,{"$f":"IFERROR(VLOOKUP(D3883,Справка!$G$2:$H$579,2,0),\"\")","v":""}]
[null,null,null,null,{"$f":"IFERROR(VLOOKUP(D3884,Справка!$G$2:$H$579,2,0),\"\")","v":""}]
[null,null,null,null,{"$f":"IFERROR(VLOOKUP(D3885,Справка!$G$2:$H$579,2,0),\"\")","v":""}]
[null,null,null,null,{"$f":"IFERROR(VLOOKUP(D3886,Справка!$G$2:$H$579,2,0),\"\")","v":""}]
[null,null,null,null,{"$f":"IFERROR(VLOOKUP(D3887,Справка!$G$2:$H$579,2,0),\"\")","v":""}]
[null,null,null,null,{"$f":"IFERROR(VLOOKUP(D3888,Справка!$G$2:$H$579,2,0),\"\")","v":""}]
[null,null,null,null,{"$f":"IFERROR(VLOOKUP(D3889,Справка!$G$2:$H$579,2,0),\"\")","v":""}]
[null,null,null,null,{"$f":"IFERROR(VLOOKUP(D3890,Справка!$G$2:$H$579,2,0),\"\")","v":""}]
[null,null,null,null,{"$f":"IFERROR(VLOOKUP(D3891,Справка!$G$2:$H$579,2,0),\"\")","v":""}]
[null,null,null,null,{"$f":"IFERROR(VLOOKUP(D3892,Справка!$G$2:$H$579,2,0),\"\")","v":""}]
[null,null,null,null,{"$f":"IFERROR(VLOOKUP(D3893,Справка!$G$2:$H$579,2,0),\"\")","v":""}]
[null,null,null,null,{"$f":"IFERROR(VLOOKUP(D3894,Справка!$G$2:$H$579,2,0),\"\")","v":""}]
[null,null,null,null,{"$f":"IFERROR(VLOOKUP(D3895,Справка!$G$2:$H$579,2,0),\"\")","v":""}]
[null,null,null,null,{"$f":"IFERROR(VLOOKUP(D3896,Справка!$G$2:$H$579,2,0),\"\")","v":""}]
[null,null,null,null,{"$f":"IFERROR(VLOOKUP(D3897,Справка!$G$2:$H$579,2,0),\"\")","v":""}]
[null,null,null,null,{"$f":"IFERROR(VLOOKUP(D3898,Справка!$G$2:$H$579,2,0),\"\")","v":""}]
[null,null,null,null,{"$f":"IFERROR(VLOOKUP(D3899,Справка!$G$2:$H$579,2,0),\"\")","v":""}]
[null,null,null,null,{"$f":"IFERROR(VLOOKUP(D3900,Справка!$G$2:$H$579,2,0),\"\")","v":""}]
[null,null,null,null,{"$f":"IFERROR(VLOOKUP(D3901,Справка!$G$2:$H$579,2,0),\"\")","v":""}]
[null,null,null,null,{"$f":"IFERROR(VLOOKUP(D3902,Справка!$G$2:$H$579,2,0),\"\")","v":""}]
[null,null,null,null,{"$f":"IFERROR(VLOOKUP(D3903,Справка!$G$2:$H$579,2,0),\"\")","v":""}]
[null,null,null,null,{"$f":"IFERROR(VLOOKUP(D3904,Справка!$G$2:$H$579,2,0),\"\")","v":""}]
[null,null,null,null,{"$f":"IFERROR(VLOOKUP(D3905,Справка!$G$2:$H$579,2,0),\"\")","v":""}]
[null,null,null,null,{"$f":"IFERROR(VLOOKUP(D3906,Справка!$G$2:$H$579,2,0),\"\")","v":""}]
[null,null,null,null,{"$f":"IFERROR(VLOOKUP(D3907,Справка!$G$2:$H$579,2,0),\"\")","v":""}]
[null,null,null,null,{"$f":"IFERROR(VLOOKUP(D3908,Справка!$G$2:$H$579,2,0),\"\")","v":""}]
[null,null,null,null,{"$f":"IFERROR(VLOOKUP(D3909,Справка!$G$2:$H$579,2,0),\"\")","v":""}]
[null,null,null,null,{"$f":"IFERROR(VLOOKUP(D3910,Справка!$G$2:$H$579,2,0),\"\")","v":""}]
[null,null,null,null,{"$f":"IFERROR(VLOOKUP(D3911,Справка!$G$2:$H$579,2,0),\"\")","v":""}]
[null,null,null,null,{"$f":"IFERROR(VLOOKUP(D3912,Справка!$G$2:$H$579,2,0),\"\")","v":""}]
[null,null,null,null,{"$f":"IFERROR(VLOOKUP(D3913,Справка!$G$2:$H$579,2,0),\"\")","v":""}]
[null,null,null,null,{"$f":"IFERROR(VLOOKUP(D3914,Справка!$G$2:$H$579,2,0),\"\")","v":""}]
[null,null,null,null,{"$f":"IFERROR(VLOOKUP(D3915,Справка!$G$2:$H$579,2,0),\"\")","v":""}]
[null,null,null,null,{"$f":"IFERROR(VLOOKUP(D3916,Справка!$G$2:$H$579,2,0),\"\")","v":""}]
[null,null,null,null,{"$f":"IFERROR(VLOOKUP(D3917,Справка!$G$2:$H$579,2,0),\"\")","v":""}]
[null,null,null,null,{"$f":"IFERROR(VLOOKUP(D3918,Справка!$G$2:$H$579,2,0),\"\")","v":""}]
[null,null,null,null,{"$f":"IFERROR(VLOOKUP(D3919,Справка!$G$2:$H$579,2,0),\"\")","v":""}]
[null,null,null,null,{"$f":"IFERROR(VLOOKUP(D3920,Справка!$G$2:$H$579,2,0),\"\")","v":""}]
[null,null,null,null,{"$f":"IFERROR(VLOOKUP(D3921,Справка!$G$2:$H$579,2,0),\"\")","v":""}]
[null,null,null,null,{"$f":"IFERROR(VLOOKUP(D3922,Справка!$G$2:$H$579,2,0),\"\")","v":""}]
[null,null,null,null,{"$f":"IFERROR(VLOOKUP(D3923,Справка!$G$2:$H$579,2,0),\"\")","v":""}]
[null,null,null,null,{"$f":"IFERROR(VLOOKUP(D3924,Справка!$G$2:$H$579,2,0),\"\")","v":""}]
[null,null,null,null,{"$f":"IFERROR(VLOOKUP(D3925,Справка!$G$2:$H$579,2,0),\"\")","v":""}]
[null,null,null,null,{"$f":"IFERROR(VLOOKUP(D3926,Справка!$G$2:$H$579,2,0),\"\")","v":""}]
[null,null,null,null,{"$f":"IFERROR(VLOOKUP(D3927,Справка!$G$2:$H$579,2,0),\"\")","v":""}]
[null,null,null,null,{"$f":"IFERROR(VLOOKUP(D3928,Справка!$G$2:$H$579,2,0),\"\")","v":""}]
[null,null,null,null,{"$f":"IFERROR(VLOOKUP(D3929,Справка!$G$2:$H$579,2,0),\"\")","v":""}]
[null,null,null,null,{"$f":"IFERROR(VLOOKUP(D3930,Справка!$G$2:$H$579,2,0),\"\")","v":""}]
[null,null,null,null,{"$f":"IFERROR(VLOOKUP(D3931,Справка!$G$2:$H$579,2,0),\"\")","v":""}]
[null,null,null,null,{"$f":"IFERROR(VLOOKUP(D3932,Справка!$G$2:$H$579,2,0),\"\")","v":""}]
[null,null,null,null,{"$f":"IFERROR(VLOOKUP(D3933,Справка!$G$2:$H$579,2,0),\"\")","v":""}]
[null,null,null,null,{"$f":"IFERROR(VLOOKUP(D3934,Справка!$G$2:$H$579,2,0),\"\")","v":""}]
[null,null,null,null,{"$f":"IFERROR(VLOOKUP(D3935,Справка!$G$2:$H$579,2,0),\"\")","v":""}]
[null,null,null,null,{"$f":"IFERROR(VLOOKUP(D3936,Справка!$G$2:$H$579,2,0),\"\")","v":""}]
[null,null,null,null,{"$f":"IFERROR(VLOOKUP(D3937,Справка!$G$2:$H$579,2,0),\"\")","v":""}]
[null,null,null,null,{"$f":"IFERROR(VLOOKUP(D3938,Справка!$G$2:$H$579,2,0),\"\")","v":""}]
[null,null,null,null,{"$f":"IFERROR(VLOOKUP(D3939,Справка!$G$2:$H$579,2,0),\"\")","v":""}]
[null,null,null,null,{"$f":"IFERROR(VLOOKUP(D3940,Справка!$G$2:$H$579,2,0),\"\")","v":""}]
[null,null,null,null,{"$f":"IFERROR(VLOOKUP(D3941,Справка!$G$2:$H$579,2,0),\"\")","v":""}]
[null,null,null,null,{"$f":"IFERROR(VLOOKUP(D3942,Справка!$G$2:$H$579,2,0),\"\")","v":""}]
[null,null,null,null,{"$f":"IFERROR(VLOOKUP(D3943,Справка!$G$2:$H$579,2,0),\"\")","v":""}]
[null,null,null,null,{"$f":"IFERROR(VLOOKUP(D3944,Справка!$G$2:$H$579,2,0),\"\")","v":""}]
[null,null,null,null,{"$f":"IFERROR(VLOOKUP(D3945,Справка!$G$2:$H$579,2,0),\"\")","v":""}]
[null,null,null,null,{"$f":"IFERROR(VLOOKUP(D3946,Справка!$G$2:$H$579,2,0),\"\")","v":""}]
[null,null,null,null,{"$f":"IFERROR(VLOOKUP(D3947,Справка!$G$2:$H$579,2,0),\"\")","v":""}]
[null,null,null,null,{"$f":"IFERROR(VLOOKUP(D3948,Справка!$G$2:$H$579,2,0),\"\")","v":""}]
[null,null,null,null,{"$f":"IFERROR(VLOOKUP(D3949,Справка!$G$2:$H$579,2,0),\"\")","v":""}]
[null,null,null,null,{"$f":"IFERROR(VLOOKUP(D3950,Справка!$G$2:$H$579,2,0),\"\")","v":""}]
[null,null,null,null,{"$f":"IFERROR(VLOOKUP(D3951,Справка!$G$2:$H$579,2,0),\"\")","v":""}]
[null,null,null,null,{"$f":"IFERROR(VLOOKUP(D3952,Справка!$G$2:$H$579,2,0),\"\")","v":""}]
[null,null,null,null,{"$f":"IFERROR(VLOOKUP(D3953,Справка!$G$2:$H$579,2,0),\"\")","v":""}]
[null,null,null,null,{"$f":"IFERROR(VLOOKUP(D3954,Справка!$G$2:$H$579,2,0),\"\")","v":""}]
[null,null,null,null,{"$f":"IFERROR(VLOOKUP(D3955,Справка!$G$2:$H$579,2,0),\"\")","v":""}]
[null,null,null,null,{"$f":"IFERROR(VLOOKUP(D3956,Справка!$G$2:$H$579,2,0),\"\")","v":""}]
[null,null,null,null,{"$f":"IFERROR(VLOOKUP(D3957,Справка!$G$2:$H$579,2,0),\"\")","v":""}]
[null,null,null,null,{"$f":"IFERROR(VLOOKUP(D3958,Справка!$G$2:$H$579,2,0),\"\")","v":""}]
[null,null,null,null,{"$f":"IFERROR(VLOOKUP(D3959,Справка!$G$2:$H$579,2,0),\"\")","v":""}]
[null,null,null,null,{"$f":"IFERROR(VLOOKUP(D3960,Справка!$G$2:$H$579,2,0),\"\")","v":""}]
[null,null,null,null,{"$f":"IFERROR(VLOOKUP(D3961,Справка!$G$2:$H$579,2,0),\"\")","v":""}]
[null,null,null,null,{"$f":"IFERROR(VLOOKUP(D3962,Справка!$G$2:$H$579,2,0),\"\")","v":""}]
[null,null,null,null,{"$f":"IFERROR(VLOOKUP(D3963,Справка!$G$2:$H$579,2,0),\"\")","v":""}]
[null,null,null,null,{"$f":"IFERROR(VLOOKUP(D3964,Справка!$G$2:$H$579,2,0),\"\")","v":""}]
[null,null,null,null,{"$f":"IFERROR(VLOOKUP(D3965,Справка!$G$2:$H$579,2,0),\"\")","v":""}]
[null,null,null,null,{"$f":"IFERROR(VLOOKUP(D3966,Справка!$G$2:$H$579,2,0),\"\")","v":""}]
[null,null,null,null,{"$f":"IFERROR(VLOOKUP(D3967,Справка!$G$2:$H$579,2,0),\"\")","v":""}]
[null,null,null,null,{"$f":"IFERROR(VLOOKUP(D3968,Справка!$G$2:$H$579,2,0),\"\")","v":""}]
[null,null,null,null,{"$f":"IFERROR(VLOOKUP(D3969,Справка!$G$2:$H$579,2,0),\"\")","v":""}]
[null,null,null,null,{"$f":"IFERROR(VLOOKUP(D3970,Справка!$G$2:$H$579,2,0),\"\")","v":""}]
[null,null,null,null,{"$f":"IFERROR(VLOOKUP(D3971,Справка!$G$2:$H$579,2,0),\"\")","v":""}]
[null,null,null,null,{"$f":"IFERROR(VLOOKUP(D3972,Справка!$G$2:$H$579,2,0),\"\")","v":""}]
[null,null,null,null,{"$f":"IFERROR(VLOOKUP(D3973,Справка!$G$2:$H$579,2,0),\"\")","v":""}]
[null,null,null,null,{"$f":"IFERROR(VLOOKUP(D3974,Справка!$G$2:$H$579,2,0),\"\")","v":""}]
[null,null,null,null,{"$f":"IFERROR(VLOOKUP(D3975,Справка!$G$2:$H$579,2,0),\"\")","v":""}]
[null,null,null,null,{"$f":"IFERROR(VLOOKUP(D3976,Справка!$G$2:$H$579,2,0),\"\")","v":""}]
[null,null,null,null,{"$f":"IFERROR(VLOOKUP(D3977,Справка!$G$2:$H$579,2,0),\"\")","v":""}]
[null,null,null,null,{"$f":"IFERROR(VLOOKUP(D3978,Справка!$G$2:$H$579,2,0),\"\")","v":""}]
[null,null,null,null,{"$f":"IFERROR(VLOOKUP(D3979,Справка!$G$2:$H$579,2,0),\"\")","v":""}]
[null,null,null,null,{"$f":"IFERROR(VLOOKUP(D3980,Справка!$G$2:$H$579,2,0),\"\")","v":""}]
[null,null,null,null,{"$f":"IFERROR(VLOOKUP(D3981,Справка!$G$2:$H$579,2,0),\"\")","v":""}]
[null,null,null,null,{"$f":"IFERROR(VLOOKUP(D3982,Справка!$G$2:$H$579,2,0),\"\")","v":""}]
[null,null,null,null,{"$f":"IFERROR(VLOOKUP(D3983,Справка!$G$2:$H$579,2,0),\"\")","v":""}]
[null,null,null,null,{"$f":"IFERROR(VLOOKUP(D3984,Справка!$G$2:$H$579,2,0),\"\")","v":""}]
[null,null,null,null,{"$f":"IFERROR(VLOOKUP(D3985,Справка!$G$2:$H$579,2,0),\"\")","v":""}]
[null,null,null,null,{"$f":"IFERROR(VLOOKUP(D3986,Справка!$G$2:$H$579,2,0),\"\")","v":""}]
[null,null,null,null,{"$f":"IFERROR(VLOOKUP(D3987,Справка!$G$2:$H$579,2,0),\"\")","v":""}]
[null,null,null,null,{"$f":"IFERROR(VLOOKUP(D3988,Справка!$G$2:$H$579,2,0),\"\")","v":""}]
[null,null,null,null,{"$f":"IFERROR(VLOOKUP(D3989,Справка!$G$2:$H$579,2,0),\"\")","v":""}]
[null,null,null,null,{"$f":"IFERROR(VLOOKUP(D3990,Справка!$G$2:$H$579,2,0),\"\")","v":""}]
[null,null,null,null,{"$f":"IFERROR(VLOOKUP(D3991,Справка!$G$2:$H$579,2,0),\"\")","v":""}]
[null,null,null,null,{"$f":"IFERROR(VLOOKUP(D3992,Справка!$G$2:$H$579,2,0),\"\")","v":""}]
[null,null,null,null,{"$f":"IFERROR(VLOOKUP(D3993,Справка!$G$2:$H$579,2,0),\"\")","v":""}]
[null,null,null,null,{"$f":"IFERROR(VLOOKUP(D3994,Справка!$G$2:$H$579,2,0),\"\")","v":""}]
[null,null,null,null,{"$f":"IFERROR(VLOOKUP(D3995,Справка!$G$2:$H$579,2,0),\"\")","v":""}]
[null,null,null,null,{"$f":"IFERROR(VLOOKUP(D3996,Справка!$G$2:$H$579,2,0),\"\")","v":""}]
[null,null,null,null,{"$f":"IFERROR(VLOOKUP(D3997,Справка!$G$2:$H$579,2,0),\"\")","v":""}]
[null,null,null,null,{"$f":"IFERROR(VLOOKUP(D3998,Справка!$G$2:$H$579,2,0),\"\")","v":""}]
[null,null,null,null,{"$f":"IFERROR(VLOOKUP(D3999,Справка!$G$2:$H$579,2,0),\"\")","v":""}]
[null,null,null,null,{"$f":"IFERROR(VLOOKUP(D4000,Справка!$G$2:$H$579,2,0),\"\")","v":""}]
[null,null,null,null,{"$f":"IFERROR(VLOOKUP(D4001,Справка!$G$2:$H$579,2,0),\"\")","v":""}]
[null,null,null,null,{"$f":"IFERROR(VLOOKUP(D4002,Справка!$G$2:$H$579,2,0),\"\")","v":""}]
[null,null,null,null,{"$f":"IFERROR(VLOOKUP(D4003,Справка!$G$2:$H$579,2,0),\"\")","v":""}]
[null,null,null,null,{"$f":"IFERROR(VLOOKUP(D4004,Справка!$G$2:$H$579,2,0),\"\")","v":""}]
[null,null,null,null,{"$f":"IFERROR(VLOOKUP(D4005,Справка!$G$2:$H$579,2,0),\"\")","v":""}]
[null,null,null,null,{"$f":"IFERROR(VLOOKUP(D4006,Справка!$G$2:$H$579,2,0),\"\")","v":""}]
[null,null,null,null,{"$f":"IFERROR(VLOOKUP(D4007,Справка!$G$2:$H$579,2,0),\"\")","v":""}]
[null,null,null,null,{"$f":"IFERROR(VLOOKUP(D4008,Справка!$G$2:$H$579,2,0),\"\")","v":""}]
[null,null,null,null,{"$f":"IFERROR(VLOOKUP(D4009,Справка!$G$2:$H$579,2,0),\"\")","v":""}]
[null,null,null,null,{"$f":"IFERROR(VLOOKUP(D4010,Справка!$G$2:$H$579,2,0),\"\")","v":""}]
[null,null,null,null,{"$f":"IFERROR(VLOOKUP(D4011,Справка!$G$2:$H$579,2,0),\"\")","v":""}]
[null,null,null,null,{"$f":"IFERROR(VLOOKUP(D4012,Справка!$G$2:$H$579,2,0),\"\")","v":""}]
[null,null,null,null,{"$f":"IFERROR(VLOOKUP(D4013,Справка!$G$2:$H$579,2,0),\"\")","v":""}]
[null,null,null,null,{"$f":"IFERROR(VLOOKUP(D4014,Справка!$G$2:$H$579,2,0),\"\")","v":""}]
[null,null,null,null,{"$f":"IFERROR(VLOOKUP(D4015,Справка!$G$2:$H$579,2,0),\"\")","v":""}]
[null,null,null,null,{"$f":"IFERROR(VLOOKUP(D4016,Справка!$G$2:$H$579,2,0),\"\")","v":""}]
[null,null,null,null,{"$f":"IFERROR(VLOOKUP(D4017,Справка!$G$2:$H$579,2,0),\"\")","v":""}]
[null,null,null,null,{"$f":"IFERROR(VLOOKUP(D4018,Справка!$G$2:$H$579,2,0),\"\")","v":""}]
[null,null,null,null,{"$f":"IFERROR(VLOOKUP(D4019,Справка!$G$2:$H$579,2,0),\"\")","v":""}]
[null,null,null,null,{"$f":"IFERROR(VLOOKUP(D4020,Справка!$G$2:$H$579,2,0),\"\")","v":""}]
[null,null,null,null,{"$f":"IFERROR(VLOOKUP(D4021,Справка!$G$2:$H$579,2,0),\"\")","v":""}]
[null,null,null,null,{"$f":"IFERROR(VLOOKUP(D4022,Справка!$G$2:$H$579,2,0),\"\")","v":""}]
[null,null,null,null,{"$f":"IFERROR(VLOOKUP(D4023,Справка!$G$2:$H$579,2,0),\"\")","v":""}]
[null,null,null,null,{"$f":"IFERROR(VLOOKUP(D4024,Справка!$G$2:$H$579,2,0),\"\")","v":""}]
[null,null,null,null,{"$f":"IFERROR(VLOOKUP(D4025,Справка!$G$2:$H$579,2,0),\"\")","v":""}]
[null,null,null,null,{"$f":"IFERROR(VLOOKUP(D4026,Справка!$G$2:$H$579,2,0),\"\")","v":""}]
[null,null,null,null,{"$f":"IFERROR(VLOOKUP(D4027,Справка!$G$2:$H$579,2,0),\"\")","v":""}]
[null,null,null,null,{"$f":"IFERROR(VLOOKUP(D4028,Справка!$G$2:$H$579,2,0),\"\")","v":""}]
[null,null,null,null,{"$f":"IFERROR(VLOOKUP(D4029,Справка!$G$2:$H$579,2,0),\"\")","v":""}]
[null,null,null,null,{"$f":"IFERROR(VLOOKUP(D4030,Справка!$G$2:$H$579,2,0),\"\")","v":""}]
[null,null,null,null,{"$f":"IFERROR(VLOOKUP(D4031,Справка!$G$2:$H$579,2,0),\"\")","v":""}]
[null,null,null,null,{"$f":"IFERROR(VLOOKUP(D4032,Справка!$G$2:$H$579,2,0),\"\")","v":""}]
[null,null,null,null,{"$f":"IFERROR(VLOOKUP(D4033,Справка!$G$2:$H$579,2,0),\"\")","v":""}]
[null,null,null,null,{"$f":"IFERROR(VLOOKUP(D4034,Справка!$G$2:$H$579,2,0),\"\")","v":""}]
[null,null,null,null,{"$f":"IFERROR(VLOOKUP(D4035,Справка!$G$2:$H$579,2,0),\"\")","v":""}]
[null,null,null,null,{"$f":"IFERROR(VLOOKUP(D4036,Справка!$G$2:$H$579,2,0),\"\")","v":""}]
[null,null,null,null,{"$f":"IFERROR(VLOOKUP(D4037,Справка!$G$2:$H$579,2,0),\"\")","v":""}]
[null,null,null,null,{"$f":"IFERROR(VLOOKUP(D4038,Справка!$G$2:$H$579,2,0),\"\")","v":""}]
[null,null,null,null,{"$f":"IFERROR(VLOOKUP(D4039,Справка!$G$2:$H$579,2,0),\"\")","v":""}]
[null,null,null,null,{"$f":"IFERROR(VLOOKUP(D4040,Справка!$G$2:$H$579,2,0),\"\")","v":""}]
[null,null,null,null,{"$f":"IFERROR(VLOOKUP(D4041,Справка!$G$2:$H$579,2,0),\"\")","v":""}]
[null,null,null,null,{"$f":"IFERROR(VLOOKUP(D4042,Справка!$G$2:$H$579,2,0),\"\")","v":""}]
[null,null,null,null,{"$f":"IFERROR(VLOOKUP(D4043,Справка!$G$2:$H$579,2,0),\"\")","v":""}]
[null,null,null,null,{"$f":"IFERROR(VLOOKUP(D4044,Справка!$G$2:$H$579,2,0),\"\")","v":""}]
[null,null,null,null,{"$f":"IFERROR(VLOOKUP(D4045,Справка!$G$2:$H$579,2,0),\"\")","v":""}]
[null,null,null,null,{"$f":"IFERROR(VLOOKUP(D4046,Справка!$G$2:$H$579,2,0),\"\")","v":""}]
[null,null,null,null,{"$f":"IFERROR(VLOOKUP(D4047,Справка!$G$2:$H$579,2,0),\"\")","v":""}]
[null,null,null,null,{"$f":"IFERROR(VLOOKUP(D4048,Справка!$G$2:$H$579,2,0),\"\")","v":""}]
[null,null,null,null,{"$f":"IFERROR(VLOOKUP(D4049,Справка!$G$2:$H$579,2,0),\"\")","v":""}]
[null,null,null,null,{"$f":"IFERROR(VLOOKUP(D4050,Справка!$G$2:$H$579,2,0),\"\")","v":""}]
[null,null,null,null,{"$f":"IFERROR(VLOOKUP(D4051,Справка!$G$2:$H$579,2,0),\"\")","v":""}]
[null,null,null,null,{"$f":"IFERROR(VLOOKUP(D4052,Справка!$G$2:$H$579,2,0),\"\")","v":""}]
[null,null,null,null,{"$f":"IFERROR(VLOOKUP(D4053,Справка!$G$2:$H$579,2,0),\"\")","v":""}]
[null,null,null,null,{"$f":"IFERROR(VLOOKUP(D4054,Справка!$G$2:$H$579,2,0),\"\")","v":""}]
[null,null,null,null,{"$f":"IFERROR(VLOOKUP(D4055,Справка!$G$2:$H$579,2,0),\"\")","v":""}]
[null,null,null,null,{"$f":"IFERROR(VLOOKUP(D4056,Справка!$G$2:$H$579,2,0),\"\")","v":""}]
[null,null,null,null,{"$f":"IFERROR(VLOOKUP(D4057,Справка!$G$2:$H$579,2,0),\"\")","v":""}]
[null,null,null,null,{"$f":"IFERROR(VLOOKUP(D4058,Справка!$G$2:$H$579,2,0),\"\")","v":""}]
[null,null,null,null,{"$f":"IFERROR(VLOOKUP(D4059,Справка!$G$2:$H$579,2,0),\"\")","v":""}]
[null,null,null,null,{"$f":"IFERROR(VLOOKUP(D4060,Справка!$G$2:$H$579,2,0),\"\")","v":""}]
[null,null,null,null,{"$f":"IFERROR(VLOOKUP(D4061,Справка!$G$2:$H$579,2,0),\"\")","v":""}]
[null,null,null,null,{"$f":"IFERROR(VLOOKUP(D4062,Справка!$G$2:$H$579,2,0),\"\")","v":""}]
[null,null,null,null,{"$f":"IFERROR(VLOOKUP(D4063,Справка!$G$2:$H$579,2,0),\"\")","v":""}]
[null,null,null,null,{"$f":"IFERROR(VLOOKUP(D4064,Справка!$G$2:$H$579,2,0),\"\")","v":""}]
[null,null,null,null,{"$f":"IFERROR(VLOOKUP(D4065,Справка!$G$2:$H$579,2,0),\"\")","v":""}]
[null,null,null,null,{"$f":"IFERROR(VLOOKUP(D4066,Справка!$G$2:$H$579,2,0),\"\")","v":""}]
[null,null,null,null,{"$f":"IFERROR(VLOOKUP(D4067,Справка!$G$2:$H$579,2,0),\"\")","v":""}]
[null,null,null,null,{"$f":"IFERROR(VLOOKUP(D4068,Справка!$G$2:$H$579,2,0),\"\")","v":""}]
[null,null,null,null,{"$f":"IFERROR(VLOOKUP(D4069,Справка!$G$2:$H$579,2,0),\"\")","v":""}]
[null,null,null,null,{"$f":"IFERROR(VLOOKUP(D4070,Справка!$G$2:$H$579,2,0),\"\")","v":""}]
[null,null,null,null,{"$f":"IFERROR(VLOOKUP(D4071,Справка!$G$2:$H$579,2,0),\"\")","v":""}]
[null,null,null,null,{"$f":"IFERROR(VLOOKUP(D4072,Справка!$G$2:$H$579,2,0),\"\")","v":""}]
[null,null,null,null,{"$f":"IFERROR(VLOOKUP(D4073,Справка!$G$2:$H$579,2,0),\"\")","v":""}]
[null,null,null,null,{"$f":"IFERROR(VLOOKUP(D4074,Справка!$G$2:$H$579,2,0),\"\")","v":""}]
[null,null,null,null,{"$f":"IFERROR(VLOOKUP(D4075,Справка!$G$2:$H$579,2,0),\"\")","v":""}]
[null,null,null,null,{"$f":"IFERROR(VLOOKUP(D4076,Справка!$G$2:$H$579,2,0),\"\")","v":""}]
[null,null,null,null,{"$f":"IFERROR(VLOOKUP(D4077,Справка!$G$2:$H$579,2,0),\"\")","v":""}]
[null,null,null,null,{"$f":"IFERROR(VLOOKUP(D4078,Справка!$G$2:$H$579,2,0),\"\")","v":""}]
[null,null,null,null,{"$f":"IFERROR(VLOOKUP(D4079,Справка!$G$2:$H$579,2,0),\"\")","v":""}]
[null,null,null,null,{"$f":"IFERROR(VLOOKUP(D4080,Справка!$G$2:$H$579,2,0),\"\")","v":""}]
[null,null,null,null,{"$f":"IFERROR(VLOOKUP(D4081,Справка!$G$2:$H$579,2,0),\"\")","v":""}]
[null,null,null,null,{"$f":"IFERROR(VLOOKUP(D4082,Справка!$G$2:$H$579,2,0),\"\")","v":""}]
[null,null,null,null,{"$f":"IFERROR(VLOOKUP(D4083,Справка!$G$2:$H$579,2,0),\"\")","v":""}]
[null,null,null,null,{"$f":"IFERROR(VLOOKUP(D4084,Справка!$G$2:$H$579,2,0),\"\")","v":""}]
[null,null,null,null,{"$f":"IFERROR(VLOOKUP(D4085,Справка!$G$2:$H$579,2,0),\"\")","v":""}]
[null,null,null,null,{"$f":"IFERROR(VLOOKUP(D4086,Справка!$G$2:$H$579,2,0),\"\")","v":""}]
[null,null,null,null,{"$f":"IFERROR(VLOOKUP(D4087,Справка!$G$2:$H$579,2,0),\"\")","v":""}]
[null,null,null,null,{"$f":"IFERROR(VLOOKUP(D4088,Справка!$G$2:$H$579,2,0),\"\")","v":""}]
[null,null,null,null,{"$f":"IFERROR(VLOOKUP(D4089,Справка!$G$2:$H$579,2,0),\"\")","v":""}]
[null,null,null,null,{"$f":"IFERROR(VLOOKUP(D4090,Справка!$G$2:$H$579,2,0),\"\")","v":""}]
[null,null,null,null,{"$f":"IFERROR(VLOOKUP(D4091,Справка!$G$2:$H$579,2,0),\"\")","v":""}]
[null,null,null,null,{"$f":"IFERROR(VLOOKUP(D4092,Справка!$G$2:$H$579,2,0),\"\")","v":""}]
[null,null,null,null,{"$f":"IFERROR(VLOOKUP(D4093,Справка!$G$2:$H$579,2,0),\"\")","v":""}]
[null,null,null,null,{"$f":"IFERROR(VLOOKUP(D4094,Справка!$G$2:$H$579,2,0),\"\")","v":""}]
[null,null,null,null,{"$f":"IFERROR(VLOOKUP(D4095,Справка!$G$2:$H$579,2,0),\"\")","v":""}]
[null,null,null,null,{"$f":"IFERROR(VLOOKUP(D4096,Справка!$G$2:$H$579,2,0),\"\")","v":""}]
[null,null,null,null,{"$f":"IFERROR(VLOOKUP(D4097,Справка!$G$2:$H$579,2,0),\"\")","v":""}]
[null,null,null,null,{"$f":"IFERROR(VLOOKUP(D4098,Справка!$G$2:$H$579,2,0),\"\")","v":""}]
[null,null,null,null,{"$f":"IFERROR(VLOOKUP(D4099,Справка!$G$2:$H$579,2,0),\"\")","v":""}]
[null,null,null,null,{"$f":"IFERROR(VLOOKUP(D4100,Справка!$G$2:$H$579,2,0),\"\")","v":""}]
[null,null,null,null,{"$f":"IFERROR(VLOOKUP(D4101,Справка!$G$2:$H$579,2,0),\"\")","v":""}]
[null,null,null,null,{"$f":"IFERROR(VLOOKUP(D4102,Справка!$G$2:$H$579,2,0),\"\")","v":""}]
[null,null,null,null,{"$f":"IFERROR(VLOOKUP(D4103,Справка!$G$2:$H$579,2,0),\"\")","v":""}]
[null,null,null,null,{"$f":"IFERROR(VLOOKUP(D4104,Справка!$G$2:$H$579,2,0),\"\")","v":""}]
[null,null,null,null,{"$f":"IFERROR(VLOOKUP(D4105,Справка!$G$2:$H$579,2,0),\"\")","v":""}]
[null,null,null,null,{"$f":"IFERROR(VLOOKUP(D4106,Справка!$G$2:$H$579,2,0),\"\")","v":""}]
[null,null,null,null,{"$f":"IFERROR(VLOOKUP(D4107,Справка!$G$2:$H$579,2,0),\"\")","v":""}]
[null,null,null,null,{"$f":"IFERROR(VLOOKUP(D4108,Справка!$G$2:$H$579,2,0),\"\")","v":""}]
[null,null,null,null,{"$f":"IFERROR(VLOOKUP(D4109,Справка!$G$2:$H$579,2,0),\"\")","v":""}]
[null,null,null,null,{"$f":"IFERROR(VLOOKUP(D4110,Справка!$G$2:$H$579,2,0),\"\")","v":""}]
[null,null,null,null,{"$f":"IFERROR(VLOOKUP(D4111,Справка!$G$2:$H$579,2,0),\"\")","v":""}]
[null,null,null,null,{"$f":"IFERROR(VLOOKUP(D4112,Справка!$G$2:$H$579,2,0),\"\")","v":""}]
[null,null,null,null,{"$f":"IFERROR(VLOOKUP(D4113,Справка!$G$2:$H$579,2,0),\"\")","v":""}]
[null,null,null,null,{"$f":"IFERROR(VLOOKUP(D4114,Справка!$G$2:$H$579,2,0),\"\")","v":""}]
[null,null,null,null,{"$f":"IFERROR(VLOOKUP(D4115,Справка!$G$2:$H$579,2,0),\"\")","v":""}]
[null,null,null,null,{"$f":"IFERROR(VLOOKUP(D4116,Справка!$G$2:$H$579,2,0),\"\")","v":""}]
[null,null,null,null,{"$f":"IFERROR(VLOOKUP(D4117,Справка!$G$2:$H$579,2,0),\"\")","v":""}]
[null,null,null,null,{"$f":"IFERROR(VLOOKUP(D4118,Справка!$G$2:$H$579,2,0),\"\")","v":""}]
[null,null,null,null,{"$f":"IFERROR(VLOOKUP(D4119,Справка!$G$2:$H$579,2,0),\"\")","v":""}]
[null,null,null,null,{"$f":"IFERROR(VLOOKUP(D4120,Справка!$G$2:$H$579,2,0),\"\")","v":""}]
[null,null,null,null,{"$f":"IFERROR(VLOOKUP(D4121,Справка!$G$2:$H$579,2,0),\"\")","v":""}]
[null,null,null,null,{"$f":"IFERROR(VLOOKUP(D4122,Справка!$G$2:$H$579,2,0),\"\")","v":""}]
[null,null,null,null,{"$f":"IFERROR(VLOOKUP(D4123,Справка!$G$2:$H$579,2,0),\"\")","v":""}]
[null,null,null,null,{"$f":"IFERROR(VLOOKUP(D4124,Справка!$G$2:$H$579,2,0),\"\")","v":""}]
[null,null,null,null,{"$f":"IFERROR(VLOOKUP(D4125,Справка!$G$2:$H$579,2,0),\"\")","v":""}]
[null,null,null,null,{"$f":"IFERROR(VLOOKUP(D4126,Справка!$G$2:$H$579,2,0),\"\")","v":""}]
[null,null,null,null,{"$f":"IFERROR(VLOOKUP(D4127,Справка!$G$2:$H$579,2,0),\"\")","v":""}]
[null,null,null,null,{"$f":"IFERROR(VLOOKUP(D4128,Справка!$G$2:$H$579,2,0),\"\")","v":""}]
[null,null,null,null,{"$f":"IFERROR(VLOOKUP(D4129,Справка!$G$2:$H$579,2,0),\"\")","v":""}]
[null,null,null,null,{"$f":"IFERROR(VLOOKUP(D4130,Справка!$G$2:$H$579,2,0),\"\")","v":""}]
[null,null,null,null,{"$f":"IFERROR(VLOOKUP(D4131,Справка!$G$2:$H$579,2,0),\"\")","v":""}]
[null,null,null,null,{"$f":"IFERROR(VLOOKUP(D4132,Справка!$G$2:$H$579,2,0),\"\")","v":""}]
[null,null,null,null,{"$f":"IFERROR(VLOOKUP(D4133,Справка!$G$2:$H$579,2,0),\"\")","v":""}]
[null,null,null,null,{"$f":"IFERROR(VLOOKUP(D4134,Справка!$G$2:$H$579,2,0),\"\")","v":""}]
[null,null,null,null,{"$f":"IFERROR(VLOOKUP(D4135,Справка!$G$2:$H$579,2,0),\"\")","v":""}]
[null,null,null,null,{"$f":"IFERROR(VLOOKUP(D4136,Справка!$G$2:$H$579,2,0),\"\")","v":""}]
[null,null,null,null,{"$f":"IFERROR(VLOOKUP(D4137,Справка!$G$2:$H$579,2,0),\"\")","v":""}]
[null,null,null,null,{"$f":"IFERROR(VLOOKUP(D4138,Справка!$G$2:$H$579,2,0),\"\")","v":""}]
[null,null,null,null,{"$f":"IFERROR(VLOOKUP(D4139,Справка!$G$2:$H$579,2,0),\"\")","v":""}]
[null,null,null,null,{"$f":"IFERROR(VLOOKUP(D4140,Справка!$G$2:$H$579,2,0),\"\")","v":""}]
[null,null,null,null,{"$f":"IFERROR(VLOOKUP(D4141,Справка!$G$2:$H$579,2,0),\"\")","v":""}]
[null,null,null,null,{"$f":"IFERROR(VLOOKUP(D4142,Справка!$G$2:$H$579,2,0),\"\")","v":""}]
[null,null,null,null,{"$f":"IFERROR(VLOOKUP(D4143,Справка!$G$2:$H$579,2,0),\"\")","v":""}]
[null,null,null,null,{"$f":"IFERROR(VLOOKUP(D4144,Справка!$G$2:$H$579,2,0),\"\")","v":""}]
[null,null,null,null,{"$f":"IFERROR(VLOOKUP(D4145,Справка!$G$2:$H$579,2,0),\"\")","v":""}]
[null,null,null,null,{"$f":"IFERROR(VLOOKUP(D4146,Справка!$G$2:$H$579,2,0),\"\")","v":""}]
[null,null,null,null,{"$f":"IFERROR(VLOOKUP(D4147,Справка!$G$2:$H$579,2,0),\"\")","v":""}]
[null,null,null,null,{"$f":"IFERROR(VLOOKUP(D4148,Справка!$G$2:$H$579,2,0),\"\")","v":""}]
[null,null,null,null,{"$f":"IFERROR(VLOOKUP(D4149,Справка!$G$2:$H$579,2,0),\"\")","v":""}]
[null,null,null,null,{"$f":"IFERROR(VLOOKUP(D4150,Справка!$G$2:$H$579,2,0),\"\")","v":""}]
[null,null,null,null,{"$f":"IFERROR(VLOOKUP(D4151,Справка!$G$2:$H$579,2,0),\"\")","v":""}]
[null,null,null,null,{"$f":"IFERROR(VLOOKUP(D4152,Справка!$G$2:$H$579,2,0),\"\")","v":""}]
[null,null,null,null,{"$f":"IFERROR(VLOOKUP(D4153,Справка!$G$2:$H$579,2,0),\"\")","v":""}]
[null,null,null,null,{"$f":"IFERROR(VLOOKUP(D4154,Справка!$G$2:$H$579,2,0),\"\")","v":""}]
[null,null,null,null,{"$f":"IFERROR(VLOOKUP(D4155,Справка!$G$2:$H$579,2,0),\"\")","v":""}]
[null,null,null,null,{"$f":"IFERROR(VLOOKUP(D4156,Справка!$G$2:$H$579,2,0),\"\")","v":""}]
[null,null,null,null,{"$f":"IFERROR(VLOOKUP(D4157,Справка!$G$2:$H$579,2,0),\"\")","v":""}]
[null,null,null,null,{"$f":"IFERROR(VLOOKUP(D4158,Справка!$G$2:$H$579,2,0),\"\")","v":""}]
[null,null,null,null,{"$f":"IFERROR(VLOOKUP(D4159,Справка!$G$2:$H$579,2,0),\"\")","v":""}]
[null,null,null,null,{"$f":"IFERROR(VLOOKUP(D4160,Справка!$G$2:$H$579,2,0),\"\")","v":""}]
[null,null,null,null,{"$f":"IFERROR(VLOOKUP(D4161,Справка!$G$2:$H$579,2,0),\"\")","v":""}]
[null,null,null,null,{"$f":"IFERROR(VLOOKUP(D4162,Справка!$G$2:$H$579,2,0),\"\")","v":""}]
[null,null,null,null,{"$f":"IFERROR(VLOOKUP(D4163,Справка!$G$2:$H$579,2,0),\"\")","v":""}]
[null,null,null,null,{"$f":"IFERROR(VLOOKUP(D4164,Справка!$G$2:$H$579,2,0),\"\")","v":""}]
[null,null,null,null,{"$f":"IFERROR(VLOOKUP(D4165,Справка!$G$2:$H$579,2,0),\"\")","v":""}]
[null,null,null,null,{"$f":"IFERROR(VLOOKUP(D4166,Справка!$G$2:$H$579,2,0),\"\")","v":""}]
[null,null,null,null,{"$f":"IFERROR(VLOOKUP(D4167,Справка!$G$2:$H$579,2,0),\"\")","v":""}]
[null,null,null,null,{"$f":"IFERROR(VLOOKUP(D4168,Справка!$G$2:$H$579,2,0),\"\")","v":""}]
[null,null,null,null,{"$f":"IFERROR(VLOOKUP(D4169,Справка!$G$2:$H$579,2,0),\"\")","v":""}]
[null,null,null,null,{"$f":"IFERROR(VLOOKUP(D4170,Справка!$G$2:$H$579,2,0),\"\")","v":""}]
[null,null,null,null,{"$f":"IFERROR(VLOOKUP(D4171,Справка!$G$2:$H$579,2,0),\"\")","v":""}]
[null,null,null,null,{"$f":"IFERROR(VLOOKUP(D4172,Справка!$G$2:$H$579,2,0),\"\")","v":""}]
[null,null,null,null,{"$f":"IFERROR(VLOOKUP(D4173,Справка!$G$2:$H$579,2,0),\"\")","v":""}]
[null,null,null,null,{"$f":"IFERROR(VLOOKUP(D4174,Справка!$G$2:$H$579,2,0),\"\")","v":""}]
[null,null,null,null,{"$f":"IFERROR(VLOOKUP(D4175,Справка!$G$2:$H$579,2,0),\"\")","v":""}]
[null,null,null,null,{"$f":"IFERROR(VLOOKUP(D4176,Справка!$G$2:$H$579,2,0),\"\")","v":""}]
[null,null,null,null,{"$f":"IFERROR(VLOOKUP(D4177,Справка!$G$2:$H$579,2,0),\"\")","v":""}]
[null,null,null,null,{"$f":"IFERROR(VLOOKUP(D4178,Справка!$G$2:$H$579,2,0),\"\")","v":""}]
[null,null,null,null,{"$f":"IFERROR(VLOOKUP(D4179,Справка!$G$2:$H$579,2,0),\"\")","v":""}]
[null,null,null,null,{"$f":"IFERROR(VLOOKUP(D4180,Справка!$G$2:$H$579,2,0),\"\")","v":""}]
[null,null,null,null,{"$f":"IFERROR(VLOOKUP(D4181,Справка!$G$2:$H$579,2,0),\"\")","v":""}]
[null,null,null,null,{"$f":"IFERROR(VLOOKUP(D4182,Справка!$G$2:$H$579,2,0),\"\")","v":""}]
[null,null,null,null,{"$f":"IFERROR(VLOOKUP(D4183,Справка!$G$2:$H$579,2,0),\"\")","v":""}]
[null,null,null,null,{"$f":"IFERROR(VLOOKUP(D4184,Справка!$G$2:$H$579,2,0),\"\")","v":""}]
[null,null,null,null,{"$f":"IFERROR(VLOOKUP(D4185,Справка!$G$2:$H$579,2,0),\"\")","v":""}]
[null,null,null,null,{"$f":"IFERROR(VLOOKUP(D4186,Справка!$G$2:$H$579,2,0),\"\")","v":""}]
[null,null,null,null,{"$f":"IFERROR(VLOOKUP(D4187,Справка!$G$2:$H$579,2,0),\"\")","v":""}]
[null,null,null,null,{"$f":"IFERROR(VLOOKUP(D4188,Справка!$G$2:$H$579,2,0),\"\")","v":""}]
[null,null,null,null,{"$f":"IFERROR(VLOOKUP(D4189,Справка!$G$2:$H$579,2,0),\"\")","v":""}]
[null,null,null,null,{"$f":"IFERROR(VLOOKUP(D4190,Справка!$G$2:$H$579,2,0),\"\")","v":""}]
[null,null,null,null,{"$f":"IFERROR(VLOOKUP(D4191,Справка!$G$2:$H$579,2,0),\"\")","v":""}]
[null,null,null,null,{"$f":"IFERROR(VLOOKUP(D4192,Справка!$G$2:$H$579,2,0),\"\")","v":""}]
[null,null,null,null,{"$f":"IFERROR(VLOOKUP(D4193,Справка!$G$2:$H$579,2,0),\"\")","v":""}]
[null,null,null,null,{"$f":"IFERROR(VLOOKUP(D4194,Справка!$G$2:$H$579,2,0),\"\")","v":""}]
[null,null,null,null,{"$f":"IFERROR(VLOOKUP(D4195,Справка!$G$2:$H$579,2,0),\"\")","v":""}]
[null,null,null,null,{"$f":"IFERROR(VLOOKUP(D4196,Справка!$G$2:$H$579,2,0),\"\")","v":""}]
[null,null,null,null,{"$f":"IFERROR(VLOOKUP(D4197,Справка!$G$2:$H$579,2,0),\"\")","v":""}]
[null,null,null,null,{"$f":"IFERROR(VLOOKUP(D4198,Справка!$G$2:$H$579,2,0),\"\")","v":""}]
[null,null,null,null,{"$f":"IFERROR(VLOOKUP(D4199,Справка!$G$2:$H$579,2,0),\"\")","v":""}]
[null,null,null,null,{"$f":"IFERROR(VLOOKUP(D4200,Справка!$G$2:$H$579,2,0),\"\")","v":""}]
[null,null,null,null,{"$f":"IFERROR(VLOOKUP(D4201,Справка!$G$2:$H$579,2,0),\"\")","v":""}]
[null,null,null,null,{"$f":"IFERROR(VLOOKUP(D4202,Справка!$G$2:$H$579,2,0),\"\")","v":""}]
[null,null,null,null,{"$f":"IFERROR(VLOOKUP(D4203,Справка!$G$2:$H$579,2,0),\"\")","v":""}]
[null,null,null,null,{"$f":"IFERROR(VLOOKUP(D4204,Справка!$G$2:$H$579,2,0),\"\")","v":""}]
[null,null,null,null,{"$f":"IFERROR(VLOOKUP(D4205,Справка!$G$2:$H$579,2,0),\"\")","v":""}]
[null,null,null,null,{"$f":"IFERROR(VLOOKUP(D4206,Справка!$G$2:$H$579,2,0),\"\")","v":""}]
[null,null,null,null,{"$f":"IFERROR(VLOOKUP(D4207,Справка!$G$2:$H$579,2,0),\"\")","v":""}]
[null,null,null,null,{"$f":"IFERROR(VLOOKUP(D4208,Справка!$G$2:$H$579,2,0),\"\")","v":""}]
[null,null,null,null,{"$f":"IFERROR(VLOOKUP(D4209,Справка!$G$2:$H$579,2,0),\"\")","v":""}]
[null,null,null,null,{"$f":"IFERROR(VLOOKUP(D4210,Справка!$G$2:$H$579,2,0),\"\")","v":""}]
[null,null,null,null,{"$f":"IFERROR(VLOOKUP(D4211,Справка!$G$2:$H$579,2,0),\"\")","v":""}]
[null,null,null,null,{"$f":"IFERROR(VLOOKUP(D4212,Справка!$G$2:$H$579,2,0),\"\")","v":""}]
[null,null,null,null,{"$f":"IFERROR(VLOOKUP(D4213,Справка!$G$2:$H$579,2,0),\"\")","v":""}]
[null,null,null,null,{"$f":"IFERROR(VLOOKUP(D4214,Справка!$G$2:$H$579,2,0),\"\")","v":""}]
[null,null,null,null,{"$f":"IFERROR(VLOOKUP(D4215,Справка!$G$2:$H$579,2,0),\"\")","v":""}]
[null,null,null,null,{"$f":"IFERROR(VLOOKUP(D4216,Справка!$G$2:$H$579,2,0),\"\")","v":""}]
[null,null,null,null,{"$f":"IFERROR(VLOOKUP(D4217,Справка!$G$2:$H$579,2,0),\"\")","v":""}]
[null,null,null,null,{"$f":"IFERROR(VLOOKUP(D4218,Справка!$G$2:$H$579,2,0),\"\")","v":""}]
[null,null,null,null,{"$f":"IFERROR(VLOOKUP(D4219,Справка!$G$2:$H$579,2,0),\"\")","v":""}]
[null,null,null,null,{"$f":"IFERROR(VLOOKUP(D4220,Справка!$G$2:$H$579,2,0),\"\")","v":""}]
[null,null,null,null,{"$f":"IFERROR(VLOOKUP(D4221,Справка!$G$2:$H$579,2,0),\"\")","v":""}]
[null,null,null,null,{"$f":"IFERROR(VLOOKUP(D4222,Справка!$G$2:$H$579,2,0),\"\")","v":""}]
[null,null,null,null,{"$f":"IFERROR(VLOOKUP(D4223,Справка!$G$2:$H$579,2,0),\"\")","v":""}]
[null,null,null,null,{"$f":"IFERROR(VLOOKUP(D4224,Справка!$G$2:$H$579,2,0),\"\")","v":""}]
[null,null,null,null,{"$f":"IFERROR(VLOOKUP(D4225,Справка!$G$2:$H$579,2,0),\"\")","v":""}]
[null,null,null,null,{"$f":"IFERROR(VLOOKUP(D4226,Справка!$G$2:$H$579,2,0),\"\")","v":""}]
[null,null,null,null,{"$f":"IFERROR(VLOOKUP(D4227,Справка!$G$2:$H$579,2,0),\"\")","v":""}]
[null,null,null,null,{"$f":"IFERROR(VLOOKUP(D4228,Справка!$G$2:$H$579,2,0),\"\")","v":""}]
[null,null,null,null,{"$f":"IFERROR(VLOOKUP(D4229,Справка!$G$2:$H$579,2,0),\"\")","v":""}]
[null,null,null,null,{"$f":"IFERROR(VLOOKUP(D4230,Справка!$G$2:$H$579,2,0),\"\")","v":""}]
[null,null,null,null,{"$f":"IFERROR(VLOOKUP(D4231,Справка!$G$2:$H$579,2,0),\"\")","v":""}]
[null,null,null,null,{"$f":"IFERROR(VLOOKUP(D4232,Справка!$G$2:$H$579,2,0),\"\")","v":""}]
[null,null,null,null,{"$f":"IFERROR(VLOOKUP(D4233,Справка!$G$2:$H$579,2,0),\"\")","v":""}]
[null,null,null,null,{"$f":"IFERROR(VLOOKUP(D4234,Справка!$G$2:$H$579,2,0),\"\")","v":""}]
[null,null,null,null,{"$f":"IFERROR(VLOOKUP(D4235,Справка!$G$2:$H$579,2,0),\"\")","v":""}]
[null,null,null,null,{"$f":"IFERROR(VLOOKUP(D4236,Справка!$G$2:$H$579,2,0),\"\")","v":""}]
[null,null,null,null,{"$f":"IFERROR(VLOOKUP(D4237,Справка!$G$2:$H$579,2,0),\"\")","v":""}]
[null,null,null,null,{"$f":"IFERROR(VLOOKUP(D4238,Справка!$G$2:$H$579,2,0),\"\")","v":""}]
[null,null,null,null,{"$f":"IFERROR(VLOOKUP(D4239,Справка!$G$2:$H$579,2,0),\"\")","v":""}]
[null,null,null,null,{"$f":"IFERROR(VLOOKUP(D4240,Справка!$G$2:$H$579,2,0),\"\")","v":""}]
[null,null,null,null,{"$f":"IFERROR(VLOOKUP(D4241,Справка!$G$2:$H$579,2,0),\"\")","v":""}]
[null,null,null,null,{"$f":"IFERROR(VLOOKUP(D4242,Справка!$G$2:$H$579,2,0),\"\")","v":""}]
[null,null,null,null,{"$f":"IFERROR(VLOOKUP(D4243,Справка!$G$2:$H$579,2,0),\"\")","v":""}]
[null,null,null,null,{"$f":"IFERROR(VLOOKUP(D4244,Справка!$G$2:$H$579,2,0),\"\")","v":""}]
[null,null,null,null,{"$f":"IFERROR(VLOOKUP(D4245,Справка!$G$2:$H$579,2,0),\"\")","v":""}]
[null,null,null,null,{"$f":"IFERROR(VLOOKUP(D4246,Справка!$G$2:$H$579,2,0),\"\")","v":""}]
[null,null,null,null,{"$f":"IFERROR(VLOOKUP(D4247,Справка!$G$2:$H$579,2,0),\"\")","v":""}]
[null,null,null,null,{"$f":"IFERROR(VLOOKUP(D4248,Справка!$G$2:$H$579,2,0),\"\")","v":""}]
[null,null,null,null,{"$f":"IFERROR(VLOOKUP(D4249,Справка!$G$2:$H$579,2,0),\"\")","v":""}]
[null,null,null,null,{"$f":"IFERROR(VLOOKUP(D4250,Справка!$G$2:$H$579,2,0),\"\")","v":""}]
[null,null,null,null,{"$f":"IFERROR(VLOOKUP(D4251,Справка!$G$2:$H$579,2,0),\"\")","v":""}]
[null,null,null,null,{"$f":"IFERROR(VLOOKUP(D4252,Справка!$G$2:$H$579,2,0),\"\")","v":""}]
[null,null,null,null,{"$f":"IFERROR(VLOOKUP(D4253,Справка!$G$2:$H$579,2,0),\"\")","v":""}]
[null,null,null,null,{"$f":"IFERROR(VLOOKUP(D4254,Справка!$G$2:$H$579,2,0),\"\")","v":""}]
[null,null,null,null,{"$f":"IFERROR(VLOOKUP(D4255,Справка!$G$2:$H$579,2,0),\"\")","v":""}]
[null,null,null,null,{"$f":"IFERROR(VLOOKUP(D4256,Справка!$G$2:$H$579,2,0),\"\")","v":""}]
[null,null,null,null,{"$f":"IFERROR(VLOOKUP(D4257,Справка!$G$2:$H$579,2,0),\"\")","v":""}]
[null,null,null,null,{"$f":"IFERROR(VLOOKUP(D4258,Справка!$G$2:$H$579,2,0),\"\")","v":""}]
[null,null,null,null,{"$f":"IFERROR(VLOOKUP(D4259,Справка!$G$2:$H$579,2,0),\"\")","v":""}]
[null,null,null,null,{"$f":"IFERROR(VLOOKUP(D4260,Справка!$G$2:$H$579,2,0),\"\")","v":""}]
[null,null,null,null,{"$f":"IFERROR(VLOOKUP(D4261,Справка!$G$2:$H$579,2,0),\"\")","v":""}]
[null,null,null,null,{"$f":"IFERROR(VLOOKUP(D4262,Справка!$G$2:$H$579,2,0),\"\")","v":""}]
[null,null,null,null,{"$f":"IFERROR(VLOOKUP(D4263,Справка!$G$2:$H$579,2,0),\"\")","v":""}]
[null,null,null,null,{"$f":"IFERROR(VLOOKUP(D4264,Справка!$G$2:$H$579,2,0),\"\")","v":""}]
[null,null,null,null,{"$f":"IFERROR(VLOOKUP(D4265,Справка!$G$2:$H$579,2,0),\"\")","v":""}]
[null,null,null,null,{"$f":"IFERROR(VLOOKUP(D4266,Справка!$G$2:$H$579,2,0),\"\")","v":""}]
[null,null,null,null,{"$f":"IFERROR(VLOOKUP(D4267,Справка!$G$2:$H$579,2,0),\"\")","v":""}]
[null,null,null,null,{"$f":"IFERROR(VLOOKUP(D4268,Справка!$G$2:$H$579,2,0),\"\")","v":""}]
[null,null,null,null,{"$f":"IFERROR(VLOOKUP(D4269,Справка!$G$2:$H$579,2,0),\"\")","v":""}]
[null,null,null,null,{"$f":"IFERROR(VLOOKUP(D4270,Справка!$G$2:$H$579,2,0),\"\")","v":""}]
[null,null,null,null,{"$f":"IFERROR(VLOOKUP(D4271,Справка!$G$2:$H$579,2,0),\"\")","v":""}]
[null,null,null,null,{"$f":"IFERROR(VLOOKUP(D4272,Справка!$G$2:$H$579,2,0),\"\")","v":""}]
[null,null,null,null,{"$f":"IFERROR(VLOOKUP(D4273,Справка!$G$2:$H$579,2,0),\"\")","v":""}]
[null,null,null,null,{"$f":"IFERROR(VLOOKUP(D4274,Справка!$G$2:$H$579,2,0),\"\")","v":""}]
[null,null,null,null,{"$f":"IFERROR(VLOOKUP(D4275,Справка!$G$2:$H$579,2,0),\"\")","v":""}]
[null,null,null,null,{"$f":"IFERROR(VLOOKUP(D4276,Справка!$G$2:$H$579,2,0),\"\")","v":""}]
[null,null,null,null,{"$f":"IFERROR(VLOOKUP(D4277,Справка!$G$2:$H$579,2,0),\"\")","v":""}]
[null,null,null,null,{"$f":"IFERROR(VLOOKUP(D4278,Справка!$G$2:$H$579,2,0),\"\")","v":""}]
[null,null,null,null,{"$f":"IFERROR(VLOOKUP(D4279,Справка!$G$2:$H$579,2,0),\"\")","v":""}]
[null,null,null,null,{"$f":"IFERROR(VLOOKUP(D4280,Справка!$G$2:$H$579,2,0),\"\")","v":""}]
[null,null,null,null,{"$f":"IFERROR(VLOOKUP(D4281,Справка!$G$2:$H$579,2,0),\"\")","v":""}]
[null,null,null,null,{"$f":"IFERROR(VLOOKUP(D4282,Справка!$G$2:$H$579,2,0),\"\")","v":""}]
[null,null,null,null,{"$f":"IFERROR(VLOOKUP(D4283,Справка!$G$2:$H$579,2,0),\"\")","v":""}]
[null,null,null,null,{"$f":"IFERROR(VLOOKUP(D4284,Справка!$G$2:$H$579,2,0),\"\")","v":""}]
[null,null,null,null,{"$f":"IFERROR(VLOOKUP(D4285,Справка!$G$2:$H$579,2,0),\"\")","v":""}]
[null,null,null,null,{"$f":"IFERROR(VLOOKUP(D4286,Справка!$G$2:$H$579,2,0),\"\")","v":""}]
[null,null,null,null,{"$f":"IFERROR(VLOOKUP(D4287,Справка!$G$2:$H$579,2,0),\"\")","v":""}]
[null,null,null,null,{"$f":"IFERROR(VLOOKUP(D4288,Справка!$G$2:$H$579,2,0),\"\")","v":""}]
[null,null,null,null,{"$f":"IFERROR(VLOOKUP(D4289,Справка!$G$2:$H$579,2,0),\"\")","v":""}]
[null,null,null,null,{"$f":"IFERROR(VLOOKUP(D4290,Справка!$G$2:$H$579,2,0),\"\")","v":""}]
[null,null,null,null,{"$f":"IFERROR(VLOOKUP(D4291,Справка!$G$2:$H$579,2,0),\"\")","v":""}]
[null,null,null,null,{"$f":"IFERROR(VLOOKUP(D4292,Справка!$G$2:$H$579,2,0),\"\")","v":""}]
[null,null,null,null,{"$f":"IFERROR(VLOOKUP(D4293,Справка!$G$2:$H$579,2,0),\"\")","v":""}]
[null,null,null,null,{"$f":"IFERROR(VLOOKUP(D4294,Справка!$G$2:$H$579,2,0),\"\")","v":""}]
[null,null,null,null,{"$f":"IFERROR(VLOOKUP(D4295,Справка!$G$2:$H$579,2,0),\"\")","v":""}]
[null,null,null,null,{"$f":"IFERROR(VLOOKUP(D4296,Справка!$G$2:$H$579,2,0),\"\")","v":""}]
[null,null,null,null,{"$f":"IFERROR(VLOOKUP(D4297,Справка!$G$2:$H$579,2,0),\"\")","v":""}]
[null,null,null,null,{"$f":"IFERROR(VLOOKUP(D4298,Справка!$G$2:$H$579,2,0),\"\")","v":""}]
[null,null,null,null,{"$f":"IFERROR(VLOOKUP(D4299,Справка!$G$2:$H$579,2,0),\"\")","v":""}]
[null,null,null,null,{"$f":"IFERROR(VLOOKUP(D4300,Справка!$G$2:$H$579,2,0),\"\")","v":""}]
[null,null,null,null,{"$f":"IFERROR(VLOOKUP(D4301,Справка!$G$2:$H$579,2,0),\"\")","v":""}]
[null,null,null,null,{"$f":"IFERROR(VLOOKUP(D4302,Справка!$G$2:$H$579,2,0),\"\")","v":""}]
[null,null,null,null,{"$f":"IFERROR(VLOOKUP(D4303,Справка!$G$2:$H$579,2,0),\"\")","v":""}]
[null,null,null,null,{"$f":"IFERROR(VLOOKUP(D4304,Справка!$G$2:$H$579,2,0),\"\")","v":""}]
[null,null,null,null,{"$f":"IFERROR(VLOOKUP(D4305,Справка!$G$2:$H$579,2,0),\"\")","v":""}]
[null,null,null,null,{"$f":"IFERROR(VLOOKUP(D4306,Справка!$G$2:$H$579,2,0),\"\")","v":""}]
[null,null,null,null,{"$f":"IFERROR(VLOOKUP(D4307,Справка!$G$2:$H$579,2,0),\"\")","v":""}]
[null,null,null,null,{"$f":"IFERROR(VLOOKUP(D4308,Справка!$G$2:$H$579,2,0),\"\")","v":""}]
[null,null,null,null,{"$f":"IFERROR(VLOOKUP(D4309,Справка!$G$2:$H$579,2,0),\"\")","v":""}]
[null,null,null,null,{"$f":"IFERROR(VLOOKUP(D4310,Справка!$G$2:$H$579,2,0),\"\")","v":""}]
[null,null,null,null,{"$f":"IFERROR(VLOOKUP(D4311,Справка!$G$2:$H$579,2,0),\"\")","v":""}]
[null,null,null,null,{"$f":"IFERROR(VLOOKUP(D4312,Справка!$G$2:$H$579,2,0),\"\")","v":""}]
[null,null,null,null,{"$f":"IFERROR(VLOOKUP(D4313,Справка!$G$2:$H$579,2,0),\"\")","v":""}]
[null,null,null,null,{"$f":"IFERROR(VLOOKUP(D4314,Справка!$G$2:$H$579,2,0),\"\")","v":""}]
[null,null,null,null,{"$f":"IFERROR(VLOOKUP(D4315,Справка!$G$2:$H$579,2,0),\"\")","v":""}]
[null,null,null,null,{"$f":"IFERROR(VLOOKUP(D4316,Справка!$G$2:$H$579,2,0),\"\")","v":""}]
[null,null,null,null,{"$f":"IFERROR(VLOOKUP(D4317,Справка!$G$2:$H$579,2,0),\"\")","v":""}]
[null,null,null,null,{"$f":"IFERROR(VLOOKUP(D4318,Справка!$G$2:$H$579,2,0),\"\")","v":""}]
[null,null,null,null,{"$f":"IFERROR(VLOOKUP(D4319,Справка!$G$2:$H$579,2,0),\"\")","v":""}]
[null,null,null,null,{"$f":"IFERROR(VLOOKUP(D4320,Справка!$G$2:$H$579,2,0),\"\")","v":""}]
[null,null,null,null,{"$f":"IFERROR(VLOOKUP(D4321,Справка!$G$2:$H$579,2,0),\"\")","v":""}]
[null,null,null,null,{"$f":"IFERROR(VLOOKUP(D4322,Справка!$G$2:$H$579,2,0),\"\")","v":""}]
[null,null,null,null,{"$f":"IFERROR(VLOOKUP(D4323,Справка!$G$2:$H$579,2,0),\"\")","v":""}]
[null,null,null,null,{"$f":"IFERROR(VLOOKUP(D4324,Справка!$G$2:$H$579,2,0),\"\")","v":""}]
[null,null,null,null,{"$f":"IFERROR(VLOOKUP(D4325,Справка!$G$2:$H$579,2,0),\"\")","v":""}]
[null,null,null,null,{"$f":"IFERROR(VLOOKUP(D4326,Справка!$G$2:$H$579,2,0),\"\")","v":""}]
[null,null,null,null,{"$f":"IFERROR(VLOOKUP(D4327,Справка!$G$2:$H$579,2,0),\"\")","v":""}]
[null,null,null,null,{"$f":"IFERROR(VLOOKUP(D4328,Справка!$G$2:$H$579,2,0),\"\")","v":""}]
[null,null,null,null,{"$f":"IFERROR(VLOOKUP(D4329,Справка!$G$2:$H$579,2,0),\"\")","v":""}]
[null,null,null,null,{"$f":"IFERROR(VLOOKUP(D4330,Справка!$G$2:$H$579,2,0),\"\")","v":""}]
[null,null,null,null,{"$f":"IFERROR(VLOOKUP(D4331,Справка!$G$2:$H$579,2,0),\"\")","v":""}]
[null,null,null,null,{"$f":"IFERROR(VLOOKUP(D4332,Справка!$G$2:$H$579,2,0),\"\")","v":""}]
[null,null,null,null,{"$f":"IFERROR(VLOOKUP(D4333,Справка!$G$2:$H$579,2,0),\"\")","v":""}]
[null,null,null,null,{"$f":"IFERROR(VLOOKUP(D4334,Справка!$G$2:$H$579,2,0),\"\")","v":""}]
[null,null,null,null,{"$f":"IFERROR(VLOOKUP(D4335,Справка!$G$2:$H$579,2,0),\"\")","v":""}]
[null,null,null,null,{"$f":"IFERROR(VLOOKUP(D4336,Справка!$G$2:$H$579,2,0),\"\")","v":""}]
[null,null,null,null,{"$f":"IFERROR(VLOOKUP(D4337,Справка!$G$2:$H$579,2,0),\"\")","v":""}]
[null,null,null,null,{"$f":"IFERROR(VLOOKUP(D4338,Справка!$G$2:$H$579,2,0),\"\")","v":""}]
[null,null,null,null,{"$f":"IFERROR(VLOOKUP(D4339,Справка!$G$2:$H$579,2,0),\"\")","v":""}]
[null,null,null,null,{"$f":"IFERROR(VLOOKUP(D4340,Справка!$G$2:$H$579,2,0),\"\")","v":""}]
[null,null,null,null,{"$f":"IFERROR(VLOOKUP(D4341,Справка!$G$2:$H$579,2,0),\"\")","v":""}]
[null,null,null,null,{"$f":"IFERROR(VLOOKUP(D4342,Справка!$G$2:$H$579,2,0),\"\")","v":""}]
[null,null,null,null,{"$f":"IFERROR(VLOOKUP(D4343,Справка!$G$2:$H$579,2,0),\"\")","v":""}]
[null,null,null,null,{"$f":"IFERROR(VLOOKUP(D4344,Справка!$G$2:$H$579,2,0),\"\")","v":""}]
[null,null,null,null,{"$f":"IFERROR(VLOOKUP(D4345,Справка!$G$2:$H$579,2,0),\"\")","v":""}]
[null,null,null,null,{"$f":"IFERROR(VLOOKUP(D4346,Справка!$G$2:$H$579,2,0),\"\")","v":""}]
[null,null,null,null,{"$f":"IFERROR(VLOOKUP(D4347,Справка!$G$2:$H$579,2,0),\"\")","v":""}]
[null,null,null,null,{"$f":"IFERROR(VLOOKUP(D4348,Справка!$G$2:$H$579,2,0),\"\")","v":""}]
[null,null,null,null,{"$f":"IFERROR(VLOOKUP(D4349,Справка!$G$2:$H$579,2,0),\"\")","v":""}]
[null,null,null,null,{"$f":"IFERROR(VLOOKUP(D4350,Справка!$G$2:$H$579,2,0),\"\")","v":""}]
[null,null,null,null,{"$f":"IFERROR(VLOOKUP(D4351,Справка!$G$2:$H$579,2,0),\"\")","v":""}]
[null,null,null,null,{"$f":"IFERROR(VLOOKUP(D4352,Справка!$G$2:$H$579,2,0),\"\")","v":""}]
[null,null,null,null,{"$f":"IFERROR(VLOOKUP(D4353,Справка!$G$2:$H$579,2,0),\"\")","v":""}]
[null,null,null,null,{"$f":"IFERROR(VLOOKUP(D4354,Справка!$G$2:$H$579,2,0),\"\")","v":""}]
[null,null,null,null,{"$f":"IFERROR(VLOOKUP(D4355,Справка!$G$2:$H$579,2,0),\"\")","v":""}]
[null,null,null,null,{"$f":"IFERROR(VLOOKUP(D4356,Справка!$G$2:$H$579,2,0),\"\")","v":""}]
[null,null,null,null,{"$f":"IFERROR(VLOOKUP(D4357,Справка!$G$2:$H$579,2,0),\"\")","v":""}]
[null,null,null,null,{"$f":"IFERROR(VLOOKUP(D4358,Справка!$G$2:$H$579,2,0),\"\")","v":""}]
[null,null,null,null,{"$f":"IFERROR(VLOOKUP(D4359,Справка!$G$2:$H$579,2,0),\"\")","v":""}]
[null,null,null,null,{"$f":"IFERROR(VLOOKUP(D4360,Справка!$G$2:$H$579,2,0),\"\")","v":""}]
[null,null,null,null,{"$f":"IFERROR(VLOOKUP(D4361,Справка!$G$2:$H$579,2,0),\"\")","v":""}]
[null,null,null,null,{"$f":"IFERROR(VLOOKUP(D4362,Справка!$G$2:$H$579,2,0),\"\")","v":""}]
[null,null,null,null,{"$f":"IFERROR(VLOOKUP(D4363,Справка!$G$2:$H$579,2,0),\"\")","v":""}]
[null,null,null,null,{"$f":"IFERROR(VLOOKUP(D4364,Справка!$G$2:$H$579,2,0),\"\")","v":""}]
[null,null,null,null,{"$f":"IFERROR(VLOOKUP(D4365,Справка!$G$2:$H$579,2,0),\"\")","v":""}]
[null,null,null,null,{"$f":"IFERROR(VLOOKUP(D4366,Справка!$G$2:$H$579,2,0),\"\")","v":""}]
[null,null,null,null,{"$f":"IFERROR(VLOOKUP(D4367,Справка!$G$2:$H$579,2,0),\"\")","v":""}]
[null,null,null,null,{"$f":"IFERROR(VLOOKUP(D4368,Справка!$G$2:$H$579,2,0),\"\")","v":""}]
[null,null,null,null,{"$f":"IFERROR(VLOOKUP(D4369,Справка!$G$2:$H$579,2,0),\"\")","v":""}]
[null,null,null,null,{"$f":"IFERROR(VLOOKUP(D4370,Справка!$G$2:$H$579,2,0),\"\")","v":""}]
[null,null,null,null,{"$f":"IFERROR(VLOOKUP(D4371,Справка!$G$2:$H$579,2,0),\"\")","v":""}]
[null,null,null,null,{"$f":"IFERROR(VLOOKUP(D4372,Справка!$G$2:$H$579,2,0),\"\")","v":""}]
[null,null,null,null,{"$f":"IFERROR(VLOOKUP(D4373,Справка!$G$2:$H$579,2,0),\"\")","v":""}]
[null,null,null,null,{"$f":"IFERROR(VLOOKUP(D4374,Справка!$G$2:$H$579,2,0),\"\")","v":""}]
[null,null,null,null,{"$f":"IFERROR(VLOOKUP(D4375,Справка!$G$2:$H$579,2,0),\"\")","v":""}]
[null,null,null,null,{"$f":"IFERROR(VLOOKUP(D4376,Справка!$G$2:$H$579,2,0),\"\")","v":""}]
[null,null,null,null,{"$f":"IFERROR(VLOOKUP(D4377,Справка!$G$2:$H$579,2,0),\"\")","v":""}]
[null,null,null,null,{"$f":"IFERROR(VLOOKUP(D4378,Справка!$G$2:$H$579,2,0),\"\")","v":""}]
[null,null,null,null,{"$f":"IFERROR(VLOOKUP(D4379,Справка!$G$2:$H$579,2,0),\"\")","v":""}]
[null,null,null,null,{"$f":"IFERROR(VLOOKUP(D4380,Справка!$G$2:$H$579,2,0),\"\")","v":""}]
[null,null,null,null,{"$f":"IFERROR(VLOOKUP(D4381,Справка!$G$2:$H$579,2,0),\"\")","v":""}]
[null,null,null,null,{"$f":"IFERROR(VLOOKUP(D4382,Справка!$G$2:$H$579,2,0),\"\")","v":""}]
[null,null,null,null,{"$f":"IFERROR(VLOOKUP(D4383,Справка!$G$2:$H$579,2,0),\"\")","v":""}]
[null,null,null,null,{"$f":"IFERROR(VLOOKUP(D4384,Справка!$G$2:$H$579,2,0),\"\")","v":""}]
[null,null,null,null,{"$f":"IFERROR(VLOOKUP(D4385,Справка!$G$2:$H$579,2,0),\"\")","v":""}]
[null,null,null,null,{"$f":"IFERROR(VLOOKUP(D4386,Справка!$G$2:$H$579,2,0),\"\")","v":""}]
[null,null,null,null,{"$f":"IFERROR(VLOOKUP(D4387,Справка!$G$2:$H$579,2,0),\"\")","v":""}]
[null,null,null,null,{"$f":"IFERROR(VLOOKUP(D4388,Справка!$G$2:$H$579,2,0),\"\")","v":""}]
[null,null,null,null,{"$f":"IFERROR(VLOOKUP(D4389,Справка!$G$2:$H$579,2,0),\"\")","v":""}]
[null,null,null,null,{"$f":"IFERROR(VLOOKUP(D4390,Справка!$G$2:$H$579,2,0),\"\")","v":""}]
[null,null,null,null,{"$f":"IFERROR(VLOOKUP(D4391,Справка!$G$2:$H$579,2,0),\"\")","v":""}]
[null,null,null,null,{"$f":"IFERROR(VLOOKUP(D4392,Справка!$G$2:$H$579,2,0),\"\")","v":""}]
[null,null,null,null,{"$f":"IFERROR(VLOOKUP(D4393,Справка!$G$2:$H$579,2,0),\"\")","v":""}]
[null,null,null,null,{"$f":"IFERROR(VLOOKUP(D4394,Справка!$G$2:$H$579,2,0),\"\")","v":""}]
[null,null,null,null,{"$f":"IFERROR(VLOOKUP(D4395,Справка!$G$2:$H$579,2,0),\"\")","v":""}]
[null,null,null,null,{"$f":"IFERROR(VLOOKUP(D4396,Справка!$G$2:$H$579,2,0),\"\")","v":""}]
[null,null,null,null,{"$f":"IFERROR(VLOOKUP(D4397,Справка!$G$2:$H$579,2,0),\"\")","v":""}]
[null,null,null,null,{"$f":"IFERROR(VLOOKUP(D4398,Справка!$G$2:$H$579,2,0),\"\")","v":""}]
[null,null,null,null,{"$f":"IFERROR(VLOOKUP(D4399,Справка!$G$2:$H$579,2,0),\"\")","v":""}]
[null,null,null,null,{"$f":"IFERROR(VLOOKUP(D4400,Справка!$G$2:$H$579,2,0),\"\")","v":""}]
[null,null,null,null,{"$f":"IFERROR(VLOOKUP(D4401,Справка!$G$2:$H$579,2,0),\"\")","v":""}]
[null,null,null,null,{"$f":"IFERROR(VLOOKUP(D4402,Справка!$G$2:$H$579,2,0),\"\")","v":""}]
[null,null,null,null,{"$f":"IFERROR(VLOOKUP(D4403,Справка!$G$2:$H$579,2,0),\"\")","v":""}]
[null,null,null,null,{"$f":"IFERROR(VLOOKUP(D4404,Справка!$G$2:$H$579,2,0),\"\")","v":""}]
[null,null,null,null,{"$f":"IFERROR(VLOOKUP(D4405,Справка!$G$2:$H$579,2,0),\"\")","v":""}]
[null,null,null,null,{"$f":"IFERROR(VLOOKUP(D4406,Справка!$G$2:$H$579,2,0),\"\")","v":""}]
[null,null,null,null,{"$f":"IFERROR(VLOOKUP(D4407,Справка!$G$2:$H$579,2,0),\"\")","v":""}]
[null,null,null,null,{"$f":"IFERROR(VLOOKUP(D4408,Справка!$G$2:$H$579,2,0),\"\")","v":""}]
[null,null,null,null,{"$f":"IFERROR(VLOOKUP(D4409,Справка!$G$2:$H$579,2,0),\"\")","v":""}]
[null,null,null,null,{"$f":"IFERROR(VLOOKUP(D4410,Справка!$G$2:$H$579,2,0),\"\")","v":""}]
[null,null,null,null,{"$f":"IFERROR(VLOOKUP(D4411,Справка!$G$2:$H$579,2,0),\"\")","v":""}]
[null,null,null,null,{"$f":"IFERROR(VLOOKUP(D4412,Справка!$G$2:$H$579,2,0),\"\")","v":""}]
[null,null,null,null,{"$f":"IFERROR(VLOOKUP(D4413,Справка!$G$2:$H$579,2,0),\"\")","v":""}]
[null,null,null,null,{"$f":"IFERROR(VLOOKUP(D4414,Справка!$G$2:$H$579,2,0),\"\")","v":""}]
[null,null,null,null,{"$f":"IFERROR(VLOOKUP(D4415,Справка!$G$2:$H$579,2,0),\"\")","v":""}]
[null,null,null,null,{"$f":"IFERROR(VLOOKUP(D4416,Справка!$G$2:$H$579,2,0),\"\")","v":""}]
[null,null,null,null,{"$f":"IFERROR(VLOOKUP(D4417,Справка!$G$2:$H$579,2,0),\"\")","v":""}]
[null,null,null,null,{"$f":"IFERROR(VLOOKUP(D4418,Справка!$G$2:$H$579,2,0),\"\")","v":""}]
[null,null,null,null,{"$f":"IFERROR(VLOOKUP(D4419,Справка!$G$2:$H$579,2,0),\"\")","v":""}]
[null,null,null,null,{"$f":"IFERROR(VLOOKUP(D4420,Справка!$G$2:$H$579,2,0),\"\")","v":""}]
[null,null,null,null,{"$f":"IFERROR(VLOOKUP(D4421,Справка!$G$2:$H$579,2,0),\"\")","v":""}]
[null,null,null,null,{"$f":"IFERROR(VLOOKUP(D4422,Справка!$G$2:$H$579,2,0),\"\")","v":""}]
[null,null,null,null,{"$f":"IFERROR(VLOOKUP(D4423,Справка!$G$2:$H$579,2,0),\"\")","v":""}]
[null,null,null,null,{"$f":"IFERROR(VLOOKUP(D4424,Справка!$G$2:$H$579,2,0),\"\")","v":""}]
[null,null,null,null,{"$f":"IFERROR(VLOOKUP(D4425,Справка!$G$2:$H$579,2,0),\"\")","v":""}]
[null,null,null,null,{"$f":"IFERROR(VLOOKUP(D4426,Справка!$G$2:$H$579,2,0),\"\")","v":""}]
[null,null,null,null,{"$f":"IFERROR(VLOOKUP(D4427,Справка!$G$2:$H$579,2,0),\"\")","v":""}]
[null,null,null,null,{"$f":"IFERROR(VLOOKUP(D4428,Справка!$G$2:$H$579,2,0),\"\")","v":""}]
[null,null,null,null,{"$f":"IFERROR(VLOOKUP(D4429,Справка!$G$2:$H$579,2,0),\"\")","v":""}]
[null,null,null,null,{"$f":"IFERROR(VLOOKUP(D4430,Справка!$G$2:$H$579,2,0),\"\")","v":""}]
[null,null,null,null,{"$f":"IFERROR(VLOOKUP(D4431,Справка!$G$2:$H$579,2,0),\"\")","v":""}]
[null,null,null,null,{"$f":"IFERROR(VLOOKUP(D4432,Справка!$G$2:$H$579,2,0),\"\")","v":""}]
[null,null,null,null,{"$f":"IFERROR(VLOOKUP(D4433,Справка!$G$2:$H$579,2,0),\"\")","v":""}]
[null,null,null,null,{"$f":"IFERROR(VLOOKUP(D4434,Справка!$G$2:$H$579,2,0),\"\")","v":""}]
[null,null,null,null,{"$f":"IFERROR(VLOOKUP(D4435,Справка!$G$2:$H$579,2,0),\"\")","v":""}]
[null,null,null,null,{"$f":"IFERROR(VLOOKUP(D4436,Справка!$G$2:$H$579,2,0),\"\")","v":""}]
[null,null,null,null,{"$f":"IFERROR(VLOOKUP(D4437,Справка!$G$2:$H$579,2,0),\"\")","v":""}]
[null,null,null,null,{"$f":"IFERROR(VLOOKUP(D4438,Справка!$G$2:$H$579,2,0),\"\")","v":""}]
[null,null,null,null,{"$f":"IFERROR(VLOOKUP(D4439,Справка!$G$2:$H$579,2,0),\"\")","v":""}]
[null,null,null,null,{"$f":"IFERROR(VLOOKUP(D4440,Справка!$G$2:$H$579,2,0),\"\")","v":""}]
[null,null,null,null,{"$f":"IFERROR(VLOOKUP(D4441,Справка!$G$2:$H$579,2,0),\"\")","v":""}]
[null,null,null,null,{"$f":"IFERROR(VLOOKUP(D4442,Справка!$G$2:$H$579,2,0),\"\")","v":""}]
[null,null,null,null,{"$f":"IFERROR(VLOOKUP(D4443,Справка!$G$2:$H$579,2,0),\"\")","v":""}]
[null,null,null,null,{"$f":"IFERROR(VLOOKUP(D4444,Справка!$G$2:$H$579,2,0),\"\")","v":""}]
[null,null,null,null,{"$f":"IFERROR(VLOOKUP(D4445,Справка!$G$2:$H$579,2,0),\"\")","v":""}]
[null,null,null,null,{"$f":"IFERROR(VLOOKUP(D4446,Справка!$G$2:$H$579,2,0),\"\")","v":""}]
[null,null,null,null,{"$f":"IFERROR(VLOOKUP(D4447,Справка!$G$2:$H$579,2,0),\"\")","v":""}]
[null,null,null,null,{"$f":"IFERROR(VLOOKUP(D4448,Справка!$G$2:$H$579,2,0),\"\")","v":""}]
[null,null,null,null,{"$f":"IFERROR(VLOOKUP(D4449,Справка!$G$2:$H$579,2,0),\"\")","v":""}]
[null,null,null,null,{"$f":"IFERROR(VLOOKUP(D4450,Справка!$G$2:$H$579,2,0),\"\")","v":""}]
[null,null,null,null,{"$f":"IFERROR(VLOOKUP(D4451,Справка!$G$2:$H$579,2,0),\"\")","v":""}]
[null,null,null,null,{"$f":"IFERROR(VLOOKUP(D4452,Справка!$G$2:$H$579,2,0),\"\")","v":""}]
[null,null,null,null,{"$f":"IFERROR(VLOOKUP(D4453,Справка!$G$2:$H$579,2,0),\"\")","v":""}]
[null,null,null,null,{"$f":"IFERROR(VLOOKUP(D4454,Справка!$G$2:$H$579,2,0),\"\")","v":""}]
[null,null,null,null,{"$f":"IFERROR(VLOOKUP(D4455,Справка!$G$2:$H$579,2,0),\"\")","v":""}]
[null,null,null,null,{"$f":"IFERROR(VLOOKUP(D4456,Справка!$G$2:$H$579,2,0),\"\")","v":""}]
[null,null,null,null,{"$f":"IFERROR(VLOOKUP(D4457,Справка!$G$2:$H$579,2,0),\"\")","v":""}]
[null,null,null,null,{"$f":"IFERROR(VLOOKUP(D4458,Справка!$G$2:$H$579,2,0),\"\")","v":""}]
[null,null,null,null,{"$f":"IFERROR(VLOOKUP(D4459,Справка!$G$2:$H$579,2,0),\"\")","v":""}]
[null,null,null,null,{"$f":"IFERROR(VLOOKUP(D4460,Справка!$G$2:$H$579,2,0),\"\")","v":""}]
[null,null,null,null,{"$f":"IFERROR(VLOOKUP(D4461,Справка!$G$2:$H$579,2,0),\"\")","v":""}]
[null,null,null,null,{"$f":"IFERROR(VLOOKUP(D4462,Справка!$G$2:$H$579,2,0),\"\")","v":""}]
[null,null,null,null,{"$f":"IFERROR(VLOOKUP(D4463,Справка!$G$2:$H$579,2,0),\"\")","v":""}]
[null,null,null,null,{"$f":"IFERROR(VLOOKUP(D4464,Справка!$G$2:$H$579,2,0),\"\")","v":""}]
[null,null,null,null,{"$f":"IFERROR(VLOOKUP(D4465,Справка!$G$2:$H$579,2,0),\"\")","v":""}]
[null,null,null,null,{"$f":"IFERROR(VLOOKUP(D4466,Справка!$G$2:$H$579,2,0),\"\")","v":""}]
[null,null,null,null,{"$f":"IFERROR(VLOOKUP(D4467,Справка!$G$2:$H$579,2,0),\"\")","v":""}]
[null,null,null,null,{"$f":"IFERROR(VLOOKUP(D4468,Справка!$G$2:$H$579,2,0),\"\")","v":""}]
[null,null,null,null,{"$f":"IFERROR(VLOOKUP(D4469,Справка!$G$2:$H$579,2,0),\"\")","v":""}]
[null,null,null,null,{"$f":"IFERROR(VLOOKUP(D4470,Справка!$G$2:$H$579,2,0),\"\")","v":""}]
[null,null,null,null,{"$f":"IFERROR(VLOOKUP(D4471,Справка!$G$2:$H$579,2,0),\"\")","v":""}]
[null,null,null,null,{"$f":"IFERROR(VLOOKUP(D4472,Справка!$G$2:$H$579,2,0),\"\")","v":""}]
[null,null,null,null,{"$f":"IFERROR(VLOOKUP(D4473,Справка!$G$2:$H$579,2,0),\"\")","v":""}]
[null,null,null,null,{"$f":"IFERROR(VLOOKUP(D4474,Справка!$G$2:$H$579,2,0),\"\")","v":""}]
[null,null,null,null,{"$f":"IFERROR(VLOOKUP(D4475,Справка!$G$2:$H$579,2,0),\"\")","v":""}]
[null,null,null,null,{"$f":"IFERROR(VLOOKUP(D4476,Справка!$G$2:$H$579,2,0),\"\")","v":""}]
[null,null,null,null,{"$f":"IFERROR(VLOOKUP(D4477,Справка!$G$2:$H$579,2,0),\"\")","v":""}]
[null,null,null,null,{"$f":"IFERROR(VLOOKUP(D4478,Справка!$G$2:$H$579,2,0),\"\")","v":""}]
[null,null,null,null,{"$f":"IFERROR(VLOOKUP(D4479,Справка!$G$2:$H$579,2,0),\"\")","v":""}]
[null,null,null,null,{"$f":"IFERROR(VLOOKUP(D4480,Справка!$G$2:$H$579,2,0),\"\")","v":""}]
[null,null,null,null,{"$f":"IFERROR(VLOOKUP(D4481,Справка!$G$2:$H$579,2,0),\"\")","v":""}]
[null,null,null,null,{"$f":"IFERROR(VLOOKUP(D4482,Справка!$G$2:$H$579,2,0),\"\")","v":""}]
[null,null,null,null,{"$f":"IFERROR(VLOOKUP(D4483,Справка!$G$2:$H$579,2,0),\"\")","v":""}]
[null,null,null,null,{"$f":"IFERROR(VLOOKUP(D4484,Справка!$G$2:$H$579,2,0),\"\")","v":""}]
[null,null,null,null,{"$f":"IFERROR(VLOOKUP(D4485,Справка!$G$2:$H$579,2,0),\"\")","v":""}]
[null,null,null,null,{"$f":"IFERROR(VLOOKUP(D4486,Справка!$G$2:$H$579,2,0),\"\")","v":""}]
[null,null,null,null,{"$f":"IFERROR(VLOOKUP(D4487,Справка!$G$2:$H$579,2,0),\"\")","v":""}]
[null,null,null,null,{"$f":"IFERROR(VLOOKUP(D4488,Справка!$G$2:$H$579,2,0),\"\")","v":""}]
[null,null,null,null,{"$f":"IFERROR(VLOOKUP(D4489,Справка!$G$2:$H$579,2,0),\"\")","v":""}]
[null,null,null,null,{"$f":"IFERROR(VLOOKUP(D4490,Справка!$G$2:$H$579,2,0),\"\")","v":""}]
[null,null,null,null,{"$f":"IFERROR(VLOOKUP(D4491,Справка!$G$2:$H$579,2,0),\"\")","v":""}]
[null,null,null,null,{"$f":"IFERROR(VLOOKUP(D4492,Справка!$G$2:$H$579,2,0),\"\")","v":""}]
[null,null,null,null,{"$f":"IFERROR(VLOOKUP(D4493,Справка!$G$2:$H$579,2,0),\"\")","v":""}]
[null,null,null,null,{"$f":"IFERROR(VLOOKUP(D4494,Справка!$G$2:$H$579,2,0),\"\")","v":""}]
[null,null,null,null,{"$f":"IFERROR(VLOOKUP(D4495,Справка!$G$2:$H$579,2,0),\"\")","v":""}]
[null,null,null,null,{"$f":"IFERROR(VLOOKUP(D4496,Справка!$G$2:$H$579,2,0),\"\")","v":""}]
[null,null,null,null,{"$f":"IFERROR(VLOOKUP(D4497,Справка!$G$2:$H$579,2,0),\"\")","v":""}]
[null,null,null,null,{"$f":"IFERROR(VLOOKUP(D4498,Справка!$G$2:$H$579,2,0),\"\")","v":""}]
[null,null,null,null,{"$f":"IFERROR(VLOOKUP(D4499,Справка!$G$2:$H$579,2,0),\"\")","v":""}]
[null,null,null,null,{"$f":"IFERROR(VLOOKUP(D4500,Справка!$G$2:$H$579,2,0),\"\")","v":""}]
[null,null,null,null,{"$f":"IFERROR(VLOOKUP(D4501,Справка!$G$2:$H$579,2,0),\"\")","v":""}]
[null,null,null,null,{"$f":"IFERROR(VLOOKUP(D4502,Справка!$G$2:$H$579,2,0),\"\")","v":""}]
[null,null,null,null,{"$f":"IFERROR(VLOOKUP(D4503,Справка!$G$2:$H$579,2,0),\"\")","v":""}]
[null,null,null,null,{"$f":"IFERROR(VLOOKUP(D4504,Справка!$G$2:$H$579,2,0),\"\")","v":""}]
[null,null,null,null,{"$f":"IFERROR(VLOOKUP(D4505,Справка!$G$2:$H$579,2,0),\"\")","v":""}]
[null,null,null,null,{"$f":"IFERROR(VLOOKUP(D4506,Справка!$G$2:$H$579,2,0),\"\")","v":""}]
[null,null,null,null,{"$f":"IFERROR(VLOOKUP(D4507,Справка!$G$2:$H$579,2,0),\"\")","v":""}]
[null,null,null,null,{"$f":"IFERROR(VLOOKUP(D4508,Справка!$G$2:$H$579,2,0),\"\")","v":""}]
[null,null,null,null,{"$f":"IFERROR(VLOOKUP(D4509,Справка!$G$2:$H$579,2,0),\"\")","v":""}]
[null,null,null,null,{"$f":"IFERROR(VLOOKUP(D4510,Справка!$G$2:$H$579,2,0),\"\")","v":""}]
[null,null,null,null,{"$f":"IFERROR(VLOOKUP(D4511,Справка!$G$2:$H$579,2,0),\"\")","v":""}]
[null,null,null,null,{"$f":"IFERROR(VLOOKUP(D4512,Справка!$G$2:$H$579,2,0),\"\")","v":""}]
[null,null,null,null,{"$f":"IFERROR(VLOOKUP(D4513,Справка!$G$2:$H$579,2,0),\"\")","v":""}]
[null,null,null,null,{"$f":"IFERROR(VLOOKUP(D4514,Справка!$G$2:$H$579,2,0),\"\")","v":""}]
[null,null,null,null,{"$f":"IFERROR(VLOOKUP(D4515,Справка!$G$2:$H$579,2,0),\"\")","v":""}]
[null,null,null,null,{"$f":"IFERROR(VLOOKUP(D4516,Справка!$G$2:$H$579,2,0),\"\")","v":""}]
[null,null,null,null,{"$f":"IFERROR(VLOOKUP(D4517,Справка!$G$2:$H$579,2,0),\"\")","v":""}]
[null,null,null,null,{"$f":"IFERROR(VLOOKUP(D4518,Справка!$G$2:$H$579,2,0),\"\")","v":""}]
[null,null,null,null,{"$f":"IFERROR(VLOOKUP(D4519,Справка!$G$2:$H$579,2,0),\"\")","v":""}]
[null,null,null,null,{"$f":"IFERROR(VLOOKUP(D4520,Справка!$G$2:$H$579,2,0),\"\")","v":""}]
[null,null,null,null,{"$f":"IFERROR(VLOOKUP(D4521,Справка!$G$2:$H$579,2,0),\"\")","v":""}]
[null,null,null,null,{"$f":"IFERROR(VLOOKUP(D4522,Справка!$G$2:$H$579,2,0),\"\")","v":""}]
[null,null,null,null,{"$f":"IFERROR(VLOOKUP(D4523,Справка!$G$2:$H$579,2,0),\"\")","v":""}]
[null,null,null,null,{"$f":"IFERROR(VLOOKUP(D4524,Справка!$G$2:$H$579,2,0),\"\")","v":""}]
[null,null,null,null,{"$f":"IFERROR(VLOOKUP(D4525,Справка!$G$2:$H$579,2,0),\"\")","v":""}]
[null,null,null,null,{"$f":"IFERROR(VLOOKUP(D4526,Справка!$G$2:$H$579,2,0),\"\")","v":""}]
[null,null,null,null,{"$f":"IFERROR(VLOOKUP(D4527,Справка!$G$2:$H$579,2,0),\"\")","v":""}]
[null,null,null,null,{"$f":"IFERROR(VLOOKUP(D4528,Справка!$G$2:$H$579,2,0),\"\")","v":""}]
[null,null,null,null,{"$f":"IFERROR(VLOOKUP(D4529,Справка!$G$2:$H$579,2,0),\"\")","v":""}]
[null,null,null,null,{"$f":"IFERROR(VLOOKUP(D4530,Справка!$G$2:$H$579,2,0),\"\")","v":""}]
[null,null,null,null,{"$f":"IFERROR(VLOOKUP(D4531,Справка!$G$2:$H$579,2,0),\"\")","v":""}]
[null,null,null,null,{"$f":"IFERROR(VLOOKUP(D4532,Справка!$G$2:$H$579,2,0),\"\")","v":""}]
[null,null,null,null,{"$f":"IFERROR(VLOOKUP(D4533,Справка!$G$2:$H$579,2,0),\"\")","v":""}]
[null,null,null,null,{"$f":"IFERROR(VLOOKUP(D4534,Справка!$G$2:$H$579,2,0),\"\")","v":""}]
[null,null,null,null,{"$f":"IFERROR(VLOOKUP(D4535,Справка!$G$2:$H$579,2,0),\"\")","v":""}]
[null,null,null,null,{"$f":"IFERROR(VLOOKUP(D4536,Справка!$G$2:$H$579,2,0),\"\")","v":""}]
[null,null,null,null,{"$f":"IFERROR(VLOOKUP(D4537,Справка!$G$2:$H$579,2,0),\"\")","v":""}]
[null,null,null,null,{"$f":"IFERROR(VLOOKUP(D4538,Справка!$G$2:$H$579,2,0),\"\")","v":""}]
[null,null,null,null,{"$f":"IFERROR(VLOOKUP(D4539,Справка!$G$2:$H$579,2,0),\"\")","v":""}]
[null,null,null,null,{"$f":"IFERROR(VLOOKUP(D4540,Справка!$G$2:$H$579,2,0),\"\")","v":""}]
[null,null,null,null,{"$f":"IFERROR(VLOOKUP(D4541,Справка!$G$2:$H$579,2,0),\"\")","v":""}]
[null,null,null,null,{"$f":"IFERROR(VLOOKUP(D4542,Справка!$G$2:$H$579,2,0),\"\")","v":""}]
[null,null,null,null,{"$f":"IFERROR(VLOOKUP(D4543,Справка!$G$2:$H$579,2,0),\"\")","v":""}]
[null,null,null,null,{"$f":"IFERROR(VLOOKUP(D4544,Справка!$G$2:$H$579,2,0),\"\")","v":""}]
[null,null,null,null,{"$f":"IFERROR(VLOOKUP(D4545,Справка!$G$2:$H$579,2,0),\"\")","v":""}]
[null,null,null,null,{"$f":"IFERROR(VLOOKUP(D4546,Справка!$G$2:$H$579,2,0),\"\")","v":""}]
[null,null,null,null,{"$f":"IFERROR(VLOOKUP(D4547,Справка!$G$2:$H$579,2,0),\"\")","v":""}]
[null,null,null,null,{"$f":"IFERROR(VLOOKUP(D4548,Справка!$G$2:$H$579,2,0),\"\")","v":""}]
[null,null,null,null,{"$f":"IFERROR(VLOOKUP(D4549,Справка!$G$2:$H$579,2,0),\"\")","v":""}]
[null,null,null,null,{"$f":"IFERROR(VLOOKUP(D4550,Справка!$G$2:$H$579,2,0),\"\")","v":""}]
[null,null,null,null,{"$f":"IFERROR(VLOOKUP(D4551,Справка!$G$2:$H$579,2,0),\"\")","v":""}]
[null,null,null,null,{"$f":"IFERROR(VLOOKUP(D4552,Справка!$G$2:$H$579,2,0),\"\")","v":""}]
[null,null,null,null,{"$f":"IFERROR(VLOOKUP(D4553,Справка!$G$2:$H$579,2,0),\"\")","v":""}]
[null,null,null,null,{"$f":"IFERROR(VLOOKUP(D4554,Справка!$G$2:$H$579,2,0),\"\")","v":""}]
[null,null,null,null,{"$f":"IFERROR(VLOOKUP(D4555,Справка!$G$2:$H$579,2,0),\"\")","v":""}]
[null,null,null,null,{"$f":"IFERROR(VLOOKUP(D4556,Справка!$G$2:$H$579,2,0),\"\")","v":""}]
[null,null,null,null,{"$f":"IFERROR(VLOOKUP(D4557,Справка!$G$2:$H$579,2,0),\"\")","v":""}]
[null,null,null,null,{"$f":"IFERROR(VLOOKUP(D4558,Справка!$G$2:$H$579,2,0),\"\")","v":""}]
[null,null,null,null,{"$f":"IFERROR(VLOOKUP(D4559,Справка!$G$2:$H$579,2,0),\"\")","v":""}]
[null,null,null,null,{"$f":"IFERROR(VLOOKUP(D4560,Справка!$G$2:$H$579,2,0),\"\")","v":""}]
[null,null,null,null,{"$f":"IFERROR(VLOOKUP(D4561,Справка!$G$2:$H$579,2,0),\"\")","v":""}]
[null,null,null,null,{"$f":"IFERROR(VLOOKUP(D4562,Справка!$G$2:$H$579,2,0),\"\")","v":""}]
[null,null,null,null,{"$f":"IFERROR(VLOOKUP(D4563,Справка!$G$2:$H$579,2,0),\"\")","v":""}]
[null,null,null,null,{"$f":"IFERROR(VLOOKUP(D4564,Справка!$G$2:$H$579,2,0),\"\")","v":""}]
[null,null,null,null,{"$f":"IFERROR(VLOOKUP(D4565,Справка!$G$2:$H$579,2,0),\"\")","v":""}]
[null,null,null,null,{"$f":"IFERROR(VLOOKUP(D4566,Справка!$G$2:$H$579,2,0),\"\")","v":""}]
[null,null,null,null,{"$f":"IFERROR(VLOOKUP(D4567,Справка!$G$2:$H$579,2,0),\"\")","v":""}]
[null,null,null,null,{"$f":"IFERROR(VLOOKUP(D4568,Справка!$G$2:$H$579,2,0),\"\")","v":""}]
[null,null,null,null,{"$f":"IFERROR(VLOOKUP(D4569,Справка!$G$2:$H$579,2,0),\"\")","v":""}]
[null,null,null,null,{"$f":"IFERROR(VLOOKUP(D4570,Справка!$G$2:$H$579,2,0),\"\")","v":""}]
[null,null,null,null,{"$f":"IFERROR(VLOOKUP(D4571,Справка!$G$2:$H$579,2,0),\"\")","v":""}]
[null,null,null,null,{"$f":"IFERROR(VLOOKUP(D4572,Справка!$G$2:$H$579,2,0),\"\")","v":""}]
[null,null,null,null,{"$f":"IFERROR(VLOOKUP(D4573,Справка!$G$2:$H$579,2,0),\"\")","v":""}]
[null,null,null,null,{"$f":"IFERROR(VLOOKUP(D4574,Справка!$G$2:$H$579,2,0),\"\")","v":""}]
[null,null,null,null,{"$f":"IFERROR(VLOOKUP(D4575,Справка!$G$2:$H$579,2,0),\"\")","v":""}]
[null,null,null,null,{"$f":"IFERROR(VLOOKUP(D4576,Справка!$G$2:$H$579,2,0),\"\")","v":""}]
[null,null,null,null,{"$f":"IFERROR(VLOOKUP(D4577,Справка!$G$2:$H$579,2,0),\"\")","v":""}]
[null,null,null,null,{"$f":"IFERROR(VLOOKUP(D4578,Справка!$G$2:$H$579,2,0),\"\")","v":""}]
[null,null,null,null,{"$f":"IFERROR(VLOOKUP(D4579,Справка!$G$2:$H$579,2,0),\"\")","v":""}]
[null,null,null,null,{"$f":"IFERROR(VLOOKUP(D4580,Справка!$G$2:$H$579,2,0),\"\")","v":""}]
[null,null,null,null,{"$f":"IFERROR(VLOOKUP(D4581,Справка!$G$2:$H$579,2,0),\"\")","v":""}]
[null,null,null,null,{"$f":"IFERROR(VLOOKUP(D4582,Справка!$G$2:$H$579,2,0),\"\")","v":""}]
[null,null,null,null,{"$f":"IFERROR(VLOOKUP(D4583,Справка!$G$2:$H$579,2,0),\"\")","v":""}]
[null,null,null,null,{"$f":"IFERROR(VLOOKUP(D4584,Справка!$G$2:$H$579,2,0),\"\")","v":""}]
[null,null,null,null,{"$f":"IFERROR(VLOOKUP(D4585,Справка!$G$2:$H$579,2,0),\"\")","v":""}]
[null,null,null,null,{"$f":"IFERROR(VLOOKUP(D4586,Справка!$G$2:$H$579,2,0),\"\")","v":""}]
[null,null,null,null,{"$f":"IFERROR(VLOOKUP(D4587,Справка!$G$2:$H$579,2,0),\"\")","v":""}]
[null,null,null,null,{"$f":"IFERROR(VLOOKUP(D4588,Справка!$G$2:$H$579,2,0),\"\")","v":""}]
[null,null,null,null,{"$f":"IFERROR(VLOOKUP(D4589,Справка!$G$2:$H$579,2,0),\"\")","v":""}]
[null,null,null,null,{"$f":"IFERROR(VLOOKUP(D4590,Справка!$G$2:$H$579,2,0),\"\")","v":""}]
[null,null,null,null,{"$f":"IFERROR(VLOOKUP(D4591,Справка!$G$2:$H$579,2,0),\"\")","v":""}]
[null,null,null,null,{"$f":"IFERROR(VLOOKUP(D4592,Справка!$G$2:$H$579,2,0),\"\")","v":""}]
[null,null,null,null,{"$f":"IFERROR(VLOOKUP(D4593,Справка!$G$2:$H$579,2,0),\"\")","v":""}]
[null,null,null,null,{"$f":"IFERROR(VLOOKUP(D4594,Справка!$G$2:$H$579,2,0),\"\")","v":""}]
[null,null,null,null,{"$f":"IFERROR(VLOOKUP(D4595,Справка!$G$2:$H$579,2,0),\"\")","v":""}]
[null,null,null,null,{"$f":"IFERROR(VLOOKUP(D4596,Справка!$G$2:$H$579,2,0),\"\")","v":""}]
[null,null,null,null,{"$f":"IFERROR(VLOOKUP(D4597,Справка!$G$2:$H$579,2,0),\"\")","v":""}]
[null,null,null,null,{"$f":"IFERROR(VLOOKUP(D4598,Справка!$G$2:$H$579,2,0),\"\")","v":""}]
[null,null,null,null,{"$f":"IFERROR(VLOOKUP(D4599,Справка!$G$2:$H$579,2,0),\"\")","v":""}]
[null,null,null,null,{"$f":"IFERROR(VLOOKUP(D4600,Справка!$G$2:$H$579,2,0),\"\")","v":""}]
[null,null,null,null,{"$f":"IFERROR(VLOOKUP(D4601,Справка!$G$2:$H$579,2,0),\"\")","v":""}]
[null,null,null,null,{"$f":"IFERROR(VLOOKUP(D4602,Справка!$G$2:$H$579,2,0),\"\")","v":""}]
[null,null,null,null,{"$f":"IFERROR(VLOOKUP(D4603,Справка!$G$2:$H$579,2,0),\"\")","v":""}]
[null,null,null,null,{"$f":"IFERROR(VLOOKUP(D4604,Справка!$G$2:$H$579,2,0),\"\")","v":""}]
[null,null,null,null,{"$f":"IFERROR(VLOOKUP(D4605,Справка!$G$2:$H$579,2,0),\"\")","v":""}]
[null,null,null,null,{"$f":"IFERROR(VLOOKUP(D4606,Справка!$G$2:$H$579,2,0),\"\")","v":""}]
[null,null,null,null,{"$f":"IFERROR(VLOOKUP(D4607,Справка!$G$2:$H$579,2,0),\"\")","v":""}]
[null,null,null,null,{"$f":"IFERROR(VLOOKUP(D4608,Справка!$G$2:$H$579,2,0),\"\")","v":""}]
[null,null,null,null,{"$f":"IFERROR(VLOOKUP(D4609,Справка!$G$2:$H$579,2,0),\"\")","v":""}]
[null,null,null,null,{"$f":"IFERROR(VLOOKUP(D4610,Справка!$G$2:$H$579,2,0),\"\")","v":""}]
[null,null,null,null,{"$f":"IFERROR(VLOOKUP(D4611,Справка!$G$2:$H$579,2,0),\"\")","v":""}]
[null,null,null,null,{"$f":"IFERROR(VLOOKUP(D4612,Справка!$G$2:$H$579,2,0),\"\")","v":""}]
[null,null,null,null,{"$f":"IFERROR(VLOOKUP(D4613,Справка!$G$2:$H$579,2,0),\"\")","v":""}]
[null,null,null,null,{"$f":"IFERROR(VLOOKUP(D4614,Справка!$G$2:$H$579,2,0),\"\")","v":""}]
[null,null,null,null,{"$f":"IFERROR(VLOOKUP(D4615,Справка!$G$2:$H$579,2,0),\"\")","v":""}]
[null,null,null,null,{"$f":"IFERROR(VLOOKUP(D4616,Справка!$G$2:$H$579,2,0),\"\")","v":""}]
[null,null,null,null,{"$f":"IFERROR(VLOOKUP(D4617,Справка!$G$2:$H$579,2,0),\"\")","v":""}]
[null,null,null,null,{"$f":"IFERROR(VLOOKUP(D4618,Справка!$G$2:$H$579,2,0),\"\")","v":""}]
[null,null,null,null,{"$f":"IFERROR(VLOOKUP(D4619,Справка!$G$2:$H$579,2,0),\"\")","v":""}]
[null,null,null,null,{"$f":"IFERROR(VLOOKUP(D4620,Справка!$G$2:$H$579,2,0),\"\")","v":""}]
[null,null,null,null,{"$f":"IFERROR(VLOOKUP(D4621,Справка!$G$2:$H$579,2,0),\"\")","v":""}]
[null,null,null,null,{"$f":"IFERROR(VLOOKUP(D4622,Справка!$G$2:$H$579,2,0),\"\")","v":""}]
[null,null,null,null,{"$f":"IFERROR(VLOOKUP(D4623,Справка!$G$2:$H$579,2,0),\"\")","v":""}]
[null,null,null,null,{"$f":"IFERROR(VLOOKUP(D4624,Справка!$G$2:$H$579,2,0),\"\")","v":""}]
[null,null,null,null,{"$f":"IFERROR(VLOOKUP(D4625,Справка!$G$2:$H$579,2,0),\"\")","v":""}]
[null,null,null,null,{"$f":"IFERROR(VLOOKUP(D4626,Справка!$G$2:$H$579,2,0),\"\")","v":""}]
[null,null,null,null,{"$f":"IFERROR(VLOOKUP(D4627,Справка!$G$2:$H$579,2,0),\"\")","v":""}]
[null,null,null,null,{"$f":"IFERROR(VLOOKUP(D4628,Справка!$G$2:$H$579,2,0),\"\")","v":""}]
[null,null,null,null,{"$f":"IFERROR(VLOOKUP(D4629,Справка!$G$2:$H$579,2,0),\"\")","v":""}]
[null,null,null,null,{"$f":"IFERROR(VLOOKUP(D4630,Справка!$G$2:$H$579,2,0),\"\")","v":""}]
[null,null,null,null,{"$f":"IFERROR(VLOOKUP(D4631,Справка!$G$2:$H$579,2,0),\"\")","v":""}]
[null,null,null,null,{"$f":"IFERROR(VLOOKUP(D4632,Справка!$G$2:$H$579,2,0),\"\")","v":""}]
[null,null,null,null,{"$f":"IFERROR(VLOOKUP(D4633,Справка!$G$2:$H$579,2,0),\"\")","v":""}]
[null,null,null,null,{"$f":"IFERROR(VLOOKUP(D4634,Справка!$G$2:$H$579,2,0),\"\")","v":""}]
[null,null,null,null,{"$f":"IFERROR(VLOOKUP(D4635,Справка!$G$2:$H$579,2,0),\"\")","v":""}]
[null,null,null,null,{"$f":"IFERROR(VLOOKUP(D4636,Справка!$G$2:$H$579,2,0),\"\")","v":""}]
[null,null,null,null,{"$f":"IFERROR(VLOOKUP(D4637,Справка!$G$2:$H$579,2,0),\"\")","v":""}]
[null,null,null,null,{"$f":"IFERROR(VLOOKUP(D4638,Справка!$G$2:$H$579,2,0),\"\")","v":""}]
[null,null,null,null,{"$f":"IFERROR(VLOOKUP(D4639,Справка!$G$2:$H$579,2,0),\"\")","v":""}]
[null,null,null,null,{"$f":"IFERROR(VLOOKUP(D4640,Справка!$G$2:$H$579,2,0),\"\")","v":""}]
[null,null,null,null,{"$f":"IFERROR(VLOOKUP(D4641,Справка!$G$2:$H$579,2,0),\"\")","v":""}]
[null,null,null,null,{"$f":"IFERROR(VLOOKUP(D4642,Справка!$G$2:$H$579,2,0),\"\")","v":""}]
[null,null,null,null,{"$f":"IFERROR(VLOOKUP(D4643,Справка!$G$2:$H$579,2,0),\"\")","v":""}]
[null,null,null,null,{"$f":"IFERROR(VLOOKUP(D4644,Справка!$G$2:$H$579,2,0),\"\")","v":""}]
[null,null,null,null,{"$f":"IFERROR(VLOOKUP(D4645,Справка!$G$2:$H$579,2,0),\"\")","v":""}]
[null,null,null,null,{"$f":"IFERROR(VLOOKUP(D4646,Справка!$G$2:$H$579,2,0),\"\")","v":""}]
[null,null,null,null,{"$f":"IFERROR(VLOOKUP(D4647,Справка!$G$2:$H$579,2,0),\"\")","v":""}]
[null,null,null,null,{"$f":"IFERROR(VLOOKUP(D4648,Справка!$G$2:$H$579,2,0),\"\")","v":""}]
[null,null,null,null,{"$f":"IFERROR(VLOOKUP(D4649,Справка!$G$2:$H$579,2,0),\"\")","v":""}]
[null,null,null,null,{"$f":"IFERROR(VLOOKUP(D4650,Справка!$G$2:$H$579,2,0),\"\")","v":""}]
[null,null,null,null,{"$f":"IFERROR(VLOOKUP(D4651,Справка!$G$2:$H$579,2,0),\"\")","v":""}]
[null,null,null,null,{"$f":"IFERROR(VLOOKUP(D4652,Справка!$G$2:$H$579,2,0),\"\")","v":""}]
[null,null,null,null,{"$f":"IFERROR(VLOOKUP(D4653,Справка!$G$2:$H$579,2,0),\"\")","v":""}]
[null,null,null,null,{"$f":"IFERROR(VLOOKUP(D4654,Справка!$G$2:$H$579,2,0),\"\")","v":""}]
[null,null,null,null,{"$f":"IFERROR(VLOOKUP(D4655,Справка!$G$2:$H$579,2,0),\"\")","v":""}]
[null,null,null,null,{"$f":"IFERROR(VLOOKUP(D4656,Справка!$G$2:$H$579,2,0),\"\")","v":""}]
[null,null,null,null,{"$f":"IFERROR(VLOOKUP(D4657,Справка!$G$2:$H$579,2,0),\"\")","v":""}]
[null,null,null,null,{"$f":"IFERROR(VLOOKUP(D4658,Справка!$G$2:$H$579,2,0),\"\")","v":""}]
[null,null,null,null,{"$f":"IFERROR(VLOOKUP(D4659,Справка!$G$2:$H$579,2,0),\"\")","v":""}]
[null,null,null,null,{"$f":"IFERROR(VLOOKUP(D4660,Справка!$G$2:$H$579,2,0),\"\")","v":""}]
[null,null,null,null,{"$f":"IFERROR(VLOOKUP(D4661,Справка!$G$2:$H$579,2,0),\"\")","v":""}]
[null,null,null,null,{"$f":"IFERROR(VLOOKUP(D4662,Справка!$G$2:$H$579,2,0),\"\")","v":""}]
[null,null,null,null,{"$f":"IFERROR(VLOOKUP(D4663,Справка!$G$2:$H$579,2,0),\"\")","v":""}]
[null,null,null,null,{"$f":"IFERROR(VLOOKUP(D4664,Справка!$G$2:$H$579,2,0),\"\")","v":""}]
[null,null,null,null,{"$f":"IFERROR(VLOOKUP(D4665,Справка!$G$2:$H$579,2,0),\"\")","v":""}]
[null,null,null,null,{"$f":"IFERROR(VLOOKUP(D4666,Справка!$G$2:$H$579,2,0),\"\")","v":""}]
[null,null,null,null,{"$f":"IFERROR(VLOOKUP(D4667,Справка!$G$2:$H$579,2,0),\"\")","v":""}]
[null,null,null,null,{"$f":"IFERROR(VLOOKUP(D4668,Справка!$G$2:$H$579,2,0),\"\")","v":""}]
[null,null,null,null,{"$f":"IFERROR(VLOOKUP(D4669,Справка!$G$2:$H$579,2,0),\"\")","v":""}]
[null,null,null,null,{"$f":"IFERROR(VLOOKUP(D4670,Справка!$G$2:$H$579,2,0),\"\")","v":""}]
[null,null,null,null,{"$f":"IFERROR(VLOOKUP(D4671,Справка!$G$2:$H$579,2,0),\"\")","v":""}]
[null,null,null,null,{"$f":"IFERROR(VLOOKUP(D4672,Справка!$G$2:$H$579,2,0),\"\")","v":""}]
[null,null,null,null,{"$f":"IFERROR(VLOOKUP(D4673,Справка!$G$2:$H$579,2,0),\"\")","v":""}]
[null,null,null,null,{"$f":"IFERROR(VLOOKUP(D4674,Справка!$G$2:$H$579,2,0),\"\")","v":""}]
[null,null,null,null,{"$f":"IFERROR(VLOOKUP(D4675,Справка!$G$2:$H$579,2,0),\"\")","v":""}]
[null,null,null,null,{"$f":"IFERROR(VLOOKUP(D4676,Справка!$G$2:$H$579,2,0),\"\")","v":""}]
[null,null,null,null,{"$f":"IFERROR(VLOOKUP(D4677,Справка!$G$2:$H$579,2,0),\"\")","v":""}]
[null,null,null,null,{"$f":"IFERROR(VLOOKUP(D4678,Справка!$G$2:$H$579,2,0),\"\")","v":""}]
[null,null,null,null,{"$f":"IFERROR(VLOOKUP(D4679,Справка!$G$2:$H$579,2,0),\"\")","v":""}]
[null,null,null,null,{"$f":"IFERROR(VLOOKUP(D4680,Справка!$G$2:$H$579,2,0),\"\")","v":""}]
[null,null,null,null,{"$f":"IFERROR(VLOOKUP(D4681,Справка!$G$2:$H$579,2,0),\"\")","v":""}]
[null,null,null,null,{"$f":"IFERROR(VLOOKUP(D4682,Справка!$G$2:$H$579,2,0),\"\")","v":""}]
[null,null,null,null,{"$f":"IFERROR(VLOOKUP(D4683,Справка!$G$2:$H$579,2,0),\"\")","v":""}]
[null,null,null,null,{"$f":"IFERROR(VLOOKUP(D4684,Справка!$G$2:$H$579,2,0),\"\")","v":""}]
[null,null,null,null,{"$f":"IFERROR(VLOOKUP(D4685,Справка!$G$2:$H$579,2,0),\"\")","v":""}]
[null,null,null,null,{"$f":"IFERROR(VLOOKUP(D4686,Справка!$G$2:$H$579,2,0),\"\")","v":""}]
[null,null,null,null,{"$f":"IFERROR(VLOOKUP(D4687,Справка!$G$2:$H$579,2,0),\"\")","v":""}]
[null,null,null,null,{"$f":"IFERROR(VLOOKUP(D4688,Справка!$G$2:$H$579,2,0),\"\")","v":""}]
[null,null,null,null,{"$f":"IFERROR(VLOOKUP(D4689,Справка!$G$2:$H$579,2,0),\"\")","v":""}]
[null,null,null,null,{"$f":"IFERROR(VLOOKUP(D4690,Справка!$G$2:$H$579,2,0),\"\")","v":""}]
[null,null,null,null,{"$f":"IFERROR(VLOOKUP(D4691,Справка!$G$2:$H$579,2,0),\"\")","v":""}]
[null,null,null,null,{"$f":"IFERROR(VLOOKUP(D4692,Справка!$G$2:$H$579,2,0),\"\")","v":""}]
[null,null,null,null,{"$f":"IFERROR(VLOOKUP(D4693,Справка!$G$2:$H$579,2,0),\"\")","v":""}]
[null,null,null,null,{"$f":"IFERROR(VLOOKUP(D4694,Справка!$G$2:$H$579,2,0),\"\")","v":""}]
[null,null,null,null,{"$f":"IFERROR(VLOOKUP(D4695,Справка!$G$2:$H$579,2,0),\"\")","v":""}]
[null,null,null,null,{"$f":"IFERROR(VLOOKUP(D4696,Справка!$G$2:$H$579,2,0),\"\")","v":""}]
[null,null,null,null,{"$f":"IFERROR(VLOOKUP(D4697,Справка!$G$2:$H$579,2,0),\"\")","v":""}]
[null,null,null,null,{"$f":"IFERROR(VLOOKUP(D4698,Справка!$G$2:$H$579,2,0),\"\")","v":""}]
[null,null,null,null,{"$f":"IFERROR(VLOOKUP(D4699,Справка!$G$2:$H$579,2,0),\"\")","v":""}]
[null,null,null,null,{"$f":"IFERROR(VLOOKUP(D4700,Справка!$G$2:$H$579,2,0),\"\")","v":""}]
[null,null,null,null,{"$f":"IFERROR(VLOOKUP(D4701,Справка!$G$2:$H$579,2,0),\"\")","v":""}]
[null,null,null,null,{"$f":"IFERROR(VLOOKUP(D4702,Справка!$G$2:$H$579,2,0),\"\")","v":""}]
[null,null,null,null,{"$f":"IFERROR(VLOOKUP(D4703,Справка!$G$2:$H$579,2,0),\"\")","v":""}]
[null,null,null,null,{"$f":"IFERROR(VLOOKUP(D4704,Справка!$G$2:$H$579,2,0),\"\")","v":""}]
[null,null,null,null,{"$f":"IFERROR(VLOOKUP(D4705,Справка!$G$2:$H$579,2,0),\"\")","v":""}]
[null,null,null,null,{"$f":"IFERROR(VLOOKUP(D4706,Справка!$G$2:$H$579,2,0),\"\")","v":""}]
[null,null,null,null,{"$f":"IFERROR(VLOOKUP(D4707,Справка!$G$2:$H$579,2,0),\"\")","v":""}]
[null,null,null,null,{"$f":"IFERROR(VLOOKUP(D4708,Справка!$G$2:$H$579,2,0),\"\")","v":""}]
[null,null,null,null,{"$f":"IFERROR(VLOOKUP(D4709,Справка!$G$2:$H$579,2,0),\"\")","v":""}]
[null,null,null,null,{"$f":"IFERROR(VLOOKUP(D4710,Справка!$G$2:$H$579,2,0),\"\")","v":""}]
[null,null,null,null,{"$f":"IFERROR(VLOOKUP(D4711,Справка!$G$2:$H$579,2,0),\"\")","v":""}]
[null,null,null,null,{"$f":"IFERROR(VLOOKUP(D4712,Справка!$G$2:$H$579,2,0),\"\")","v":""}]
[null,null,null,null,{"$f":"IFERROR(VLOOKUP(D4713,Справка!$G$2:$H$579,2,0),\"\")","v":""}]
[null,null,null,null,{"$f":"IFERROR(VLOOKUP(D4714,Справка!$G$2:$H$579,2,0),\"\")","v":""}]
[null,null,null,null,{"$f":"IFERROR(VLOOKUP(D4715,Справка!$G$2:$H$579,2,0),\"\")","v":""}]
[null,null,null,null,{"$f":"IFERROR(VLOOKUP(D4716,Справка!$G$2:$H$579,2,0),\"\")","v":""}]
[null,null,null,null,{"$f":"IFERROR(VLOOKUP(D4717,Справка!$G$2:$H$579,2,0),\"\")","v":""}]
[null,null,null,null,{"$f":"IFERROR(VLOOKUP(D4718,Справка!$G$2:$H$579,2,0),\"\")","v":""}]
[null,null,null,null,{"$f":"IFERROR(VLOOKUP(D4719,Справка!$G$2:$H$579,2,0),\"\")","v":""}]
[null,null,null,null,{"$f":"IFERROR(VLOOKUP(D4720,Справка!$G$2:$H$579,2,0),\"\")","v":""}]
[null,null,null,null,{"$f":"IFERROR(VLOOKUP(D4721,Справка!$G$2:$H$579,2,0),\"\")","v":""}]
[null,null,null,null,{"$f":"IFERROR(VLOOKUP(D4722,Справка!$G$2:$H$579,2,0),\"\")","v":""}]
[null,null,null,null,{"$f":"IFERROR(VLOOKUP(D4723,Справка!$G$2:$H$579,2,0),\"\")","v":""}]
[null,null,null,null,{"$f":"IFERROR(VLOOKUP(D4724,Справка!$G$2:$H$579,2,0),\"\")","v":""}]
[null,null,null,null,{"$f":"IFERROR(VLOOKUP(D4725,Справка!$G$2:$H$579,2,0),\"\")","v":""}]
[null,null,null,null,{"$f":"IFERROR(VLOOKUP(D4726,Справка!$G$2:$H$579,2,0),\"\")","v":""}]
[null,null,null,null,{"$f":"IFERROR(VLOOKUP(D4727,Справка!$G$2:$H$579,2,0),\"\")","v":""}]
[null,null,null,null,{"$f":"IFERROR(VLOOKUP(D4728,Справка!$G$2:$H$579,2,0),\"\")","v":""}]
[null,null,null,null,{"$f":"IFERROR(VLOOKUP(D4729,Справка!$G$2:$H$579,2,0),\"\")","v":""}]
[null,null,null,null,{"$f":"IFERROR(VLOOKUP(D4730,Справка!$G$2:$H$579,2,0),\"\")","v":""}]
[null,null,null,null,{"$f":"IFERROR(VLOOKUP(D4731,Справка!$G$2:$H$579,2,0),\"\")","v":""}]
[null,null,null,null,{"$f":"IFERROR(VLOOKUP(D4732,Справка!$G$2:$H$579,2,0),\"\")","v":""}]
[null,null,null,null,{"$f":"IFERROR(VLOOKUP(D4733,Справка!$G$2:$H$579,2,0),\"\")","v":""}]
[null,null,null,null,{"$f":"IFERROR(VLOOKUP(D4734,Справка!$G$2:$H$579,2,0),\"\")","v":""}]
[null,null,null,null,{"$f":"IFERROR(VLOOKUP(D4735,Справка!$G$2:$H$579,2,0),\"\")","v":""}]
[null,null,null,null,{"$f":"IFERROR(VLOOKUP(D4736,Справка!$G$2:$H$579,2,0),\"\")","v":""}]
[null,null,null,null,{"$f":"IFERROR(VLOOKUP(D4737,Справка!$G$2:$H$579,2,0),\"\")","v":""}]
[null,null,null,null,{"$f":"IFERROR(VLOOKUP(D4738,Справка!$G$2:$H$579,2,0),\"\")","v":""}]
[null,null,null,null,{"$f":"IFERROR(VLOOKUP(D4739,Справка!$G$2:$H$579,2,0),\"\")","v":""}]
[null,null,null,null,{"$f":"IFERROR(VLOOKUP(D4740,Справка!$G$2:$H$579,2,0),\"\")","v":""}]
[null,null,null,null,{"$f":"IFERROR(VLOOKUP(D4741,Справка!$G$2:$H$579,2,0),\"\")","v":""}]
[null,null,null,null,{"$f":"IFERROR(VLOOKUP(D4742,Справка!$G$2:$H$579,2,0),\"\")","v":""}]
[null,null,null,null,{"$f":"IFERROR(VLOOKUP(D4743,Справка!$G$2:$H$579,2,0),\"\")","v":""}]
[null,null,null,null,{"$f":"IFERROR(VLOOKUP(D4744,Справка!$G$2:$H$579,2,0),\"\")","v":""}]
[null,null,null,null,{"$f":"IFERROR(VLOOKUP(D4745,Справка!$G$2:$H$579,2,0),\"\")","v":""}]
[null,null,null,null,{"$f":"IFERROR(VLOOKUP(D4746,Справка!$G$2:$H$579,2,0),\"\")","v":""}]
[null,null,null,null,{"$f":"IFERROR(VLOOKUP(D4747,Справка!$G$2:$H$579,2,0),\"\")","v":""}]
[null,null,null,null,{"$f":"IFERROR(VLOOKUP(D4748,Справка!$G$2:$H$579,2,0),\"\")","v":""}]
[null,null,null,null,{"$f":"IFERROR(VLOOKUP(D4749,Справка!$G$2:$H$579,2,0),\"\")","v":""}]
[null,null,null,null,{"$f":"IFERROR(VLOOKUP(D4750,Справка!$G$2:$H$579,2,0),\"\")","v":""}]
[null,null,null,null,{"$f":"IFERROR(VLOOKUP(D4751,Справка!$G$2:$H$579,2,0),\"\")","v":""}]
[null,null,null,null,{"$f":"IFERROR(VLOOKUP(D4752,Справка!$G$2:$H$579,2,0),\"\")","v":""}]
[null,null,null,null,{"$f":"IFERROR(VLOOKUP(D4753,Справка!$G$2:$H$579,2,0),\"\")","v":""}]
[null,null,null,null,{"$f":"IFERROR(VLOOKUP(D4754,Справка!$G$2:$H$579,2,0),\"\")","v":""}]
[null,null,null,null,{"$f":"IFERROR(VLOOKUP(D4755,Справка!$G$2:$H$579,2,0),\"\")","v":""}]
[null,null,null,null,{"$f":"IFERROR(VLOOKUP(D4756,Справка!$G$2:$H$579,2,0),\"\")","v":""}]
[null,null,null,null,{"$f":"IFERROR(VLOOKUP(D4757,Справка!$G$2:$H$579,2,0),\"\")","v":""}]
[null,null,null,null,{"$f":"IFERROR(VLOOKUP(D4758,Справка!$G$2:$H$579,2,0),\"\")","v":""}]
[null,null,null,null,{"$f":"IFERROR(VLOOKUP(D4759,Справка!$G$2:$H$579,2,0),\"\")","v":""}]
[null,null,null,null,{"$f":"IFERROR(VLOOKUP(D4760,Справка!$G$2:$H$579,2,0),\"\")","v":""}]
[null,null,null,null,{"$f":"IFERROR(VLOOKUP(D4761,Справка!$G$2:$H$579,2,0),\"\")","v":""}]
[null,null,null,null,{"$f":"IFERROR(VLOOKUP(D4762,Справка!$G$2:$H$579,2,0),\"\")","v":""}]
[null,null,null,null,{"$f":"IFERROR(VLOOKUP(D4763,Справка!$G$2:$H$579,2,0),\"\")","v":""}]
[null,null,null,null,{"$f":"IFERROR(VLOOKUP(D4764,Справка!$G$2:$H$579,2,0),\"\")","v":""}]
[null,null,null,null,{"$f":"IFERROR(VLOOKUP(D4765,Справка!$G$2:$H$579,2,0),\"\")","v":""}]
[null,null,null,null,{"$f":"IFERROR(VLOOKUP(D4766,Справка!$G$2:$H$579,2,0),\"\")","v":""}]
[null,null,null,null,{"$f":"IFERROR(VLOOKUP(D4767,Справка!$G$2:$H$579,2,0),\"\")","v":""}]
[null,null,null,null,{"$f":"IFERROR(VLOOKUP(D4768,Справка!$G$2:$H$579,2,0),\"\")","v":""}]
[null,null,null,null,{"$f":"IFERROR(VLOOKUP(D4769,Справка!$G$2:$H$579,2,0),\"\")","v":""}]
[null,null,null,null,{"$f":"IFERROR(VLOOKUP(D4770,Справка!$G$2:$H$579,2,0),\"\")","v":""}]
[null,null,null,null,{"$f":"IFERROR(VLOOKUP(D4771,Справка!$G$2:$H$579,2,0),\"\")","v":""}]
[null,null,null,null,{"$f":"IFERROR(VLOOKUP(D4772,Справка!$G$2:$H$579,2,0),\"\")","v":""}]
[null,null,null,null,{"$f":"IFERROR(VLOOKUP(D4773,Справка!$G$2:$H$579,2,0),\"\")","v":""}]
[null,null,null,null,{"$f":"IFERROR(VLOOKUP(D4774,Справка!$G$2:$H$579,2,0),\"\")","v":""}]
[null,null,null,null,{"$f":"IFERROR(VLOOKUP(D4775,Справка!$G$2:$H$579,2,0),\"\")","v":""}]
[null,null,null,null,{"$f":"IFERROR(VLOOKUP(D4776,Справка!$G$2:$H$579,2,0),\"\")","v":""}]
[null,null,null,null,{"$f":"IFERROR(VLOOKUP(D4777,Справка!$G$2:$H$579,2,0),\"\")","v":""}]
[null,null,null,null,{"$f":"IFERROR(VLOOKUP(D4778,Справка!$G$2:$H$579,2,0),\"\")","v":""}]
[null,null,null,null,{"$f":"IFERROR(VLOOKUP(D4779,Справка!$G$2:$H$579,2,0),\"\")","v":""}]
[null,null,null,null,{"$f":"IFERROR(VLOOKUP(D4780,Справка!$G$2:$H$579,2,0),\"\")","v":""}]
[null,null,null,null,{"$f":"IFERROR(VLOOKUP(D4781,Справка!$G$2:$H$579,2,0),\"\")","v":""}]
[null,null,null,null,{"$f":"IFERROR(VLOOKUP(D4782,Справка!$G$2:$H$579,2,0),\"\")","v":""}]
[null,null,null,null,{"$f":"IFERROR(VLOOKUP(D4783,Справка!$G$2:$H$579,2,0),\"\")","v":""}]
[null,null,null,null,{"$f":"IFERROR(VLOOKUP(D4784,Справка!$G$2:$H$579,2,0),\"\")","v":""}]
[null,null,null,null,{"$f":"IFERROR(VLOOKUP(D4785,Справка!$G$2:$H$579,2,0),\"\")","v":""}]
[null,null,null,null,{"$f":"IFERROR(VLOOKUP(D4786,Справка!$G$2:$H$579,2,0),\"\")","v":""}]
[null,null,null,null,{"$f":"IFERROR(VLOOKUP(D4787,Справка!$G$2:$H$579,2,0),\"\")","v":""}]
[null,null,null,null,{"$f":"IFERROR(VLOOKUP(D4788,Справка!$G$2:$H$579,2,0),\"\")","v":""}]
[null,null,null,null,{"$f":"IFERROR(VLOOKUP(D4789,Справка!$G$2:$H$579,2,0),\"\")","v":""}]
[null,null,null,null,{"$f":"IFERROR(VLOOKUP(D4790,Справка!$G$2:$H$579,2,0),\"\")","v":""}]
[null,null,null,null,{"$f":"IFERROR(VLOOKUP(D4791,Справка!$G$2:$H$579,2,0),\"\")","v":""}]
[null,null,null,null,{"$f":"IFERROR(VLOOKUP(D4792,Справка!$G$2:$H$579,2,0),\"\")","v":""}]
[null,null,null,null,{"$f":"IFERROR(VLOOKUP(D4793,Справка!$G$2:$H$579,2,0),\"\")","v":""}]
[null,null,null,null,{"$f":"IFERROR(VLOOKUP(D4794,Справка!$G$2:$H$579,2,0),\"\")","v":""}]
[null,null,null,null,{"$f":"IFERROR(VLOOKUP(D4795,Справка!$G$2:$H$579,2,0),\"\")","v":""}]
[null,null,null,null,{"$f":"IFERROR(VLOOKUP(D4796,Справка!$G$2:$H$579,2,0),\"\")","v":""}]
[null,null,null,null,{"$f":"IFERROR(VLOOKUP(D4797,Справка!$G$2:$H$579,2,0),\"\")","v":""}]
[null,null,null,null,{"$f":"IFERROR(VLOOKUP(D4798,Справка!$G$2:$H$579,2,0),\"\")","v":""}]
[null,null,null,null,{"$f":"IFERROR(VLOOKUP(D4799,Справка!$G$2:$H$579,2,0),\"\")","v":""}]
[null,null,null,null,{"$f":"IFERROR(VLOOKUP(D4800,Справка!$G$2:$H$579,2,0),\"\")","v":""}]
[null,null,null,null,{"$f":"IFERROR(VLOOKUP(D4801,Справка!$G$2:$H$579,2,0),\"\")","v":""}]
[null,null,null,null,{"$f":"IFERROR(VLOOKUP(D4802,Справка!$G$2:$H$579,2,0),\"\")","v":""}]
[null,null,null,null,{"$f":"IFERROR(VLOOKUP(D4803,Справка!$G$2:$H$579,2,0),\"\")","v":""}]
[null,null,null,null,{"$f":"IFERROR(VLOOKUP(D4804,Справка!$G$2:$H$579,2,0),\"\")","v":""}]
[null,null,null,null,{"$f":"IFERROR(VLOOKUP(D4805,Справка!$G$2:$H$579,2,0),\"\")","v":""}]
[null,null,null,null,{"$f":"IFERROR(VLOOKUP(D4806,Справка!$G$2:$H$579,2,0),\"\")","v":""}]
[null,null,null,null,{"$f":"IFERROR(VLOOKUP(D4807,Справка!$G$2:$H$579,2,0),\"\")","v":""}]
[null,null,null,null,{"$f":"IFERROR(VLOOKUP(D4808,Справка!$G$2:$H$579,2,0),\"\")","v":""}]
[null,null,null,null,{"$f":"IFERROR(VLOOKUP(D4809,Справка!$G$2:$H$579,2,0),\"\")","v":""}]
[null,null,null,null,{"$f":"IFERROR(VLOOKUP(D4810,Справка!$G$2:$H$579,2,0),\"\")","v":""}]
[null,null,null,null,{"$f":"IFERROR(VLOOKUP(D4811,Справка!$G$2:$H$579,2,0),\"\")","v":""}]
[null,null,null,null,{"$f":"IFERROR(VLOOKUP(D4812,Справка!$G$2:$H$579,2,0),\"\")","v":""}]
[null,null,null,null,{"$f":"IFERROR(VLOOKUP(D4813,Справка!$G$2:$H$579,2,0),\"\")","v":""}]
[null,null,null,null,{"$f":"IFERROR(VLOOKUP(D4814,Справка!$G$2:$H$579,2,0),\"\")","v":""}]
[null,null,null,null,{"$f":"IFERROR(VLOOKUP(D4815,Справка!$G$2:$H$579,2,0),\"\")","v":""}]
[null,null,null,null,{"$f":"IFERROR(VLOOKUP(D4816,Справка!$G$2:$H$579,2,0),\"\")","v":""}]
[null,null,null,null,{"$f":"IFERROR(VLOOKUP(D4817,Справка!$G$2:$H$579,2,0),\"\")","v":""}]
[null,null,null,null,{"$f":"IFERROR(VLOOKUP(D4818,Справка!$G$2:$H$579,2,0),\"\")","v":""}]
[null,null,null,null,{"$f":"IFERROR(VLOOKUP(D4819,Справка!$G$2:$H$579,2,0),\"\")","v":""}]
[null,null,null,null,{"$f":"IFERROR(VLOOKUP(D4820,Справка!$G$2:$H$579,2,0),\"\")","v":""}]
[null,null,null,null,{"$f":"IFERROR(VLOOKUP(D4821,Справка!$G$2:$H$579,2,0),\"\")","v":""}]
[null,null,null,null,{"$f":"IFERROR(VLOOKUP(D4822,Справка!$G$2:$H$579,2,0),\"\")","v":""}]
[null,null,null,null,{"$f":"IFERROR(VLOOKUP(D4823,Справка!$G$2:$H$579,2,0),\"\")","v":""}]
[null,null,null,null,{"$f":"IFERROR(VLOOKUP(D4824,Справка!$G$2:$H$579,2,0),\"\")","v":""}]
[null,null,null,null,{"$f":"IFERROR(VLOOKUP(D4825,Справка!$G$2:$H$579,2,0),\"\")","v":""}]
[null,null,null,null,{"$f":"IFERROR(VLOOKUP(D4826,Справка!$G$2:$H$579,2,0),\"\")","v":""}]
[null,null,null,null,{"$f":"IFERROR(VLOOKUP(D4827,Справка!$G$2:$H$579,2,0),\"\")","v":""}]
[null,null,null,null,{"$f":"IFERROR(VLOOKUP(D4828,Справка!$G$2:$H$579,2,0),\"\")","v":""}]
[null,null,null,null,{"$f":"IFERROR(VLOOKUP(D4829,Справка!$G$2:$H$579,2,0),\"\")","v":""}]
[null,null,null,null,{"$f":"IFERROR(VLOOKUP(D4830,Справка!$G$2:$H$579,2,0),\"\")","v":""}]
[null,null,null,null,{"$f":"IFERROR(VLOOKUP(D4831,Справка!$G$2:$H$579,2,0),\"\")","v":""}]
[null,null,null,null,{"$f":"IFERROR(VLOOKUP(D4832,Справка!$G$2:$H$579,2,0),\"\")","v":""}]
[null,null,null,null,{"$f":"IFERROR(VLOOKUP(D4833,Справка!$G$2:$H$579,2,0),\"\")","v":""}]
[null,null,null,null,{"$f":"IFERROR(VLOOKUP(D4834,Справка!$G$2:$H$579,2,0),\"\")","v":""}]
[null,null,null,null,{"$f":"IFERROR(VLOOKUP(D4835,Справка!$G$2:$H$579,2,0),\"\")","v":""}]
[null,null,null,null,{"$f":"IFERROR(VLOOKUP(D4836,Справка!$G$2:$H$579,2,0),\"\")","v":""}]
[null,null,null,null,{"$f":"IFERROR(VLOOKUP(D4837,Справка!$G$2:$H$579,2,0),\"\")","v":""}]
[null,null,null,null,{"$f":"IFERROR(VLOOKUP(D4838,Справка!$G$2:$H$579,2,0),\"\")","v":""}]
[null,null,null,null,{"$f":"IFERROR(VLOOKUP(D4839,Справка!$G$2:$H$579,2,0),\"\")","v":""}]
[null,null,null,null,{"$f":"IFERROR(VLOOKUP(D4840,Справка!$G$2:$H$579,2,0),\"\")","v":""}]
[null,null,null,null,{"$f":"IFERROR(VLOOKUP(D4841,Справка!$G$2:$H$579,2,0),\"\")","v":""}]
[null,null,null,null,{"$f":"IFERROR(VLOOKUP(D4842,Справка!$G$2:$H$579,2,0),\"\")","v":""}]
[null,null,null,null,{"$f":"IFERROR(VLOOKUP(D4843,Справка!$G$2:$H$579,2,0),\"\")","v":""}]
[null,null,null,null,{"$f":"IFERROR(VLOOKUP(D4844,Справка!$G$2:$H$579,2,0),\"\")","v":""}]
[null,null,null,null,{"$f":"IFERROR(VLOOKUP(D4845,Справка!$G$2:$H$579,2,0),\"\")","v":""}]
[null,null,null,null,{"$f":"IFERROR(VLOOKUP(D4846,Справка!$G$2:$H$579,2,0),\"\")","v":""}]
[null,null,null,null,{"$f":"IFERROR(VLOOKUP(D4847,Справка!$G$2:$H$579,2,0),\"\")","v":""}]
[null,null,null,null,{"$f":"IFERROR(VLOOKUP(D4848,Справка!$G$2:$H$579,2,0),\"\")","v":""}]
[null,null,null,null,{"$f":"IFERROR(VLOOKUP(D4849,Справка!$G$2:$H$579,2,0),\"\")","v":""}]
[null,null,null,null,{"$f":"IFERROR(VLOOKUP(D4850,Справка!$G$2:$H$579,2,0),\"\")","v":""}]
[null,null,null,null,{"$f":"IFERROR(VLOOKUP(D4851,Справка!$G$2:$H$579,2,0),\"\")","v":""}]
[null,null,null,null,{"$f":"IFERROR(VLOOKUP(D4852,Справка!$G$2:$H$579,2,0),\"\")","v":""}]
[null,null,null,null,{"$f":"IFERROR(VLOOKUP(D4853,Справка!$G$2:$H$579,2,0),\"\")","v":""}]
[null,null,null,null,{"$f":"IFERROR(VLOOKUP(D4854,Справка!$G$2:$H$579,2,0),\"\")","v":""}]
[null,null,null,null,{"$f":"IFERROR(VLOOKUP(D4855,Справка!$G$2:$H$579,2,0),\"\")","v":""}]
[null,null,null,null,{"$f":"IFERROR(VLOOKUP(D4856,Справка!$G$2:$H$579,2,0),\"\")","v":""}]
[null,null,null,null,{"$f":"IFERROR(VLOOKUP(D4857,Справка!$G$2:$H$579,2,0),\"\")","v":""}]
[null,null,null,null,{"$f":"IFERROR(VLOOKUP(D4858,Справка!$G$2:$H$579,2,0),\"\")","v":""}]
[null,null,null,null,{"$f":"IFERROR(VLOOKUP(D4859,Справка!$G$2:$H$579,2,0),\"\")","v":""}]
[null,null,null,null,{"$f":"IFERROR(VLOOKUP(D4860,Справка!$G$2:$H$579,2,0),\"\")","v":""}]
[null,null,null,null,{"$f":"IFERROR(VLOOKUP(D4861,Справка!$G$2:$H$579,2,0),\"\")","v":""}]
[null,null,null,null,{"$f":"IFERROR(VLOOKUP(D4862,Справка!$G$2:$H$579,2,0),\"\")","v":""}]
[null,null,null,null,{"$f":"IFERROR(VLOOKUP(D4863,Справка!$G$2:$H$579,2,0),\"\")","v":""}]
[null,null,null,null,{"$f":"IFERROR(VLOOKUP(D4864,Справка!$G$2:$H$579,2,0),\"\")","v":""}]
[null,null,null,null,{"$f":"IFERROR(VLOOKUP(D4865,Справка!$G$2:$H$579,2,0),\"\")","v":""}]
[null,null,null,null,{"$f":"IFERROR(VLOOKUP(D4866,Справка!$G$2:$H$579,2,0),\"\")","v":""}]
[null,null,null,null,{"$f":"IFERROR(VLOOKUP(D4867,Справка!$G$2:$H$579,2,0),\"\")","v":""}]
[null,null,null,null,{"$f":"IFERROR(VLOOKUP(D4868,Справка!$G$2:$H$579,2,0),\"\")","v":""}]
[null,null,null,null,{"$f":"IFERROR(VLOOKUP(D4869,Справка!$G$2:$H$579,2,0),\"\")","v":""}]
[null,null,null,null,{"$f":"IFERROR(VLOOKUP(D4870,Справка!$G$2:$H$579,2,0),\"\")","v":""}]
[null,null,null,null,{"$f":"IFERROR(VLOOKUP(D4871,Справка!$G$2:$H$579,2,0),\"\")","v":""}]
[null,null,null,null,{"$f":"IFERROR(VLOOKUP(D4872,Справка!$G$2:$H$579,2,0),\"\")","v":""}]
[null,null,null,null,{"$f":"IFERROR(VLOOKUP(D4873,Справка!$G$2:$H$579,2,0),\"\")","v":""}]
[null,null,null,null,{"$f":"IFERROR(VLOOKUP(D4874,Справка!$G$2:$H$579,2,0),\"\")","v":""}]
[null,null,null,null,{"$f":"IFERROR(VLOOKUP(D4875,Справка!$G$2:$H$579,2,0),\"\")","v":""}]
[null,null,null,null,{"$f":"IFERROR(VLOOKUP(D4876,Справка!$G$2:$H$579,2,0),\"\")","v":""}]
[null,null,null,null,{"$f":"IFERROR(VLOOKUP(D4877,Справка!$G$2:$H$579,2,0),\"\")","v":""}]
[null,null,null,null,{"$f":"IFERROR(VLOOKUP(D4878,Справка!$G$2:$H$579,2,0),\"\")","v":""}]
[null,null,null,null,{"$f":"IFERROR(VLOOKUP(D4879,Справка!$G$2:$H$579,2,0),\"\")","v":""}]
[null,null,null,null,{"$f":"IFERROR(VLOOKUP(D4880,Справка!$G$2:$H$579,2,0),\"\")","v":""}]
[null,null,null,null,{"$f":"IFERROR(VLOOKUP(D4881,Справка!$G$2:$H$579,2,0),\"\")","v":""}]
[null,null,null,null,{"$f":"IFERROR(VLOOKUP(D4882,Справка!$G$2:$H$579,2,0),\"\")","v":""}]
[null,null,null,null,{"$f":"IFERROR(VLOOKUP(D4883,Справка!$G$2:$H$579,2,0),\"\")","v":""}]
[null,null,null,null,{"$f":"IFERROR(VLOOKUP(D4884,Справка!$G$2:$H$579,2,0),\"\")","v":""}]
[null,null,null,null,{"$f":"IFERROR(VLOOKUP(D4885,Справка!$G$2:$H$579,2,0),\"\")","v":""}]
[null,null,null,null,{"$f":"IFERROR(VLOOKUP(D4886,Справка!$G$2:$H$579,2,0),\"\")","v":""}]
[null,null,null,null,{"$f":"IFERROR(VLOOKUP(D4887,Справка!$G$2:$H$579,2,0),\"\")","v":""}]
[null,null,null,null,{"$f":"IFERROR(VLOOKUP(D4888,Справка!$G$2:$H$579,2,0),\"\")","v":""}]
[null,null,null,null,{"$f":"IFERROR(VLOOKUP(D4889,Справка!$G$2:$H$579,2,0),\"\")","v":""}]
[null,null,null,null,{"$f":"IFERROR(VLOOKUP(D4890,Справка!$G$2:$H$579,2,0),\"\")","v":""}]
[null,null,null,null,{"$f":"IFERROR(VLOOKUP(D4891,Справка!$G$2:$H$579,2,0),\"\")","v":""}]
[null,null,null,null,{"$f":"IFERROR(VLOOKUP(D4892,Справка!$G$2:$H$579,2,0),\"\")","v":""}]
[null,null,null,null,{"$f":"IFERROR(VLOOKUP(D4893,Справка!$G$2:$H$579,2,0),\"\")","v":""}]
[null,null,null,null,{"$f":"IFERROR(VLOOKUP(D4894,Справка!$G$2:$H$579,2,0),\"\")","v":""}]
[null,null,null,null,{"$f":"IFERROR(VLOOKUP(D4895,Справка!$G$2:$H$579,2,0),\"\")","v":""}]
[null,null,null,null,{"$f":"IFERROR(VLOOKUP(D4896,Справка!$G$2:$H$579,2,0),\"\")","v":""}]
[null,null,null,null,{"$f":"IFERROR(VLOOKUP(D4897,Справка!$G$2:$H$579,2,0),\"\")","v":""}]
[null,null,null,null,{"$f":"IFERROR(VLOOKUP(D4898,Справка!$G$2:$H$579,2,0),\"\")","v":""}]
[null,null,null,null,{"$f":"IFERROR(VLOOKUP(D4899,Справка!$G$2:$H$579,2,0),\"\")","v":""}]
[null,null,null,null,{"$f":"IFERROR(VLOOKUP(D4900,Справка!$G$2:$H$579,2,0),\"\")","v":""}]
[null,null,null,null,{"$f":"IFERROR(VLOOKUP(D4901,Справка!$G$2:$H$579,2,0),\"\")","v":""}]
[null,null,null,null,{"$f":"IFERROR(VLOOKUP(D4902,Справка!$G$2:$H$579,2,0),\"\")","v":""}]
[null,null,null,null,{"$f":"IFERROR(VLOOKUP(D4903,Справка!$G$2:$H$579,2,0),\"\")","v":""}]
[null,null,null,null,{"$f":"IFERROR(VLOOKUP(D4904,Справка!$G$2:$H$579,2,0),\"\")","v":""}]
[null,null,null,null,{"$f":"IFERROR(VLOOKUP(D4905,Справка!$G$2:$H$579,2,0),\"\")","v":""}]
[null,null,null,null,{"$f":"IFERROR(VLOOKUP(D4906,Справка!$G$2:$H$579,2,0),\"\")","v":""}]
[null,null,null,null,{"$f":"IFERROR(VLOOKUP(D4907,Справка!$G$2:$H$579,2,0),\"\")","v":""}]
[null,null,null,null,{"$f":"IFERROR(VLOOKUP(D4908,Справка!$G$2:$H$579,2,0),\"\")","v":""}]
[null,null,null,null,{"$f":"IFERROR(VLOOKUP(D4909,Справка!$G$2:$H$579,2,0),\"\")","v":""}]
[null,null,null,null,{"$f":"IFERROR(VLOOKUP(D4910,Справка!$G$2:$H$579,2,0),\"\")","v":""}]
[null,null,null,null,{"$f":"IFERROR(VLOOKUP(D4911,Справка!$G$2:$H$579,2,0),\"\")","v":""}]
[null,null,null,null,{"$f":"IFERROR(VLOOKUP(D4912,Справка!$G$2:$H$579,2,0),\"\")","v":""}]
[null,null,null,null,{"$f":"IFERROR(VLOOKUP(D4913,Справка!$G$2:$H$579,2,0),\"\")","v":""}]
[null,null,null,null,{"$f":"IFERROR(VLOOKUP(D4914,Справка!$G$2:$H$579,2,0),\"\")","v":""}]
[null,null,null,null,{"$f":"IFERROR(VLOOKUP(D4915,Справка!$G$2:$H$579,2,0),\"\")","v":""}]
[null,null,null,null,{"$f":"IFERROR(VLOOKUP(D4916,Справка!$G$2:$H$579,2,0),\"\")","v":""}]
[null,null,null,null,{"$f":"IFERROR(VLOOKUP(D4917,Справка!$G$2:$H$579,2,0),\"\")","v":""}]
[null,null,null,null,{"$f":"IFERROR(VLOOKUP(D4918,Справка!$G$2:$H$579,2,0),\"\")","v":""}]
[null,null,null,null,{"$f":"IFERROR(VLOOKUP(D4919,Справка!$G$2:$H$579,2,0),\"\")","v":""}]
[null,null,null,null,{"$f":"IFERROR(VLOOKUP(D4920,Справка!$G$2:$H$579,2,0),\"\")","v":""}]
[null,null,null,null,{"$f":"IFERROR(VLOOKUP(D4921,Справка!$G$2:$H$579,2,0),\"\")","v":""}]
[null,null,null,null,{"$f":"IFERROR(VLOOKUP(D4922,Справка!$G$2:$H$579,2,0),\"\")","v":""}]
[null,null,null,null,{"$f":"IFERROR(VLOOKUP(D4923,Справка!$G$2:$H$579,2,0),\"\")","v":""}]
[null,null,null,null,{"$f":"IFERROR(VLOOKUP(D4924,Справка!$G$2:$H$579,2,0),\"\")","v":""}]
[null,null,null,null,{"$f":"IFERROR(VLOOKUP(D4925,Справка!$G$2:$H$579,2,0),\"\")","v":""}]
[null,null,null,null,{"$f":"IFERROR(VLOOKUP(D4926,Справка!$G$2:$H$579,2,0),\"\")","v":""}]
[null,null,null,null,{"$f":"IFERROR(VLOOKUP(D4927,Справка!$G$2:$H$579,2,0),\"\")","v":""}]
[null,null,null,null,{"$f":"IFERROR(VLOOKUP(D4928,Справка!$G$2:$H$579,2,0),\"\")","v":""}]
[null,null,null,null,{"$f":"IFERROR(VLOOKUP(D4929,Справка!$G$2:$H$579,2,0),\"\")","v":""}]
[null,null,null,null,{"$f":"IFERROR(VLOOKUP(D4930,Справка!$G$2:$H$579,2,0),\"\")","v":""}]
[null,null,null,null,{"$f":"IFERROR(VLOOKUP(D4931,Справка!$G$2:$H$579,2,0),\"\")","v":""}]
[null,null,null,null,{"$f":"IFERROR(VLOOKUP(D4932,Справка!$G$2:$H$579,2,0),\"\")","v":""}]
[null,null,null,null,{"$f":"IFERROR(VLOOKUP(D4933,Справка!$G$2:$H$579,2,0),\"\")","v":""}]
[null,null,null,null,{"$f":"IFERROR(VLOOKUP(D4934,Справка!$G$2:$H$579,2,0),\"\")","v":""}]
[null,null,null,null,{"$f":"IFERROR(VLOOKUP(D4935,Справка!$G$2:$H$579,2,0),\"\")","v":""}]
[null,null,null,null,{"$f":"IFERROR(VLOOKUP(D4936,Справка!$G$2:$H$579,2,0),\"\")","v":""}]
[null,null,null,null,{"$f":"IFERROR(VLOOKUP(D4937,Справка!$G$2:$H$579,2,0),\"\")","v":""}]
[null,null,null,null,{"$f":"IFERROR(VLOOKUP(D4938,Справка!$G$2:$H$579,2,0),\"\")","v":""}]
[null,null,null,null,{"$f":"IFERROR(VLOOKUP(D4939,Справка!$G$2:$H$579,2,0),\"\")","v":""}]
[null,null,null,null,{"$f":"IFERROR(VLOOKUP(D4940,Справка!$G$2:$H$579,2,0),\"\")","v":""}]
[null,null,null,null,{"$f":"IFERROR(VLOOKUP(D4941,Справка!$G$2:$H$579,2,0),\"\")","v":""}]
[null,null,null,null,{"$f":"IFERROR(VLOOKUP(D4942,Справка!$G$2:$H$579,2,0),\"\")","v":""}]
[null,null,null,null,{"$f":"IFERROR(VLOOKUP(D4943,Справка!$G$2:$H$579,2,0),\"\")","v":""}]
[null,null,null,null,{"$f":"IFERROR(VLOOKUP(D4944,Справка!$G$2:$H$579,2,0),\"\")","v":""}]
[null,null,null,null,{"$f":"IFERROR(VLOOKUP(D4945,Справка!$G$2:$H$579,2,0),\"\")","v":""}]
[null,null,null,null,{"$f":"IFERROR(VLOOKUP(D4946,Справка!$G$2:$H$579,2,0),\"\")","v":""}]
[null,null,null,null,{"$f":"IFERROR(VLOOKUP(D4947,Справка!$G$2:$H$579,2,0),\"\")","v":""}]
[null,null,null,null,{"$f":"IFERROR(VLOOKUP(D4948,Справка!$G$2:$H$579,2,0),\"\")","v":""}]
[null,null,null,null,{"$f":"IFERROR(VLOOKUP(D4949,Справка!$G$2:$H$579,2,0),\"\")","v":""}]
[null,null,null,null,{"$f":"IFERROR(VLOOKUP(D4950,Справка!$G$2:$H$579,2,0),\"\")","v":""}]
[null,null,null,null,{"$f":"IFERROR(VLOOKUP(D4951,Справка!$G$2:$H$579,2,0),\"\")","v":""}]
[null,null,null,null,{"$f":"IFERROR(VLOOKUP(D4952,Справка!$G$2:$H$579,2,0),\"\")","v":""}]
[null,null,null,null,{"$f":"IFERROR(VLOOKUP(D4953,Справка!$G$2:$H$579,2,0),\"\")","v":""}]
[null,null,null,null,{"$f":"IFERROR(VLOOKUP(D4954,Справка!$G$2:$H$579,2,0),\"\")","v":""}]
[null,null,null,null,{"$f":"IFERROR(VLOOKUP(D4955,Справка!$G$2:$H$579,2,0),\"\")","v":""}]
[null,null,null,null,{"$f":"IFERROR(VLOOKUP(D4956,Справка!$G$2:$H$579,2,0),\"\")","v":""}]
[null,null,null,null,{"$f":"IFERROR(VLOOKUP(D4957,Справка!$G$2:$H$579,2,0),\"\")","v":""}]
[null,null,null,null,{"$f":"IFERROR(VLOOKUP(D4958,Справка!$G$2:$H$579,2,0),\"\")","v":""}]
[null,null,null,null,{"$f":"IFERROR(VLOOKUP(D4959,Справка!$G$2:$H$579,2,0),\"\")","v":""}]
[null,null,null,null,{"$f":"IFERROR(VLOOKUP(D4960,Справка!$G$2:$H$579,2,0),\"\")","v":""}]
[null,null,null,null,{"$f":"IFERROR(VLOOKUP(D4961,Справка!$G$2:$H$579,2,0),\"\")","v":""}]
[null,null,null,null,{"$f":"IFERROR(VLOOKUP(D4962,Справка!$G$2:$H$579,2,0),\"\")","v":""}]
[null,null,null,null,{"$f":"IFERROR(VLOOKUP(D4963,Справка!$G$2:$H$579,2,0),\"\")","v":""}]
[null,null,null,null,{"$f":"IFERROR(VLOOKUP(D4964,Справка!$G$2:$H$579,2,0),\"\")","v":""}]
[null,null,null,null,{"$f":"IFERROR(VLOOKUP(D4965,Справка!$G$2:$H$579,2,0),\"\")","v":""}]
[null,null,null,null,{"$f":"IFERROR(VLOOKUP(D4966,Справка!$G$2:$H$579,2,0),\"\")","v":""}]
[null,null,null,null,{"$f":"IFERROR(VLOOKUP(D4967,Справка!$G$2:$H$579,2,0),\"\")","v":""}]
[null,null,null,null,{"$f":"IFERROR(VLOOKUP(D4968,Справка!$G$2:$H$579,2,0),\"\")","v":""}]
[null,null,null,null,{"$f":"IFERROR(VLOOKUP(D4969,Справка!$G$2:$H$579,2,0),\"\")","v":""}]
[null,null,null,null,{"$f":"IFERROR(VLOOKUP(D4970,Справка!$G$2:$H$579,2,0),\"\")","v":""}]
[null,null,null,null,{"$f":"IFERROR(VLOOKUP(D4971,Справка!$G$2:$H$579,2,0),\"\")","v":""}]
[null,null,null,null,{"$f":"IFERROR(VLOOKUP(D4972,Справка!$G$2:$H$579,2,0),\"\")","v":""}]
[null,null,null,null,{"$f":"IFERROR(VLOOKUP(D4973,Справка!$G$2:$H$579,2,0),\"\")","v":""}]
[null,null,null,null,{"$f":"IFERROR(VLOOKUP(D4974,Справка!$G$2:$H$579,2,0),\"\")","v":""}]
[null,null,null,null,{"$f":"IFERROR(VLOOKUP(D4975,Справка!$G$2:$H$579,2,0),\"\")","v":""}]
[null,null,null,null,{"$f":"IFERROR(VLOOKUP(D4976,Справка!$G$2:$H$579,2,0),\"\")","v":""}]
[null,null,null,null,{"$f":"IFERROR(VLOOKUP(D4977,Справка!$G$2:$H$579,2,0),\"\")","v":""}]
[null,null,null,null,{"$f":"IFERROR(VLOOKUP(D4978,Справка!$G$2:$H$579,2,0),\"\")","v":""}]
[null,null,null,null,{"$f":"IFERROR(VLOOKUP(D4979,Справка!$G$2:$H$579,2,0),\"\")","v":""}]
[null,null,null,null,{"$f":"IFERROR(VLOOKUP(D4980,Справка!$G$2:$H$579,2,0),\"\")","v":""}]
[null,null,null,null,{"$f":"IFERROR(VLOOKUP(D4981,Справка!$G$2:$H$579,2,0),\"\")","v":""}]
[null,null,null,null,{"$f":"IFERROR(VLOOKUP(D4982,Справка!$G$2:$H$579,2,0),\"\")","v":""}]
[null,null,null,null,{"$f":"IFERROR(VLOOKUP(D4983,Справка!$G$2:$H$579,2,0),\"\")","v":""}]
[null,null,null,null,{"$f":"IFERROR(VLOOKUP(D4984,Справка!$G$2:$H$579,2,0),\"\")","v":""}]
[null,null,null,null,{"$f":"IFERROR(VLOOKUP(D4985,Справка!$G$2:$H$579,2,0),\"\")","v":""}]
[null,null,null,null,{"$f":"IFERROR(VLOOKUP(D4986,Справка!$G$2:$H$579,2,0),\"\")","v":""}]
[null,null,null,null,{"$f":"IFERROR(VLOOKUP(D4987,Справка!$G$2:$H$579,2,0),\"\")","v":""}]
[null,null,null,null,{"$f":"IFERROR(VLOOKUP(D4988,Справка!$G$2:$H$579,2,0),\"\")","v":""}]
[null,null,null,null,{"$f":"IFERROR(VLOOKUP(D4989,Справка!$G$2:$H$579,2,0),\"\")","v":""}]
[null,null,null,null,{"$f":"IFERROR(VLOOKUP(D4990,Справка!$G$2:$H$579,2,0),\"\")","v":""}]
[null,null,null,null,{"$f":"IFERROR(VLOOKUP(D4991,Справка!$G$2:$H$579,2,0),\"\")","v":""}]
[null,null,null,null,{"$f":"IFERROR(VLOOKUP(D4992,Справка!$G$2:$H$579,2,0),\"\")","v":""}]
[null,null,null,null,{"$f":"IFERROR(VLOOKUP(D4993,Справка!$G$2:$H$579,2,0),\"\")","v":""}]
[null,null,null,null,{"$f":"IFERROR(VLOOKUP(D4994,Справка!$G$2:$H$579,2,0),\"\")","v":""}]
[null,null,null,null,{"$f":"IFERROR(VLOOKUP(D4995,Справка!$G$2:$H$579,2,0),\"\")","v":""}]
[null,null,null,null,{"$f":"IFERROR(VLOOKUP(D4996,Справка!$G$2:$H$579,2,0),\"\")","v":""}]
[null,null,null,null,{"$f":"IFERROR(VLOOKUP(D4997,Справка!$G$2:$H$579,2,0),\"\")","v":""}]
[null,null,null,null,{"$f":"IFERROR(VLOOKUP(D4998,Справка!$G$2:$H$579,2,0),\"\")","v":""}]
[null,null,null,null,{"$f":"IFERROR(VLOOKUP(D4999,Справка!$G$2:$H$579,2,0),\"\")","v":""}]
[null,null,null,null,{"$f":"IFERROR(VLOOKUP(D5000,Справка!$G$2:$H$579,2,0),\"\")","v":""}]
[null,null,null,null,{"$f":"IFERROR(VLOOKUP(D5001,Справка!$G$2:$H$579,2,0),\"\")","v":""}]
[null,null,null,null,{"$f":"IFERROR(VLOOKUP(D5002,Справка!$G$2:$H$579,2,0),\"\")","v":""}]
[null,null,null,null,{"$f":"IFERROR(VLOOKUP(D5003,Справка!$G$2:$H$579,2,0),\"\")","v":""}]
[null,null,null,null,{"$f":"IFERROR(VLOOKUP(D5004,Справка!$G$2:$H$579,2,0),\"\")","v":""}]
[null,null,null,null,{"$f":"IFERROR(VLOOKUP(D5005,Справка!$G$2:$H$579,2,0),\"\")","v":""}]
[null,null,null,null,{"$f":"IFERROR(VLOOKUP(D5006,Справка!$G$2:$H$579,2,0),\"\")","v":""}]
[null,null,null,null,{"$f":"IFERROR(VLOOKUP(D5007,Справка!$G$2:$H$579,2,0),\"\")","v":""}]
[null,null,null,null,{"$f":"IFERROR(VLOOKUP(D5008,Справка!$G$2:$H$579,2,0),\"\")","v":""}]
[null,null,null,null,{"$f":"IFERROR(VLOOKUP(D5009,Справка!$G$2:$H$579,2,0),\"\")","v":""}]
[null,null,null,null,{"$f":"IFERROR(VLOOKUP(D5010,Справка!$G$2:$H$579,2,0),\"\")","v":""}]
[null,null,null,null,{"$f":"IFERROR(VLOOKUP(D5011,Справка!$G$2:$H$579,2,0),\"\")","v":""}]
[null,null,null,null,{"$f":"IFERROR(VLOOKUP(D5012,Справка!$G$2:$H$579,2,0),\"\")","v":""}]
[null,null,null,null,{"$f":"IFERROR(VLOOKUP(D5013,Справка!$G$2:$H$579,2,0),\"\")","v":""}]
[null,null,null,null,{"$f":"IFERROR(VLOOKUP(D5014,Справка!$G$2:$H$579,2,0),\"\")","v":""}]
[null,null,null,null,{"$f":"IFERROR(VLOOKUP(D5015,Справка!$G$2:$H$579,2,0),\"\")","v":""}]
[null,null,null,null,{"$f":"IFERROR(VLOOKUP(D5016,Справка!$G$2:$H$579,2,0),\"\")","v":""}]
[null,null,null,null,{"$f":"IFERROR(VLOOKUP(D5017,Справка!$G$2:$H$579,2,0),\"\")","v":""}]
[null,null,null,null,{"$f":"IFERROR(VLOOKUP(D5018,Справка!$G$2:$H$579,2,0),\"\")","v":""}]
[null,null,null,null,{"$f":"IFERROR(VLOOKUP(D5019,Справка!$G$2:$H$579,2,0),\"\")","v":""}]
[null,null,null,null,{"$f":"IFERROR(VLOOKUP(D5020,Справка!$G$2:$H$579,2,0),\"\")","v":""}]
[null,null,null,null,{"$f":"IFERROR(VLOOKUP(D5021,Справка!$G$2:$H$579,2,0),\"\")","v":""}]
[null,null,null,null,{"$f":"IFERROR(VLOOKUP(D5022,Справка!$G$2:$H$579,2,0),\"\")","v":""}]
[null,null,null,null,{"$f":"IFERROR(VLOOKUP(D5023,Справка!$G$2:$H$579,2,0),\"\")","v":""}]
[null,null,null,null,{"$f":"IFERROR(VLOOKUP(D5024,Справка!$G$2:$H$579,2,0),\"\")","v":""}]
[null,null,null,null,{"$f":"IFERROR(VLOOKUP(D5025,Справка!$G$2:$H$579,2,0),\"\")","v":""}]
[null,null,null,null,{"$f":"IFERROR(VLOOKUP(D5026,Справка!$G$2:$H$579,2,0),\"\")","v":""}]
[null,null,null,null,{"$f":"IFERROR(VLOOKUP(D5027,Справка!$G$2:$H$579,2,0),\"\")","v":""}]
[null,null,null,null,{"$f":"IFERROR(VLOOKUP(D5028,Справка!$G$2:$H$579,2,0),\"\")","v":""}]
[null,null,null,null,{"$f":"IFERROR(VLOOKUP(D5029,Справка!$G$2:$H$579,2,0),\"\")","v":""}]
[null,null,null,null,{"$f":"IFERROR(VLOOKUP(D5030,Справка!$G$2:$H$579,2,0),\"\")","v":""}]
[null,null,null,null,{"$f":"IFERROR(VLOOKUP(D5031,Справка!$G$2:$H$579,2,0),\"\")","v":""}]
[null,null,null,null,{"$f":"IFERROR(VLOOKUP(D5032,Справка!$G$2:$H$579,2,0),\"\")","v":""}]
[null,null,null,null,{"$f":"IFERROR(VLOOKUP(D5033,Справка!$G$2:$H$579,2,0),\"\")","v":""}]
[null,null,null,null,{"$f":"IFERROR(VLOOKUP(D5034,Справка!$G$2:$H$579,2,0),\"\")","v":""}]
[null,null,null,null,{"$f":"IFERROR(VLOOKUP(D5035,Справка!$G$2:$H$579,2,0),\"\")","v":""}]
[null,null,null,null,{"$f":"IFERROR(VLOOKUP(D5036,Справка!$G$2:$H$579,2,0),\"\")","v":""}]
[null,null,null,null,{"$f":"IFERROR(VLOOKUP(D5037,Справка!$G$2:$H$579,2,0),\"\")","v":""}]
[null,null,null,null,{"$f":"IFERROR(VLOOKUP(D5038,Справка!$G$2:$H$579,2,0),\"\")","v":""}]
[null,null,null,null,{"$f":"IFERROR(VLOOKUP(D5039,Справка!$G$2:$H$579,2,0),\"\")","v":""}]
[null,null,null,null,{"$f":"IFERROR(VLOOKUP(D5040,Справка!$G$2:$H$579,2,0),\"\")","v":""}]
[null,null,null,null,{"$f":"IFERROR(VLOOKUP(D5041,Справка!$G$2:$H$579,2,0),\"\")","v":""}]
[null,null,null,null,{"$f":"IFERROR(VLOOKUP(D5042,Справка!$G$2:$H$579,2,0),\"\")","v":""}]
[null,null,null,null,{"$f":"IFERROR(VLOOKUP(D5043,Справка!$G$2:$H$579,2,0),\"\")","v":""}]
[null,null,null,null,{"$f":"IFERROR(VLOOKUP(D5044,Справка!$G$2:$H$579,2,0),\"\")","v":""}]
[null,null,null,null,{"$f":"IFERROR(VLOOKUP(D5045,Справка!$G$2:$H$579,2,0),\"\")","v":""}]
[null,null,null,null,{"$f":"IFERROR(VLOOKUP(D5046,Справка!$G$2:$H$579,2,0),\"\")","v":""}]
[null,null,null,null,{"$f":"IFERROR(VLOOKUP(D5047,Справка!$G$2:$H$579,2,0),\"\")","v":""}]
[null,null,null,null,{"$f":"IFERROR(VLOOKUP(D5048,Справка!$G$2:$H$579,2,0),\"\")","v":""}]
[null,null,null,null,{"$f":"IFERROR(VLOOKUP(D5049,Справка!$G$2:$H$579,2,0),\"\")","v":""}]
[null,null,null,null,{"$f":"IFERROR(VLOOKUP(D5050,Справка!$G$2:$H$579,2,0),\"\")","v":""}]
[null,null,null,null,{"$f":"IFERROR(VLOOKUP(D5051,Справка!$G$2:$H$579,2,0),\"\")","v":""}]
[null,null,null,null,{"$f":"IFERROR(VLOOKUP(D5052,Справка!$G$2:$H$579,2,0),\"\")","v":""}]
[null,null,null,null,{"$f":"IFERROR(VLOOKUP(D5053,Справка!$G$2:$H$579,2,0),\"\")","v":""}]
[null,null,null,null,{"$f":"IFERROR(VLOOKUP(D5054,Справка!$G$2:$H$579,2,0),\"\")","v":""}]
[null,null,null,null,{"$f":"IFERROR(VLOOKUP(D5055,Справка!$G$2:$H$579,2,0),\"\")","v":""}]
[null,null,null,null,{"$f":"IFERROR(VLOOKUP(D5056,Справка!$G$2:$H$579,2,0),\"\")","v":""}]
[null,null,null,null,{"$f":"IFERROR(VLOOKUP(D5057,Справка!$G$2:$H$579,2,0),\"\")","v":""}]
[null,null,null,null,{"$f":"IFERROR(VLOOKUP(D5058,Справка!$G$2:$H$579,2,0),\"\")","v":""}]
[null,null,null,null,{"$f":"IFERROR(VLOOKUP(D5059,Справка!$G$2:$H$579,2,0),\"\")","v":""}]
[null,null,null,null,{"$f":"IFERROR(VLOOKUP(D5060,Справка!$G$2:$H$579,2,0),\"\")","v":""}]
[null,null,null,null,{"$f":"IFERROR(VLOOKUP(D5061,Справка!$G$2:$H$579,2,0),\"\")","v":""}]
[null,null,null,null,{"$f":"IFERROR(VLOOKUP(D5062,Справка!$G$2:$H$579,2,0),\"\")","v":""}]
[null,null,null,null,{"$f":"IFERROR(VLOOKUP(D5063,Справка!$G$2:$H$579,2,0),\"\")","v":""}]
[null,null,null,null,{"$f":"IFERROR(VLOOKUP(D5064,Справка!$G$2:$H$579,2,0),\"\")","v":""}]
[null,null,null,null,{"$f":"IFERROR(VLOOKUP(D5065,Справка!$G$2:$H$579,2,0),\"\")","v":""}]
[null,null,null,null,{"$f":"IFERROR(VLOOKUP(D5066,Справка!$G$2:$H$579,2,0),\"\")","v":""}]
[null,null,null,null,{"$f":"IFERROR(VLOOKUP(D5067,Справка!$G$2:$H$579,2,0),\"\")","v":""}]
[null,null,null,null,{"$f":"IFERROR(VLOOKUP(D5068,Справка!$G$2:$H$579,2,0),\"\")","v":""}]
[null,null,null,null,{"$f":"IFERROR(VLOOKUP(D5069,Справка!$G$2:$H$579,2,0),\"\")","v":""}]
[null,null,null,null,{"$f":"IFERROR(VLOOKUP(D5070,Справка!$G$2:$H$579,2,0),\"\")","v":""}]
[null,null,null,null,{"$f":"IFERROR(VLOOKUP(D5071,Справка!$G$2:$H$579,2,0),\"\")","v":""}]
[null,null,null,null,{"$f":"IFERROR(VLOOKUP(D5072,Справка!$G$2:$H$579,2,0),\"\")","v":""}]
[null,null,null,null,{"$f":"IFERROR(VLOOKUP(D5073,Справка!$G$2:$H$579,2,0),\"\")","v":""}]
[null,null,null,null,{"$f":"IFERROR(VLOOKUP(D5074,Справка!$G$2:$H$579,2,0),\"\")","v":""}]
[null,null,null,null,{"$f":"IFERROR(VLOOKUP(D5075,Справка!$G$2:$H$579,2,0),\"\")","v":""}]
[null,null,null,null,{"$f":"IFERROR(VLOOKUP(D5076,Справка!$G$2:$H$579,2,0),\"\")","v":""}]
[null,null,null,null,{"$f":"IFERROR(VLOOKUP(D5077,Справка!$G$2:$H$579,2,0),\"\")","v":""}]
[null,null,null,null,{"$f":"IFERROR(VLOOKUP(D5078,Справка!$G$2:$H$579,2,0),\"\")","v":""}]
[null,null,null,null,{"$f":"IFERROR(VLOOKUP(D5079,Справка!$G$2:$H$579,2,0),\"\")","v":""}]
[null,null,null,null,{"$f":"IFERROR(VLOOKUP(D5080,Справка!$G$2:$H$579,2,0),\"\")","v":""}]
[null,null,null,null,{"$f":"IFERROR(VLOOKUP(D5081,Справка!$G$2:$H$579,2,0),\"\")","v":""}]
[null,null,null,null,{"$f":"IFERROR(VLOOKUP(D5082,Справка!$G$2:$H$579,2,0),\"\")","v":""}]
[null,null,null,null,{"$f":"IFERROR(VLOOKUP(D5083,Справка!$G$2:$H$579,2,0),\"\")","v":""}]
[null,null,null,null,{"$f":"IFERROR(VLOOKUP(D5084,Справка!$G$2:$H$579,2,0),\"\")","v":""}]
[null,null,null,null,{"$f":"IFERROR(VLOOKUP(D5085,Справка!$G$2:$H$579,2,0),\"\")","v":""}]
[null,null,null,null,{"$f":"IFERROR(VLOOKUP(D5086,Справка!$G$2:$H$579,2,0),\"\")","v":""}]
[null,null,null,null,{"$f":"IFERROR(VLOOKUP(D5087,Справка!$G$2:$H$579,2,0),\"\")","v":""}]
[null,null,null,null,{"$f":"IFERROR(VLOOKUP(D5088,Справка!$G$2:$H$579,2,0),\"\")","v":""}]
[null,null,null,null,{"$f":"IFERROR(VLOOKUP(D5089,Справка!$G$2:$H$579,2,0),\"\")","v":""}]
[null,null,null,null,{"$f":"IFERROR(VLOOKUP(D5090,Справка!$G$2:$H$579,2,0),\"\")","v":""}]
[null,null,null,null,{"$f":"IFERROR(VLOOKUP(D5091,Справка!$G$2:$H$579,2,0),\"\")","v":""}]
[null,null,null,null,{"$f":"IFERROR(VLOOKUP(D5092,Справка!$G$2:$H$579,2,0),\"\")","v":""}]
[null,null,null,null,{"$f":"IFERROR(VLOOKUP(D5093,Справка!$G$2:$H$579,2,0),\"\")","v":""}]
[null,null,null,null,{"$f":"IFERROR(VLOOKUP(D5094,Справка!$G$2:$H$579,2,0),\"\")","v":""}]
[null,null,null,null,{"$f":"IFERROR(VLOOKUP(D5095,Справка!$G$2:$H$579,2,0),\"\")","v":""}]
[null,null,null,null,{"$f":"IFERROR(VLOOKUP(D5096,Справка!$G$2:$H$579,2,0),\"\")","v":""}]
[null,null,null,null,{"$f":"IFERROR(VLOOKUP(D5097,Справка!$G$2:$H$579,2,0),\"\")","v":""}]
[null,null,null,null,{"$f":"IFERROR(VLOOKUP(D5098,Справка!$G$2:$H$579,2,0),\"\")","v":""}]
[null,null,null,null,{"$f":"IFERROR(VLOOKUP(D5099,Справка!$G$2:$H$579,2,0),\"\")","v":""}]
[null,null,null,null,{"$f":"IFERROR(VLOOKUP(D5100,Справка!$G$2:$H$579,2,0),\"\")","v":""}]
[null,null,null,null,{"$f":"IFERROR(VLOOKUP(D5101,Справка!$G$2:$H$579,2,0),\"\")","v":""}]
[null,null,null,null,{"$f":"IFERROR(VLOOKUP(D5102,Справка!$G$2:$H$579,2,0),\"\")","v":""}]
[null,null,null,null,{"$f":"IFERROR(VLOOKUP(D5103,Справка!$G$2:$H$579,2,0),\"\")","v":""}]
[null,null,null,null,{"$f":"IFERROR(VLOOKUP(D5104,Справка!$G$2:$H$579,2,0),\"\")","v":""}]
[null,null,null,null,{"$f":"IFERROR(VLOOKUP(D5105,Справка!$G$2:$H$579,2,0),\"\")","v":""}]
[null,null,null,null,{"$f":"IFERROR(VLOOKUP(D5106,Справка!$G$2:$H$579,2,0),\"\")","v":""}]
[null,null,null,null,{"$f":"IFERROR(VLOOKUP(D5107,Справка!$G$2:$H$579,2,0),\"\")","v":""}]
[null,null,null,null,{"$f":"IFERROR(VLOOKUP(D5108,Справка!$G$2:$H$579,2,0),\"\")","v":""}]
[null,null,null,null,{"$f":"IFERROR(VLOOKUP(D5109,Справка!$G$2:$H$579,2,0),\"\")","v":""}]
[null,null,null,null,{"$f":"IFERROR(VLOOKUP(D5110,Справка!$G$2:$H$579,2,0),\"\")","v":""}]
[null,null,null,null,{"$f":"IFERROR(VLOOKUP(D5111,Справка!$G$2:$H$579,2,0),\"\")","v":""}]
[null,null,null,null,{"$f":"IFERROR(VLOOKUP(D5112,Справка!$G$2:$H$579,2,0),\"\")","v":""}]
[null,null,null,null,{"$f":"IFERROR(VLOOKUP(D5113,Справка!$G$2:$H$579,2,0),\"\")","v":""}]
[null,null,null,null,{"$f":"IFERROR(VLOOKUP(D5114,Справка!$G$2:$H$579,2,0),\"\")","v":""}]
[null,null,null,null,{"$f":"IFERROR(VLOOKUP(D5115,Справка!$G$2:$H$579,2,0),\"\")","v":""}]
[null,null,null,null,{"$f":"IFERROR(VLOOKUP(D5116,Справка!$G$2:$H$579,2,0),\"\")","v":""}]
[null,null,null,null,{"$f":"IFERROR(VLOOKUP(D5117,Справка!$G$2:$H$579,2,0),\"\")","v":""}]
[null,null,null,null,{"$f":"IFERROR(VLOOKUP(D5118,Справка!$G$2:$H$579,2,0),\"\")","v":""}]
[null,null,null,null,{"$f":"IFERROR(VLOOKUP(D5119,Справка!$G$2:$H$579,2,0),\"\")","v":""}]
[null,null,null,null,{"$f":"IFERROR(VLOOKUP(D5120,Справка!$G$2:$H$579,2,0),\"\")","v":""}]
[null,null,null,null,{"$f":"IFERROR(VLOOKUP(D5121,Справка!$G$2:$H$579,2,0),\"\")","v":""}]
[null,null,null,null,{"$f":"IFERROR(VLOOKUP(D5122,Справка!$G$2:$H$579,2,0),\"\")","v":""}]
[null,null,null,null,{"$f":"IFERROR(VLOOKUP(D5123,Справка!$G$2:$H$579,2,0),\"\")","v":""}]
[null,null,null,null,{"$f":"IFERROR(VLOOKUP(D5124,Справка!$G$2:$H$579,2,0),\"\")","v":""}]
[null,null,null,null,{"$f":"IFERROR(VLOOKUP(D5125,Справка!$G$2:$H$579,2,0),\"\")","v":""}]
[null,null,null,null,{"$f":"IFERROR(VLOOKUP(D5126,Справка!$G$2:$H$579,2,0),\"\")","v":""}]
[null,null,null,null,{"$f":"IFERROR(VLOOKUP(D5127,Справка!$G$2:$H$579,2,0),\"\")","v":""}]
[null,null,null,null,{"$f":"IFERROR(VLOOKUP(D5128,Справка!$G$2:$H$579,2,0),\"\")","v":""}]
[null,null,null,null,{"$f":"IFERROR(VLOOKUP(D5129,Справка!$G$2:$H$579,2,0),\"\")","v":""}]
[null,null,null,null,{"$f":"IFERROR(VLOOKUP(D5130,Справка!$G$2:$H$579,2,0),\"\")","v":""}]
[null,null,null,null,{"$f":"IFERROR(VLOOKUP(D5131,Справка!$G$2:$H$579,2,0),\"\")","v":""}]
[null,null,null,null,{"$f":"IFERROR(VLOOKUP(D5132,Справка!$G$2:$H$579,2,0),\"\")","v":""}]
[null,null,null,null,{"$f":"IFERROR(VLOOKUP(D5133,Справка!$G$2:$H$579,2,0),\"\")","v":""}]
[null,null,null,null,{"$f":"IFERROR(VLOOKUP(D5134,Справка!$G$2:$H$579,2,0),\"\")","v":""}]
[null,null,null,null,{"$f":"IFERROR(VLOOKUP(D5135,Справка!$G$2:$H$579,2,0),\"\")","v":""}]
[null,null,null,null,{"$f":"IFERROR(VLOOKUP(D5136,Справка!$G$2:$H$579,2,0),\"\")","v":""}]
[null,null,null,null,{"$f":"IFERROR(VLOOKUP(D5137,Справка!$G$2:$H$579,2,0),\"\")","v":""}]
[null,null,null,null,{"$f":"IFERROR(VLOOKUP(D5138,Справка!$G$2:$H$579,2,0),\"\")","v":""}]
[null,null,null,null,{"$f":"IFERROR(VLOOKUP(D5139,Справка!$G$2:$H$579,2,0),\"\")","v":""}]
[null,null,null,null,{"$f":"IFERROR(VLOOKUP(D5140,Справка!$G$2:$H$579,2,0),\"\")","v":""}]
[null,null,null,null,{"$f":"IFERROR(VLOOKUP(D5141,Справка!$G$2:$H$579,2,0),\"\")","v":""}]
[null,null,null,null,{"$f":"IFERROR(VLOOKUP(D5142,Справка!$G$2:$H$579,2,0),\"\")","v":""}]
[null,null,null,null,{"$f":"IFERROR(VLOOKUP(D5143,Справка!$G$2:$H$579,2,0),\"\")","v":""}]
[null,null,null,null,{"$f":"IFERROR(VLOOKUP(D5144,Справка!$G$2:$H$579,2,0),\"\")","v":""}]
[null,null,null,null,{"$f":"IFERROR(VLOOKUP(D5145,Справка!$G$2:$H$579,2,0),\"\")","v":""}]
[null,null,null,null,{"$f":"IFERROR(VLOOKUP(D5146,Справка!$G$2:$H$579,2,0),\"\")","v":""}]
[null,null,null,null,{"$f":"IFERROR(VLOOKUP(D5147,Справка!$G$2:$H$579,2,0),\"\")","v":""}]
[null,null,null,null,{"$f":"IFERROR(VLOOKUP(D5148,Справка!$G$2:$H$579,2,0),\"\")","v":""}]
[null,null,null,null,{"$f":"IFERROR(VLOOKUP(D5149,Справка!$G$2:$H$579,2,0),\"\")","v":""}]
[null,null,null,null,{"$f":"IFERROR(VLOOKUP(D5150,Справка!$G$2:$H$579,2,0),\"\")","v":""}]
[null,null,null,null,{"$f":"IFERROR(VLOOKUP(D5151,Справка!$G$2:$H$579,2,0),\"\")","v":""}]
[null,null,null,null,{"$f":"IFERROR(VLOOKUP(D5152,Справка!$G$2:$H$579,2,0),\"\")","v":""}]
[null,null,null,null,{"$f":"IFERROR(VLOOKUP(D5153,Справка!$G$2:$H$579,2,0),\"\")","v":""}]
[null,null,null,null,{"$f":"IFERROR(VLOOKUP(D5154,Справка!$G$2:$H$579,2,0),\"\")","v":""}]
[null,null,null,null,{"$f":"IFERROR(VLOOKUP(D5155,Справка!$G$2:$H$579,2,0),\"\")","v":""}]
[null,null,null,null,{"$f":"IFERROR(VLOOKUP(D5156,Справка!$G$2:$H$579,2,0),\"\")","v":""}]
[null,null,null,null,{"$f":"IFERROR(VLOOKUP(D5157,Справка!$G$2:$H$579,2,0),\"\")","v":""}]
[null,null,null,null,{"$f":"IFERROR(VLOOKUP(D5158,Справка!$G$2:$H$579,2,0),\"\")","v":""}]
[null,null,null,null,{"$f":"IFERROR(VLOOKUP(D5159,Справка!$G$2:$H$579,2,0),\"\")","v":""}]
[null,null,null,null,{"$f":"IFERROR(VLOOKUP(D5160,Справка!$G$2:$H$579,2,0),\"\")","v":""}]
[null,null,null,null,{"$f":"IFERROR(VLOOKUP(D5161,Справка!$G$2:$H$579,2,0),\"\")","v":""}]
[null,null,null,null,{"$f":"IFERROR(VLOOKUP(D5162,Справка!$G$2:$H$579,2,0),\"\")","v":""}]
[null,null,null,null,{"$f":"IFERROR(VLOOKUP(D5163,Справка!$G$2:$H$579,2,0),\"\")","v":""}]
[null,null,null,null,{"$f":"IFERROR(VLOOKUP(D5164,Справка!$G$2:$H$579,2,0),\"\")","v":""}]
[null,null,null,null,{"$f":"IFERROR(VLOOKUP(D5165,Справка!$G$2:$H$579,2,0),\"\")","v":""}]
[null,null,null,null,{"$f":"IFERROR(VLOOKUP(D5166,Справка!$G$2:$H$579,2,0),\"\")","v":""}]
[null,null,null,null,{"$f":"IFERROR(VLOOKUP(D5167,Справка!$G$2:$H$579,2,0),\"\")","v":""}]
[null,null,null,null,{"$f":"IFERROR(VLOOKUP(D5168,Справка!$G$2:$H$579,2,0),\"\")","v":""}]
[null,null,null,null,{"$f":"IFERROR(VLOOKUP(D5169,Справка!$G$2:$H$579,2,0),\"\")","v":""}]
[null,null,null,null,{"$f":"IFERROR(VLOOKUP(D5170,Справка!$G$2:$H$579,2,0),\"\")","v":""}]
[null,null,null,null,{"$f":"IFERROR(VLOOKUP(D5171,Справка!$G$2:$H$579,2,0),\"\")","v":""}]
[null,null,null,null,{"$f":"IFERROR(VLOOKUP(D5172,Справка!$G$2:$H$579,2,0),\"\")","v":""}]
[null,null,null,null,{"$f":"IFERROR(VLOOKUP(D5173,Справка!$G$2:$H$579,2,0),\"\")","v":""}]
[null,null,null,null,{"$f":"IFERROR(VLOOKUP(D5174,Справка!$G$2:$H$579,2,0),\"\")","v":""}]
[null,null,null,null,{"$f":"IFERROR(VLOOKUP(D5175,Справка!$G$2:$H$579,2,0),\"\")","v":""}]
[null,null,null,null,{"$f":"IFERROR(VLOOKUP(D5176,Справка!$G$2:$H$579,2,0),\"\")","v":""}]
[null,null,null,null,{"$f":"IFERROR(VLOOKUP(D5177,Справка!$G$2:$H$579,2,0),\"\")","v":""}]
[null,null,null,null,{"$f":"IFERROR(VLOOKUP(D5178,Справка!$G$2:$H$579,2,0),\"\")","v":""}]
[null,null,null,null,{"$f":"IFERROR(VLOOKUP(D5179,Справка!$G$2:$H$579,2,0),\"\")","v":""}]
[null,null,null,null,{"$f":"IFERROR(VLOOKUP(D5180,Справка!$G$2:$H$579,2,0),\"\")","v":""}]
[null,null,null,null,{"$f":"IFERROR(VLOOKUP(D5181,Справка!$G$2:$H$579,2,0),\"\")","v":""}]
[null,null,null,null,{"$f":"IFERROR(VLOOKUP(D5182,Справка!$G$2:$H$579,2,0),\"\")","v":""}]
[null,null,null,null,{"$f":"IFERROR(VLOOKUP(D5183,Справка!$G$2:$H$579,2,0),\"\")","v":""}]
[null,null,null,null,{"$f":"IFERROR(VLOOKUP(D5184,Справка!$G$2:$H$579,2,0),\"\")","v":""}]
[null,null,null,null,{"$f":"IFERROR(VLOOKUP(D5185,Справка!$G$2:$H$579,2,0),\"\")","v":""}]
[null,null,null,null,{"$f":"IFERROR(VLOOKUP(D5186,Справка!$G$2:$H$579,2,0),\"\")","v":""}]
[null,null,null,null,{"$f":"IFERROR(VLOOKUP(D5187,Справка!$G$2:$H$579,2,0),\"\")","v":""}]
[null,null,null,null,{"$f":"IFERROR(VLOOKUP(D5188,Справка!$G$2:$H$579,2,0),\"\")","v":""}]
[null,null,null,null,{"$f":"IFERROR(VLOOKUP(D5189,Справка!$G$2:$H$579,2,0),\"\")","v":""}]
[null,null,null,null,{"$f":"IFERROR(VLOOKUP(D5190,Справка!$G$2:$H$579,2,0),\"\")","v":""}]
[null,null,null,null,{"$f":"IFERROR(VLOOKUP(D5191,Справка!$G$2:$H$579,2,0),\"\")","v":""}]
[null,null,null,null,{"$f":"IFERROR(VLOOKUP(D5192,Справка!$G$2:$H$579,2,0),\"\")","v":""}]
[null,null,null,null,{"$f":"IFERROR(VLOOKUP(D5193,Справка!$G$2:$H$579,2,0),\"\")","v":""}]
[null,null,null,null,{"$f":"IFERROR(VLOOKUP(D5194,Справка!$G$2:$H$579,2,0),\"\")","v":""}]
[null,null,null,null,{"$f":"IFERROR(VLOOKUP(D5195,Справка!$G$2:$H$579,2,0),\"\")","v":""}]
[null,null,null,null,{"$f":"IFERROR(VLOOKUP(D5196,Справка!$G$2:$H$579,2,0),\"\")","v":""}]
[null,null,null,null,{"$f":"IFERROR(VLOOKUP(D5197,Справка!$G$2:$H$579,2,0),\"\")","v":""}]
[null,null,null,null,{"$f":"IFERROR(VLOOKUP(D5198,Справка!$G$2:$H$579,2,0),\"\")","v":""}]
[null,null,null,null,{"$f":"IFERROR(VLOOKUP(D5199,Справка!$G$2:$H$579,2,0),\"\")","v":""}]
[null,null,null,null,{"$f":"IFERROR(VLOOKUP(D5200,Справка!$G$2:$H$579,2,0),\"\")","v":""}]
[null,null,null,null,{"$f":"IFERROR(VLOOKUP(D5201,Справка!$G$2:$H$579,2,0),\"\")","v":""}]
[null,null,null,null,{"$f":"IFERROR(VLOOKUP(D5202,Справка!$G$2:$H$579,2,0),\"\")","v":""}]
[null,null,null,null,{"$f":"IFERROR(VLOOKUP(D5203,Справка!$G$2:$H$579,2,0),\"\")","v":""}]
[null,null,null,null,{"$f":"IFERROR(VLOOKUP(D5204,Справка!$G$2:$H$579,2,0),\"\")","v":""}]
[null,null,null,null,{"$f":"IFERROR(VLOOKUP(D5205,Справка!$G$2:$H$579,2,0),\"\")","v":""}]
[null,null,null,null,{"$f":"IFERROR(VLOOKUP(D5206,Справка!$G$2:$H$579,2,0),\"\")","v":""}]
[null,null,null,null,{"$f":"IFERROR(VLOOKUP(D5207,Справка!$G$2:$H$579,2,0),\"\")","v":""}]
[null,null,null,null,{"$f":"IFERROR(VLOOKUP(D5208,Справка!$G$2:$H$579,2,0),\"\")","v":""}]
[null,null,null,null,{"$f":"IFERROR(VLOOKUP(D5209,Справка!$G$2:$H$579,2,0),\"\")","v":""}]
[null,null,null,null,{"$f":"IFERROR(VLOOKUP(D5210,Справка!$G$2:$H$579,2,0),\"\")","v":""}]
[null,null,null,null,{"$f":"IFERROR(VLOOKUP(D5211,Справка!$G$2:$H$579,2,0),\"\")","v":""}]
[null,null,null,null,{"$f":"IFERROR(VLOOKUP(D5212,Справка!$G$2:$H$579,2,0),\"\")","v":""}]
[null,null,null,null,{"$f":"IFERROR(VLOOKUP(D5213,Справка!$G$2:$H$579,2,0),\"\")","v":""}]
[null,null,null,null,{"$f":"IFERROR(VLOOKUP(D5214,Справка!$G$2:$H$579,2,0),\"\")","v":""}]
[null,null,null,null,{"$f":"IFERROR(VLOOKUP(D5215,Справка!$G$2:$H$579,2,0),\"\")","v":""}]
[null,null,null,null,{"$f":"IFERROR(VLOOKUP(D5216,Справка!$G$2:$H$579,2,0),\"\")","v":""}]
[null,null,null,null,{"$f":"IFERROR(VLOOKUP(D5217,Справка!$G$2:$H$579,2,0),\"\")","v":""}]
[null,null,null,null,{"$f":"IFERROR(VLOOKUP(D5218,Справка!$G$2:$H$579,2,0),\"\")","v":""}]
[null,null,null,null,{"$f":"IFERROR(VLOOKUP(D5219,Справка!$G$2:$H$579,2,0),\"\")","v":""}]
[null,null,null,null,{"$f":"IFERROR(VLOOKUP(D5220,Справка!$G$2:$H$579,2,0),\"\")","v":""}]
[null,null,null,null,{"$f":"IFERROR(VLOOKUP(D5221,Справка!$G$2:$H$579,2,0),\"\")","v":""}]
[null,null,null,null,{"$f":"IFERROR(VLOOKUP(D5222,Справка!$G$2:$H$579,2,0),\"\")","v":""}]
[null,null,null,null,{"$f":"IFERROR(VLOOKUP(D5223,Справка!$G$2:$H$579,2,0),\"\")","v":""}]
[null,null,null,null,{"$f":"IFERROR(VLOOKUP(D5224,Справка!$G$2:$H$579,2,0),\"\")","v":""}]
[null,null,null,null,{"$f":"IFERROR(VLOOKUP(D5225,Справка!$G$2:$H$579,2,0),\"\")","v":""}]
[null,null,null,null,{"$f":"IFERROR(VLOOKUP(D5226,Справка!$G$2:$H$579,2,0),\"\")","v":""}]
[null,null,null,null,{"$f":"IFERROR(VLOOKUP(D5227,Справка!$G$2:$H$579,2,0),\"\")","v":""}]
[null,null,null,null,{"$f":"IFERROR(VLOOKUP(D5228,Справка!$G$2:$H$579,2,0),\"\")","v":""}]
[null,null,null,null,{"$f":"IFERROR(VLOOKUP(D5229,Справка!$G$2:$H$579,2,0),\"\")","v":""}]
[null,null,null,null,{"$f":"IFERROR(VLOOKUP(D5230,Справка!$G$2:$H$579,2,0),\"\")","v":""}]
[null,null,null,null,{"$f":"IFERROR(VLOOKUP(D5231,Справка!$G$2:$H$579,2,0),\"\")","v":""}]
[null,null,null,null,{"$f":"IFERROR(VLOOKUP(D5232,Справка!$G$2:$H$579,2,0),\"\")","v":""}]
[null,null,null,null,{"$f":"IFERROR(VLOOKUP(D5233,Справка!$G$2:$H$579,2,0),\"\")","v":""}]
[null,null,null,null,{"$f":"IFERROR(VLOOKUP(D5234,Справка!$G$2:$H$579,2,0),\"\")","v":""}]
[null,null,null,null,{"$f":"IFERROR(VLOOKUP(D5235,Справка!$G$2:$H$579,2,0),\"\")","v":""}]
[null,null,null,null,{"$f":"IFERROR(VLOOKUP(D5236,Справка!$G$2:$H$579,2,0),\"\")","v":""}]
[null,null,null,null,{"$f":"IFERROR(VLOOKUP(D5237,Справка!$G$2:$H$579,2,0),\"\")","v":""}]
[null,null,null,null,{"$f":"IFERROR(VLOOKUP(D5238,Справка!$G$2:$H$579,2,0),\"\")","v":""}]
[null,null,null,null,{"$f":"IFERROR(VLOOKUP(D5239,Справка!$G$2:$H$579,2,0),\"\")","v":""}]
[null,null,null,null,{"$f":"IFERROR(VLOOKUP(D5240,Справка!$G$2:$H$579,2,0),\"\")","v":""}]
[null,null,null,null,{"$f":"IFERROR(VLOOKUP(D5241,Справка!$G$2:$H$579,2,0),\"\")","v":""}]
[null,null,null,null,{"$f":"IFERROR(VLOOKUP(D5242,Справка!$G$2:$H$579,2,0),\"\")","v":""}]
[null,null,null,null,{"$f":"IFERROR(VLOOKUP(D5243,Справка!$G$2:$H$579,2,0),\"\")","v":""}]
[null,null,null,null,{"$f":"IFERROR(VLOOKUP(D5244,Справка!$G$2:$H$579,2,0),\"\")","v":""}]
[null,null,null,null,{"$f":"IFERROR(VLOOKUP(D5245,Справка!$G$2:$H$579,2,0),\"\")","v":""}]
[null,null,null,null,{"$f":"IFERROR(VLOOKUP(D5246,Справка!$G$2:$H$579,2,0),\"\")","v":""}]
[null,null,null,null,{"$f":"IFERROR(VLOOKUP(D5247,Справка!$G$2:$H$579,2,0),\"\")","v":""}]
[null,null,null,null,{"$f":"IFERROR(VLOOKUP(D5248,Справка!$G$2:$H$579,2,0),\"\")","v":""}]
[null,null,null,null,{"$f":"IFERROR(VLOOKUP(D5249,Справка!$G$2:$H$579,2,0),\"\")","v":""}]
[null,null,null,null,{"$f":"IFERROR(VLOOKUP(D5250,Справка!$G$2:$H$579,2,0),\"\")","v":""}]
[null,null,null,null,{"$f":"IFERROR(VLOOKUP(D5251,Справка!$G$2:$H$579,2,0),\"\")","v":""}]
[null,null,null,null,{"$f":"IFERROR(VLOOKUP(D5252,Справка!$G$2:$H$579,2,0),\"\")","v":""}]
[null,null,null,null,{"$f":"IFERROR(VLOOKUP(D5253,Справка!$G$2:$H$579,2,0),\"\")","v":""}]
[null,null,null,null,{"$f":"IFERROR(VLOOKUP(D5254,Справка!$G$2:$H$579,2,0),\"\")","v":""}]
[null,null,null,null,{"$f":"IFERROR(VLOOKUP(D5255,Справка!$G$2:$H$579,2,0),\"\")","v":""}]
[null,null,null,null,{"$f":"IFERROR(VLOOKUP(D5256,Справка!$G$2:$H$579,2,0),\"\")","v":""}]
[null,null,null,null,{"$f":"IFERROR(VLOOKUP(D5257,Справка!$G$2:$H$579,2,0),\"\")","v":""}]
[null,null,null,null,{"$f":"IFERROR(VLOOKUP(D5258,Справка!$G$2:$H$579,2,0),\"\")","v":""}]
[null,null,null,null,{"$f":"IFERROR(VLOOKUP(D5259,Справка!$G$2:$H$579,2,0),\"\")","v":""}]
[null,null,null,null,{"$f":"IFERROR(VLOOKUP(D5260,Справка!$G$2:$H$579,2,0),\"\")","v":""}]
[null,null,null,null,{"$f":"IFERROR(VLOOKUP(D5261,Справка!$G$2:$H$579,2,0),\"\")","v":""}]
[null,null,null,null,{"$f":"IFERROR(VLOOKUP(D5262,Справка!$G$2:$H$579,2,0),\"\")","v":""}]
[null,null,null,null,{"$f":"IFERROR(VLOOKUP(D5263,Справка!$G$2:$H$579,2,0),\"\")","v":""}]
[null,null,null,null,{"$f":"IFERROR(VLOOKUP(D5264,Справка!$G$2:$H$579,2,0),\"\")","v":""}]
[null,null,null,null,{"$f":"IFERROR(VLOOKUP(D5265,Справка!$G$2:$H$579,2,0),\"\")","v":""}]
[null,null,null,null,{"$f":"IFERROR(VLOOKUP(D5266,Справка!$G$2:$H$579,2,0),\"\")","v":""}]
[null,null,null,null,{"$f":"IFERROR(VLOOKUP(D5267,Справка!$G$2:$H$579,2,0),\"\")","v":""}]
[null,null,null,null,{"$f":"IFERROR(VLOOKUP(D5268,Справка!$G$2:$H$579,2,0),\"\")","v":""}]
[null,null,null,null,{"$f":"IFERROR(VLOOKUP(D5269,Справка!$G$2:$H$579,2,0),\"\")","v":""}]
[null,null,null,null,{"$f":"IFERROR(VLOOKUP(D5270,Справка!$G$2:$H$579,2,0),\"\")","v":""}]
[null,null,null,null,{"$f":"IFERROR(VLOOKUP(D5271,Справка!$G$2:$H$579,2,0),\"\")","v":""}]
[null,null,null,null,{"$f":"IFERROR(VLOOKUP(D5272,Справка!$G$2:$H$579,2,0),\"\")","v":""}]
[null,null,null,null,{"$f":"IFERROR(VLOOKUP(D5273,Справка!$G$2:$H$579,2,0),\"\")","v":""}]
[null,null,null,null,{"$f":"IFERROR(VLOOKUP(D5274,Справка!$G$2:$H$579,2,0),\"\")","v":""}]
[null,null,null,null,{"$f":"IFERROR(VLOOKUP(D5275,Справка!$G$2:$H$579,2,0),\"\")","v":""}]
[null,null,null,null,{"$f":"IFERROR(VLOOKUP(D5276,Справка!$G$2:$H$579,2,0),\"\")","v":""}]
[null,null,null,null,{"$f":"IFERROR(VLOOKUP(D5277,Справка!$G$2:$H$579,2,0),\"\")","v":""}]
[null,null,null,null,{"$f":"IFERROR(VLOOKUP(D5278,Справка!$G$2:$H$579,2,0),\"\")","v":""}]
[null,null,null,null,{"$f":"IFERROR(VLOOKUP(D5279,Справка!$G$2:$H$579,2,0),\"\")","v":""}]
[null,null,null,null,{"$f":"IFERROR(VLOOKUP(D5280,Справка!$G$2:$H$579,2,0),\"\")","v":""}]
[null,null,null,null,{"$f":"IFERROR(VLOOKUP(D5281,Справка!$G$2:$H$579,2,0),\"\")","v":""}]
[null,null,null,null,{"$f":"IFERROR(VLOOKUP(D5282,Справка!$G$2:$H$579,2,0),\"\")","v":""}]
[null,null,null,null,{"$f":"IFERROR(VLOOKUP(D5283,Справка!$G$2:$H$579,2,0),\"\")","v":""}]
[null,null,null,null,{"$f":"IFERROR(VLOOKUP(D5284,Справка!$G$2:$H$579,2,0),\"\")","v":""}]
[null,null,null,null,{"$f":"IFERROR(VLOOKUP(D5285,Справка!$G$2:$H$579,2,0),\"\")","v":""}]
[null,null,null,null,{"$f":"IFERROR(VLOOKUP(D5286,Справка!$G$2:$H$579,2,0),\"\")","v":""}]
[null,null,null,null,{"$f":"IFERROR(VLOOKUP(D5287,Справка!$G$2:$H$579,2,0),\"\")","v":""}]
[null,null,null,null,{"$f":"IFERROR(VLOOKUP(D5288,Справка!$G$2:$H$579,2,0),\"\")","v":""}]
[null,null,null,null,{"$f":"IFERROR(VLOOKUP(D5289,Справка!$G$2:$H$579,2,0),\"\")","v":""}]
[null,null,null,null,{"$f":"IFERROR(VLOOKUP(D5290,Справка!$G$2:$H$579,2,0),\"\")","v":""}]
[null,null,null,null,{"$f":"IFERROR(VLOOKUP(D5291,Справка!$G$2:$H$579,2,0),\"\")","v":""}]
[null,null,null,null,{"$f":"IFERROR(VLOOKUP(D5292,Справка!$G$2:$H$579,2,0),\"\")","v":""}]
[null,null,null,null,{"$f":"IFERROR(VLOOKUP(D5293,Справка!$G$2:$H$579,2,0),\"\")","v":""}]
[null,null,null,null,{"$f":"IFERROR(VLOOKUP(D5294,Справка!$G$2:$H$579,2,0),\"\")","v":""}]
[null,null,null,null,{"$f":"IFERROR(VLOOKUP(D5295,Справка!$G$2:$H$579,2,0),\"\")","v":""}]
[null,null,null,null,{"$f":"IFERROR(VLOOKUP(D5296,Справка!$G$2:$H$579,2,0),\"\")","v":""}]
[null,null,null,null,{"$f":"IFERROR(VLOOKUP(D5297,Справка!$G$2:$H$579,2,0),\"\")","v":""}]
[null,null,null,null,{"$f":"IFERROR(VLOOKUP(D5298,Справка!$G$2:$H$579,2,0),\"\")","v":""}]
[null,null,null,null,{"$f":"IFERROR(VLOOKUP(D5299,Справка!$G$2:$H$579,2,0),\"\")","v":""}]
[null,null,null,null,{"$f":"IFERROR(VLOOKUP(D5300,Справка!$G$2:$H$579,2,0),\"\")","v":""}]
[null,null,null,null,{"$f":"IFERROR(VLOOKUP(D5301,Справка!$G$2:$H$579,2,0),\"\")","v":""}]
[null,null,null,null,{"$f":"IFERROR(VLOOKUP(D5302,Справка!$G$2:$H$579,2,0),\"\")","v":""}]
[null,null,null,null,{"$f":"IFERROR(VLOOKUP(D5303,Справка!$G$2:$H$579,2,0),\"\")","v":""}]
[null,null,null,null,{"$f":"IFERROR(VLOOKUP(D5304,Справка!$G$2:$H$579,2,0),\"\")","v":""}]
[null,null,null,null,{"$f":"IFERROR(VLOOKUP(D5305,Справка!$G$2:$H$579,2,0),\"\")","v":""}]
[null,null,null,null,{"$f":"IFERROR(VLOOKUP(D5306,Справка!$G$2:$H$579,2,0),\"\")","v":""}]
[null,null,null,null,{"$f":"IFERROR(VLOOKUP(D5307,Справка!$G$2:$H$579,2,0),\"\")","v":""}]
[null,null,null,null,{"$f":"IFERROR(VLOOKUP(D5308,Справка!$G$2:$H$579,2,0),\"\")","v":""}]
[null,null,null,null,{"$f":"IFERROR(VLOOKUP(D5309,Справка!$G$2:$H$579,2,0),\"\")","v":""}]
[null,null,null,null,{"$f":"IFERROR(VLOOKUP(D5310,Справка!$G$2:$H$579,2,0),\"\")","v":""}]
[null,null,null,null,{"$f":"IFERROR(VLOOKUP(D5311,Справка!$G$2:$H$579,2,0),\"\")","v":""}]
[null,null,null,null,{"$f":"IFERROR(VLOOKUP(D5312,Справка!$G$2:$H$579,2,0),\"\")","v":""}]
[null,null,null,null,{"$f":"IFERROR(VLOOKUP(D5313,Справка!$G$2:$H$579,2,0),\"\")","v":""}]
[null,null,null,null,{"$f":"IFERROR(VLOOKUP(D5314,Справка!$G$2:$H$579,2,0),\"\")","v":""}]
[null,null,null,null,{"$f":"IFERROR(VLOOKUP(D5315,Справка!$G$2:$H$579,2,0),\"\")","v":""}]
[null,null,null,null,{"$f":"IFERROR(VLOOKUP(D5316,Справка!$G$2:$H$579,2,0),\"\")","v":""}]
[null,null,null,null,{"$f":"IFERROR(VLOOKUP(D5317,Справка!$G$2:$H$579,2,0),\"\")","v":""}]
[null,null,null,null,{"$f":"IFERROR(VLOOKUP(D5318,Справка!$G$2:$H$579,2,0),\"\")","v":""}]
[null,null,null,null,{"$f":"IFERROR(VLOOKUP(D5319,Справка!$G$2:$H$579,2,0),\"\")","v":""}]
[null,null,null,null,{"$f":"IFERROR(VLOOKUP(D5320,Справка!$G$2:$H$579,2,0),\"\")","v":""}]
[null,null,null,null,{"$f":"IFERROR(VLOOKUP(D5321,Справка!$G$2:$H$579,2,0),\"\")","v":""}]
[null,null,null,null,{"$f":"IFERROR(VLOOKUP(D5322,Справка!$G$2:$H$579,2,0),\"\")","v":""}]
[null,null,null,null,{"$f":"IFERROR(VLOOKUP(D5323,Справка!$G$2:$H$579,2,0),\"\")","v":""}]
[null,null,null,null,{"$f":"IFERROR(VLOOKUP(D5324,Справка!$G$2:$H$579,2,0),\"\")","v":""}]
[null,null,null,null,{"$f":"IFERROR(VLOOKUP(D5325,Справка!$G$2:$H$579,2,0),\"\")","v":""}]
[null,null,null,null,{"$f":"IFERROR(VLOOKUP(D5326,Справка!$G$2:$H$579,2,0),\"\")","v":""}]
[null,null,null,null,{"$f":"IFERROR(VLOOKUP(D5327,Справка!$G$2:$H$579,2,0),\"\")","v":""}]
[null,null,null,null,{"$f":"IFERROR(VLOOKUP(D5328,Справка!$G$2:$H$579,2,0),\"\")","v":""}]
[null,null,null,null,{"$f":"IFERROR(VLOOKUP(D5329,Справка!$G$2:$H$579,2,0),\"\")","v":""}]
[null,null,null,null,{"$f":"IFERROR(VLOOKUP(D5330,Справка!$G$2:$H$579,2,0),\"\")","v":""}]
[null,null,null,null,{"$f":"IFERROR(VLOOKUP(D5331,Справка!$G$2:$H$579,2,0),\"\")","v":""}]
[null,null,null,null,{"$f":"IFERROR(VLOOKUP(D5332,Справка!$G$2:$H$579,2,0),\"\")","v":""}]
[null,null,null,null,{"$f":"IFERROR(VLOOKUP(D5333,Справка!$G$2:$H$579,2,0),\"\")","v":""}]
[null,null,null,null,{"$f":"IFERROR(VLOOKUP(D5334,Справка!$G$2:$H$579,2,0),\"\")","v":""}]
[null,null,null,null,{"$f":"IFERROR(VLOOKUP(D5335,Справка!$G$2:$H$579,2,0),\"\")","v":""}]
[null,null,null,null,{"$f":"IFERROR(VLOOKUP(D5336,Справка!$G$2:$H$579,2,0),\"\")","v":""}]
[null,null,null,null,{"$f":"IFERROR(VLOOKUP(D5337,Справка!$G$2:$H$579,2,0),\"\")","v":""}]
[null,null,null,null,{"$f":"IFERROR(VLOOKUP(D5338,Справка!$G$2:$H$579,2,0),\"\")","v":""}]
[null,null,null,null,{"$f":"IFERROR(VLOOKUP(D5339,Справка!$G$2:$H$579,2,0),\"\")","v":""}]
[null,null,null,null,{"$f":"IFERROR(VLOOKUP(D5340,Справка!$G$2:$H$579,2,0),\"\")","v":""}]
[null,null,null,null,{"$f":"IFERROR(VLOOKUP(D5341,Справка!$G$2:$H$579,2,0),\"\")","v":""}]
[null,null,null,null,{"$f":"IFERROR(VLOOKUP(D5342,Справка!$G$2:$H$579,2,0),\"\")","v":""}]
[null,null,null,null,{"$f":"IFERROR(VLOOKUP(D5343,Справка!$G$2:$H$579,2,0),\"\")","v":""}]
[null,null,null,null,{"$f":"IFERROR(VLOOKUP(D5344,Справка!$G$2:$H$579,2,0),\"\")","v":""}]
[null,null,null,null,{"$f":"IFERROR(VLOOKUP(D5345,Справка!$G$2:$H$579,2,0),\"\")","v":""}]
[null,null,null,null,{"$f":"IFERROR(VLOOKUP(D5346,Справка!$G$2:$H$579,2,0),\"\")","v":""}]
[null,null,null,null,{"$f":"IFERROR(VLOOKUP(D5347,Справка!$G$2:$H$579,2,0),\"\")","v":""}]
[null,null,null,null,{"$f":"IFERROR(VLOOKUP(D5348,Справка!$G$2:$H$579,2,0),\"\")","v":""}]
[null,null,null,null,{"$f":"IFERROR(VLOOKUP(D5349,Справка!$G$2:$H$579,2,0),\"\")","v":""}]
[null,null,null,null,{"$f":"IFERROR(VLOOKUP(D5350,Справка!$G$2:$H$579,2,0),\"\")","v":""}]
[null,null,null,null,{"$f":"IFERROR(VLOOKUP(D5351,Справка!$G$2:$H$579,2,0),\"\")","v":""}]
[null,null,null,null,{"$f":"IFERROR(VLOOKUP(D5352,Справка!$G$2:$H$579,2,0),\"\")","v":""}]
[null,null,null,null,{"$f":"IFERROR(VLOOKUP(D5353,Справка!$G$2:$H$579,2,0),\"\")","v":""}]
[null,null,null,null,{"$f":"IFERROR(VLOOKUP(D5354,Справка!$G$2:$H$579,2,0),\"\")","v":""}]
[null,null,null,null,{"$f":"IFERROR(VLOOKUP(D5355,Справка!$G$2:$H$579,2,0),\"\")","v":""}]
[null,null,null,null,{"$f":"IFERROR(VLOOKUP(D5356,Справка!$G$2:$H$579,2,0),\"\")","v":""}]
[null,null,null,null,{"$f":"IFERROR(VLOOKUP(D5357,Справка!$G$2:$H$579,2,0),\"\")","v":""}]
[null,null,null,null,{"$f":"IFERROR(VLOOKUP(D5358,Справка!$G$2:$H$579,2,0),\"\")","v":""}]
[null,null,null,null,{"$f":"IFERROR(VLOOKUP(D5359,Справка!$G$2:$H$579,2,0),\"\")","v":""}]
[null,null,null,null,{"$f":"IFERROR(VLOOKUP(D5360,Справка!$G$2:$H$579,2,0),\"\")","v":""}]
[null,null,null,null,{"$f":"IFERROR(VLOOKUP(D5361,Справка!$G$2:$H$579,2,0),\"\")","v":""}]
[null,null,null,null,{"$f":"IFERROR(VLOOKUP(D5362,Справка!$G$2:$H$579,2,0),\"\")","v":""}]
[null,null,null,null,{"$f":"IFERROR(VLOOKUP(D5363,Справка!$G$2:$H$579,2,0),\"\")","v":""}]
[null,null,null,null,{"$f":"IFERROR(VLOOKUP(D5364,Справка!$G$2:$H$579,2,0),\"\")","v":""}]
[null,null,null,null,{"$f":"IFERROR(VLOOKUP(D5365,Справка!$G$2:$H$579,2,0),\"\")","v":""}]
[null,null,null,null,{"$f":"IFERROR(VLOOKUP(D5366,Справка!$G$2:$H$579,2,0),\"\")","v":""}]
[null,null,null,null,{"$f":"IFERROR(VLOOKUP(D5367,Справка!$G$2:$H$579,2,0),\"\")","v":""}]
[null,null,null,null,{"$f":"IFERROR(VLOOKUP(D5368,Справка!$G$2:$H$579,2,0),\"\")","v":""}]
[null,null,null,null,{"$f":"IFERROR(VLOOKUP(D5369,Справка!$G$2:$H$579,2,0),\"\")","v":""}]
[null,null,null,null,{"$f":"IFERROR(VLOOKUP(D5370,Справка!$G$2:$H$579,2,0),\"\")","v":""}]
[null,null,null,null,{"$f":"IFERROR(VLOOKUP(D5371,Справка!$G$2:$H$579,2,0),\"\")","v":""}]
[null,null,null,null,{"$f":"IFERROR(VLOOKUP(D5372,Справка!$G$2:$H$579,2,0),\"\")","v":""}]
[null,null,null,null,{"$f":"IFERROR(VLOOKUP(D5373,Справка!$G$2:$H$579,2,0),\"\")","v":""}]
[null,null,null,null,{"$f":"IFERROR(VLOOKUP(D5374,Справка!$G$2:$H$579,2,0),\"\")","v":""}]
[null,null,null,null,{"$f":"IFERROR(VLOOKUP(D5375,Справка!$G$2:$H$579,2,0),\"\")","v":""}]
[null,null,null,null,{"$f":"IFERROR(VLOOKUP(D5376,Справка!$G$2:$H$579,2,0),\"\")","v":""}]
[null,null,null,null,{"$f":"IFERROR(VLOOKUP(D5377,Справка!$G$2:$H$579,2,0),\"\")","v":""}]
[null,null,null,null,{"$f":"IFERROR(VLOOKUP(D5378,Справка!$G$2:$H$579,2,0),\"\")","v":""}]
[null,null,null,null,{"$f":"IFERROR(VLOOKUP(D5379,Справка!$G$2:$H$579,2,0),\"\")","v":""}]
[null,null,null,null,{"$f":"IFERROR(VLOOKUP(D5380,Справка!$G$2:$H$579,2,0),\"\")","v":""}]
[null,null,null,null,{"$f":"IFERROR(VLOOKUP(D5381,Справка!$G$2:$H$579,2,0),\"\")","v":""}]
[null,null,null,null,{"$f":"IFERROR(VLOOKUP(D5382,Справка!$G$2:$H$579,2,0),\"\")","v":""}]
[null,null,null,null,{"$f":"IFERROR(VLOOKUP(D5383,Справка!$G$2:$H$579,2,0),\"\")","v":""}]
[null,null,null,null,{"$f":"IFERROR(VLOOKUP(D5384,Справка!$G$2:$H$579,2,0),\"\")","v":""}]
[null,null,null,null,{"$f":"IFERROR(VLOOKUP(D5385,Справка!$G$2:$H$579,2,0),\"\")","v":""}]
[null,null,null,null,{"$f":"IFERROR(VLOOKUP(D5386,Справка!$G$2:$H$579,2,0),\"\")","v":""}]
[null,null,null,null,{"$f":"IFERROR(VLOOKUP(D5387,Справка!$G$2:$H$579,2,0),\"\")","v":""}]
[null,null,null,null,{"$f":"IFERROR(VLOOKUP(D5388,Справка!$G$2:$H$579,2,0),\"\")","v":""}]
[null,null,null,null,{"$f":"IFERROR(VLOOKUP(D5389,Справка!$G$2:$H$579,2,0),\"\")","v":""}]
[null,null,null,null,{"$f":"IFERROR(VLOOKUP(D5390,Справка!$G$2:$H$579,2,0),\"\")","v":""}]
[null,null,null,null,{"$f":"IFERROR(VLOOKUP(D5391,Справка!$G$2:$H$579,2,0),\"\")","v":""}]
[null,null,null,null,{"$f":"IFERROR(VLOOKUP(D5392,Справка!$G$2:$H$579,2,0),\"\")","v":""}]
[null,null,null,null,{"$f":"IFERROR(VLOOKUP(D5393,Справка!$G$2:$H$579,2,0),\"\")","v":""}]
[null,null,null,null,{"$f":"IFERROR(VLOOKUP(D5394,Справка!$G$2:$H$579,2,0),\"\")","v":""}]
[null,null,null,null,{"$f":"IFERROR(VLOOKUP(D5395,Справка!$G$2:$H$579,2,0),\"\")","v":""}]
[null,null,null,null,{"$f":"IFERROR(VLOOKUP(D5396,Справка!$G$2:$H$579,2,0),\"\")","v":""}]
[null,null,null,null,{"$f":"IFERROR(VLOOKUP(D5397,Справка!$G$2:$H$579,2,0),\"\")","v":""}]
[null,null,null,null,{"$f":"IFERROR(VLOOKUP(D5398,Справка!$G$2:$H$579,2,0),\"\")","v":""}]
[null,null,null,null,{"$f":"IFERROR(VLOOKUP(D5399,Справка!$G$2:$H$579,2,0),\"\")","v":""}]
[null,null,null,null,{"$f":"IFERROR(VLOOKUP(D5400,Справка!$G$2:$H$579,2,0),\"\")","v":""}]
[null,null,null,null,{"$f":"IFERROR(VLOOKUP(D5401,Справка!$G$2:$H$579,2,0),\"\")","v":""}]
[null,null,null,null,{"$f":"IFERROR(VLOOKUP(D5402,Справка!$G$2:$H$579,2,0),\"\")","v":""}]
[null,null,null,null,{"$f":"IFERROR(VLOOKUP(D5403,Справка!$G$2:$H$579,2,0),\"\")","v":""}]
[null,null,null,null,{"$f":"IFERROR(VLOOKUP(D5404,Справка!$G$2:$H$579,2,0),\"\")","v":""}]
[null,null,null,null,{"$f":"IFERROR(VLOOKUP(D5405,Справка!$G$2:$H$579,2,0),\"\")","v":""}]
[null,null,null,null,{"$f":"IFERROR(VLOOKUP(D5406,Справка!$G$2:$H$579,2,0),\"\")","v":""}]
[null,null,null,null,{"$f":"IFERROR(VLOOKUP(D5407,Справка!$G$2:$H$579,2,0),\"\")","v":""}]
[null,null,null,null,{"$f":"IFERROR(VLOOKUP(D5408,Справка!$G$2:$H$579,2,0),\"\")","v":""}]
[null,null,null,null,{"$f":"IFERROR(VLOOKUP(D5409,Справка!$G$2:$H$579,2,0),\"\")","v":""}]
[null,null,null,null,{"$f":"IFERROR(VLOOKUP(D5410,Справка!$G$2:$H$579,2,0),\"\")","v":""}]
[null,null,null,null,{"$f":"IFERROR(VLOOKUP(D5411,Справка!$G$2:$H$579,2,0),\"\")","v":""}]
[null,null,null,null,{"$f":"IFERROR(VLOOKUP(D5412,Справка!$G$2:$H$579,2,0),\"\")","v":""}]
[null,null,null,null,{"$f":"IFERROR(VLOOKUP(D5413,Справка!$G$2:$H$579,2,0),\"\")","v":""}]
[null,null,null,null,{"$f":"IFERROR(VLOOKUP(D5414,Справка!$G$2:$H$579,2,0),\"\")","v":""}]
[null,null,null,null,{"$f":"IFERROR(VLOOKUP(D5415,Справка!$G$2:$H$579,2,0),\"\")","v":""}]
[null,null,null,null,{"$f":"IFERROR(VLOOKUP(D5416,Справка!$G$2:$H$579,2,0),\"\")","v":""}]
[null,null,null,null,{"$f":"IFERROR(VLOOKUP(D5417,Справка!$G$2:$H$579,2,0),\"\")","v":""}]
[null,null,null,null,{"$f":"IFERROR(VLOOKUP(D5418,Справка!$G$2:$H$579,2,0),\"\")","v":""}]
[null,null,null,null,{"$f":"IFERROR(VLOOKUP(D5419,Справка!$G$2:$H$579,2,0),\"\")","v":""}]
[null,null,null,null,{"$f":"IFERROR(VLOOKUP(D5420,Справка!$G$2:$H$579,2,0),\"\")","v":""}]
[null,null,null,null,{"$f":"IFERROR(VLOOKUP(D5421,Справка!$G$2:$H$579,2,0),\"\")","v":""}]
[null,null,null,null,{"$f":"IFERROR(VLOOKUP(D5422,Справка!$G$2:$H$579,2,0),\"\")","v":""}]
[null,null,null,null,{"$f":"IFERROR(VLOOKUP(D5423,Справка!$G$2:$H$579,2,0),\"\")","v":""}]
[null,null,null,null,{"$f":"IFERROR(VLOOKUP(D5424,Справка!$G$2:$H$579,2,0),\"\")","v":""}]
[null,null,null,null,{"$f":"IFERROR(VLOOKUP(D5425,Справка!$G$2:$H$579,2,0),\"\")","v":""}]
[null,null,null,null,{"$f":"IFERROR(VLOOKUP(D5426,Справка!$G$2:$H$579,2,0),\"\")","v":""}]
[null,null,null,null,{"$f":"IFERROR(VLOOKUP(D5427,Справка!$G$2:$H$579,2,0),\"\")","v":""}]
[null,null,null,null,{"$f":"IFERROR(VLOOKUP(D5428,Справка!$G$2:$H$579,2,0),\"\")","v":""}]
[null,null,null,null,{"$f":"IFERROR(VLOOKUP(D5429,Справка!$G$2:$H$579,2,0),\"\")","v":""}]
[null,null,null,null,{"$f":"IFERROR(VLOOKUP(D5430,Справка!$G$2:$H$579,2,0),\"\")","v":""}]
[null,null,null,null,{"$f":"IFERROR(VLOOKUP(D5431,Справка!$G$2:$H$579,2,0),\"\")","v":""}]
[null,null,null,null,{"$f":"IFERROR(VLOOKUP(D5432,Справка!$G$2:$H$579,2,0),\"\")","v":""}]
[null,null,null,null,{"$f":"IFERROR(VLOOKUP(D5433,Справка!$G$2:$H$579,2,0),\"\")","v":""}]
[null,null,null,null,{"$f":"IFERROR(VLOOKUP(D5434,Справка!$G$2:$H$579,2,0),\"\")","v":""}]
[null,null,null,null,{"$f":"IFERROR(VLOOKUP(D5435,Справка!$G$2:$H$579,2,0),\"\")","v":""}]
[null,null,null,null,{"$f":"IFERROR(VLOOKUP(D5436,Справка!$G$2:$H$579,2,0),\"\")","v":""}]
[null,null,null,null,{"$f":"IFERROR(VLOOKUP(D5437,Справка!$G$2:$H$579,2,0),\"\")","v":""}]
[null,null,null,null,{"$f":"IFERROR(VLOOKUP(D5438,Справка!$G$2:$H$579,2,0),\"\")","v":""}]
[null,null,null,null,{"$f":"IFERROR(VLOOKUP(D5439,Справка!$G$2:$H$579,2,0),\"\")","v":""}]
[null,null,null,null,{"$f":"IFERROR(VLOOKUP(D5440,Справка!$G$2:$H$579,2,0),\"\")","v":""}]
[null,null,null,null,{"$f":"IFERROR(VLOOKUP(D5441,Справка!$G$2:$H$579,2,0),\"\")","v":""}]
[null,null,null,null,{"$f":"IFERROR(VLOOKUP(D5442,Справка!$G$2:$H$579,2,0),\"\")","v":""}]
[null,null,null,null,{"$f":"IFERROR(VLOOKUP(D5443,Справка!$G$2:$H$579,2,0),\"\")","v":""}]
[null,null,null,null,{"$f":"IFERROR(VLOOKUP(D5444,Справка!$G$2:$H$579,2,0),\"\")","v":""}]
[null,null,null,null,{"$f":"IFERROR(VLOOKUP(D5445,Справка!$G$2:$H$579,2,0),\"\")","v":""}]
[null,null,null,null,{"$f":"IFERROR(VLOOKUP(D5446,Справка!$G$2:$H$579,2,0),\"\")","v":""}]
[null,null,null,null,{"$f":"IFERROR(VLOOKUP(D5447,Справка!$G$2:$H$579,2,0),\"\")","v":""}]
[null,null,null,null,{"$f":"IFERROR(VLOOKUP(D5448,Справка!$G$2:$H$579,2,0),\"\")","v":""}]
[null,null,null,null,{"$f":"IFERROR(VLOOKUP(D5449,Справка!$G$2:$H$579,2,0),\"\")","v":""}]
[null,null,null,null,{"$f":"IFERROR(VLOOKUP(D5450,Справка!$G$2:$H$579,2,0),\"\")","v":""}]
[null,null,null,null,{"$f":"IFERROR(VLOOKUP(D5451,Справка!$G$2:$H$579,2,0),\"\")","v":""}]
[null,null,null,null,{"$f":"IFERROR(VLOOKUP(D5452,Справка!$G$2:$H$579,2,0),\"\")","v":""}]
[null,null,null,null,{"$f":"IFERROR(VLOOKUP(D5453,Справка!$G$2:$H$579,2,0),\"\")","v":""}]
[null,null,null,null,{"$f":"IFERROR(VLOOKUP(D5454,Справка!$G$2:$H$579,2,0),\"\")","v":""}]
[null,null,null,null,{"$f":"IFERROR(VLOOKUP(D5455,Справка!$G$2:$H$579,2,0),\"\")","v":""}]
[null,null,null,null,{"$f":"IFERROR(VLOOKUP(D5456,Справка!$G$2:$H$579,2,0),\"\")","v":""}]
[null,null,null,null,{"$f":"IFERROR(VLOOKUP(D5457,Справка!$G$2:$H$579,2,0),\"\")","v":""}]
[null,null,null,null,{"$f":"IFERROR(VLOOKUP(D5458,Справка!$G$2:$H$579,2,0),\"\")","v":""}]
[null,null,null,null,{"$f":"IFERROR(VLOOKUP(D5459,Справка!$G$2:$H$579,2,0),\"\")","v":""}]
[null,null,null,null,{"$f":"IFERROR(VLOOKUP(D5460,Справка!$G$2:$H$579,2,0),\"\")","v":""}]
[null,null,null,null,{"$f":"IFERROR(VLOOKUP(D5461,Справка!$G$2:$H$579,2,0),\"\")","v":""}]
[null,null,null,null,{"$f":"IFERROR(VLOOKUP(D5462,Справка!$G$2:$H$579,2,0),\"\")","v":""}]
[null,null,null,null,{"$f":"IFERROR(VLOOKUP(D5463,Справка!$G$2:$H$579,2,0),\"\")","v":""}]
[null,null,null,null,{"$f":"IFERROR(VLOOKUP(D5464,Справка!$G$2:$H$579,2,0),\"\")","v":""}]
[null,null,null,null,{"$f":"IFERROR(VLOOKUP(D5465,Справка!$G$2:$H$579,2,0),\"\")","v":""}]
[null,null,null,null,{"$f":"IFERROR(VLOOKUP(D5466,Справка!$G$2:$H$579,2,0),\"\")","v":""}]
[null,null,null,null,{"$f":"IFERROR(VLOOKUP(D5467,Справка!$G$2:$H$579,2,0),\"\")","v":""}]
[null,null,null,null,{"$f":"IFERROR(VLOOKUP(D5468,Справка!$G$2:$H$579,2,0),\"\")","v":""}]
[null,null,null,null,{"$f":"IFERROR(VLOOKUP(D5469,Справка!$G$2:$H$579,2,0),\"\")","v":""}]
[null,null,null,null,{"$f":"IFERROR(VLOOKUP(D5470,Справка!$G$2:$H$579,2,0),\"\")","v":""}]
[null,null,null,null,{"$f":"IFERROR(VLOOKUP(D5471,Справка!$G$2:$H$579,2,0),\"\")","v":""}]
[null,null,null,null,{"$f":"IFERROR(VLOOKUP(D5472,Справка!$G$2:$H$579,2,0),\"\")","v":""}]
[null,null,null,null,{"$f":"IFERROR(VLOOKUP(D5473,Справка!$G$2:$H$579,2,0),\"\")","v":""}]
[null,null,null,null,{"$f":"IFERROR(VLOOKUP(D5474,Справка!$G$2:$H$579,2,0),\"\")","v":""}]
[null,null,null,null,{"$f":"IFERROR(VLOOKUP(D5475,Справка!$G$2:$H$579,2,0),\"\")","v":""}]
[null,null,null,null,{"$f":"IFERROR(VLOOKUP(D5476,Справка!$G$2:$H$579,2,0),\"\")","v":""}]
[null,null,null,null,{"$f":"IFERROR(VLOOKUP(D5477,Справка!$G$2:$H$579,2,0),\"\")","v":""}]
[null,null,null,null,{"$f":"IFERROR(VLOOKUP(D5478,Справка!$G$2:$H$579,2,0),\"\")","v":""}]
[null,null,null,null,{"$f":"IFERROR(VLOOKUP(D5479,Справка!$G$2:$H$579,2,0),\"\")","v":""}]
[null,null,null,null,{"$f":"IFERROR(VLOOKUP(D5480,Справка!$G$2:$H$579,2,0),\"\")","v":""}]
[null,null,null,null,{"$f":"IFERROR(VLOOKUP(D5481,Справка!$G$2:$H$579,2,0),\"\")","v":""}]
[null,null,null,null,{"$f":"IFERROR(VLOOKUP(D5482,Справка!$G$2:$H$579,2,0),\"\")","v":""}]
[null,null,null,null,{"$f":"IFERROR(VLOOKUP(D5483,Справка!$G$2:$H$579,2,0),\"\")","v":""}]
[null,null,null,null,{"$f":"IFERROR(VLOOKUP(D5484,Справка!$G$2:$H$579,2,0),\"\")","v":""}]
[null,null,null,null,{"$f":"IFERROR(VLOOKUP(D5485,Справка!$G$2:$H$579,2,0),\"\")","v":""}]
[null,null,null,null,{"$f":"IFERROR(VLOOKUP(D5486,Справка!$G$2:$H$579,2,0),\"\")","v":""}]
[null,null,null,null,{"$f":"IFERROR(VLOOKUP(D5487,Справка!$G$2:$H$579,2,0),\"\")","v":""}]
[null,null,null,null,{"$f":"IFERROR(VLOOKUP(D5488,Справка!$G$2:$H$579,2,0),\"\")","v":""}]
[null,null,null,null,{"$f":"IFERROR(VLOOKUP(D5489,Справка!$G$2:$H$579,2,0),\"\")","v":""}]
[null,null,null,null,{"$f":"IFERROR(VLOOKUP(D5490,Справка!$G$2:$H$579,2,0),\"\")","v":""}]
[null,null,null,null,{"$f":"IFERROR(VLOOKUP(D5491,Справка!$G$2:$H$579,2,0),\"\")","v":""}]
[null,null,null,null,{"$f":"IFERROR(VLOOKUP(D5492,Справка!$G$2:$H$579,2,0),\"\")","v":""}]
[null,null,null,null,{"$f":"IFERROR(VLOOKUP(D5493,Справка!$G$2:$H$579,2,0),\"\")","v":""}]
[null,null,null,null,{"$f":"IFERROR(VLOOKUP(D5494,Справка!$G$2:$H$579,2,0),\"\")","v":""}]
[null,null,null,null,{"$f":"IFERROR(VLOOKUP(D5495,Справка!$G$2:$H$579,2,0),\"\")","v":""}]
[null,null,null,null,{"$f":"IFERROR(VLOOKUP(D5496,Справка!$G$2:$H$579,2,0),\"\")","v":""}]
[null,null,null,null,{"$f":"IFERROR(VLOOKUP(D5497,Справка!$G$2:$H$579,2,0),\"\")","v":""}]
[null,null,null,null,{"$f":"IFERROR(VLOOKUP(D5498,Справка!$G$2:$H$579,2,0),\"\")","v":""}]
[null,null,null,null,{"$f":"IFERROR(VLOOKUP(D5499,Справка!$G$2:$H$579,2,0),\"\")","v":""}]
[null,null,null,null,{"$f":"IFERROR(VLOOKUP(D5500,Справка!$G$2:$H$579,2,0),\"\")","v":""}]
[null,null,null,null,{"$f":"IFERROR(VLOOKUP(D5501,Справка!$G$2:$H$579,2,0),\"\")","v":""}]
[null,null,null,null,{"$f":"IFERROR(VLOOKUP(D5502,Справка!$G$2:$H$579,2,0),\"\")","v":""}]
[null,null,null,null,{"$f":"IFERROR(VLOOKUP(D5503,Справка!$G$2:$H$579,2,0),\"\")","v":""}]
[null,null,null,null,{"$f":"IFERROR(VLOOKUP(D5504,Справка!$G$2:$H$579,2,0),\"\")","v":""}]
[null,null,null,null,{"$f":"IFERROR(VLOOKUP(D5505,Справка!$G$2:$H$579,2,0),\"\")","v":""}]
[null,null,null,null,{"$f":"IFERROR(VLOOKUP(D5506,Справка!$G$2:$H$579,2,0),\"\")","v":""}]
[null,null,null,null,{"$f":"IFERROR(VLOOKUP(D5507,Справка!$G$2:$H$579,2,0),\"\")","v":""}]
[null,null,null,null,{"$f":"IFERROR(VLOOKUP(D5508,Справка!$G$2:$H$579,2,0),\"\")","v":""}]
[null,null,null,null,{"$f":"IFERROR(VLOOKUP(D5509,Справка!$G$2:$H$579,2,0),\"\")","v":""}]
[null,null,null,null,{"$f":"IFERROR(VLOOKUP(D5510,Справка!$G$2:$H$579,2,0),\"\")","v":""}]
[null,null,null,null,{"$f":"IFERROR(VLOOKUP(D5511,Справка!$G$2:$H$579,2,0),\"\")","v":""}]
[null,null,null,null,{"$f":"IFERROR(VLOOKUP(D5512,Справка!$G$2:$H$579,2,0),\"\")","v":""}]
[null,null,null,null,{"$f":"IFERROR(VLOOKUP(D5513,Справка!$G$2:$H$579,2,0),\"\")","v":""}]
[null,null,null,null,{"$f":"IFERROR(VLOOKUP(D5514,Справка!$G$2:$H$579,2,0),\"\")","v":""}]
[null,null,null,null,{"$f":"IFERROR(VLOOKUP(D5515,Справка!$G$2:$H$579,2,0),\"\")","v":""}]
[null,null,null,null,{"$f":"IFERROR(VLOOKUP(D5516,Справка!$G$2:$H$579,2,0),\"\")","v":""}]
[null,null,null,null,{"$f":"IFERROR(VLOOKUP(D5517,Справка!$G$2:$H$579,2,0),\"\")","v":""}]
[null,null,null,null,{"$f":"IFERROR(VLOOKUP(D5518,Справка!$G$2:$H$579,2,0),\"\")","v":""}]
[null,null,null,null,{"$f":"IFERROR(VLOOKUP(D5519,Справка!$G$2:$H$579,2,0),\"\")","v":""}]
[null,null,null,null,{"$f":"IFERROR(VLOOKUP(D5520,Справка!$G$2:$H$579,2,0),\"\")","v":""}]
[null,null,null,null,{"$f":"IFERROR(VLOOKUP(D5521,Справка!$G$2:$H$579,2,0),\"\")","v":""}]
[null,null,null,null,{"$f":"IFERROR(VLOOKUP(D5522,Справка!$G$2:$H$579,2,0),\"\")","v":""}]
[null,null,null,null,{"$f":"IFERROR(VLOOKUP(D5523,Справка!$G$2:$H$579,2,0),\"\")","v":""}]
[null,null,null,null,{"$f":"IFERROR(VLOOKUP(D5524,Справка!$G$2:$H$579,2,0),\"\")","v":""}]
[null,null,null,null,{"$f":"IFERROR(VLOOKUP(D5525,Справка!$G$2:$H$579,2,0),\"\")","v":""}]
[null,null,null,null,{"$f":"IFERROR(VLOOKUP(D5526,Справка!$G$2:$H$579,2,0),\"\")","v":""}]
[null,null,null,null,{"$f":"IFERROR(VLOOKUP(D5527,Справка!$G$2:$H$579,2,0),\"\")","v":""}]
[null,null,null,null,{"$f":"IFERROR(VLOOKUP(D5528,Справка!$G$2:$H$579,2,0),\"\")","v":""}]
[null,null,null,null,{"$f":"IFERROR(VLOOKUP(D5529,Справка!$G$2:$H$579,2,0),\"\")","v":""}]
[null,null,null,null,{"$f":"IFERROR(VLOOKUP(D5530,Справка!$G$2:$H$579,2,0),\"\")","v":""}]
[null,null,null,null,{"$f":"IFERROR(VLOOKUP(D5531,Справка!$G$2:$H$579,2,0),\"\")","v":""}]
[null,null,null,null,{"$f":"IFERROR(VLOOKUP(D5532,Справка!$G$2:$H$579,2,0),\"\")","v":""}]
[null,null,null,null,{"$f":"IFERROR(VLOOKUP(D5533,Справка!$G$2:$H$579,2,0),\"\")","v":""}]
[null,null,null,null,{"$f":"IFERROR(VLOOKUP(D5534,Справка!$G$2:$H$579,2,0),\"\")","v":""}]
[null,null,null,null,{"$f":"IFERROR(VLOOKUP(D5535,Справка!$G$2:$H$579,2,0),\"\")","v":""}]
[null,null,null,null,{"$f":"IFERROR(VLOOKUP(D5536,Справка!$G$2:$H$579,2,0),\"\")","v":""}]
[null,null,null,null,{"$f":"IFERROR(VLOOKUP(D5537,Справка!$G$2:$H$579,2,0),\"\")","v":""}]
[null,null,null,null,{"$f":"IFERROR(VLOOKUP(D5538,Справка!$G$2:$H$579,2,0),\"\")","v":""}]
[null,null,null,null,{"$f":"IFERROR(VLOOKUP(D5539,Справка!$G$2:$H$579,2,0),\"\")","v":""}]
[null,null,null,null,{"$f":"IFERROR(VLOOKUP(D5540,Справка!$G$2:$H$579,2,0),\"\")","v":""}]
[null,null,null,null,{"$f":"IFERROR(VLOOKUP(D5541,Справка!$G$2:$H$579,2,0),\"\")","v":""}]
[null,null,null,null,{"$f":"IFERROR(VLOOKUP(D5542,Справка!$G$2:$H$579,2,0),\"\")","v":""}]
[null,null,null,null,{"$f":"IFERROR(VLOOKUP(D5543,Справка!$G$2:$H$579,2,0),\"\")","v":""}]
[null,null,null,null,{"$f":"IFERROR(VLOOKUP(D5544,Справка!$G$2:$H$579,2,0),\"\")","v":""}]
[null,null,null,null,{"$f":"IFERROR(VLOOKUP(D5545,Справка!$G$2:$H$579,2,0),\"\")","v":""}]
[null,null,null,null,{"$f":"IFERROR(VLOOKUP(D5546,Справка!$G$2:$H$579,2,0),\"\")","v":""}]
[null,null,null,null,{"$f":"IFERROR(VLOOKUP(D5547,Справка!$G$2:$H$579,2,0),\"\")","v":""}]
[null,null,null,null,{"$f":"IFERROR(VLOOKUP(D5548,Справка!$G$2:$H$579,2,0),\"\")","v":""}]
[null,null,null,null,{"$f":"IFERROR(VLOOKUP(D5549,Справка!$G$2:$H$579,2,0),\"\")","v":""}]
[null,null,null,null,{"$f":"IFERROR(VLOOKUP(D5550,Справка!$G$2:$H$579,2,0),\"\")","v":""}]
[null,null,null,null,{"$f":"IFERROR(VLOOKUP(D5551,Справка!$G$2:$H$579,2,0),\"\")","v":""}]
[null,null,null,null,{"$f":"IFERROR(VLOOKUP(D5552,Справка!$G$2:$H$579,2,0),\"\")","v":""}]
[null,null,null,null,{"$f":"IFERROR(VLOOKUP(D5553,Справка!$G$2:$H$579,2,0),\"\")","v":""}]
[null,null,null,null,{"$f":"IFERROR(VLOOKUP(D5554,Справка!$G$2:$H$579,2,0),\"\")","v":""}]
[null,null,null,null,{"$f":"IFERROR(VLOOKUP(D5555,Справка!$G$2:$H$579,2,0),\"\")","v":""}]
[null,null,null,null,{"$f":"IFERROR(VLOOKUP(D5556,Справка!$G$2:$H$579,2,0),\"\")","v":""}]
[null,null,null,null,{"$f":"IFERROR(VLOOKUP(D5557,Справка!$G$2:$H$579,2,0),\"\")","v":""}]
[null,null,null,null,{"$f":"IFERROR(VLOOKUP(D5558,Справка!$G$2:$H$579,2,0),\"\")","v":""}]
[null,null,null,null,{"$f":"IFERROR(VLOOKUP(D5559,Справка!$G$2:$H$579,2,0),\"\")","v":""}]
[null,null,null,null,{"$f":"IFERROR(VLOOKUP(D5560,Справка!$G$2:$H$579,2,0),\"\")","v":""}]
[null,null,null,null,{"$f":"IFERROR(VLOOKUP(D5561,Справка!$G$2:$H$579,2,0),\"\")","v":""}]
[null,null,null,null,{"$f":"IFERROR(VLOOKUP(D5562,Справка!$G$2:$H$579,2,0),\"\")","v":""}]
[null,null,null,null,{"$f":"IFERROR(VLOOKUP(D5563,Справка!$G$2:$H$579,2,0),\"\")","v":""}]
[null,null,null,null,{"$f":"IFERROR(VLOOKUP(D5564,Справка!$G$2:$H$579,2,0),\"\")","v":""}]
[null,null,null,null,{"$f":"IFERROR(VLOOKUP(D5565,Справка!$G$2:$H$579,2,0),\"\")","v":""}]
[null,null,null,null,{"$f":"IFERROR(VLOOKUP(D5566,Справка!$G$2:$H$579,2,0),\"\")","v":""}]
[null,null,null,null,{"$f":"IFERROR(VLOOKUP(D5567,Справка!$G$2:$H$579,2,0),\"\")","v":""}]
[null,null,null,null,{"$f":"IFERROR(VLOOKUP(D5568,Справка!$G$2:$H$579,2,0),\"\")","v":""}]
[null,null,null,null,{"$f":"IFERROR(VLOOKUP(D5569,Справка!$G$2:$H$579,2,0),\"\")","v":""}]
[null,null,null,null,{"$f":"IFERROR(VLOOKUP(D5570,Справка!$G$2:$H$579,2,0),\"\")","v":""}]
[null,null,null,null,{"$f":"IFERROR(VLOOKUP(D5571,Справка!$G$2:$H$579,2,0),\"\")","v":""}]
[null,null,null,null,{"$f":"IFERROR(VLOOKUP(D5572,Справка!$G$2:$H$579,2,0),\"\")","v":""}]
[null,null,null,null,{"$f":"IFERROR(VLOOKUP(D5573,Справка!$G$2:$H$579,2,0),\"\")","v":""}]
[null,null,null,null,{"$f":"IFERROR(VLOOKUP(D5574,Справка!$G$2:$H$579,2,0),\"\")","v":""}]
[null,null,null,null,{"$f":"IFERROR(VLOOKUP(D5575,Справка!$G$2:$H$579,2,0),\"\")","v":""}]
[null,null,null,null,{"$f":"IFERROR(VLOOKUP(D5576,Справка!$G$2:$H$579,2,0),\"\")","v":""}]
[null,null,null,null,{"$f":"IFERROR(VLOOKUP(D5577,Справка!$G$2:$H$579,2,0),\"\")","v":""}]
[null,null,null,null,{"$f":"IFERROR(VLOOKUP(D5578,Справка!$G$2:$H$579,2,0),\"\")","v":""}]
[null,null,null,null,{"$f":"IFERROR(VLOOKUP(D5579,Справка!$G$2:$H$579,2,0),\"\")","v":""}]
[null,null,null,null,{"$f":"IFERROR(VLOOKUP(D5580,Справка!$G$2:$H$579,2,0),\"\")","v":""}]
[null,null,null,null,{"$f":"IFERROR(VLOOKUP(D5581,Справка!$G$2:$H$579,2,0),\"\")","v":""}]
[null,null,null,null,{"$f":"IFERROR(VLOOKUP(D5582,Справка!$G$2:$H$579,2,0),\"\")","v":""}]
[null,null,null,null,{"$f":"IFERROR(VLOOKUP(D5583,Справка!$G$2:$H$579,2,0),\"\")","v":""}]
[null,null,null,null,{"$f":"IFERROR(VLOOKUP(D5584,Справка!$G$2:$H$579,2,0),\"\")","v":""}]
[null,null,null,null,{"$f":"IFERROR(VLOOKUP(D5585,Справка!$G$2:$H$579,2,0),\"\")","v":""}]
[null,null,null,null,{"$f":"IFERROR(VLOOKUP(D5586,Справка!$G$2:$H$579,2,0),\"\")","v":""}]
[null,null,null,null,{"$f":"IFERROR(VLOOKUP(D5587,Справка!$G$2:$H$579,2,0),\"\")","v":""}]
[null,null,null,null,{"$f":"IFERROR(VLOOKUP(D5588,Справка!$G$2:$H$579,2,0),\"\")","v":""}]
[null,null,null,null,{"$f":"IFERROR(VLOOKUP(D5589,Справка!$G$2:$H$579,2,0),\"\")","v":""}]
[null,null,null,null,{"$f":"IFERROR(VLOOKUP(D5590,Справка!$G$2:$H$579,2,0),\"\")","v":""}]
[null,null,null,null,{"$f":"IFERROR(VLOOKUP(D5591,Справка!$G$2:$H$579,2,0),\"\")","v":""}]
[null,null,null,null,{"$f":"IFERROR(VLOOKUP(D5592,Справка!$G$2:$H$579,2,0),\"\")","v":""}]
[null,null,null,null,{"$f":"IFERROR(VLOOKUP(D5593,Справка!$G$2:$H$579,2,0),\"\")","v":""}]
[null,null,null,null,{"$f":"IFERROR(VLOOKUP(D5594,Справка!$G$2:$H$579,2,0),\"\")","v":""}]
[null,null,null,null,{"$f":"IFERROR(VLOOKUP(D5595,Справка!$G$2:$H$579,2,0),\"\")","v":""}]
[null,null,null,null,{"$f":"IFERROR(VLOOKUP(D5596,Справка!$G$2:$H$579,2,0),\"\")","v":""}]
[null,null,null,null,{"$f":"IFERROR(VLOOKUP(D5597,Справка!$G$2:$H$579,2,0),\"\")","v":""}]
[null,null,null,null,{"$f":"IFERROR(VLOOKUP(D5598,Справка!$G$2:$H$579,2,0),\"\")","v":""}]
[null,null,null,null,{"$f":"IFERROR(VLOOKUP(D5599,Справка!$G$2:$H$579,2,0),\"\")","v":""}]
[null,null,null,null,{"$f":"IFERROR(VLOOKUP(D5600,Справка!$G$2:$H$579,2,0),\"\")","v":""}]
[null,null,null,null,{"$f":"IFERROR(VLOOKUP(D5601,Справка!$G$2:$H$579,2,0),\"\")","v":""}]
[null,null,null,null,{"$f":"IFERROR(VLOOKUP(D5602,Справка!$G$2:$H$579,2,0),\"\")","v":""}]
[null,null,null,null,{"$f":"IFERROR(VLOOKUP(D5603,Справка!$G$2:$H$579,2,0),\"\")","v":""}]
[null,null,null,null,{"$f":"IFERROR(VLOOKUP(D5604,Справка!$G$2:$H$579,2,0),\"\")","v":""}]
[null,null,null,null,{"$f":"IFERROR(VLOOKUP(D5605,Справка!$G$2:$H$579,2,0),\"\")","v":""}]
[null,null,null,null,{"$f":"IFERROR(VLOOKUP(D5606,Справка!$G$2:$H$579,2,0),\"\")","v":""}]
[null,null,null,null,{"$f":"IFERROR(VLOOKUP(D5607,Справка!$G$2:$H$579,2,0),\"\")","v":""}]
[null,null,null,null,{"$f":"IFERROR(VLOOKUP(D5608,Справка!$G$2:$H$579,2,0),\"\")","v":""}]
[null,null,null,null,{"$f":"IFERROR(VLOOKUP(D5609,Справка!$G$2:$H$579,2,0),\"\")","v":""}]
[null,null,null,null,{"$f":"IFERROR(VLOOKUP(D5610,Справка!$G$2:$H$579,2,0),\"\")","v":""}]
[null,null,null,null,{"$f":"IFERROR(VLOOKUP(D5611,Справка!$G$2:$H$579,2,0),\"\")","v":""}]
[null,null,null,null,{"$f":"IFERROR(VLOOKUP(D5612,Справка!$G$2:$H$579,2,0),\"\")","v":""}]
[null,null,null,null,{"$f":"IFERROR(VLOOKUP(D5613,Справка!$G$2:$H$579,2,0),\"\")","v":""}]
[null,null,null,null,{"$f":"IFERROR(VLOOKUP(D5614,Справка!$G$2:$H$579,2,0),\"\")","v":""}]
[null,null,null,null,{"$f":"IFERROR(VLOOKUP(D5615,Справка!$G$2:$H$579,2,0),\"\")","v":""}]
[null,null,null,null,{"$f":"IFERROR(VLOOKUP(D5616,Справка!$G$2:$H$579,2,0),\"\")","v":""}]
[null,null,null,null,{"$f":"IFERROR(VLOOKUP(D5617,Справка!$G$2:$H$579,2,0),\"\")","v":""}]
[null,null,null,null,{"$f":"IFERROR(VLOOKUP(D5618,Справка!$G$2:$H$579,2,0),\"\")","v":""}]
[null,null,null,null,{"$f":"IFERROR(VLOOKUP(D5619,Справка!$G$2:$H$579,2,0),\"\")","v":""}]
[null,null,null,null,{"$f":"IFERROR(VLOOKUP(D5620,Справка!$G$2:$H$579,2,0),\"\")","v":""}]
[null,null,null,null,{"$f":"IFERROR(VLOOKUP(D5621,Справка!$G$2:$H$579,2,0),\"\")","v":""}]
[null,null,null,null,{"$f":"IFERROR(VLOOKUP(D5622,Справка!$G$2:$H$579,2,0),\"\")","v":""}]
[null,null,null,null,{"$f":"IFERROR(VLOOKUP(D5623,Справка!$G$2:$H$579,2,0),\"\")","v":""}]
[null,null,null,null,{"$f":"IFERROR(VLOOKUP(D5624,Справка!$G$2:$H$579,2,0),\"\")","v":""}]
[null,null,null,null,{"$f":"IFERROR(VLOOKUP(D5625,Справка!$G$2:$H$579,2,0),\"\")","v":""}]
[null,null,null,null,{"$f":"IFERROR(VLOOKUP(D5626,Справка!$G$2:$H$579,2,0),\"\")","v":""}]
[null,null,null,null,{"$f":"IFERROR(VLOOKUP(D5627,Справка!$G$2:$H$579,2,0),\"\")","v":""}]
[null,null,null,null,{"$f":"IFERROR(VLOOKUP(D5628,Справка!$G$2:$H$579,2,0),\"\")","v":""}]
[null,null,null,null,{"$f":"IFERROR(VLOOKUP(D5629,Справка!$G$2:$H$579,2,0),\"\")","v":""}]
[null,null,null,null,{"$f":"IFERROR(VLOOKUP(D5630,Справка!$G$2:$H$579,2,0),\"\")","v":""}]
[null,null,null,null,{"$f":"IFERROR(VLOOKUP(D5631,Справка!$G$2:$H$579,2,0),\"\")","v":""}]
[null,null,null,null,{"$f":"IFERROR(VLOOKUP(D5632,Справка!$G$2:$H$579,2,0),\"\")","v":""}]
[null,null,null,null,{"$f":"IFERROR(VLOOKUP(D5633,Справка!$G$2:$H$579,2,0),\"\")","v":""}]
[null,null,null,null,{"$f":"IFERROR(VLOOKUP(D5634,Справка!$G$2:$H$579,2,0),\"\")","v":""}]
[null,null,null,null,{"$f":"IFERROR(VLOOKUP(D5635,Справка!$G$2:$H$579,2,0),\"\")","v":""}]
[null,null,null,null,{"$f":"IFERROR(VLOOKUP(D5636,Справка!$G$2:$H$579,2,0),\"\")","v":""}]
[null,null,null,null,{"$f":"IFERROR(VLOOKUP(D5637,Справка!$G$2:$H$579,2,0),\"\")","v":""}]
[null,null,null,null,{"$f":"IFERROR(VLOOKUP(D5638,Справка!$G$2:$H$579,2,0),\"\")","v":""}]
[null,null,null,null,{"$f":"IFERROR(VLOOKUP(D5639,Справка!$G$2:$H$579,2,0),\"\")","v":""}]
[null,null,null,null,{"$f":"IFERROR(VLOOKUP(D5640,Справка!$G$2:$H$579,2,0),\"\")","v":""}]
[null,null,null,null,{"$f":"IFERROR(VLOOKUP(D5641,Справка!$G$2:$H$579,2,0),\"\")","v":""}]
[null,null,null,null,{"$f":"IFERROR(VLOOKUP(D5642,Справка!$G$2:$H$579,2,0),\"\")","v":""}]
[null,null,null,null,{"$f":"IFERROR(VLOOKUP(D5643,Справка!$G$2:$H$579,2,0),\"\")","v":""}]
[null,null,null,null,{"$f":"IFERROR(VLOOKUP(D5644,Справка!$G$2:$H$579,2,0),\"\")","v":""}]
[null,null,null,null,{"$f":"IFERROR(VLOOKUP(D5645,Справка!$G$2:$H$579,2,0),\"\")","v":""}]
[null,null,null,null,{"$f":"IFERROR(VLOOKUP(D5646,Справка!$G$2:$H$579,2,0),\"\")","v":""}]
[null,null,null,null,{"$f":"IFERROR(VLOOKUP(D5647,Справка!$G$2:$H$579,2,0),\"\")","v":""}]
[null,null,null,null,{"$f":"IFERROR(VLOOKUP(D5648,Справка!$G$2:$H$579,2,0),\"\")","v":""}]
[null,null,null,null,{"$f":"IFERROR(VLOOKUP(D5649,Справка!$G$2:$H$579,2,0),\"\")","v":""}]
[null,null,null,null,{"$f":"IFERROR(VLOOKUP(D5650,Справка!$G$2:$H$579,2,0),\"\")","v":""}]
[null,null,null,null,{"$f":"IFERROR(VLOOKUP(D5651,Справка!$G$2:$H$579,2,0),\"\")","v":""}]
[null,null,null,null,{"$f":"IFERROR(VLOOKUP(D5652,Справка!$G$2:$H$579,2,0),\"\")","v":""}]
[null,null,null,null,{"$f":"IFERROR(VLOOKUP(D5653,Справка!$G$2:$H$579,2,0),\"\")","v":""}]
[null,null,null,null,{"$f":"IFERROR(VLOOKUP(D5654,Справка!$G$2:$H$579,2,0),\"\")","v":""}]
[null,null,null,null,{"$f":"IFERROR(VLOOKUP(D5655,Справка!$G$2:$H$579,2,0),\"\")","v":""}]
[null,null,null,null,{"$f":"IFERROR(VLOOKUP(D5656,Справка!$G$2:$H$579,2,0),\"\")","v":""}]
[null,null,null,null,{"$f":"IFERROR(VLOOKUP(D5657,Справка!$G$2:$H$579,2,0),\"\")","v":""}]
[null,null,null,null,{"$f":"IFERROR(VLOOKUP(D5658,Справка!$G$2:$H$579,2,0),\"\")","v":""}]
[null,null,null,null,{"$f":"IFERROR(VLOOKUP(D5659,Справка!$G$2:$H$579,2,0),\"\")","v":""}]
[null,null,null,null,{"$f":"IFERROR(VLOOKUP(D5660,Справка!$G$2:$H$579,2,0),\"\")","v":""}]
[null,null,null,null,{"$f":"IFERROR(VLOOKUP(D5661,Справка!$G$2:$H$579,2,0),\"\")","v":""}]
[null,null,null,null,{"$f":"IFERROR(VLOOKUP(D5662,Справка!$G$2:$H$579,2,0),\"\")","v":""}]
[null,null,null,null,{"$f":"IFERROR(VLOOKUP(D5663,Справка!$G$2:$H$579,2,0),\"\")","v":""}]
[null,null,null,null,{"$f":"IFERROR(VLOOKUP(D5664,Справка!$G$2:$H$579,2,0),\"\")","v":""}]
[null,null,null,null,{"$f":"IFERROR(VLOOKUP(D5665,Справка!$G$2:$H$579,2,0),\"\")","v":""}]
[null,null,null,null,{"$f":"IFERROR(VLOOKUP(D5666,Справка!$G$2:$H$579,2,0),\"\")","v":""}]
[null,null,null,null,{"$f":"IFERROR(VLOOKUP(D5667,Справка!$G$2:$H$579,2,0),\"\")","v":""}]
[null,null,null,null,{"$f":"IFERROR(VLOOKUP(D5668,Справка!$G$2:$H$579,2,0),\"\")","v":""}]
[null,null,null,null,{"$f":"IFERROR(VLOOKUP(D5669,Справка!$G$2:$H$579,2,0),\"\")","v":""}]
[null,null,null,null,{"$f":"IFERROR(VLOOKUP(D5670,Справка!$G$2:$H$579,2,0),\"\")","v":""}]
[null,null,null,null,{"$f":"IFERROR(VLOOKUP(D5671,Справка!$G$2:$H$579,2,0),\"\")","v":""}]
[null,null,null,null,{"$f":"IFERROR(VLOOKUP(D5672,Справка!$G$2:$H$579,2,0),\"\")","v":""}]
[null,null,null,null,{"$f":"IFERROR(VLOOKUP(D5673,Справка!$G$2:$H$579,2,0),\"\")","v":""}]
[null,null,null,null,{"$f":"IFERROR(VLOOKUP(D5674,Справка!$G$2:$H$579,2,0),\"\")","v":""}]
[null,null,null,null,{"$f":"IFERROR(VLOOKUP(D5675,Справка!$G$2:$H$579,2,0),\"\")","v":""}]
[null,null,null,null,{"$f":"IFERROR(VLOOKUP(D5676,Справка!$G$2:$H$579,2,0),\"\")","v":""}]
[null,null,null,null,{"$f":"IFERROR(VLOOKUP(D5677,Справка!$G$2:$H$579,2,0),\"\")","v":""}]
[null,null,null,null,{"$f":"IFERROR(VLOOKUP(D5678,Справка!$G$2:$H$579,2,0),\"\")","v":""}]
[null,null,null,null,{"$f":"IFERROR(VLOOKUP(D5679,Справка!$G$2:$H$579,2,0),\"\")","v":""}]
[null,null,null,null,{"$f":"IFERROR(VLOOKUP(D5680,Справка!$G$2:$H$579,2,0),\"\")","v":""}]
[null,null,null,null,{"$f":"IFERROR(VLOOKUP(D5681,Справка!$G$2:$H$579,2,0),\"\")","v":""}]
[null,null,null,null,{"$f":"IFERROR(VLOOKUP(D5682,Справка!$G$2:$H$579,2,0),\"\")","v":""}]
[null,null,null,null,{"$f":"IFERROR(VLOOKUP(D5683,Справка!$G$2:$H$579,2,0),\"\")","v":""}]
[null,null,null,null,{"$f":"IFERROR(VLOOKUP(D5684,Справка!$G$2:$H$579,2,0),\"\")","v":""}]
[null,null,null,null,{"$f":"IFERROR(VLOOKUP(D5685,Справка!$G$2:$H$579,2,0),\"\")","v":""}]
[null,null,null,null,{"$f":"IFERROR(VLOOKUP(D5686,Справка!$G$2:$H$579,2,0),\"\")","v":""}]
[null,null,null,null,{"$f":"IFERROR(VLOOKUP(D5687,Справка!$G$2:$H$579,2,0),\"\")","v":""}]
[null,null,null,null,{"$f":"IFERROR(VLOOKUP(D5688,Справка!$G$2:$H$579,2,0),\"\")","v":""}]
[null,null,null,null,{"$f":"IFERROR(VLOOKUP(D5689,Справка!$G$2:$H$579,2,0),\"\")","v":""}]
[null,null,null,null,{"$f":"IFERROR(VLOOKUP(D5690,Справка!$G$2:$H$579,2,0),\"\")","v":""}]
[null,null,null,null,{"$f":"IFERROR(VLOOKUP(D5691,Справка!$G$2:$H$579,2,0),\"\")","v":""}]
[null,null,null,null,{"$f":"IFERROR(VLOOKUP(D5692,Справка!$G$2:$H$579,2,0),\"\")","v":""}]
[null,null,null,null,{"$f":"IFERROR(VLOOKUP(D5693,Справка!$G$2:$H$579,2,0),\"\")","v":""}]
[null,null,null,null,{"$f":"IFERROR(VLOOKUP(D5694,Справка!$G$2:$H$579,2,0),\"\")","v":""}]
[null,null,null,null,{"$f":"IFERROR(VLOOKUP(D5695,Справка!$G$2:$H$579,2,0),\"\")","v":""}]
[null,null,null,null,{"$f":"IFERROR(VLOOKUP(D5696,Справка!$G$2:$H$579,2,0),\"\")","v":""}]
[null,null,null,null,{"$f":"IFERROR(VLOOKUP(D5697,Справка!$G$2:$H$579,2,0),\"\")","v":""}]
[null,null,null,null,{"$f":"IFERROR(VLOOKUP(D5698,Справка!$G$2:$H$579,2,0),\"\")","v":""}]
[null,null,null,null,{"$f":"IFERROR(VLOOKUP(D5699,Справка!$G$2:$H$579,2,0),\"\")","v":""}]
[null,null,null,null,{"$f":"IFERROR(VLOOKUP(D5700,Справка!$G$2:$H$579,2,0),\"\")","v":""}]
[null,null,null,null,{"$f":"IFERROR(VLOOKUP(D5701,Справка!$G$2:$H$579,2,0),\"\")","v":""}]
[null,null,null,null,{"$f":"IFERROR(VLOOKUP(D5702,Справка!$G$2:$H$579,2,0),\"\")","v":""}]
[null,null,null,null,{"$f":"IFERROR(VLOOKUP(D5703,Справка!$G$2:$H$579,2,0),\"\")","v":""}]
[null,null,null,null,{"$f":"IFERROR(VLOOKUP(D5704,Справка!$G$2:$H$579,2,0),\"\")","v":""}]
[null,null,null,null,{"$f":"IFERROR(VLOOKUP(D5705,Справка!$G$2:$H$579,2,0),\"\")","v":""}]
[null,null,null,null,{"$f":"IFERROR(VLOOKUP(D5706,Справка!$G$2:$H$579,2,0),\"\")","v":""}]
[null,null,null,null,{"$f":"IFERROR(VLOOKUP(D5707,Справка!$G$2:$H$579,2,0),\"\")","v":""}]
[null,null,null,null,{"$f":"IFERROR(VLOOKUP(D5708,Справка!$G$2:$H$579,2,0),\"\")","v":""}]
[null,null,null,null,{"$f":"IFERROR(VLOOKUP(D5709,Справка!$G$2:$H$579,2,0),\"\")","v":""}]
[null,null,null,null,{"$f":"IFERROR(VLOOKUP(D5710,Справка!$G$2:$H$579,2,0),\"\")","v":""}]
[null,null,null,null,{"$f":"IFERROR(VLOOKUP(D5711,Справка!$G$2:$H$579,2,0),\"\")","v":""}]
[null,null,null,null,{"$f":"IFERROR(VLOOKUP(D5712,Справка!$G$2:$H$579,2,0),\"\")","v":""}]
[null,null,null,null,{"$f":"IFERROR(VLOOKUP(D5713,Справка!$G$2:$H$579,2,0),\"\")","v":""}]
[null,null,null,null,{"$f":"IFERROR(VLOOKUP(D5714,Справка!$G$2:$H$579,2,0),\"\")","v":""}]
[null,null,null,null,{"$f":"IFERROR(VLOOKUP(D5715,Справка!$G$2:$H$579,2,0),\"\")","v":""}]
[null,null,null,null,{"$f":"IFERROR(VLOOKUP(D5716,Справка!$G$2:$H$579,2,0),\"\")","v":""}]
[null,null,null,null,{"$f":"IFERROR(VLOOKUP(D5717,Справка!$G$2:$H$579,2,0),\"\")","v":""}]
[null,null,null,null,{"$f":"IFERROR(VLOOKUP(D5718,Справка!$G$2:$H$579,2,0),\"\")","v":""}]
[null,null,null,null,{"$f":"IFERROR(VLOOKUP(D5719,Справка!$G$2:$H$579,2,0),\"\")","v":""}]
[null,null,null,null,{"$f":"IFERROR(VLOOKUP(D5720,Справка!$G$2:$H$579,2,0),\"\")","v":""}]
[null,null,null,null,{"$f":"IFERROR(VLOOKUP(D5721,Справка!$G$2:$H$579,2,0),\"\")","v":""}]
[null,null,null,null,{"$f":"IFERROR(VLOOKUP(D5722,Справка!$G$2:$H$579,2,0),\"\")","v":""}]
[null,null,null,null,{"$f":"IFERROR(VLOOKUP(D5723,Справка!$G$2:$H$579,2,0),\"\")","v":""}]
[null,null,null,null,{"$f":"IFERROR(VLOOKUP(D5724,Справка!$G$2:$H$579,2,0),\"\")","v":""}]
[null,null,null,null,{"$f":"IFERROR(VLOOKUP(D5725,Справка!$G$2:$H$579,2,0),\"\")","v":""}]
[null,null,null,null,{"$f":"IFERROR(VLOOKUP(D5726,Справка!$G$2:$H$579,2,0),\"\")","v":""}]
[null,null,null,null,{"$f":"IFERROR(VLOOKUP(D5727,Справка!$G$2:$H$579,2,0),\"\")","v":""}]
[null,null,null,null,{"$f":"IFERROR(VLOOKUP(D5728,Справка!$G$2:$H$579,2,0),\"\")","v":""}]
[null,null,null,null,{"$f":"IFERROR(VLOOKUP(D5729,Справка!$G$2:$H$579,2,0),\"\")","v":""}]
[null,null,null,null,{"$f":"IFERROR(VLOOKUP(D5730,Справка!$G$2:$H$579,2,0),\"\")","v":""}]
[null,null,null,null,{"$f":"IFERROR(VLOOKUP(D5731,Справка!$G$2:$H$579,2,0),\"\")","v":""}]
[null,null,null,null,{"$f":"IFERROR(VLOOKUP(D5732,Справка!$G$2:$H$579,2,0),\"\")","v":""}]
[null,null,null,null,{"$f":"IFERROR(VLOOKUP(D5733,Справка!$G$2:$H$579,2,0),\"\")","v":""}]
[null,null,null,null,{"$f":"IFERROR(VLOOKUP(D5734,Справка!$G$2:$H$579,2,0),\"\")","v":""}]
[null,null,null,null,{"$f":"IFERROR(VLOOKUP(D5735,Справка!$G$2:$H$579,2,0),\"\")","v":""}]
[null,null,null,null,{"$f":"IFERROR(VLOOKUP(D5736,Справка!$G$2:$H$579,2,0),\"\")","v":""}]
[null,null,null,null,{"$f":"IFERROR(VLOOKUP(D5737,Справка!$G$2:$H$579,2,0),\"\")","v":""}]
[null,null,null,null,{"$f":"IFERROR(VLOOKUP(D5738,Справка!$G$2:$H$579,2,0),\"\")","v":""}]
[null,null,null,null,{"$f":"IFERROR(VLOOKUP(D5739,Справка!$G$2:$H$579,2,0),\"\")","v":""}]
[null,null,null,null,{"$f":"IFERROR(VLOOKUP(D5740,Справка!$G$2:$H$579,2,0),\"\")","v":""}]
[null,null,null,null,{"$f":"IFERROR(VLOOKUP(D5741,Справка!$G$2:$H$579,2,0),\"\")","v":""}]
[null,null,null,null,{"$f":"IFERROR(VLOOKUP(D5742,Справка!$G$2:$H$579,2,0),\"\")","v":""}]
[null,null,null,null,{"$f":"IFERROR(VLOOKUP(D5743,Справка!$G$2:$H$579,2,0),\"\")","v":""}]
[null,null,null,null,{"$f":"IFERROR(VLOOKUP(D5744,Справка!$G$2:$H$579,2,0),\"\")","v":""}]
[null,null,null,null,{"$f":"IFERROR(VLOOKUP(D5745,Справка!$G$2:$H$579,2,0),\"\")","v":""}]
[null,null,null,null,{"$f":"IFERROR(VLOOKUP(D5746,Справка!$G$2:$H$579,2,0),\"\")","v":""}]
[null,null,null,null,{"$f":"IFERROR(VLOOKUP(D5747,Справка!$G$2:$H$579,2,0),\"\")","v":""}]
[null,null,null,null,{"$f":"IFERROR(VLOOKUP(D5748,Справка!$G$2:$H$579,2,0),\"\")","v":""}]
[null,null,null,null,{"$f":"IFERROR(VLOOKUP(D5749,Справка!$G$2:$H$579,2,0),\"\")","v":""}]
[null,null,null,null,{"$f":"IFERROR(VLOOKUP(D5750,Справка!$G$2:$H$579,2,0),\"\")","v":""}]
[null,null,null,null,{"$f":"IFERROR(VLOOKUP(D5751,Справка!$G$2:$H$579,2,0),\"\")","v":""}]
[null,null,null,null,{"$f":"IFERROR(VLOOKUP(D5752,Справка!$G$2:$H$579,2,0),\"\")","v":""}]
[null,null,null,null,{"$f":"IFERROR(VLOOKUP(D5753,Справка!$G$2:$H$579,2,0),\"\")","v":""}]
[null,null,null,null,{"$f":"IFERROR(VLOOKUP(D5754,Справка!$G$2:$H$579,2,0),\"\")","v":""}]
[null,null,null,null,{"$f":"IFERROR(VLOOKUP(D5755,Справка!$G$2:$H$579,2,0),\"\")","v":""}]
[null,null,null,null,{"$f":"IFERROR(VLOOKUP(D5756,Справка!$G$2:$H$579,2,0),\"\")","v":""}]
[null,null,null,null,{"$f":"IFERROR(VLOOKUP(D5757,Справка!$G$2:$H$579,2,0),\"\")","v":""}]
[null,null,null,null,{"$f":"IFERROR(VLOOKUP(D5758,Справка!$G$2:$H$579,2,0),\"\")","v":""}]
[null,null,null,null,{"$f":"IFERROR(VLOOKUP(D5759,Справка!$G$2:$H$579,2,0),\"\")","v":""}]
[null,null,null,null,{"$f":"IFERROR(VLOOKUP(D5760,Справка!$G$2:$H$579,2,0),\"\")","v":""}]
[null,null,null,null,{"$f":"IFERROR(VLOOKUP(D5761,Справка!$G$2:$H$579,2,0),\"\")","v":""}]
[null,null,null,null,{"$f":"IFERROR(VLOOKUP(D5762,Справка!$G$2:$H$579,2,0),\"\")","v":""}]
[null,null,null,null,{"$f":"IFERROR(VLOOKUP(D5763,Справка!$G$2:$H$579,2,0),\"\")","v":""}]
[null,null,null,null,{"$f":"IFERROR(VLOOKUP(D5764,Справка!$G$2:$H$579,2,0),\"\")","v":""}]
[null,null,null,null,{"$f":"IFERROR(VLOOKUP(D5765,Справка!$G$2:$H$579,2,0),\"\")","v":""}]
[null,null,null,null,{"$f":"IFERROR(VLOOKUP(D5766,Справка!$G$2:$H$579,2,0),\"\")","v":""}]
[null,null,null,null,{"$f":"IFERROR(VLOOKUP(D5767,Справка!$G$2:$H$579,2,0),\"\")","v":""}]
[null,null,null,null,{"$f":"IFERROR(VLOOKUP(D5768,Справка!$G$2:$H$579,2,0),\"\")","v":""}]
[null,null,null,null,{"$f":"IFERROR(VLOOKUP(D5769,Справка!$G$2:$H$579,2,0),\"\")","v":""}]
[null,null,null,null,{"$f":"IFERROR(VLOOKUP(D5770,Справка!$G$2:$H$579,2,0),\"\")","v":""}]
[null,null,null,null,{"$f":"IFERROR(VLOOKUP(D5771,Справка!$G$2:$H$579,2,0),\"\")","v":""}]
[null,null,null,null,{"$f":"IFERROR(VLOOKUP(D5772,Справка!$G$2:$H$579,2,0),\"\")","v":""}]
[null,null,null,null,{"$f":"IFERROR(VLOOKUP(D5773,Справка!$G$2:$H$579,2,0),\"\")","v":""}]
[null,null,null,null,{"$f":"IFERROR(VLOOKUP(D5774,Справка!$G$2:$H$579,2,0),\"\")","v":""}]
[null,null,null,null,{"$f":"IFERROR(VLOOKUP(D5775,Справка!$G$2:$H$579,2,0),\"\")","v":""}]
[null,null,null,null,{"$f":"IFERROR(VLOOKUP(D5776,Справка!$G$2:$H$579,2,0),\"\")","v":""}]
[null,null,null,null,{"$f":"IFERROR(VLOOKUP(D5777,Справка!$G$2:$H$579,2,0),\"\")","v":""}]
[null,null,null,null,{"$f":"IFERROR(VLOOKUP(D5778,Справка!$G$2:$H$579,2,0),\"\")","v":""}]
[null,null,null,null,{"$f":"IFERROR(VLOOKUP(D5779,Справка!$G$2:$H$579,2,0),\"\")","v":""}]
[null,null,null,null,{"$f":"IFERROR(VLOOKUP(D5780,Справка!$G$2:$H$579,2,0),\"\")","v":""}]
[null,null,null,null,{"$f":"IFERROR(VLOOKUP(D5781,Справка!$G$2:$H$579,2,0),\"\")","v":""}]
[null,null,null,null,{"$f":"IFERROR(VLOOKUP(D5782,Справка!$G$2:$H$579,2,0),\"\")","v":""}]
[null,null,null,null,{"$f":"IFERROR(VLOOKUP(D5783,Справка!$G$2:$H$579,2,0),\"\")","v":""}]
[null,null,null,null,{"$f":"IFERROR(VLOOKUP(D5784,Справка!$G$2:$H$579,2,0),\"\")","v":""}]
[null,null,null,null,{"$f":"IFERROR(VLOOKUP(D5785,Справка!$G$2:$H$579,2,0),\"\")","v":""}]
[null,null,null,null,{"$f":"IFERROR(VLOOKUP(D5786,Справка!$G$2:$H$579,2,0),\"\")","v":""}]
[null,null,null,null,{"$f":"IFERROR(VLOOKUP(D5787,Справка!$G$2:$H$579,2,0),\"\")","v":""}]
[null,null,null,null,{"$f":"IFERROR(VLOOKUP(D5788,Справка!$G$2:$H$579,2,0),\"\")","v":""}]
[null,null,null,null,{"$f":"IFERROR(VLOOKUP(D5789,Справка!$G$2:$H$579,2,0),\"\")","v":""}]
[null,null,null,null,{"$f":"IFERROR(VLOOKUP(D5790,Справка!$G$2:$H$579,2,0),\"\")","v":""}]
[null,null,null,null,{"$f":"IFERROR(VLOOKUP(D5791,Справка!$G$2:$H$579,2,0),\"\")","v":""}]
[null,null,null,null,{"$f":"IFERROR(VLOOKUP(D5792,Справка!$G$2:$H$579,2,0),\"\")","v":""}]
[null,null,null,null,{"$f":"IFERROR(VLOOKUP(D5793,Справка!$G$2:$H$579,2,0),\"\")","v":""}]
[null,null,null,null,{"$f":"IFERROR(VLOOKUP(D5794,Справка!$G$2:$H$579,2,0),\"\")","v":""}]
[null,null,null,null,{"$f":"IFERROR(VLOOKUP(D5795,Справка!$G$2:$H$579,2,0),\"\")","v":""}]
[null,null,null,null,{"$f":"IFERROR(VLOOKUP(D5796,Справка!$G$2:$H$579,2,0),\"\")","v":""}]
[null,null,null,null,{"$f":"IFERROR(VLOOKUP(D5797,Справка!$G$2:$H$579,2,0),\"\")","v":""}]
[null,null,null,null,{"$f":"IFERROR(VLOOKUP(D5798,Справка!$G$2:$H$579,2,0),\"\")","v":""}]
[null,null,null,null,{"$f":"IFERROR(VLOOKUP(D5799,Справка!$G$2:$H$579,2,0),\"\")","v":""}]
[null,null,null,null,{"$f":"IFERROR(VLOOKUP(D5800,Справка!$G$2:$H$579,2,0),\"\")","v":""}]
[null,null,null,null,{"$f":"IFERROR(VLOOKUP(D5801,Справка!$G$2:$H$579,2,0),\"\")","v":""}]
[null,null,null,null,{"$f":"IFERROR(VLOOKUP(D5802,Справка!$G$2:$H$579,2,0),\"\")","v":""}]
[null,null,null,null,{"$f":"IFERROR(VLOOKUP(D5803,Справка!$G$2:$H$579,2,0),\"\")","v":""}]
[null,null,null,null,{"$f":"IFERROR(VLOOKUP(D5804,Справка!$G$2:$H$579,2,0),\"\")","v":""}]
[null,null,null,null,{"$f":"IFERROR(VLOOKUP(D5805,Справка!$G$2:$H$579,2,0),\"\")","v":""}]
[null,null,null,null,{"$f":"IFERROR(VLOOKUP(D5806,Справка!$G$2:$H$579,2,0),\"\")","v":""}]
[null,null,null,null,{"$f":"IFERROR(VLOOKUP(D5807,Справка!$G$2:$H$579,2,0),\"\")","v":""}]
[null,null,null,null,{"$f":"IFERROR(VLOOKUP(D5808,Справка!$G$2:$H$579,2,0),\"\")","v":""}]
[null,null,null,null,{"$f":"IFERROR(VLOOKUP(D5809,Справка!$G$2:$H$579,2,0),\"\")","v":""}]
[null,null,null,null,{"$f":"IFERROR(VLOOKUP(D5810,Справка!$G$2:$H$579,2,0),\"\")","v":""}]
[null,null,null,null,{"$f":"IFERROR(VLOOKUP(D5811,Справка!$G$2:$H$579,2,0),\"\")","v":""}]
[null,null,null,null,{"$f":"IFERROR(VLOOKUP(D5812,Справка!$G$2:$H$579,2,0),\"\")","v":""}]
[null,null,null,null,{"$f":"IFERROR(VLOOKUP(D5813,Справка!$G$2:$H$579,2,0),\"\")","v":""}]
[null,null,null,null,{"$f":"IFERROR(VLOOKUP(D5814,Справка!$G$2:$H$579,2,0),\"\")","v":""}]
[null,null,null,null,{"$f":"IFERROR(VLOOKUP(D5815,Справка!$G$2:$H$579,2,0),\"\")","v":""}]
[null,null,null,null,{"$f":"IFERROR(VLOOKUP(D5816,Справка!$G$2:$H$579,2,0),\"\")","v":""}]
[null,null,null,null,{"$f":"IFERROR(VLOOKUP(D5817,Справка!$G$2:$H$579,2,0),\"\")","v":""}]
[null,null,null,null,{"$f":"IFERROR(VLOOKUP(D5818,Справка!$G$2:$H$579,2,0),\"\")","v":""}]
[null,null,null,null,{"$f":"IFERROR(VLOOKUP(D5819,Справка!$G$2:$H$579,2,0),\"\")","v":""}]
[null,null,null,null,{"$f":"IFERROR(VLOOKUP(D5820,Справка!$G$2:$H$579,2,0),\"\")","v":""}]
[null,null,null,null,{"$f":"IFERROR(VLOOKUP(D5821,Справка!$G$2:$H$579,2,0),\"\")","v":""}]
[null,null,null,null,{"$f":"IFERROR(VLOOKUP(D5822,Справка!$G$2:$H$579,2,0),\"\")","v":""}]
[null,null,null,null,{"$f":"IFERROR(VLOOKUP(D5823,Справка!$G$2:$H$579,2,0),\"\")","v":""}]
[null,null,null,null,{"$f":"IFERROR(VLOOKUP(D5824,Справка!$G$2:$H$579,2,0),\"\")","v":""}]
[null,null,null,null,{"$f":"IFERROR(VLOOKUP(D5825,Справка!$G$2:$H$579,2,0),\"\")","v":""}]
[null,null,null,null,{"$f":"IFERROR(VLOOKUP(D5826,Справка!$G$2:$H$579,2,0),\"\")","v":""}]
[null,null,null,null,{"$f":"IFERROR(VLOOKUP(D5827,Справка!$G$2:$H$579,2,0),\"\")","v":""}]
[null,null,null,null,{"$f":"IFERROR(VLOOKUP(D5828,Справка!$G$2:$H$579,2,0),\"\")","v":""}]
[null,null,null,null,{"$f":"IFERROR(VLOOKUP(D5829,Справка!$G$2:$H$579,2,0),\"\")","v":""}]
[null,null,null,null,{"$f":"IFERROR(VLOOKUP(D5830,Справка!$G$2:$H$579,2,0),\"\")","v":""}]
[null,null,null,null,{"$f":"IFERROR(VLOOKUP(D5831,Справка!$G$2:$H$579,2,0),\"\")","v":""}]
[null,null,null,null,{"$f":"IFERROR(VLOOKUP(D5832,Справка!$G$2:$H$579,2,0),\"\")","v":""}]
[null,null,null,null,{"$f":"IFERROR(VLOOKUP(D5833,Справка!$G$2:$H$579,2,0),\"\")","v":""}]
[null,null,null,null,{"$f":"IFERROR(VLOOKUP(D5834,Справка!$G$2:$H$579,2,0),\"\")","v":""}]
[null,null,null,null,{"$f":"IFERROR(VLOOKUP(D5835,Справка!$G$2:$H$579,2,0),\"\")","v":""}]
[null,null,null,null,{"$f":"IFERROR(VLOOKUP(D5836,Справка!$G$2:$H$579,2,0),\"\")","v":""}]
[null,null,null,null,{"$f":"IFERROR(VLOOKUP(D5837,Справка!$G$2:$H$579,2,0),\"\")","v":""}]
[null,null,null,null,{"$f":"IFERROR(VLOOKUP(D5838,Справка!$G$2:$H$579,2,0),\"\")","v":""}]
[null,null,null,null,{"$f":"IFERROR(VLOOKUP(D5839,Справка!$G$2:$H$579,2,0),\"\")","v":""}]
[null,null,null,null,{"$f":"IFERROR(VLOOKUP(D5840,Справка!$G$2:$H$579,2,0),\"\")","v":""}]
[null,null,null,null,{"$f":"IFERROR(VLOOKUP(D5841,Справка!$G$2:$H$579,2,0),\"\")","v":""}]
[null,null,null,null,{"$f":"IFERROR(VLOOKUP(D5842,Справка!$G$2:$H$579,2,0),\"\")","v":""}]
[null,null,null,null,{"$f":"IFERROR(VLOOKUP(D5843,Справка!$G$2:$H$579,2,0),\"\")","v":""}]
[null,null,null,null,{"$f":"IFERROR(VLOOKUP(D5844,Справка!$G$2:$H$579,2,0),\"\")","v":""}]
[null,null,null,null,{"$f":"IFERROR(VLOOKUP(D5845,Справка!$G$2:$H$579,2,0),\"\")","v":""}]
[null,null,null,null,{"$f":"IFERROR(VLOOKUP(D5846,Справка!$G$2:$H$579,2,0),\"\")","v":""}]
[null,null,null,null,{"$f":"IFERROR(VLOOKUP(D5847,Справка!$G$2:$H$579,2,0),\"\")","v":""}]
[null,null,null,null,{"$f":"IFERROR(VLOOKUP(D5848,Справка!$G$2:$H$579,2,0),\"\")","v":""}]
[null,null,null,null,{"$f":"IFERROR(VLOOKUP(D5849,Справка!$G$2:$H$579,2,0),\"\")","v":""}]
[null,null,null,null,{"$f":"IFERROR(VLOOKUP(D5850,Справка!$G$2:$H$579,2,0),\"\")","v":""}]
[null,null,null,null,{"$f":"IFERROR(VLOOKUP(D5851,Справка!$G$2:$H$579,2,0),\"\")","v":""}]
[null,null,null,null,{"$f":"IFERROR(VLOOKUP(D5852,Справка!$G$2:$H$579,2,0),\"\")","v":""}]
[null,null,null,null,{"$f":"IFERROR(VLOOKUP(D5853,Справка!$G$2:$H$579,2,0),\"\")","v":""}]
[null,null,null,null,{"$f":"IFERROR(VLOOKUP(D5854,Справка!$G$2:$H$579,2,0),\"\")","v":""}]
[null,null,null,null,{"$f":"IFERROR(VLOOKUP(D5855,Справка!$G$2:$H$579,2,0),\"\")","v":""}]
[null,null,null,null,{"$f":"IFERROR(VLOOKUP(D5856,Справка!$G$2:$H$579,2,0),\"\")","v":""}]
[null,null,null,null,{"$f":"IFERROR(VLOOKUP(D5857,Справка!$G$2:$H$579,2,0),\"\")","v":""}]
[null,null,null,null,{"$f":"IFERROR(VLOOKUP(D5858,Справка!$G$2:$H$579,2,0),\"\")","v":""}]
[null,null,null,null,{"$f":"IFERROR(VLOOKUP(D5859,Справка!$G$2:$H$579,2,0),\"\")","v":""}]
[null,null,null,null,{"$f":"IFERROR(VLOOKUP(D5860,Справка!$G$2:$H$579,2,0),\"\")","v":""}]
[null,null,null,null,{"$f":"IFERROR(VLOOKUP(D5861,Справка!$G$2:$H$579,2,0),\"\")","v":""}]
[null,null,null,null,{"$f":"IFERROR(VLOOKUP(D5862,Справка!$G$2:$H$579,2,0),\"\")","v":""}]
[null,null,null,null,{"$f":"IFERROR(VLOOKUP(D5863,Справка!$G$2:$H$579,2,0),\"\")","v":""}]
[null,null,null,null,{"$f":"IFERROR(VLOOKUP(D5864,Справка!$G$2:$H$579,2,0),\"\")","v":""}]
[null,null,null,null,{"$f":"IFERROR(VLOOKUP(D5865,Справка!$G$2:$H$579,2,0),\"\")","v":""}]
[null,null,null,null,{"$f":"IFERROR(VLOOKUP(D5866,Справка!$G$2:$H$579,2,0),\"\")","v":""}]
[null,null,null,null,{"$f":"IFERROR(VLOOKUP(D5867,Справка!$G$2:$H$579,2,0),\"\")","v":""}]
[null,null,null,null,{"$f":"IFERROR(VLOOKUP(D5868,Справка!$G$2:$H$579,2,0),\"\")","v":""}]
[null,null,null,null,{"$f":"IFERROR(VLOOKUP(D5869,Справка!$G$2:$H$579,2,0),\"\")","v":""}]
[null,null,null,null,{"$f":"IFERROR(VLOOKUP(D5870,Справка!$G$2:$H$579,2,0),\"\")","v":""}]
[null,null,null,null,{"$f":"IFERROR(VLOOKUP(D5871,Справка!$G$2:$H$579,2,0),\"\")","v":""}]
[null,null,null,null,{"$f":"IFERROR(VLOOKUP(D5872,Справка!$G$2:$H$579,2,0),\"\")","v":""}]
[null,null,null,null,{"$f":"IFERROR(VLOOKUP(D5873,Справка!$G$2:$H$579,2,0),\"\")","v":""}]
[null,null,null,null,{"$f":"IFERROR(VLOOKUP(D5874,Справка!$G$2:$H$579,2,0),\"\")","v":""}]
[null,null,null,null,{"$f":"IFERROR(VLOOKUP(D5875,Справка!$G$2:$H$579,2,0),\"\")","v":""}]
[null,null,null,null,{"$f":"IFERROR(VLOOKUP(D5876,Справка!$G$2:$H$579,2,0),\"\")","v":""}]
[null,null,null,null,{"$f":"IFERROR(VLOOKUP(D5877,Справка!$G$2:$H$579,2,0),\"\")","v":""}]
[null,null,null,null,{"$f":"IFERROR(VLOOKUP(D5878,Справка!$G$2:$H$579,2,0),\"\")","v":""}]
[null,null,null,null,{"$f":"IFERROR(VLOOKUP(D5879,Справка!$G$2:$H$579,2,0),\"\")","v":""}]
[null,null,null,null,{"$f":"IFERROR(VLOOKUP(D5880,Справка!$G$2:$H$579,2,0),\"\")","v":""}]
[null,null,null,null,{"$f":"IFERROR(VLOOKUP(D5881,Справка!$G$2:$H$579,2,0),\"\")","v":""}]
[null,null,null,null,{"$f":"IFERROR(VLOOKUP(D5882,Справка!$G$2:$H$579,2,0),\"\")","v":""}]
[null,null,null,null,{"$f":"IFERROR(VLOOKUP(D5883,Справка!$G$2:$H$579,2,0),\"\")","v":""}]
[null,null,null,null,{"$f":"IFERROR(VLOOKUP(D5884,Справка!$G$2:$H$579,2,0),\"\")","v":""}]
[null,null,null,null,{"$f":"IFERROR(VLOOKUP(D5885,Справка!$G$2:$H$579,2,0),\"\")","v":""}]
[null,null,null,null,{"$f":"IFERROR(VLOOKUP(D5886,Справка!$G$2:$H$579,2,0),\"\")","v":""}]
[null,null,null,null,{"$f":"IFERROR(VLOOKUP(D5887,Справка!$G$2:$H$579,2,0),\"\")","v":""}]
[null,null,null,null,{"$f":"IFERROR(VLOOKUP(D5888,Справка!$G$2:$H$579,2,0),\"\")","v":""}]
[null,null,null,null,{"$f":"IFERROR(VLOOKUP(D5889,Справка!$G$2:$H$579,2,0),\"\")","v":""}]
[null,null,null,null,{"$f":"IFERROR(VLOOKUP(D5890,Справка!$G$2:$H$579,2,0),\"\")","v":""}]
[null,null,null,null,{"$f":"IFERROR(VLOOKUP(D5891,Справка!$G$2:$H$579,2,0),\"\")","v":""}]
[null,null,null,null,{"$f":"IFERROR(VLOOKUP(D5892,Справка!$G$2:$H$579,2,0),\"\")","v":""}]
[null,null,null,null,{"$f":"IFERROR(VLOOKUP(D5893,Справка!$G$2:$H$579,2,0),\"\")","v":""}]
[null,null,null,null,{"$f":"IFERROR(VLOOKUP(D5894,Справка!$G$2:$H$579,2,0),\"\")","v":""}]
[null,null,null,null,{"$f":"IFERROR(VLOOKUP(D5895,Справка!$G$2:$H$579,2,0),\"\")","v":""}]
[null,null,null,null,{"$f":"IFERROR(VLOOKUP(D5896,Справка!$G$2:$H$579,2,0),\"\")","v":""}]
[null,null,null,null,{"$f":"IFERROR(VLOOKUP(D5897,Справка!$G$2:$H$579,2,0),\"\")","v":""}]
[null,null,null,null,{"$f":"IFERROR(VLOOKUP(D5898,Справка!$G$2:$H$579,2,0),\"\")","v":""}]
[null,null,null,null,{"$f":"IFERROR(VLOOKUP(D5899,Справка!$G$2:$H$579,2,0),\"\")","v":""}]
[null,null,null,null,{"$f":"IFERROR(VLOOKUP(D5900,Справка!$G$2:$H$579,2,0),\"\")","v":""}]
[null,null,null,null,{"$f":"IFERROR(VLOOKUP(D5901,Справка!$G$2:$H$579,2,0),\"\")","v":""}]
[null,null,null,null,{"$f":"IFERROR(VLOOKUP(D5902,Справка!$G$2:$H$579,2,0),\"\")","v":""}]
[null,null,null,null,{"$f":"IFERROR(VLOOKUP(D5903,Справка!$G$2:$H$579,2,0),\"\")","v":""}]
[null,null,null,null,{"$f":"IFERROR(VLOOKUP(D5904,Справка!$G$2:$H$579,2,0),\"\")","v":""}]
[null,null,null,null,{"$f":"IFERROR(VLOOKUP(D5905,Справка!$G$2:$H$579,2,0),\"\")","v":""}]
[null,null,null,null,{"$f":"IFERROR(VLOOKUP(D5906,Справка!$G$2:$H$579,2,0),\"\")","v":""}]
[null,null,null,null,{"$f":"IFERROR(VLOOKUP(D5907,Справка!$G$2:$H$579,2,0),\"\")","v":""}]
[null,null,null,null,{"$f":"IFERROR(VLOOKUP(D5908,Справка!$G$2:$H$579,2,0),\"\")","v":""}]
[null,null,null,null,{"$f":"IFERROR(VLOOKUP(D5909,Справка!$G$2:$H$579,2,0),\"\")","v":""}]
[null,null,null,null,{"$f":"IFERROR(VLOOKUP(D5910,Справка!$G$2:$H$579,2,0),\"\")","v":""}]
[null,null,null,null,{"$f":"IFERROR(VLOOKUP(D5911,Справка!$G$2:$H$579,2,0),\"\")","v":""}]
[null,null,null,null,{"$f":"IFERROR(VLOOKUP(D5912,Справка!$G$2:$H$579,2,0),\"\")","v":""}]
[null,null,null,null,{"$f":"IFERROR(VLOOKUP(D5913,Справка!$G$2:$H$579,2,0),\"\")","v":""}]
[null,null,null,null,{"$f":"IFERROR(VLOOKUP(D5914,Справка!$G$2:$H$579,2,0),\"\")","v":""}]
[null,null,null,null,{"$f":"IFERROR(VLOOKUP(D5915,Справка!$G$2:$H$579,2,0),\"\")","v":""}]
[null,null,null,null,{"$f":"IFERROR(VLOOKUP(D5916,Справка!$G$2:$H$579,2,0),\"\")","v":""}]
[null,null,null,null,{"$f":"IFERROR(VLOOKUP(D5917,Справка!$G$2:$H$579,2,0),\"\")","v":""}]
[null,null,null,null,{"$f":"IFERROR(VLOOKUP(D5918,Справка!$G$2:$H$579,2,0),\"\")","v":""}]
[null,null,null,null,{"$f":"IFERROR(VLOOKUP(D5919,Справка!$G$2:$H$579,2,0),\"\")","v":""}]
[null,null,null,null,{"$f":"IFERROR(VLOOKUP(D5920,Справка!$G$2:$H$579,2,0),\"\")","v":""}]
[null,null,null,null,{"$f":"IFERROR(VLOOKUP(D5921,Справка!$G$2:$H$579,2,0),\"\")","v":""}]
[null,null,null,null,{"$f":"IFERROR(VLOOKUP(D5922,Справка!$G$2:$H$579,2,0),\"\")","v":""}]
[null,null,null,null,{"$f":"IFERROR(VLOOKUP(D5923,Справка!$G$2:$H$579,2,0),\"\")","v":""}]
[null,null,null,null,{"$f":"IFERROR(VLOOKUP(D5924,Справка!$G$2:$H$579,2,0),\"\")","v":""}]
[null,null,null,null,{"$f":"IFERROR(VLOOKUP(D5925,Справка!$G$2:$H$579,2,0),\"\")","v":""}]
[null,null,null,null,{"$f":"IFERROR(VLOOKUP(D5926,Справка!$G$2:$H$579,2,0),\"\")","v":""}]
[null,null,null,null,{"$f":"IFERROR(VLOOKUP(D5927,Справка!$G$2:$H$579,2,0),\"\")","v":""}]
[null,null,null,null,{"$f":"IFERROR(VLOOKUP(D5928,Справка!$G$2:$H$579,2,0),\"\")","v":""}]
[null,null,null,null,{"$f":"IFERROR(VLOOKUP(D5929,Справка!$G$2:$H$579,2,0),\"\")","v":""}]
[null,null,null,null,{"$f":"IFERROR(VLOOKUP(D5930,Справка!$G$2:$H$579,2,0),\"\")","v":""}]
[null,null,null,null,{"$f":"IFERROR(VLOOKUP(D5931,Справка!$G$2:$H$579,2,0),\"\")","v":""}]
[null,null,null,null,{"$f":"IFERROR(VLOOKUP(D5932,Справка!$G$2:$H$579,2,0),\"\")","v":""}]
[null,null,null,null,{"$f":"IFERROR(VLOOKUP(D5933,Справка!$G$2:$H$579,2,0),\"\")","v":""}]
[null,null,null,null,{"$f":"IFERROR(VLOOKUP(D5934,Справка!$G$2:$H$579,2,0),\"\")","v":""}]
[null,null,null,null,{"$f":"IFERROR(VLOOKUP(D5935,Справка!$G$2:$H$579,2,0),\"\")","v":""}]
[null,null,null,null,{"$f":"IFERROR(VLOOKUP(D5936,Справка!$G$2:$H$579,2,0),\"\")","v":""}]
[null,null,null,null,{"$f":"IFERROR(VLOOKUP(D5937,Справка!$G$2:$H$579,2,0),\"\")","v":""}]
[null,null,null,null,{"$f":"IFERROR(VLOOKUP(D5938,Справка!$G$2:$H$579,2,0),\"\")","v":""}]
[null,null,null,null,{"$f":"IFERROR(VLOOKUP(D5939,Справка!$G$2:$H$579,2,0),\"\")","v":""}]
[null,null,null,null,{"$f":"IFERROR(VLOOKUP(D5940,Справка!$G$2:$H$579,2,0),\"\")","v":""}]
[null,null,null,null,{"$f":"IFERROR(VLOOKUP(D5941,Справка!$G$2:$H$579,2,0),\"\")","v":""}]
[null,null,null,null,{"$f":"IFERROR(VLOOKUP(D5942,Справка!$G$2:$H$579,2,0),\"\")","v":""}]
[null,null,null,null,{"$f":"IFERROR(VLOOKUP(D5943,Справка!$G$2:$H$579,2,0),\"\")","v":""}]
[null,null,null,null,{"$f":"IFERROR(VLOOKUP(D5944,Справка!$G$2:$H$579,2,0),\"\")","v":""}]
[null,null,null,null,{"$f":"IFERROR(VLOOKUP(D5945,Справка!$G$2:$H$579,2,0),\"\")","v":""}]
[null,null,null,null,{"$f":"IFERROR(VLOOKUP(D5946,Справка!$G$2:$H$579,2,0),\"\")","v":""}]
[null,null,null,null,{"$f":"IFERROR(VLOOKUP(D5947,Справка!$G$2:$H$579,2,0),\"\")","v":""}]
[null,null,null,null,{"$f":"IFERROR(VLOOKUP(D5948,Справка!$G$2:$H$579,2,0),\"\")","v":""}]
[null,null,null,null,{"$f":"IFERROR(VLOOKUP(D5949,Справка!$G$2:$H$579,2,0),\"\")","v":""}]
[null,null,null,null,{"$f":"IFERROR(VLOOKUP(D5950,Справка!$G$2:$H$579,2,0),\"\")","v":""}]
[null,null,null,null,{"$f":"IFERROR(VLOOKUP(D5951,Справка!$G$2:$H$579,2,0),\"\")","v":""}]
[null,null,null,null,{"$f":"IFERROR(VLOOKUP(D5952,Справка!$G$2:$H$579,2,0),\"\")","v":""}]
[null,null,null,null,{"$f":"IFERROR(VLOOKUP(D5953,Справка!$G$2:$H$579,2,0),\"\")","v":""}]
[null,null,null,null,{"$f":"IFERROR(VLOOKUP(D5954,Справка!$G$2:$H$579,2,0),\"\")","v":""}]
[null,null,null,null,{"$f":"IFERROR(VLOOKUP(D5955,Справка!$G$2:$H$579,2,0),\"\")","v":""}]
[null,null,null,null,{"$f":"IFERROR(VLOOKUP(D5956,Справка!$G$2:$H$579,2,0),\"\")","v":""}]
[null,null,null,null,{"$f":"IFERROR(VLOOKUP(D5957,Справка!$G$2:$H$579,2,0),\"\")","v":""}]
[null,null,null,null,{"$f":"IFERROR(VLOOKUP(D5958,Справка!$G$2:$H$579,2,0),\"\")","v":""}]
[null,null,null,null,{"$f":"IFERROR(VLOOKUP(D5959,Справка!$G$2:$H$579,2,0),\"\")","v":""}]
[null,null,null,null,{"$f":"IFERROR(VLOOKUP(D5960,Справка!$G$2:$H$579,2,0),\"\")","v":""}]
[null,null,null,null,{"$f":"IFERROR(VLOOKUP(D5961,Справка!$G$2:$H$579,2,0),\"\")","v":""}]
[null,null,null,null,{"$f":"IFERROR(VLOOKUP(D5962,Справка!$G$2:$H$579,2,0),\"\")","v":""}]
[null,null,null,null,{"$f":"IFERROR(VLOOKUP(D5963,Справка!$G$2:$H$579,2,0),\"\")","v":""}]
[null,null,null,null,{"$f":"IFERROR(VLOOKUP(D5964,Справка!$G$2:$H$579,2,0),\"\")","v":""}]
[null,null,null,null,{"$f":"IFERROR(VLOOKUP(D5965,Справка!$G$2:$H$579,2,0),\"\")","v":""}]
[null,null,null,null,{"$f":"IFERROR(VLOOKUP(D5966,Справка!$G$2:$H$579,2,0),\"\")","v":""}]
[null,null,null,null,{"$f":"IFERROR(VLOOKUP(D5967,Справка!$G$2:$H$579,2,0),\"\")","v":""}]
[null,null,null,null,{"$f":"IFERROR(VLOOKUP(D5968,Справка!$G$2:$H$579,2,0),\"\")","v":""}]
[null,null,null,null,{"$f":"IFERROR(VLOOKUP(D5969,Справка!$G$2:$H$579,2,0),\"\")","v":""}]
[null,null,null,null,{"$f":"IFERROR(VLOOKUP(D5970,Справка!$G$2:$H$579,2,0),\"\")","v":""}]
[null,null,null,null,{"$f":"IFERROR(VLOOKUP(D5971,Справка!$G$2:$H$579,2,0),\"\")","v":""}]
[null,null,null,null,{"$f":"IFERROR(VLOOKUP(D5972,Справка!$G$2:$H$579,2,0),\"\")","v":""}]
[null,null,null,null,{"$f":"IFERROR(VLOOKUP(D5973,Справка!$G$2:$H$579,2,0),\"\")","v":""}]
[null,null,null,null,{"$f":"IFERROR(VLOOKUP(D5974,Справка!$G$2:$H$579,2,0),\"\")","v":""}]
[null,null,null,null,{"$f":"IFERROR(VLOOKUP(D5975,Справка!$G$2:$H$579,2,0),\"\")","v":""}]
[null,null,null,null,{"$f":"IFERROR(VLOOKUP(D5976,Справка!$G$2:$H$579,2,0),\"\")","v":""}]
[null,null,null,null,{"$f":"IFERROR(VLOOKUP(D5977,Справка!$G$2:$H$579,2,0),\"\")","v":""}]
[null,null,null,null,{"$f":"IFERROR(VLOOKUP(D5978,Справка!$G$2:$H$579,2,0),\"\")","v":""}]
[null,null,null,null,{"$f":"IFERROR(VLOOKUP(D5979,Справка!$G$2:$H$579,2,0),\"\")","v":""}]
[null,null,null,null,{"$f":"IFERROR(VLOOKUP(D5980,Справка!$G$2:$H$579,2,0),\"\")","v":""}]
[null,null,null,null,{"$f":"IFERROR(VLOOKUP(D5981,Справка!$G$2:$H$579,2,0),\"\")","v":""}]
[null,null,null,null,{"$f":"IFERROR(VLOOKUP(D5982,Справка!$G$2:$H$579,2,0),\"\")","v":""}]
[null,null,null,null,{"$f":"IFERROR(VLOOKUP(D5983,Справка!$G$2:$H$579,2,0),\"\")","v":""}]
[null,null,null,null,{"$f":"IFERROR(VLOOKUP(D5984,Справка!$G$2:$H$579,2,0),\"\")","v":""}]
[null,null,null,null,{"$f":"IFERROR(VLOOKUP(D5985,Справка!$G$2:$H$579,2,0),\"\")","v":""}]
[null,null,null,null,{"$f":"IFERROR(VLOOKUP(D5986,Справка!$G$2:$H$579,2,0),\"\")","v":""}]
[null,null,null,null,{"$f":"IFERROR(VLOOKUP(D5987,Справка!$G$2:$H$579,2,0),\"\")","v":""}]
[null,null,null,null,{"$f":"IFERROR(VLOOKUP(D5988,Справка!$G$2:$H$579,2,0),\"\")","v":""}]
[null,null,null,null,{"$f":"IFERROR(VLOOKUP(D5989,Справка!$G$2:$H$579,2,0),\"\")","v":""}]
[null,null,null,null,{"$f":"IFERROR(VLOOKUP(D5990,Справка!$G$2:$H$579,2,0),\"\")","v":""}]
[null,null,null,null,{"$f":"IFERROR(VLOOKUP(D5991,Справка!$G$2:$H$579,2,0),\"\")","v":""}]
[null,null,null,null,{"$f":"IFERROR(VLOOKUP(D5992,Справка!$G$2:$H$579,2,0),\"\")","v":""}]
[null,null,null,null,{"$f":"IFERROR(VLOOKUP(D5993,Справка!$G$2:$H$579,2,0),\"\")","v":""}]
[null,null,null,null,{"$f":"IFERROR(VLOOKUP(D5994,Справка!$G$2:$H$579,2,0),\"\")","v":""}]
[null,null,null,null,{"$f":"IFERROR(VLOOKUP(D5995,Справка!$G$2:$H$579,2,0),\"\")","v":""}]
[null,null,null,null,{"$f":"IFERROR(VLOOKUP(D5996,Справка!$G$2:$H$579,2,0),\"\")","v":""}]
[null,null,null,null,{"$f":"IFERROR(VLOOKUP(D5997,Справка!$G$2:$H$579,2,0),\"\")","v":""}]
[null,null,null,null,{"$f":"IFERROR(VLOOKUP(D5998,Справка!$G$2:$H$579,2,0),\"\")","v":""}]
[null,null,null,null,{"$f":"IFERROR(VLOOKUP(D5999,Справка!$G$2:$H$579,2,0),\"\")","v":""}]
[null,null,null,null,{"$f":"IFERROR(VLOOKUP(D6000,Справка!$G$2:$H$579,2,0),\"\")","v":""}]
[null,null,null,null,{"$f":"IFERROR(VLOOKUP(D6001,Справка!$G$2:$H$579,2,0),\"\")","v":""}]
[null,null,null,null,{"$f":"IFERROR(VLOOKUP(D6002,Справка!$G$2:$H$579,2,0),\"\")","v":""}]
[null,null,null,null,{"$f":"IFERROR(VLOOKUP(D6003,Справка!$G$2:$H$579,2,0),\"\")","v":""}]
[null,null,null,null,{"$f":"IFERROR(VLOOKUP(D6004,Справка!$G$2:$H$579,2,0),\"\")","v":""}]
[null,null,null,null,{"$f":"IFERROR(VLOOKUP(D6005,Справка!$G$2:$H$579,2,0),\"\")","v":""}]
[null,null,null,null,{"$f":"IFERROR(VLOOKUP(D6006,Справка!$G$2:$H$579,2,0),\"\")","v":""}]
[null,null,null,null,{"$f":"IFERROR(VLOOKUP(D6007,Справка!$G$2:$H$579,2,0),\"\")","v":""}]
[null,null,null,null,{"$f":"IFERROR(VLOOKUP(D6008,Справка!$G$2:$H$579,2,0),\"\")","v":""}]
[null,null,null,null,{"$f":"IFERROR(VLOOKUP(D6009,Справка!$G$2:$H$579,2,0),\"\")","v":""}]
[null,null,null,null,{"$f":"IFERROR(VLOOKUP(D6010,Справка!$G$2:$H$579,2,0),\"\")","v":""}]
[null,null,null,null,{"$f":"IFERROR(VLOOKUP(D6011,Справка!$G$2:$H$579,2,0),\"\")","v":""}]
[null,null,null,null,{"$f":"IFERROR(VLOOKUP(D6012,Справка!$G$2:$H$579,2,0),\"\")","v":""}]
[null,null,null,null,{"$f":"IFERROR(VLOOKUP(D6013,Справка!$G$2:$H$579,2,0),\"\")","v":""}]
[null,null,null,null,{"$f":"IFERROR(VLOOKUP(D6014,Справка!$G$2:$H$579,2,0),\"\")","v":""}]
[null,null,null,null,{"$f":"IFERROR(VLOOKUP(D6015,Справка!$G$2:$H$579,2,0),\"\")","v":""}]
[null,null,null,null,{"$f":"IFERROR(VLOOKUP(D6016,Справка!$G$2:$H$579,2,0),\"\")","v":""}]
[null,null,null,null,{"$f":"IFERROR(VLOOKUP(D6017,Справка!$G$2:$H$579,2,0),\"\")","v":""}]
[null,null,null,null,{"$f":"IFERROR(VLOOKUP(D6018,Справка!$G$2:$H$579,2,0),\"\")","v":""}]
[null,null,null,null,{"$f":"IFERROR(VLOOKUP(D6019,Справка!$G$2:$H$579,2,0),\"\")","v":""}]
[null,null,null,null,{"$f":"IFERROR(VLOOKUP(D6020,Справка!$G$2:$H$579,2,0),\"\")","v":""}]
[null,null,null,null,{"$f":"IFERROR(VLOOKUP(D6021,Справка!$G$2:$H$579,2,0),\"\")","v":""}]
[null,null,null,null,{"$f":"IFERROR(VLOOKUP(D6022,Справка!$G$2:$H$579,2,0),\"\")","v":""}]
[null,null,null,null,{"$f":"IFERROR(VLOOKUP(D6023,Справка!$G$2:$H$579,2,0),\"\")","v":""}]
[null,null,null,null,{"$f":"IFERROR(VLOOKUP(D6024,Справка!$G$2:$H$579,2,0),\"\")","v":""}]
[null,null,null,null,{"$f":"IFERROR(VLOOKUP(D6025,Справка!$G$2:$H$579,2,0),\"\")","v":""}]
[null,null,null,null,{"$f":"IFERROR(VLOOKUP(D6026,Справка!$G$2:$H$579,2,0),\"\")","v":""}]
[null,null,null,null,{"$f":"IFERROR(VLOOKUP(D6027,Справка!$G$2:$H$579,2,0),\"\")","v":""}]
[null,null,null,null,{"$f":"IFERROR(VLOOKUP(D6028,Справка!$G$2:$H$579,2,0),\"\")","v":""}]
[null,null,null,null,{"$f":"IFERROR(VLOOKUP(D6029,Справка!$G$2:$H$579,2,0),\"\")","v":""}]
[null,null,null,null,{"$f":"IFERROR(VLOOKUP(D6030,Справка!$G$2:$H$579,2,0),\"\")","v":""}]
[null,null,null,null,{"$f":"IFERROR(VLOOKUP(D6031,Справка!$G$2:$H$579,2,0),\"\")","v":""}]
[null,null,null,null,{"$f":"IFERROR(VLOOKUP(D6032,Справка!$G$2:$H$579,2,0),\"\")","v":""}]
[null,null,null,null,{"$f":"IFERROR(VLOOKUP(D6033,Справка!$G$2:$H$579,2,0),\"\")","v":""}]
[null,null,null,null,{"$f":"IFERROR(VLOOKUP(D6034,Справка!$G$2:$H$579,2,0),\"\")","v":""}]
[null,null,null,null,{"$f":"IFERROR(VLOOKUP(D6035,Справка!$G$2:$H$579,2,0),\"\")","v":""}]
[null,null,null,null,{"$f":"IFERROR(VLOOKUP(D6036,Справка!$G$2:$H$579,2,0),\"\")","v":""}]
[null,null,null,null,{"$f":"IFERROR(VLOOKUP(D6037,Справка!$G$2:$H$579,2,0),\"\")","v":""}]
[null,null,null,null,{"$f":"IFERROR(VLOOKUP(D6038,Справка!$G$2:$H$579,2,0),\"\")","v":""}]
[null,null,null,null,{"$f":"IFERROR(VLOOKUP(D6039,Справка!$G$2:$H$579,2,0),\"\")","v":""}]
[null,null,null,null,{"$f":"IFERROR(VLOOKUP(D6040,Справка!$G$2:$H$579,2,0),\"\")","v":""}]
[null,null,null,null,{"$f":"IFERROR(VLOOKUP(D6041,Справка!$G$2:$H$579,2,0),\"\")","v":""}]
[null,null,null,null,{"$f":"IFERROR(VLOOKUP(D6042,Справка!$G$2:$H$579,2,0),\"\")","v":""}]
[null,null,null,null,{"$f":"IFERROR(VLOOKUP(D6043,Справка!$G$2:$H$579,2,0),\"\")","v":""}]
[null,null,null,null,{"$f":"IFERROR(VLOOKUP(D6044,Справка!$G$2:$H$579,2,0),\"\")","v":""}]
[null,null,null,null,{"$f":"IFERROR(VLOOKUP(D6045,Справка!$G$2:$H$579,2,0),\"\")","v":""}]
[null,null,null,null,{"$f":"IFERROR(VLOOKUP(D6046,Справка!$G$2:$H$579,2,0),\"\")","v":""}]
[null,null,null,null,{"$f":"IFERROR(VLOOKUP(D6047,Справка!$G$2:$H$579,2,0),\"\")","v":""}]
[null,null,null,null,{"$f":"IFERROR(VLOOKUP(D6048,Справка!$G$2:$H$579,2,0),\"\")","v":""}]
[null,null,null,null,{"$f":"IFERROR(VLOOKUP(D6049,Справка!$G$2:$H$579,2,0),\"\")","v":""}]
[null,null,null,null,{"$f":"IFERROR(VLOOKUP(D6050,Справка!$G$2:$H$579,2,0),\"\")","v":""}]
[null,null,null,null,{"$f":"IFERROR(VLOOKUP(D6051,Справка!$G$2:$H$579,2,0),\"\")","v":""}]
[null,null,null,null,{"$f":"IFERROR(VLOOKUP(D6052,Справка!$G$2:$H$579,2,0),\"\")","v":""}]
[null,null,null,null,{"$f":"IFERROR(VLOOKUP(D6053,Справка!$G$2:$H$579,2,0),\"\")","v":""}]
[null,null,null,null,{"$f":"IFERROR(VLOOKUP(D6054,Справка!$G$2:$H$579,2,0),\"\")","v":""}]
[null,null,null,null,{"$f":"IFERROR(VLOOKUP(D6055,Справка!$G$2:$H$579,2,0),\"\")","v":""}]
[null,null,null,null,{"$f":"IFERROR(VLOOKUP(D6056,Справка!$G$2:$H$579,2,0),\"\")","v":""}]
[null,null,null,null,{"$f":"IFERROR(VLOOKUP(D6057,Справка!$G$2:$H$579,2,0),\"\")","v":""}]
[null,null,null,null,{"$f":"IFERROR(VLOOKUP(D6058,Справка!$G$2:$H$579,2,0),\"\")","v":""}]
[null,null,null,null,{"$f":"IFERROR(VLOOKUP(D6059,Справка!$G$2:$H$579,2,0),\"\")","v":""}]
[null,null,null,null,{"$f":"IFERROR(VLOOKUP(D6060,Справка!$G$2:$H$579,2,0),\"\")","v":""}]
[null,null,null,null,{"$f":"IFERROR(VLOOKUP(D6061,Справка!$G$2:$H$579,2,0),\"\")","v":""}]
[null,null,null,null,{"$f":"IFERROR(VLOOKUP(D6062,Справка!$G$2:$H$579,2,0),\"\")","v":""}]
[null,null,null,null,{"$f":"IFERROR(VLOOKUP(D6063,Справка!$G$2:$H$579,2,0),\"\")","v":""}]
[null,null,null,null,{"$f":"IFERROR(VLOOKUP(D6064,Справка!$G$2:$H$579,2,0),\"\")","v":""}]
[null,null,null,null,{"$f":"IFERROR(VLOOKUP(D6065,Справка!$G$2:$H$579,2,0),\"\")","v":""}]
[null,null,null,null,{"$f":"IFERROR(VLOOKUP(D6066,Справка!$G$2:$H$579,2,0),\"\")","v":""}]
[null,null,null,null,{"$f":"IFERROR(VLOOKUP(D6067,Справка!$G$2:$H$579,2,0),\"\")","v":""}]
[null,null,null,null,{"$f":"IFERROR(VLOOKUP(D6068,Справка!$G$2:$H$579,2,0),\"\")","v":""}]
[null,null,null,null,{"$f":"IFERROR(VLOOKUP(D6069,Справка!$G$2:$H$579,2,0),\"\")","v":""}]
[null,null,null,null,{"$f":"IFERROR(VLOOKUP(D6070,Справка!$G$2:$H$579,2,0),\"\")","v":""}]
[null,null,null,null,{"$f":"IFERROR(VLOOKUP(D6071,Справка!$G$2:$H$579,2,0),\"\")","v":""}]
[null,null,null,null,{"$f":"IFERROR(VLOOKUP(D6072,Справка!$G$2:$H$579,2,0),\"\")","v":""}]
[null,null,null,null,{"$f":"IFERROR(VLOOKUP(D6073,Справка!$G$2:$H$579,2,0),\"\")","v":""}]
[null,null,null,null,{"$f":"IFERROR(VLOOKUP(D6074,Справка!$G$2:$H$579,2,0),\"\")","v":""}]
[null,null,null,null,{"$f":"IFERROR(VLOOKUP(D6075,Справка!$G$2:$H$579,2,0),\"\")","v":""}]
[null,null,null,null,{"$f":"IFERROR(VLOOKUP(D6076,Справка!$G$2:$H$579,2,0),\"\")","v":""}]
[null,null,null,null,{"$f":"IFERROR(VLOOKUP(D6077,Справка!$G$2:$H$579,2,0),\"\")","v":""}]
[null,null,null,null,{"$f":"IFERROR(VLOOKUP(D6078,Справка!$G$2:$H$579,2,0),\"\")","v":""}]
[null,null,null,null,{"$f":"IFERROR(VLOOKUP(D6079,Справка!$G$2:$H$579,2,0),\"\")","v":""}]
[null,null,null,null,{"$f":"IFERROR(VLOOKUP(D6080,Справка!$G$2:$H$579,2,0),\"\")","v":""}]
[null,null,null,null,{"$f":"IFERROR(VLOOKUP(D6081,Справка!$G$2:$H$579,2,0),\"\")","v":""}]
[null,null,null,null,{"$f":"IFERROR(VLOOKUP(D6082,Справка!$G$2:$H$579,2,0),\"\")","v":""}]
[null,null,null,null,{"$f":"IFERROR(VLOOKUP(D6083,Справка!$G$2:$H$579,2,0),\"\")","v":""}]
[null,null,null,null,{"$f":"IFERROR(VLOOKUP(D6084,Справка!$G$2:$H$579,2,0),\"\")","v":""}]
[null,null,null,null,{"$f":"IFERROR(VLOOKUP(D6085,Справка!$G$2:$H$579,2,0),\"\")","v":""}]
[null,null,null,null,{"$f":"IFERROR(VLOOKUP(D6086,Справка!$G$2:$H$579,2,0),\"\")","v":""}]
[null,null,null,null,{"$f":"IFERROR(VLOOKUP(D6087,Справка!$G$2:$H$579,2,0),\"\")","v":""}]
[null,null,null,null,{"$f":"IFERROR(VLOOKUP(D6088,Справка!$G$2:$H$579,2,0),\"\")","v":""}]
[null,null,null,null,{"$f":"IFERROR(VLOOKUP(D6089,Справка!$G$2:$H$579,2,0),\"\")","v":""}]
[null,null,null,null,{"$f":"IFERROR(VLOOKUP(D6090,Справка!$G$2:$H$579,2,0),\"\")","v":""}]
[null,null,null,null,{"$f":"IFERROR(VLOOKUP(D6091,Справка!$G$2:$H$579,2,0),\"\")","v":""}]
[null,null,null,null,{"$f":"IFERROR(VLOOKUP(D6092,Справка!$G$2:$H$579,2,0),\"\")","v":""}]
[null,null,null,null,{"$f":"IFERROR(VLOOKUP(D6093,Справка!$G$2:$H$579,2,0),\"\")","v":""}]
[null,null,null,null,{"$f":"IFERROR(VLOOKUP(D6094,Справка!$G$2:$H$579,2,0),\"\")","v":""}]
[null,null,null,null,{"$f":"IFERROR(VLOOKUP(D6095,Справка!$G$2:$H$579,2,0),\"\")","v":""}]
[null,null,null,null,{"$f":"IFERROR(VLOOKUP(D6096,Справка!$G$2:$H$579,2,0),\"\")","v":""}]
[null,null,null,null,{"$f":"IFERROR(VLOOKUP(D6097,Справка!$G$2:$H$579,2,0),\"\")","v":""}]
[null,null,null,null,{"$f":"IFERROR(VLOOKUP(D6098,Справка!$G$2:$H$579,2,0),\"\")","v":""}]
[null,null,null,null,{"$f":"IFERROR(VLOOKUP(D6099,Справка!$G$2:$H$579,2,0),\"\")","v":""}]
[null,null,null,null,{"$f":"IFERROR(VLOOKUP(D6100,Справка!$G$2:$H$579,2,0),\"\")","v":""}]
[null,null,null,null,{"$f":"IFERROR(VLOOKUP(D6101,Справка!$G$2:$H$579,2,0),\"\")","v":""}]
[null,null,null,null,{"$f":"IFERROR(VLOOKUP(D6102,Справка!$G$2:$H$579,2,0),\"\")","v":""}]
[null,null,null,null,{"$f":"IFERROR(VLOOKUP(D6103,Справка!$G$2:$H$579,2,0),\"\")","v":""}]
[null,null,null,null,{"$f":"IFERROR(VLOOKUP(D6104,Справка!$G$2:$H$579,2,0),\"\")","v":""}]
[null,null,null,null,{"$f":"IFERROR(VLOOKUP(D6105,Справка!$G$2:$H$579,2,0),\"\")","v":""}]
[null,null,null,null,{"$f":"IFERROR(VLOOKUP(D6106,Справка!$G$2:$H$579,2,0),\"\")","v":""}]
[null,null,null,null,{"$f":"IFERROR(VLOOKUP(D6107,Справка!$G$2:$H$579,2,0),\"\")","v":""}]
[null,null,null,null,{"$f":"IFERROR(VLOOKUP(D6108,Справка!$G$2:$H$579,2,0),\"\")","v":""}]
[null,null,null,null,{"$f":"IFERROR(VLOOKUP(D6109,Справка!$G$2:$H$579,2,0),\"\")","v":""}]
[null,null,null,null,{"$f":"IFERROR(VLOOKUP(D6110,Справка!$G$2:$H$579,2,0),\"\")","v":""}]
[null,null,null,null,{"$f":"IFERROR(VLOOKUP(D6111,Справка!$G$2:$H$579,2,0),\"\")","v":""}]
[null,null,null,null,{"$f":"IFERROR(VLOOKUP(D6112,Справка!$G$2:$H$579,2,0),\"\")","v":""}]
[null,null,null,null,{"$f":"IFERROR(VLOOKUP(D6113,Справка!$G$2:$H$579,2,0),\"\")","v":""}]
[null,null,null,null,{"$f":"IFERROR(VLOOKUP(D6114,Справка!$G$2:$H$579,2,0),\"\")","v":""}]
[null,null,null,null,{"$f":"IFERROR(VLOOKUP(D6115,Справка!$G$2:$H$579,2,0),\"\")","v":""}]
[null,null,null,null,{"$f":"IFERROR(VLOOKUP(D6116,Справка!$G$2:$H$579,2,0),\"\")","v":""}]
[null,null,null,null,{"$f":"IFERROR(VLOOKUP(D6117,Справка!$G$2:$H$579,2,0),\"\")","v":""}]
[null,null,null,null,{"$f":"IFERROR(VLOOKUP(D6118,Справка!$G$2:$H$579,2,0),\"\")","v":""}]
[null,null,null,null,{"$f":"IFERROR(VLOOKUP(D6119,Справка!$G$2:$H$579,2,0),\"\")","v":""}]
[null,null,null,null,{"$f":"IFERROR(VLOOKUP(D6120,Справка!$G$2:$H$579,2,0),\"\")","v":""}]
[null,null,null,null,{"$f":"IFERROR(VLOOKUP(D6121,Справка!$G$2:$H$579,2,0),\"\")","v":""}]
[null,null,null,null,{"$f":"IFERROR(VLOOKUP(D6122,Справка!$G$2:$H$579,2,0),\"\")","v":""}]
[null,null,null,null,{"$f":"IFERROR(VLOOKUP(D6123,Справка!$G$2:$H$579,2,0),\"\")","v":""}]
[null,null,null,null,{"$f":"IFERROR(VLOOKUP(D6124,Справка!$G$2:$H$579,2,0),\"\")","v":""}]
[null,null,null,null,{"$f":"IFERROR(VLOOKUP(D6125,Справка!$G$2:$H$579,2,0),\"\")","v":""}]
[null,null,null,null,{"$f":"IFERROR(VLOOKUP(D6126,Справка!$G$2:$H$579,2,0),\"\")","v":""}]
[null,null,null,null,{"$f":"IFERROR(VLOOKUP(D6127,Справка!$G$2:$H$579,2,0),\"\")","v":""}]
[null,null,null,null,{"$f":"IFERROR(VLOOKUP(D6128,Справка!$G$2:$H$579,2,0),\"\")","v":""}]
[null,null,null,null,{"$f":"IFERROR(VLOOKUP(D6129,Справка!$G$2:$H$579,2,0),\"\")","v":""}]
[null,null,null,null,{"$f":"IFERROR(VLOOKUP(D6130,Справка!$G$2:$H$579,2,0),\"\")","v":""}]
[null,null,null,null,{"$f":"IFERROR(VLOOKUP(D6131,Справка!$G$2:$H$579,2,0),\"\")","v":""}]
[null,null,null,null,{"$f":"IFERROR(VLOOKUP(D6132,Справка!$G$2:$H$579,2,0),\"\")","v":""}]
[null,null,null,null,{"$f":"IFERROR(VLOOKUP(D6133,Справка!$G$2:$H$579,2,0),\"\")","v":""}]
[null,null,null,null,{"$f":"IFERROR(VLOOKUP(D6134,Справка!$G$2:$H$579,2,0),\"\")","v":""}]
[null,null,null,null,{"$f":"IFERROR(VLOOKUP(D6135,Справка!$G$2:$H$579,2,0),\"\")","v":""}]
[null,null,null,null,{"$f":"IFERROR(VLOOKUP(D6136,Справка!$G$2:$H$579,2,0),\"\")","v":""}]
[null,null,null,null,{"$f":"IFERROR(VLOOKUP(D6137,Справка!$G$2:$H$579,2,0),\"\")","v":""}]
[null,null,null,null,{"$f":"IFERROR(VLOOKUP(D6138,Справка!$G$2:$H$579,2,0),\"\")","v":""}]
[null,null,null,null,{"$f":"IFERROR(VLOOKUP(D6139,Справка!$G$2:$H$579,2,0),\"\")","v":""}]
[null,null,null,null,{"$f":"IFERROR(VLOOKUP(D6140,Справка!$G$2:$H$579,2,0),\"\")","v":""}]
[null,null,null,null,{"$f":"IFERROR(VLOOKUP(D6141,Справка!$G$2:$H$579,2,0),\"\")","v":""}]
[null,null,null,null,{"$f":"IFERROR(VLOOKUP(D6142,Справка!$G$2:$H$579,2,0),\"\")","v":""}]
[null,null,null,null,{"$f":"IFERROR(VLOOKUP(D6143,Справка!$G$2:$H$579,2,0),\"\")","v":""}]
[null,null,null,null,{"$f":"IFERROR(VLOOKUP(D6144,Справка!$G$2:$H$579,2,0),\"\")","v":""}]
[null,null,null,null,{"$f":"IFERROR(VLOOKUP(D6145,Справка!$G$2:$H$579,2,0),\"\")","v":""}]
[null,null,null,null,{"$f":"IFERROR(VLOOKUP(D6146,Справка!$G$2:$H$579,2,0),\"\")","v":""}]
[null,null,null,null,{"$f":"IFERROR(VLOOKUP(D6147,Справка!$G$2:$H$579,2,0),\"\")","v":""}]
[null,null,null,null,{"$f":"IFERROR(VLOOKUP(D6148,Справка!$G$2:$H$579,2,0),\"\")","v":""}]
[null,null,null,null,{"$f":"IFERROR(VLOOKUP(D6149,Справка!$G$2:$H$579,2,0),\"\")","v":""}]
[null,null,null,null,{"$f":"IFERROR(VLOOKUP(D6150,Справка!$G$2:$H$579,2,0),\"\")","v":""}]
[null,null,null,null,{"$f":"IFERROR(VLOOKUP(D6151,Справка!$G$2:$H$579,2,0),\"\")","v":""}]
[null,null,null,null,{"$f":"IFERROR(VLOOKUP(D6152,Справка!$G$2:$H$579,2,0),\"\")","v":""}]
[null,null,null,null,{"$f":"IFERROR(VLOOKUP(D6153,Справка!$G$2:$H$579,2,0),\"\")","v":""}]
[null,null,null,null,{"$f":"IFERROR(VLOOKUP(D6154,Справка!$G$2:$H$579,2,0),\"\")","v":""}]
[null,null,null,null,{"$f":"IFERROR(VLOOKUP(D6155,Справка!$G$2:$H$579,2,0),\"\")","v":""}]
[null,null,null,null,{"$f":"IFERROR(VLOOKUP(D6156,Справка!$G$2:$H$579,2,0),\"\")","v":""}]
[null,null,null,null,{"$f":"IFERROR(VLOOKUP(D6157,Справка!$G$2:$H$579,2,0),\"\")","v":""}]
[null,null,null,null,{"$f":"IFERROR(VLOOKUP(D6158,Справка!$G$2:$H$579,2,0),\"\")","v":""}]
[null,null,null,null,{"$f":"IFERROR(VLOOKUP(D6159,Справка!$G$2:$H$579,2,0),\"\")","v":""}]
[null,null,null,null,{"$f":"IFERROR(VLOOKUP(D6160,Справка!$G$2:$H$579,2,0),\"\")","v":""}]
[null,null,null,null,{"$f":"IFERROR(VLOOKUP(D6161,Справка!$G$2:$H$579,2,0),\"\")","v":""}]
[null,null,null,null,{"$f":"IFERROR(VLOOKUP(D6162,Справка!$G$2:$H$579,2,0),\"\")","v":""}]
[null,null,null,null,{"$f":"IFERROR(VLOOKUP(D6163,Справка!$G$2:$H$579,2,0),\"\")","v":""}]
[null,null,null,null,{"$f":"IFERROR(VLOOKUP(D6164,Справка!$G$2:$H$579,2,0),\"\")","v":""}]
[null,null,null,null,{"$f":"IFERROR(VLOOKUP(D6165,Справка!$G$2:$H$579,2,0),\"\")","v":""}]
[null,null,null,null,{"$f":"IFERROR(VLOOKUP(D6166,Справка!$G$2:$H$579,2,0),\"\")","v":""}]
[null,null,null,null,{"$f":"IFERROR(VLOOKUP(D6167,Справка!$G$2:$H$579,2,0),\"\")","v":""}]
[null,null,null,null,{"$f":"IFERROR(VLOOKUP(D6168,Справка!$G$2:$H$579,2,0),\"\")","v":""}]
[null,null,null,null,{"$f":"IFERROR(VLOOKUP(D6169,Справка!$G$2:$H$579,2,0),\"\")","v":""}]
[null,null,null,null,{"$f":"IFERROR(VLOOKUP(D6170,Справка!$G$2:$H$579,2,0),\"\")","v":""}]
[null,null,null,null,{"$f":"IFERROR(VLOOKUP(D6171,Справка!$G$2:$H$579,2,0),\"\")","v":""}]
[null,null,null,null,{"$f":"IFERROR(VLOOKUP(D6172,Справка!$G$2:$H$579,2,0),\"\")","v":""}]
[null,null,null,null,{"$f":"IFERROR(VLOOKUP(D6173,Справка!$G$2:$H$579,2,0),\"\")","v":""}]
[null,null,null,null,{"$f":"IFERROR(VLOOKUP(D6174,Справка!$G$2:$H$579,2,0),\"\")","v":""}]
[null,null,null,null,{"$f":"IFERROR(VLOOKUP(D6175,Справка!$G$2:$H$579,2,0),\"\")","v":""}]
[null,null,null,null,{"$f":"IFERROR(VLOOKUP(D6176,Справка!$G$2:$H$579,2,0),\"\")","v":""}]
[null,null,null,null,{"$f":"IFERROR(VLOOKUP(D6177,Справка!$G$2:$H$579,2,0),\"\")","v":""}]
[null,null,null,null,{"$f":"IFERROR(VLOOKUP(D6178,Справка!$G$2:$H$579,2,0),\"\")","v":""}]
[null,null,null,null,{"$f":"IFERROR(VLOOKUP(D6179,Справка!$G$2:$H$579,2,0),\"\")","v":""}]
[null,null,null,null,{"$f":"IFERROR(VLOOKUP(D6180,Справка!$G$2:$H$579,2,0),\"\")","v":""}]
[null,null,null,null,{"$f":"IFERROR(VLOOKUP(D6181,Справка!$G$2:$H$579,2,0),\"\")","v":""}]
[null,null,null,null,{"$f":"IFERROR(VLOOKUP(D6182,Справка!$G$2:$H$579,2,0),\"\")","v":""}]
[null,null,null,null,{"$f":"IFERROR(VLOOKUP(D6183,Справка!$G$2:$H$579,2,0),\"\")","v":""}]
[null,null,null,null,{"$f":"IFERROR(VLOOKUP(D6184,Справка!$G$2:$H$579,2,0),\"\")","v":""}]
[null,null,null,null,{"$f":"IFERROR(VLOOKUP(D6185,Справка!$G$2:$H$579,2,0),\"\")","v":""}]
[null,null,null,null,{"$f":"IFERROR(VLOOKUP(D6186,Справка!$G$2:$H$579,2,0),\"\")","v":""}]
[null,null,null,null,{"$f":"IFERROR(VLOOKUP(D6187,Справка!$G$2:$H$579,2,0),\"\")","v":""}]
[null,null,null,null,{"$f":"IFERROR(VLOOKUP(D6188,Справка!$G$2:$H$579,2,0),\"\")","v":""}]
[null,null,null,null,{"$f":"IFERROR(VLOOKUP(D6189,Справка!$G$2:$H$579,2,0),\"\")","v":""}]
[null,null,null,null,{"$f":"IFERROR(VLOOKUP(D6190,Справка!$G$2:$H$579,2,0),\"\")","v":""}]
[null,null,null,null,{"$f":"IFERROR(VLOOKUP(D6191,Справка!$G$2:$H$579,2,0),\"\")","v":""}]
[null,null,null,null,{"$f":"IFERROR(VLOOKUP(D6192,Справка!$G$2:$H$579,2,0),\"\")","v":""}]
[null,null,null,null,{"$f":"IFERROR(VLOOKUP(D6193,Справка!$G$2:$H$579,2,0),\"\")","v":""}]
[null,null,null,null,{"$f":"IFERROR(VLOOKUP(D6194,Справка!$G$2:$H$579,2,0),\"\")","v":""}]
[null,null,null,null,{"$f":"IFERROR(VLOOKUP(D6195,Справка!$G$2:$H$579,2,0),\"\")","v":""}]
[null,null,null,null,{"$f":"IFERROR(VLOOKUP(D6196,Справка!$G$2:$H$579,2,0),\"\")","v":""}]
[null,null,null,null,{"$f":"IFERROR(VLOOKUP(D6197,Справка!$G$2:$H$579,2,0),\"\")","v":""}]
[null,null,null,null,{"$f":"IFERROR(VLOOKUP(D6198,Справка!$G$2:$H$579,2,0),\"\")","v":""}]
[null,null,null,null,{"$f":"IFERROR(VLOOKUP(D6199,Справка!$G$2:$H$579,2,0),\"\")","v":""}]
[null,null,null,null,{"$f":"IFERROR(VLOOKUP(D6200,Справка!$G$2:$H$579,2,0),\"\")","v":""}]
[null,null,null,null,{"$f":"IFERROR(VLOOKUP(D6201,Справка!$G$2:$H$579,2,0),\"\")","v":""}]
[null,null,null,null,{"$f":"IFERROR(VLOOKUP(D6202,Справка!$G$2:$H$579,2,0),\"\")","v":""}]
[null,null,null,null,{"$f":"IFERROR(VLOOKUP(D6203,Справка!$G$2:$H$579,2,0),\"\")","v":""}]
[null,null,null,null,{"$f":"IFERROR(VLOOKUP(D6204,Справка!$G$2:$H$579,2,0),\"\")","v":""}]
[null,null,null,null,{"$f":"IFERROR(VLOOKUP(D6205,Справка!$G$2:$H$579,2,0),\"\")","v":""}]
[null,null,null,null,{"$f":"IFERROR(VLOOKUP(D6206,Справка!$G$2:$H$579,2,0),\"\")","v":""}]
[null,null,null,null,{"$f":"IFERROR(VLOOKUP(D6207,Справка!$G$2:$H$579,2,0),\"\")","v":""}]
[null,null,null,null,{"$f":"IFERROR(VLOOKUP(D6208,Справка!$G$2:$H$579,2,0),\"\")","v":""}]
[null,null,null,null,{"$f":"IFERROR(VLOOKUP(D6209,Справка!$G$2:$H$579,2,0),\"\")","v":""}]
[null,null,null,null,{"$f":"IFERROR(VLOOKUP(D6210,Справка!$G$2:$H$579,2,0),\"\")","v":""}]
[null,null,null,null,{"$f":"IFERROR(VLOOKUP(D6211,Справка!$G$2:$H$579,2,0),\"\")","v":""}]
[null,null,null,null,{"$f":"IFERROR(VLOOKUP(D6212,Справка!$G$2:$H$579,2,0),\"\")","v":""}]
[null,null,null,null,{"$f":"IFERROR(VLOOKUP(D6213,Справка!$G$2:$H$579,2,0),\"\")","v":""}]
[null,null,null,null,{"$f":"IFERROR(VLOOKUP(D6214,Справка!$G$2:$H$579,2,0),\"\")","v":""}]
[null,null,null,null,{"$f":"IFERROR(VLOOKUP(D6215,Справка!$G$2:$H$579,2,0),\"\")","v":""}]
[null,null,null,null,{"$f":"IFERROR(VLOOKUP(D6216,Справка!$G$2:$H$579,2,0),\"\")","v":""}]
[null,null,null,null,{"$f":"IFERROR(VLOOKUP(D6217,Справка!$G$2:$H$579,2,0),\"\")","v":""}]
[null,null,null,null,{"$f":"IFERROR(VLOOKUP(D6218,Справка!$G$2:$H$579,2,0),\"\")","v":""}]
[null,null,null,null,{"$f":"IFERROR(VLOOKUP(D6219,Справка!$G$2:$H$579,2,0),\"\")","v":""}]
[null,null,null,null,{"$f":"IFERROR(VLOOKUP(D6220,Справка!$G$2:$H$579,2,0),\"\")","v":""}]
[null,null,null,null,{"$f":"IFERROR(VLOOKUP(D6221,Справка!$G$2:$H$579,2,0),\"\")","v":""}]
[null,null,null,null,{"$f":"IFERROR(VLOOKUP(D6222,Справка!$G$2:$H$579,2,0),\"\")","v":""}]
[null,null,null,null,{"$f":"IFERROR(VLOOKUP(D6223,Справка!$G$2:$H$579,2,0),\"\")","v":""}]
[null,null,null,null,{"$f":"IFERROR(VLOOKUP(D6224,Справка!$G$2:$H$579,2,0),\"\")","v":""}]
[null,null,null,null,{"$f":"IFERROR(VLOOKUP(D6225,Справка!$G$2:$H$579,2,0),\"\")","v":""}]
[null,null,null,null,{"$f":"IFERROR(VLOOKUP(D6226,Справка!$G$2:$H$579,2,0),\"\")","v":""}]
[null,null,null,null,{"$f":"IFERROR(VLOOKUP(D6227,Справка!$G$2:$H$579,2,0),\"\")","v":""}]
[null,null,null,null,{"$f":"IFERROR(VLOOKUP(D6228,Справка!$G$2:$H$579,2,0),\"\")","v":""}]
[null,null,null,null,{"$f":"IFERROR(VLOOKUP(D6229,Справка!$G$2:$H$579,2,0),\"\")","v":""}]
[null,null,null,null,{"$f":"IFERROR(VLOOKUP(D6230,Справка!$G$2:$H$579,2,0),\"\")","v":""}]
[null,null,null,null,{"$f":"IFERROR(VLOOKUP(D6231,Справка!$G$2:$H$579,2,0),\"\")","v":""}]
[null,null,null,null,{"$f":"IFERROR(VLOOKUP(D6232,Справка!$G$2:$H$579,2,0),\"\")","v":""}]
[null,null,null,null,{"$f":"IFERROR(VLOOKUP(D6233,Справка!$G$2:$H$579,2,0),\"\")","v":""}]
[null,null,null,null,{"$f":"IFERROR(VLOOKUP(D6234,Справка!$G$2:$H$579,2,0),\"\")","v":""}]
[null,null,null,null,{"$f":"IFERROR(VLOOKUP(D6235,Справка!$G$2:$H$579,2,0),\"\")","v":""}]
[null,null,null,null,{"$f":"IFERROR(VLOOKUP(D6236,Справка!$G$2:$H$579,2,0),\"\")","v":""}]
[null,null,null,null,{"$f":"IFERROR(VLOOKUP(D6237,Справка!$G$2:$H$579,2,0),\"\")","v":""}]
[null,null,null,null,{"$f":"IFERROR(VLOOKUP(D6238,Справка!$G$2:$H$579,2,0),\"\")","v":""}]
[null,null,null,null,{"$f":"IFERROR(VLOOKUP(D6239,Справка!$G$2:$H$579,2,0),\"\")","v":""}]
[null,null,null,null,{"$f":"IFERROR(VLOOKUP(D6240,Справка!$G$2:$H$579,2,0),\"\")","v":""}]
[null,null,null,null,{"$f":"IFERROR(VLOOKUP(D6241,Справка!$G$2:$H$579,2,0),\"\")","v":""}]
[null,null,null,null,{"$f":"IFERROR(VLOOKUP(D6242,Справка!$G$2:$H$579,2,0),\"\")","v":""}]
[null,null,null,null,{"$f":"IFERROR(VLOOKUP(D6243,Справка!$G$2:$H$579,2,0),\"\")","v":""}]
[null,null,null,null,{"$f":"IFERROR(VLOOKUP(D6244,Справка!$G$2:$H$579,2,0),\"\")","v":""}]
[null,null,null,null,{"$f":"IFERROR(VLOOKUP(D6245,Справка!$G$2:$H$579,2,0),\"\")","v":""}]
[null,null,null,null,{"$f":"IFERROR(VLOOKUP(D6246,Справка!$G$2:$H$579,2,0),\"\")","v":""}]
[null,null,null,null,{"$f":"IFERROR(VLOOKUP(D6247,Справка!$G$2:$H$579,2,0),\"\")","v":""}]
[null,null,null,null,{"$f":"IFERROR(VLOOKUP(D6248,Справка!$G$2:$H$579,2,0),\"\")","v":""}]
[null,null,null,null,{"$f":"IFERROR(VLOOKUP(D6249,Справка!$G$2:$H$579,2,0),\"\")","v":""}]
[null,null,null,null,{"$f":"IFERROR(VLOOKUP(D6250,Справка!$G$2:$H$579,2,0),\"\")","v":""}]
[null,null,null,null,{"$f":"IFERROR(VLOOKUP(D6251,Справка!$G$2:$H$579,2,0),\"\")","v":""}]
[null,null,null,null,{"$f":"IFERROR(VLOOKUP(D6252,Справка!$G$2:$H$579,2,0),\"\")","v":""}]
[null,null,null,null,{"$f":"IFERROR(VLOOKUP(D6253,Справка!$G$2:$H$579,2,0),\"\")","v":""}]
[null,null,null,null,{"$f":"IFERROR(VLOOKUP(D6254,Справка!$G$2:$H$579,2,0),\"\")","v":""}]
[null,null,null,null,{"$f":"IFERROR(VLOOKUP(D6255,Справка!$G$2:$H$579,2,0),\"\")","v":""}]
[null,null,null,null,{"$f":"IFERROR(VLOOKUP(D6256,Справка!$G$2:$H$579,2,0),\"\")","v":""}]
[null,null,null,null,{"$f":"IFERROR(VLOOKUP(D6257,Справка!$G$2:$H$579,2,0),\"\")","v":""}]
[null,null,null,null,{"$f":"IFERROR(VLOOKUP(D6258,Справка!$G$2:$H$579,2,0),\"\")","v":""}]
[null,null,null,null,{"$f":"IFERROR(VLOOKUP(D6259,Справка!$G$2:$H$579,2,0),\"\")","v":""}]
[null,null,null,null,{"$f":"IFERROR(VLOOKUP(D6260,Справка!$G$2:$H$579,2,0),\"\")","v":""}]
[null,null,null,null,{"$f":"IFERROR(VLOOKUP(D6261,Справка!$G$2:$H$579,2,0),\"\")","v":""}]
[null,null,null,null,{"$f":"IFERROR(VLOOKUP(D6262,Справка!$G$2:$H$579,2,0),\"\")","v":""}]
[null,null,null,null,{"$f":"IFERROR(VLOOKUP(D6263,Справка!$G$2:$H$579,2,0),\"\")","v":""}]
[null,null,null,null,{"$f":"IFERROR(VLOOKUP(D6264,Справка!$G$2:$H$579,2,0),\"\")","v":""}]
[null,null,null,null,{"$f":"IFERROR(VLOOKUP(D6265,Справка!$G$2:$H$579,2,0),\"\")","v":""}]
[null,null,null,null,{"$f":"IFERROR(VLOOKUP(D6266,Справка!$G$2:$H$579,2,0),\"\")","v":""}]
[null,null,null,null,{"$f":"IFERROR(VLOOKUP(D6267,Справка!$G$2:$H$579,2,0),\"\")","v":""}]
[null,null,null,null,{"$f":"IFERROR(VLOOKUP(D6268,Справка!$G$2:$H$579,2,0),\"\")","v":""}]
[null,null,null,null,{"$f":"IFERROR(VLOOKUP(D6269,Справка!$G$2:$H$579,2,0),\"\")","v":""}]
[null,null,null,null,{"$f":"IFERROR(VLOOKUP(D6270,Справка!$G$2:$H$579,2,0),\"\")","v":""}]
[null,null,null,null,{"$f":"IFERROR(VLOOKUP(D6271,Справка!$G$2:$H$579,2,0),\"\")","v":""}]
[null,null,null,null,{"$f":"IFERROR(VLOOKUP(D6272,Справка!$G$2:$H$579,2,0),\"\")","v":""}]
[null,null,null,null,{"$f":"IFERROR(VLOOKUP(D6273,Справка!$G$2:$H$579,2,0),\"\")","v":""}]
[null,null,null,null,{"$f":"IFERROR(VLOOKUP(D6274,Справка!$G$2:$H$579,2,0),\"\")","v":""}]
[null,null,null,null,{"$f":"IFERROR(VLOOKUP(D6275,Справка!$G$2:$H$579,2,0),\"\")","v":""}]
[null,null,null,null,{"$f":"IFERROR(VLOOKUP(D6276,Справка!$G$2:$H$579,2,0),\"\")","v":""}]
[null,null,null,null,{"$f":"IFERROR(VLOOKUP(D6277,Справка!$G$2:$H$579,2,0),\"\")","v":""}]
[null,null,null,null,{"$f":"IFERROR(VLOOKUP(D6278,Справка!$G$2:$H$579,2,0),\"\")","v":""}]
[null,null,null,null,{"$f":"IFERROR(VLOOKUP(D6279,Справка!$G$2:$H$579,2,0),\"\")","v":""}]
[null,null,null,null,{"$f":"IFERROR(VLOOKUP(D6280,Справка!$G$2:$H$579,2,0),\"\")","v":""}]
[null,null,null,null,{"$f":"IFERROR(VLOOKUP(D6281,Справка!$G$2:$H$579,2,0),\"\")","v":""}]
[null,null,null,null,{"$f":"IFERROR(VLOOKUP(D6282,Справка!$G$2:$H$579,2,0),\"\")","v":""}]
[null,null,null,null,{"$f":"IFERROR(VLOOKUP(D6283,Справка!$G$2:$H$579,2,0),\"\")","v":""}]
[null,null,null,null,{"$f":"IFERROR(VLOOKUP(D6284,Справка!$G$2:$H$579,2,0),\"\")","v":""}]
[null,null,null,null,{"$f":"IFERROR(VLOOKUP(D6285,Справка!$G$2:$H$579,2,0),\"\")","v":""}]
[null,null,null,null,{"$f":"IFERROR(VLOOKUP(D6286,Справка!$G$2:$H$579,2,0),\"\")","v":""}]
[null,null,null,null,{"$f":"IFERROR(VLOOKUP(D6287,Справка!$G$2:$H$579,2,0),\"\")","v":""}]
[null,null,null,null,{"$f":"IFERROR(VLOOKUP(D6288,Справка!$G$2:$H$579,2,0),\"\")","v":""}]
[null,null,null,null,{"$f":"IFERROR(VLOOKUP(D6289,Справка!$G$2:$H$579,2,0),\"\")","v":""}]
[null,null,null,null,{"$f":"IFERROR(VLOOKUP(D6290,Справка!$G$2:$H$579,2,0),\"\")","v":""}]
[null,null,null,null,{"$f":"IFERROR(VLOOKUP(D6291,Справка!$G$2:$H$579,2,0),\"\")","v":""}]
[null,null,null,null,{"$f":"IFERROR(VLOOKUP(D6292,Справка!$G$2:$H$579,2,0),\"\")","v":""}]
[null,null,null,null,{"$f":"IFERROR(VLOOKUP(D6293,Справка!$G$2:$H$579,2,0),\"\")","v":""}]
[null,null,null,null,{"$f":"IFERROR(VLOOKUP(D6294,Справка!$G$2:$H$579,2,0),\"\")","v":""}]
[null,null,null,null,{"$f":"IFERROR(VLOOKUP(D6295,Справка!$G$2:$H$579,2,0),\"\")","v":""}]
[null,null,null,null,{"$f":"IFERROR(VLOOKUP(D6296,Справка!$G$2:$H$579,2,0),\"\")","v":""}]
[null,null,null,null,{"$f":"IFERROR(VLOOKUP(D6297,Справка!$G$2:$H$579,2,0),\"\")","v":""}]
[null,null,null,null,{"$f":"IFERROR(VLOOKUP(D6298,Справка!$G$2:$H$579,2,0),\"\")","v":""}]
[null,null,null,null,{"$f":"IFERROR(VLOOKUP(D6299,Справка!$G$2:$H$579,2,0),\"\")","v":""}]
[null,null,null,null,{"$f":"IFERROR(VLOOKUP(D6300,Справка!$G$2:$H$579,2,0),\"\")","v":""}]
[null,null,null,null,{"$f":"IFERROR(VLOOKUP(D6301,Справка!$G$2:$H$579,2,0),\"\")","v":""}]
[null,null,null,null,{"$f":"IFERROR(VLOOKUP(D6302,Справка!$G$2:$H$579,2,0),\"\")","v":""}]
[null,null,null,null,{"$f":"IFERROR(VLOOKUP(D6303,Справка!$G$2:$H$579,2,0),\"\")","v":""}]
[null,null,null,null,{"$f":"IFERROR(VLOOKUP(D6304,Справка!$G$2:$H$579,2,0),\"\")","v":""}]
[null,null,null,null,{"$f":"IFERROR(VLOOKUP(D6305,Справка!$G$2:$H$579,2,0),\"\")","v":""}]
[null,null,null,null,{"$f":"IFERROR(VLOOKUP(D6306,Справка!$G$2:$H$579,2,0),\"\")","v":""}]
[null,null,null,null,{"$f":"IFERROR(VLOOKUP(D6307,Справка!$G$2:$H$579,2,0),\"\")","v":""}]
[null,null,null,null,{"$f":"IFERROR(VLOOKUP(D6308,Справка!$G$2:$H$579,2,0),\"\")","v":""}]
[null,null,null,null,{"$f":"IFERROR(VLOOKUP(D6309,Справка!$G$2:$H$579,2,0),\"\")","v":""}]
[null,null,null,null,{"$f":"IFERROR(VLOOKUP(D6310,Справка!$G$2:$H$579,2,0),\"\")","v":""}]
[null,null,null,null,{"$f":"IFERROR(VLOOKUP(D6311,Справка!$G$2:$H$579,2,0),\"\")","v":""}]
[null,null,null,null,{"$f":"IFERROR(VLOOKUP(D6312,Справка!$G$2:$H$579,2,0),\"\")","v":""}]
[null,null,null,null,{"$f":"IFERROR(VLOOKUP(D6313,Справка!$G$2:$H$579,2,0),\"\")","v":""}]
[null,null,null,null,{"$f":"IFERROR(VLOOKUP(D6314,Справка!$G$2:$H$579,2,0),\"\")","v":""}]
[null,null,null,null,{"$f":"IFERROR(VLOOKUP(D6315,Справка!$G$2:$H$579,2,0),\"\")","v":""}]
[null,null,null,null,{"$f":"IFERROR(VLOOKUP(D6316,Справка!$G$2:$H$579,2,0),\"\")","v":""}]
[null,null,null,null,{"$f":"IFERROR(VLOOKUP(D6317,Справка!$G$2:$H$579,2,0),\"\")","v":""}]
[null,null,null,null,{"$f":"IFERROR(VLOOKUP(D6318,Справка!$G$2:$H$579,2,0),\"\")","v":""}]
[null,null,null,null,{"$f":"IFERROR(VLOOKUP(D6319,Справка!$G$2:$H$579,2,0),\"\")","v":""}]
[null,null,null,null,{"$f":"IFERROR(VLOOKUP(D6320,Справка!$G$2:$H$579,2,0),\"\")","v":""}]
[null,null,null,null,{"$f":"IFERROR(VLOOKUP(D6321,Справка!$G$2:$H$579,2,0),\"\")","v":""}]
[null,null,null,null,{"$f":"IFERROR(VLOOKUP(D6322,Справка!$G$2:$H$579,2,0),\"\")","v":""}]
[null,null,null,null,{"$f":"IFERROR(VLOOKUP(D6323,Справка!$G$2:$H$579,2,0),\"\")","v":""}]
[null,null,null,null,{"$f":"IFERROR(VLOOKUP(D6324,Справка!$G$2:$H$579,2,0),\"\")","v":""}]
[null,null,null,null,{"$f":"IFERROR(VLOOKUP(D6325,Справка!$G$2:$H$579,2,0),\"\")","v":""}]
[null,null,null,null,{"$f":"IFERROR(VLOOKUP(D6326,Справка!$G$2:$H$579,2,0),\"\")","v":""}]
[null,null,null,null,{"$f":"IFERROR(VLOOKUP(D6327,Справка!$G$2:$H$579,2,0),\"\")","v":""}]
[null,null,null,null,{"$f":"IFERROR(VLOOKUP(D6328,Справка!$G$2:$H$579,2,0),\"\")","v":""}]
[null,null,null,null,{"$f":"IFERROR(VLOOKUP(D6329,Справка!$G$2:$H$579,2,0),\"\")","v":""}]
[null,null,null,null,{"$f":"IFERROR(VLOOKUP(D6330,Справка!$G$2:$H$579,2,0),\"\")","v":""}]
[null,null,null,null,{"$f":"IFERROR(VLOOKUP(D6331,Справка!$G$2:$H$579,2,0),\"\")","v":""}]
[null,null,null,null,{"$f":"IFERROR(VLOOKUP(D6332,Справка!$G$2:$H$579,2,0),\"\")","v":""}]
[null,null,null,null,{"$f":"IFERROR(VLOOKUP(D6333,Справка!$G$2:$H$579,2,0),\"\")","v":""}]
[null,null,null,null,{"$f":"IFERROR(VLOOKUP(D6334,Справка!$G$2:$H$579,2,0),\"\")","v":""}]
[null,null,null,null,{"$f":"IFERROR(VLOOKUP(D6335,Справка!$G$2:$H$579,2,0),\"\")","v":""}]
[null,null,null,null,{"$f":"IFERROR(VLOOKUP(D6336,Справка!$G$2:$H$579,2,0),\"\")","v":""}]
[null,null,null,null,{"$f":"IFERROR(VLOOKUP(D6337,Справка!$G$2:$H$579,2,0),\"\")","v":""}]
[null,null,null,null,{"$f":"IFERROR(VLOOKUP(D6338,Справка!$G$2:$H$579,2,0),\"\")","v":""}]
[null,null,null,null,{"$f":"IFERROR(VLOOKUP(D6339,Справка!$G$2:$H$579,2,0),\"\")","v":""}]
[null,null,null,null,{"$f":"IFERROR(VLOOKUP(D6340,Справка!$G$2:$H$579,2,0),\"\")","v":""}]
[null,null,null,null,{"$f":"IFERROR(VLOOKUP(D6341,Справка!$G$2:$H$579,2,0),\"\")","v":""}]
[null,null,null,null,{"$f":"IFERROR(VLOOKUP(D6342,Справка!$G$2:$H$579,2,0),\"\")","v":""}]
[null,null,null,null,{"$f":"IFERROR(VLOOKUP(D6343,Справка!$G$2:$H$579,2,0),\"\")","v":""}]
[null,null,null,null,{"$f":"IFERROR(VLOOKUP(D6344,Справка!$G$2:$H$579,2,0),\"\")","v":""}]
[null,null,null,null,{"$f":"IFERROR(VLOOKUP(D6345,Справка!$G$2:$H$579,2,0),\"\")","v":""}]
[null,null,null,null,{"$f":"IFERROR(VLOOKUP(D6346,Справка!$G$2:$H$579,2,0),\"\")","v":""}]
[null,null,null,null,{"$f":"IFERROR(VLOOKUP(D6347,Справка!$G$2:$H$579,2,0),\"\")","v":""}]
[null,null,null,null,{"$f":"IFERROR(VLOOKUP(D6348,Справка!$G$2:$H$579,2,0),\"\")","v":""}]
[null,null,null,null,{"$f":"IFERROR(VLOOKUP(D6349,Справка!$G$2:$H$579,2,0),\"\")","v":""}]
[null,null,null,null,{"$f":"IFERROR(VLOOKUP(D6350,Справка!$G$2:$H$579,2,0),\"\")","v":""}]
[null,null,null,null,{"$f":"IFERROR(VLOOKUP(D6351,Справка!$G$2:$H$579,2,0),\"\")","v":""}]
[null,null,null,null,{"$f":"IFERROR(VLOOKUP(D6352,Справка!$G$2:$H$579,2,0),\"\")","v":""}]
[null,null,null,null,{"$f":"IFERROR(VLOOKUP(D6353,Справка!$G$2:$H$579,2,0),\"\")","v":""}]
[null,null,null,null,{"$f":"IFERROR(VLOOKUP(D6354,Справка!$G$2:$H$579,2,0),\"\")","v":""}]
[null,null,null,null,{"$f":"IFERROR(VLOOKUP(D6355,Справка!$G$2:$H$579,2,0),\"\")","v":""}]
[null,null,null,null,{"$f":"IFERROR(VLOOKUP(D6356,Справка!$G$2:$H$579,2,0),\"\")","v":""}]
[null,null,null,null,{"$f":"IFERROR(VLOOKUP(D6357,Справка!$G$2:$H$579,2,0),\"\")","v":""}]
[null,null,null,null,{"$f":"IFERROR(VLOOKUP(D6358,Справка!$G$2:$H$579,2,0),\"\")","v":""}]
[null,null,null,null,{"$f":"IFERROR(VLOOKUP(D6359,Справка!$G$2:$H$579,2,0),\"\")","v":""}]
[null,null,null,null,{"$f":"IFERROR(VLOOKUP(D6360,Справка!$G$2:$H$579,2,0),\"\")","v":""}]
[null,null,null,null,{"$f":"IFERROR(VLOOKUP(D6361,Справка!$G$2:$H$579,2,0),\"\")","v":""}]
[null,null,null,null,{"$f":"IFERROR(VLOOKUP(D6362,Справка!$G$2:$H$579,2,0),\"\")","v":""}]
[null,null,null,null,{"$f":"IFERROR(VLOOKUP(D6363,Справка!$G$2:$H$579,2,0),\"\")","v":""}]
[null,null,null,null,{"$f":"IFERROR(VLOOKUP(D6364,Справка!$G$2:$H$579,2,0),\"\")","v":""}]
[null,null,null,null,{"$f":"IFERROR(VLOOKUP(D6365,Справка!$G$2:$H$579,2,0),\"\")","v":""}]
[null,null,null,null,{"$f":"IFERROR(VLOOKUP(D6366,Справка!$G$2:$H$579,2,0),\"\")","v":""}]
[null,null,null,null,{"$f":"IFERROR(VLOOKUP(D6367,Справка!$G$2:$H$579,2,0),\"\")","v":""}]
[null,null,null,null,{"$f":"IFERROR(VLOOKUP(D6368,Справка!$G$2:$H$579,2,0),\"\")","v":""}]
[null,null,null,null,{"$f":"IFERROR(VLOOKUP(D6369,Справка!$G$2:$H$579,2,0),\"\")","v":""}]
[null,null,null,null,{"$f":"IFERROR(VLOOKUP(D6370,Справка!$G$2:$H$579,2,0),\"\")","v":""}]
[null,null,null,null,{"$f":"IFERROR(VLOOKUP(D6371,Справка!$G$2:$H$579,2,0),\"\")","v":""}]
[null,null,null,null,{"$f":"IFERROR(VLOOKUP(D6372,Справка!$G$2:$H$579,2,0),\"\")","v":""}]
[null,null,null,null,{"$f":"IFERROR(VLOOKUP(D6373,Справка!$G$2:$H$579,2,0),\"\")","v":""}]
[null,null,null,null,{"$f":"IFERROR(VLOOKUP(D6374,Справка!$G$2:$H$579,2,0),\"\")","v":""}]
[null,null,null,null,{"$f":"IFERROR(VLOOKUP(D6375,Справка!$G$2:$H$579,2,0),\"\")","v":""}]
[null,null,null,null,{"$f":"IFERROR(VLOOKUP(D6376,Справка!$G$2:$H$579,2,0),\"\")","v":""}]
[null,null,null,null,{"$f":"IFERROR(VLOOKUP(D6377,Справка!$G$2:$H$579,2,0),\"\")","v":""}]
[null,null,null,null,{"$f":"IFERROR(VLOOKUP(D6378,Справка!$G$2:$H$579,2,0),\"\")","v":""}]
[null,null,null,null,{"$f":"IFERROR(VLOOKUP(D6379,Справка!$G$2:$H$579,2,0),\"\")","v":""}]
[null,null,null,null,{"$f":"IFERROR(VLOOKUP(D6380,Справка!$G$2:$H$579,2,0),\"\")","v":""}]
[null,null,null,null,{"$f":"IFERROR(VLOOKUP(D6381,Справка!$G$2:$H$579,2,0),\"\")","v":""}]
[null,null,null,null,{"$f":"IFERROR(VLOOKUP(D6382,Справка!$G$2:$H$579,2,0),\"\")","v":""}]
[null,null,null,null,{"$f":"IFERROR(VLOOKUP(D6383,Справка!$G$2:$H$579,2,0),\"\")","v":""}]
[null,null,null,null,{"$f":"IFERROR(VLOOKUP(D6384,Справка!$G$2:$H$579,2,0),\"\")","v":""}]
[null,null,null,null,{"$f":"IFERROR(VLOOKUP(D6385,Справка!$G$2:$H$579,2,0),\"\")","v":""}]
[null,null,null,null,{"$f":"IFERROR(VLOOKUP(D6386,Справка!$G$2:$H$579,2,0),\"\")","v":""}]
[null,null,null,null,{"$f":"IFERROR(VLOOKUP(D6387,Справка!$G$2:$H$579,2,0),\"\")","v":""}]
[null,null,null,null,{"$f":"IFERROR(VLOOKUP(D6388,Справка!$G$2:$H$579,2,0),\"\")","v":""}]
[null,null,null,null,{"$f":"IFERROR(VLOOKUP(D6389,Справка!$G$2:$H$579,2,0),\"\")","v":""}]
[null,null,null,null,{"$f":"IFERROR(VLOOKUP(D6390,Справка!$G$2:$H$579,2,0),\"\")","v":""}]
[null,null,null,null,{"$f":"IFERROR(VLOOKUP(D6391,Справка!$G$2:$H$579,2,0),\"\")","v":""}]
[null,null,null,null,{"$f":"IFERROR(VLOOKUP(D6392,Справка!$G$2:$H$579,2,0),\"\")","v":""}]
[null,null,null,null,{"$f":"IFERROR(VLOOKUP(D6393,Справка!$G$2:$H$579,2,0),\"\")","v":""}]
[null,null,null,null,{"$f":"IFERROR(VLOOKUP(D6394,Справка!$G$2:$H$579,2,0),\"\")","v":""}]
[null,null,null,null,{"$f":"IFERROR(VLOOKUP(D6395,Справка!$G$2:$H$579,2,0),\"\")","v":""}]
[null,null,null,null,{"$f":"IFERROR(VLOOKUP(D6396,Справка!$G$2:$H$579,2,0),\"\")","v":""}]
[null,null,null,null,{"$f":"IFERROR(VLOOKUP(D6397,Справка!$G$2:$H$579,2,0),\"\")","v":""}]
[null,null,null,null,{"$f":"IFERROR(VLOOKUP(D6398,Справка!$G$2:$H$579,2,0),\"\")","v":""}]
[null,null,null,null,{"$f":"IFERROR(VLOOKUP(D6399,Справка!$G$2:$H$579,2,0),\"\")","v":""}]
[null,null,null,null,{"$f":"IFERROR(VLOOKUP(D6400,Справка!$G$2:$H$579,2,0),\"\")","v":""}]
[null,null,null,null,{"$f":"IFERROR(VLOOKUP(D6401,Справка!$G$2:$H$579,2,0),\"\")","v":""}]
[null,null,null,null,{"$f":"IFERROR(VLOOKUP(D6402,Справка!$G$2:$H$579,2,0),\"\")","v":""}]
[null,null,null,null,{"$f":"IFERROR(VLOOKUP(D6403,Справка!$G$2:$H$579,2,0),\"\")","v":""}]
[null,null,null,null,{"$f":"IFERROR(VLOOKUP(D6404,Справка!$G$2:$H$579,2,0),\"\")","v":""}]
[null,null,null,null,{"$f":"IFERROR(VLOOKUP(D6405,Справка!$G$2:$H$579,2,0),\"\")","v":""}]
[null,null,null,null,{"$f":"IFERROR(VLOOKUP(D6406,Справка!$G$2:$H$579,2,0),\"\")","v":""}]
[null,null,null,null,{"$f":"IFERROR(VLOOKUP(D6407,Справка!$G$2:$H$579,2,0),\"\")","v":""}]
[null,null,null,null,{"$f":"IFERROR(VLOOKUP(D6408,Справка!$G$2:$H$579,2,0),\"\")","v":""}]
[null,null,null,null,{"$f":"IFERROR(VLOOKUP(D6409,Справка!$G$2:$H$579,2,0),\"\")","v":""}]
[null,null,null,null,{"$f":"IFERROR(VLOOKUP(D6410,Справка!$G$2:$H$579,2,0),\"\")","v":""}]
[null,null,null,null,{"$f":"IFERROR(VLOOKUP(D6411,Справка!$G$2:$H$579,2,0),\"\")","v":""}]
[null,null,null,null,{"$f":"IFERROR(VLOOKUP(D6412,Справка!$G$2:$H$579,2,0),\"\")","v":""}]
[null,null,null,null,{"$f":"IFERROR(VLOOKUP(D6413,Справка!$G$2:$H$579,2,0),\"\")","v":""}]
[null,null,null,null,{"$f":"IFERROR(VLOOKUP(D6414,Справка!$G$2:$H$579,2,0),\"\")","v":""}]
[null,null,null,null,{"$f":"IFERROR(VLOOKUP(D6415,Справка!$G$2:$H$579,2,0),\"\")","v":""}]
[null,null,null,null,{"$f":"IFERROR(VLOOKUP(D6416,Справка!$G$2:$H$579,2,0),\"\")","v":""}]
[null,null,null,null,{"$f":"IFERROR(VLOOKUP(D6417,Справка!$G$2:$H$579,2,0),\"\")","v":""}]
[null,null,null,null,{"$f":"IFERROR(VLOOKUP(D6418,Справка!$G$2:$H$579,2,0),\"\")","v":""}]
[null,null,null,null,{"$f":"IFERROR(VLOOKUP(D6419,Справка!$G$2:$H$579,2,0),\"\")","v":""}]
[null,null,null,null,{"$f":"IFERROR(VLOOKUP(D6420,Справка!$G$2:$H$579,2,0),\"\")","v":""}]
[null,null,null,null,{"$f":"IFERROR(VLOOKUP(D6421,Справка!$G$2:$H$579,2,0),\"\")","v":""}]
[null,null,null,null,{"$f":"IFERROR(VLOOKUP(D6422,Справка!$G$2:$H$579,2,0),\"\")","v":""}]
[null,null,null,null,{"$f":"IFERROR(VLOOKUP(D6423,Справка!$G$2:$H$579,2,0),\"\")","v":""}]
[null,null,null,null,{"$f":"IFERROR(VLOOKUP(D6424,Справка!$G$2:$H$579,2,0),\"\")","v":""}]
[null,null,null,null,{"$f":"IFERROR(VLOOKUP(D6425,Справка!$G$2:$H$579,2,0),\"\")","v":""}]
[null,null,null,null,{"$f":"IFERROR(VLOOKUP(D6426,Справка!$G$2:$H$579,2,0),\"\")","v":""}]
[null,null,null,null,{"$f":"IFERROR(VLOOKUP(D6427,Справка!$G$2:$H$579,2,0),\"\")","v":""}]
[null,null,null,null,{"$f":"IFERROR(VLOOKUP(D6428,Справка!$G$2:$H$579,2,0),\"\")","v":""}]
[null,null,null,null,{"$f":"IFERROR(VLOOKUP(D6429,Справка!$G$2:$H$579,2,0),\"\")","v":""}]
[null,null,null,null,{"$f":"IFERROR(VLOOKUP(D6430,Справка!$G$2:$H$579,2,0),\"\")","v":""}]
[null,null,null,null,{"$f":"IFERROR(VLOOKUP(D6431,Справка!$G$2:$H$579,2,0),\"\")","v":""}]
[null,null,null,null,{"$f":"IFERROR(VLOOKUP(D6432,Справка!$G$2:$H$579,2,0),\"\")","v":""}]
[null,null,null,null,{"$f":"IFERROR(VLOOKUP(D6433,Справка!$G$2:$H$579,2,0),\"\")","v":""}]
[null,null,null,null,{"$f":"IFERROR(VLOOKUP(D6434,Справка!$G$2:$H$579,2,0),\"\")","v":""}]
[null,null,null,null,{"$f":"IFERROR(VLOOKUP(D6435,Справка!$G$2:$H$579,2,0),\"\")","v":""}]
[null,null,null,null,{"$f":"IFERROR(VLOOKUP(D6436,Справка!$G$2:$H$579,2,0),\"\")","v":""}]
[null,null,null,null,{"$f":"IFERROR(VLOOKUP(D6437,Справка!$G$2:$H$579,2,0),\"\")","v":""}]
[null,null,null,null,{"$f":"IFERROR(VLOOKUP(D6438,Справка!$G$2:$H$579,2,0),\"\")","v":""}]
[null,null,null,null,{"$f":"IFERROR(VLOOKUP(D6439,Справка!$G$2:$H$579,2,0),\"\")","v":""}]
[null,null,null,null,{"$f":"IFERROR(VLOOKUP(D6440,Справка!$G$2:$H$579,2,0),\"\")","v":""}]
[null,null,null,null,{"$f":"IFERROR(VLOOKUP(D6441,Справка!$G$2:$H$579,2,0),\"\")","v":""}]
[null,null,null,null,{"$f":"IFERROR(VLOOKUP(D6442,Справка!$G$2:$H$579,2,0),\"\")","v":""}]
[null,null,null,null,{"$f":"IFERROR(VLOOKUP(D6443,Справка!$G$2:$H$579,2,0),\"\")","v":""}]
[null,null,null,null,{"$f":"IFERROR(VLOOKUP(D6444,Справка!$G$2:$H$579,2,0),\"\")","v":""}]
[null,null,null,null,{"$f":"IFERROR(VLOOKUP(D6445,Справка!$G$2:$H$579,2,0),\"\")","v":""}]
[null,null,null,null,{"$f":"IFERROR(VLOOKUP(D6446,Справка!$G$2:$H$579,2,0),\"\")","v":""}]
[null,null,null,null,{"$f":"IFERROR(VLOOKUP(D6447,Справка!$G$2:$H$579,2,0),\"\")","v":""}]
[null,null,null,null,{"$f":"IFERROR(VLOOKUP(D6448,Справка!$G$2:$H$579,2,0),\"\")","v":""}]
[null,null,null,null,{"$f":"IFERROR(VLOOKUP(D6449,Справка!$G$2:$H$579,2,0),\"\")","v":""}]
[null,null,null,null,{"$f":"IFERROR(VLOOKUP(D6450,Справка!$G$2:$H$579,2,0),\"\")","v":""}]
[null,null,null,null,{"$f":"IFERROR(VLOOKUP(D6451,Справка!$G$2:$H$579,2,0),\"\")","v":""}]
[null,null,null,null,{"$f":"IFERROR(VLOOKUP(D6452,Справка!$G$2:$H$579,2,0),\"\")","v":""}]
[null,null,null,null,{"$f":"IFERROR(VLOOKUP(D6453,Справка!$G$2:$H$579,2,0),\"\")","v":""}]
[null,null,null,null,{"$f":"IFERROR(VLOOKUP(D6454,Справка!$G$2:$H$579,2,0),\"\")","v":""}]
[null,null,null,null,{"$f":"IFERROR(VLOOKUP(D6455,Справка!$G$2:$H$579,2,0),\"\")","v":""}]
[null,null,null,null,{"$f":"IFERROR(VLOOKUP(D6456,Справка!$G$2:$H$579,2,0),\"\")","v":""}]
[null,null,null,null,{"$f":"IFERROR(VLOOKUP(D6457,Справка!$G$2:$H$579,2,0),\"\")","v":""}]
[null,null,null,null,{"$f":"IFERROR(VLOOKUP(D6458,Справка!$G$2:$H$579,2,0),\"\")","v":""}]
[null,null,null,null,{"$f":"IFERROR(VLOOKUP(D6459,Справка!$G$2:$H$579,2,0),\"\")","v":""}]
[null,null,null,null,{"$f":"IFERROR(VLOOKUP(D6460,Справка!$G$2:$H$579,2,0),\"\")","v":""}]
[null,null,null,null,{"$f":"IFERROR(VLOOKUP(D6461,Справка!$G$2:$H$579,2,0),\"\")","v":""}]
[null,null,null,null,{"$f":"IFERROR(VLOOKUP(D6462,Справка!$G$2:$H$579,2,0),\"\")","v":""}]
[null,null,null,null,{"$f":"IFERROR(VLOOKUP(D6463,Справка!$G$2:$H$579,2,0),\"\")","v":""}]
[null,null,null,null,{"$f":"IFERROR(VLOOKUP(D6464,Справка!$G$2:$H$579,2,0),\"\")","v":""}]
[null,null,null,null,{"$f":"IFERROR(VLOOKUP(D6465,Справка!$G$2:$H$579,2,0),\"\")","v":""}]
[null,null,null,null,{"$f":"IFERROR(VLOOKUP(D6466,Справка!$G$2:$H$579,2,0),\"\")","v":""}]
[null,null,null,null,{"$f":"IFERROR(VLOOKUP(D6467,Справка!$G$2:$H$579,2,0),\"\")","v":""}]
[null,null,null,null,{"$f":"IFERROR(VLOOKUP(D6468,Справка!$G$2:$H$579,2,0),\"\")","v":""}]
[null,null,null,null,{"$f":"IFERROR(VLOOKUP(D6469,Справка!$G$2:$H$579,2,0),\"\")","v":""}]
[null,null,null,null,{"$f":"IFERROR(VLOOKUP(D6470,Справка!$G$2:$H$579,2,0),\"\")","v":""}]
[null,null,null,null,{"$f":"IFERROR(VLOOKUP(D6471,Справка!$G$2:$H$579,2,0),\"\")","v":""}]
[null,null,null,null,{"$f":"IFERROR(VLOOKUP(D6472,Справка!$G$2:$H$579,2,0),\"\")","v":""}]
[null,null,null,null,{"$f":"IFERROR(VLOOKUP(D6473,Справка!$G$2:$H$579,2,0),\"\")","v":""}]
[null,null,null,null,{"$f":"IFERROR(VLOOKUP(D6474,Справка!$G$2:$H$579,2,0),\"\")","v":""}]
[null,null,null,null,{"$f":"IFERROR(VLOOKUP(D6475,Справка!$G$2:$H$579,2,0),\"\")","v":""}]
[null,null,null,null,{"$f":"IFERROR(VLOOKUP(D6476,Справка!$G$2:$H$579,2,0),\"\")","v":""}]
[null,null,null,null,{"$f":"IFERROR(VLOOKUP(D6477,Справка!$G$2:$H$579,2,0),\"\")","v":""}]
[null,null,null,null,{"$f":"IFERROR(VLOOKUP(D6478,Справка!$G$2:$H$579,2,0),\"\")","v":""}]
[null,null,null,null,{"$f":"IFERROR(VLOOKUP(D6479,Справка!$G$2:$H$579,2,0),\"\")","v":""}]
[null,null,null,null,{"$f":"IFERROR(VLOOKUP(D6480,Справка!$G$2:$H$579,2,0),\"\")","v":""}]
[null,null,null,null,{"$f":"IFERROR(VLOOKUP(D6481,Справка!$G$2:$H$579,2,0),\"\")","v":""}]
[null,null,null,null,{"$f":"IFERROR(VLOOKUP(D6482,Справка!$G$2:$H$579,2,0),\"\")","v":""}]
[null,null,null,null,{"$f":"IFERROR(VLOOKUP(D6483,Справка!$G$2:$H$579,2,0),\"\")","v":""}]
[null,null,null,null,{"$f":"IFERROR(VLOOKUP(D6484,Справка!$G$2:$H$579,2,0),\"\")","v":""}]
[null,null,null,null,{"$f":"IFERROR(VLOOKUP(D6485,Справка!$G$2:$H$579,2,0),\"\")","v":""}]
[null,null,null,null,{"$f":"IFERROR(VLOOKUP(D6486,Справка!$G$2:$H$579,2,0),\"\")","v":""}]
[null,null,null,null,{"$f":"IFERROR(VLOOKUP(D6487,Справка!$G$2:$H$579,2,0),\"\")","v":""}]
[null,null,null,null,{"$f":"IFERROR(VLOOKUP(D6488,Справка!$G$2:$H$579,2,0),\"\")","v":""}]
[null,null,null,null,{"$f":"IFERROR(VLOOKUP(D6489,Справка!$G$2:$H$579,2,0),\"\")","v":""}]
[null,null,null,null,{"$f":"IFERROR(VLOOKUP(D6490,Справка!$G$2:$H$579,2,0),\"\")","v":""}]
[null,null,null,null,{"$f":"IFERROR(VLOOKUP(D6491,Справка!$G$2:$H$579,2,0),\"\")","v":""}]
[null,null,null,null,{"$f":"IFERROR(VLOOKUP(D6492,Справка!$G$2:$H$579,2,0),\"\")","v":""}]
[null,null,null,null,{"$f":"IFERROR(VLOOKUP(D6493,Справка!$G$2:$H$579,2,0),\"\")","v":""}]
[null,null,null,null,{"$f":"IFERROR(VLOOKUP(D6494,Справка!$G$2:$H$579,2,0),\"\")","v":""}]
[null,null,null,null,{"$f":"IFERROR(VLOOKUP(D6495,Справка!$G$2:$H$579,2,0),\"\")","v":""}]
[null,null,null,null,{"$f":"IFERROR(VLOOKUP(D6496,Справка!$G$2:$H$579,2,0),\"\")","v":""}]
[null,null,null,null,{"$f":"IFERROR(VLOOKUP(D6497,Справка!$G$2:$H$579,2,0),\"\")","v":""}]
[null,null,null,null,{"$f":"IFERROR(VLOOKUP(D6498,Справка!$G$2:$H$579,2,0),\"\")","v":""}]
[null,null,null,null,{"$f":"IFERROR(VLOOKUP(D6499,Справка!$G$2:$H$579,2,0),\"\")","v":""}]
[null,null,null,null,{"$f":"IFERROR(VLOOKUP(D6500,Справка!$G$2:$H$579,2,0),\"\")","v":""}]
[null,null,null,null,{"$f":"IFERROR(VLOOKUP(D6501,Справка!$G$2:$H$579,2,0),\"\")","v":""}]
[null,null,null,null,{"$f":"IFERROR(VLOOKUP(D6502,Справка!$G$2:$H$579,2,0),\"\")","v":""}]
[null,null,null,null,{"$f":"IFERROR(VLOOKUP(D6503,Справка!$G$2:$H$579,2,0),\"\")","v":""}]
[null,null,null,null,{"$f":"IFERROR(VLOOKUP(D6504,Справка!$G$2:$H$579,2,0),\"\")","v":""}]
[null,null,null,null,{"$f":"IFERROR(VLOOKUP(D6505,Справка!$G$2:$H$579,2,0),\"\")","v":""}]
[null,null,null,null,{"$f":"IFERROR(VLOOKUP(D6506,Справка!$G$2:$H$579,2,0),\"\")","v":""}]
[null,null,null,null,{"$f":"IFERROR(VLOOKUP(D6507,Справка!$G$2:$H$579,2,0),\"\")","v":""}]
[null,null,null,null,{"$f":"IFERROR(VLOOKUP(D6508,Справка!$G$2:$H$579,2,0),\"\")","v":""}]
[null,null,null,null,{"$f":"IFERROR(VLOOKUP(D6509,Справка!$G$2:$H$579,2,0),\"\")","v":""}]
[null,null,null,null,{"$f":"IFERROR(VLOOKUP(D6510,Справка!$G$2:$H$579,2,0),\"\")","v":""}]
[null,null,null,null,{"$f":"IFERROR(VLOOKUP(D6511,Справка!$G$2:$H$579,2,0),\"\")","v":""}]
[null,null,null,null,{"$f":"IFERROR(VLOOKUP(D6512,Справка!$G$2:$H$579,2,0),\"\")","v":""}]
[null,null,null,null,{"$f":"IFERROR(VLOOKUP(D6513,Справка!$G$2:$H$579,2,0),\"\")","v":""}]
[null,null,null,null,{"$f":"IFERROR(VLOOKUP(D6514,Справка!$G$2:$H$579,2,0),\"\")","v":""}]
[null,null,null,null,{"$f":"IFERROR(VLOOKUP(D6515,Справка!$G$2:$H$579,2,0),\"\")","v":""}]
[null,null,null,null,{"$f":"IFERROR(VLOOKUP(D6516,Справка!$G$2:$H$579,2,0),\"\")","v":""}]
[null,null,null,null,{"$f":"IFERROR(VLOOKUP(D6517,Справка!$G$2:$H$579,2,0),\"\")","v":""}]
[null,null,null,null,{"$f":"IFERROR(VLOOKUP(D6518,Справка!$G$2:$H$579,2,0),\"\")","v":""}]
[null,null,null,null,{"$f":"IFERROR(VLOOKUP(D6519,Справка!$G$2:$H$579,2,0),\"\")","v":""}]
[null,null,null,null,{"$f":"IFERROR(VLOOKUP(D6520,Справка!$G$2:$H$579,2,0),\"\")","v":""}]
[null,null,null,null,{"$f":"IFERROR(VLOOKUP(D6521,Справка!$G$2:$H$579,2,0),\"\")","v":""}]
[null,null,null,null,{"$f":"IFERROR(VLOOKUP(D6522,Справка!$G$2:$H$579,2,0),\"\")","v":""}]
[null,null,null,null,{"$f":"IFERROR(VLOOKUP(D6523,Справка!$G$2:$H$579,2,0),\"\")","v":""}]
[null,null,null,null,{"$f":"IFERROR(VLOOKUP(D6524,Справка!$G$2:$H$579,2,0),\"\")","v":""}]
[null,null,null,null,{"$f":"IFERROR(VLOOKUP(D6525,Справка!$G$2:$H$579,2,0),\"\")","v":""}]
[null,null,null,null,{"$f":"IFERROR(VLOOKUP(D6526,Справка!$G$2:$H$579,2,0),\"\")","v":""}]
[null,null,null,null,{"$f":"IFERROR(VLOOKUP(D6527,Справка!$G$2:$H$579,2,0),\"\")","v":""}]
[null,null,null,null,{"$f":"IFERROR(VLOOKUP(D6528,Справка!$G$2:$H$579,2,0),\"\")","v":""}]
[null,null,null,null,{"$f":"IFERROR(VLOOKUP(D6529,Справка!$G$2:$H$579,2,0),\"\")","v":""}]
[null,null,null,null,{"$f":"IFERROR(VLOOKUP(D6530,Справка!$G$2:$H$579,2,0),\"\")","v":""}]
[null,null,null,null,{"$f":"IFERROR(VLOOKUP(D6531,Справка!$G$2:$H$579,2,0),\"\")","v":""}]
[null,null,null,null,{"$f":"IFERROR(VLOOKUP(D6532,Справка!$G$2:$H$579,2,0),\"\")","v":""}]
[null,null,null,null,{"$f":"IFERROR(VLOOKUP(D6533,Справка!$G$2:$H$579,2,0),\"\")","v":""}]
[null,null,null,null,{"$f":"IFERROR(VLOOKUP(D6534,Справка!$G$2:$H$579,2,0),\"\")","v":""}]
[null,null,null,null,{"$f":"IFERROR(VLOOKUP(D6535,Справка!$G$2:$H$579,2,0),\"\")","v":""}]
[null,null,null,null,{"$f":"IFERROR(VLOOKUP(D6536,Справка!$G$2:$H$579,2,0),\"\")","v":""}]
[null,null,null,null,{"$f":"IFERROR(VLOOKUP(D6537,Справка!$G$2:$H$579,2,0),\"\")","v":""}]
[null,null,null,null,{"$f":"IFERROR(VLOOKUP(D6538,Справка!$G$2:$H$579,2,0),\"\")","v":""}]
[null,null,null,null,{"$f":"IFERROR(VLOOKUP(D6539,Справка!$G$2:$H$579,2,0),\"\")","v":""}]
[null,null,null,null,{"$f":"IFERROR(VLOOKUP(D6540,Справка!$G$2:$H$579,2,0),\"\")","v":""}]
[null,null,null,null,{"$f":"IFERROR(VLOOKUP(D6541,Справка!$G$2:$H$579,2,0),\"\")","v":""}]
[null,null,null,null,{"$f":"IFERROR(VLOOKUP(D6542,Справка!$G$2:$H$579,2,0),\"\")","v":""}]
[null,null,null,null,{"$f":"IFERROR(VLOOKUP(D6543,Справка!$G$2:$H$579,2,0),\"\")","v":""}]
[null,null,null,null,{"$f":"IFERROR(VLOOKUP(D6544,Справка!$G$2:$H$579,2,0),\"\")","v":""}]
[null,null,null,null,{"$f":"IFERROR(VLOOKUP(D6545,Справка!$G$2:$H$579,2,0),\"\")","v":""}]
[null,null,null,null,{"$f":"IFERROR(VLOOKUP(D6546,Справка!$G$2:$H$579,2,0),\"\")","v":""}]
[null,null,null,null,{"$f":"IFERROR(VLOOKUP(D6547,Справка!$G$2:$H$579,2,0),\"\")","v":""}]
[null,null,null,null,{"$f":"IFERROR(VLOOKUP(D6548,Справка!$G$2:$H$579,2,0),\"\")","v":""}]
[null,null,null,null,{"$f":"IFERROR(VLOOKUP(D6549,Справка!$G$2:$H$579,2,0),\"\")","v":""}]
[null,null,null,null,{"$f":"IFERROR(VLOOKUP(D6550,Справка!$G$2:$H$579,2,0),\"\")","v":""}]
[null,null,null,null,{"$f":"IFERROR(VLOOKUP(D6551,Справка!$G$2:$H$579,2,0),\"\")","v":""}]
[null,null,null,null,{"$f":"IFERROR(VLOOKUP(D6552,Справка!$G$2:$H$579,2,0),\"\")","v":""}]
[null,null,null,null,{"$f":"IFERROR(VLOOKUP(D6553,Справка!$G$2:$H$579,2,0),\"\")","v":""}]
[null,null,null,null,{"$f":"IFERROR(VLOOKUP(D6554,Справка!$G$2:$H$579,2,0),\"\")","v":""}]
[null,null,null,null,{"$f":"IFERROR(VLOOKUP(D6555,Справка!$G$2:$H$579,2,0),\"\")","v":""}]
[null,null,null,null,{"$f":"IFERROR(VLOOKUP(D6556,Справка!$G$2:$H$579,2,0),\"\")","v":""}]
[null,null,null,null,{"$f":"IFERROR(VLOOKUP(D6557,Справка!$G$2:$H$579,2,0),\"\")","v":""}]
[null,null,null,null,{"$f":"IFERROR(VLOOKUP(D6558,Справка!$G$2:$H$579,2,0),\"\")","v":""}]
[null,null,null,null,{"$f":"IFERROR(VLOOKUP(D6559,Справка!$G$2:$H$579,2,0),\"\")","v":""}]
[null,null,null,null,{"$f":"IFERROR(VLOOKUP(D6560,Справка!$G$2:$H$579,2,0),\"\")","v":""}]
[null,null,null,null,{"$f":"IFERROR(VLOOKUP(D6561,Справка!$G$2:$H$579,2,0),\"\")","v":""}]
[null,null,null,null,{"$f":"IFERROR(VLOOKUP(D6562,Справка!$G$2:$H$579,2,0),\"\")","v":""}]
[null,null,null,null,{"$f":"IFERROR(VLOOKUP(D6563,Справка!$G$2:$H$579,2,0),\"\")","v":""}]
[null,null,null,null,{"$f":"IFERROR(VLOOKUP(D6564,Справка!$G$2:$H$579,2,0),\"\")","v":""}]
[null,null,null,null,{"$f":"IFERROR(VLOOKUP(D6565,Справка!$G$2:$H$579,2,0),\"\")","v":""}]
[null,null,null,null,{"$f":"IFERROR(VLOOKUP(D6566,Справка!$G$2:$H$579,2,0),\"\")","v":""}]
[null,null,null,null,{"$f":"IFERROR(VLOOKUP(D6567,Справка!$G$2:$H$579,2,0),\"\")","v":""}]
[null,null,null,null,{"$f":"IFERROR(VLOOKUP(D6568,Справка!$G$2:$H$579,2,0),\"\")","v":""}]
[null,null,null,null,{"$f":"IFERROR(VLOOKUP(D6569,Справка!$G$2:$H$579,2,0),\"\")","v":""}]
[null,null,null,null,{"$f":"IFERROR(VLOOKUP(D6570,Справка!$G$2:$H$579,2,0),\"\")","v":""}]
[null,null,null,null,{"$f":"IFERROR(VLOOKUP(D6571,Справка!$G$2:$H$579,2,0),\"\")","v":""}]
[null,null,null,null,{"$f":"IFERROR(VLOOKUP(D6572,Справка!$G$2:$H$579,2,0),\"\")","v":""}]
[null,null,null,null,{"$f":"IFERROR(VLOOKUP(D6573,Справка!$G$2:$H$579,2,0),\"\")","v":""}]
[null,null,null,null,{"$f":"IFERROR(VLOOKUP(D6574,Справка!$G$2:$H$579,2,0),\"\")","v":""}]
[null,null,null,null,{"$f":"IFERROR(VLOOKUP(D6575,Справка!$G$2:$H$579,2,0),\"\")","v":""}]
[null,null,null,null,{"$f":"IFERROR(VLOOKUP(D6576,Справка!$G$2:$H$579,2,0),\"\")","v":""}]
[null,null,null,null,{"$f":"IFERROR(VLOOKUP(D6577,Справка!$G$2:$H$579,2,0),\"\")","v":""}]
[null,null,null,null,{"$f":"IFERROR(VLOOKUP(D6578,Справка!$G$2:$H$579,2,0),\"\")","v":""}]
[null,null,null,null,{"$f":"IFERROR(VLOOKUP(D6579,Справка!$G$2:$H$579,2,0),\"\")","v":""}]
[null,null,null,null,{"$f":"IFERROR(VLOOKUP(D6580,Справка!$G$2:$H$579,2,0),\"\")","v":""}]
[null,null,null,null,{"$f":"IFERROR(VLOOKUP(D6581,Справка!$G$2:$H$579,2,0),\"\")","v":""}]
[null,null,null,null,{"$f":"IFERROR(VLOOKUP(D6582,Справка!$G$2:$H$579,2,0),\"\")","v":""}]
[null,null,null,null,{"$f":"IFERROR(VLOOKUP(D6583,Справка!$G$2:$H$579,2,0),\"\")","v":""}]
[null,null,null,null,{"$f":"IFERROR(VLOOKUP(D6584,Справка!$G$2:$H$579,2,0),\"\")","v":""}]
[null,null,null,null,{"$f":"IFERROR(VLOOKUP(D6585,Справка!$G$2:$H$579,2,0),\"\")","v":""}]
[null,null,null,null,{"$f":"IFERROR(VLOOKUP(D6586,Справка!$G$2:$H$579,2,0),\"\")","v":""}]
[null,null,null,null,{"$f":"IFERROR(VLOOKUP(D6587,Справка!$G$2:$H$579,2,0),\"\")","v":""}]
[null,null,null,null,{"$f":"IFERROR(VLOOKUP(D6588,Справка!$G$2:$H$579,2,0),\"\")","v":""}]
[null,null,null,null,{"$f":"IFERROR(VLOOKUP(D6589,Справка!$G$2:$H$579,2,0),\"\")","v":""}]
[null,null,null,null,{"$f":"IFERROR(VLOOKUP(D6590,Справка!$G$2:$H$579,2,0),\"\")","v":""}]
[null,null,null,null,{"$f":"IFERROR(VLOOKUP(D6591,Справка!$G$2:$H$579,2,0),\"\")","v":""}]
[null,null,null,null,{"$f":"IFERROR(VLOOKUP(D6592,Справка!$G$2:$H$579,2,0),\"\")","v":""}]
[null,null,null,null,{"$f":"IFERROR(VLOOKUP(D6593,Справка!$G$2:$H$579,2,0),\"\")","v":""}]
[null,null,null,null,{"$f":"IFERROR(VLOOKUP(D6594,Справка!$G$2:$H$579,2,0),\"\")","v":""}]
[null,null,null,null,{"$f":"IFERROR(VLOOKUP(D6595,Справка!$G$2:$H$579,2,0),\"\")","v":""}]
[null,null,null,null,{"$f":"IFERROR(VLOOKUP(D6596,Справка!$G$2:$H$579,2,0),\"\")","v":""}]
[null,null,null,null,{"$f":"IFERROR(VLOOKUP(D6597,Справка!$G$2:$H$579,2,0),\"\")","v":""}]
[null,null,null,null,{"$f":"IFERROR(VLOOKUP(D6598,Справка!$G$2:$H$579,2,0),\"\")","v":""}]
[null,null,null,null,{"$f":"IFERROR(VLOOKUP(D6599,Справка!$G$2:$H$579,2,0),\"\")","v":""}]
[null,null,null,null,{"$f":"IFERROR(VLOOKUP(D6600,Справка!$G$2:$H$579,2,0),\"\")","v":""}]
[null,null,null,null,{"$f":"IFERROR(VLOOKUP(D6601,Справка!$G$2:$H$579,2,0),\"\")","v":""}]
[null,null,null,null,{"$f":"IFERROR(VLOOKUP(D6602,Справка!$G$2:$H$579,2,0),\"\")","v":""}]
[null,null,null,null,{"$f":"IFERROR(VLOOKUP(D6603,Справка!$G$2:$H$579,2,0),\"\")","v":""}]
[null,null,null,null,{"$f":"IFERROR(VLOOKUP(D6604,Справка!$G$2:$H$579,2,0),\"\")","v":""}]
[null,null,null,null,{"$f":"IFERROR(VLOOKUP(D6605,Справка!$G$2:$H$579,2,0),\"\")","v":""}]
[null,null,null,null,{"$f":"IFERROR(VLOOKUP(D6606,Справка!$G$2:$H$579,2,0),\"\")","v":""}]
[null,null,null,null,{"$f":"IFERROR(VLOOKUP(D6607,Справка!$G$2:$H$579,2,0),\"\")","v":""}]
[null,null,null,null,{"$f":"IFERROR(VLOOKUP(D6608,Справка!$G$2:$H$579,2,0),\"\")","v":""}]
[null,null,null,null,{"$f":"IFERROR(VLOOKUP(D6609,Справка!$G$2:$H$579,2,0),\"\")","v":""}]
[null,null,null,null,{"$f":"IFERROR(VLOOKUP(D6610,Справка!$G$2:$H$579,2,0),\"\")","v":""}]
[null,null,null,null,{"$f":"IFERROR(VLOOKUP(D6611,Справка!$G$2:$H$579,2,0),\"\")","v":""}]
[null,null,null,null,{"$f":"IFERROR(VLOOKUP(D6612,Справка!$G$2:$H$579,2,0),\"\")","v":""}]
[null,null,null,null,{"$f":"IFERROR(VLOOKUP(D6613,Справка!$G$2:$H$579,2,0),\"\")","v":""}]
[null,null,null,null,{"$f":"IFERROR(VLOOKUP(D6614,Справка!$G$2:$H$579,2,0),\"\")","v":""}]
[null,null,null,null,{"$f":"IFERROR(VLOOKUP(D6615,Справка!$G$2:$H$579,2,0),\"\")","v":""}]
[null,null,null,null,{"$f":"IFERROR(VLOOKUP(D6616,Справка!$G$2:$H$579,2,0),\"\")","v":""}]
[null,null,null,null,{"$f":"IFERROR(VLOOKUP(D6617,Справка!$G$2:$H$579,2,0),\"\")","v":""}]
[null,null,null,null,{"$f":"IFERROR(VLOOKUP(D6618,Справка!$G$2:$H$579,2,0),\"\")","v":""}]
[null,null,null,null,{"$f":"IFERROR(VLOOKUP(D6619,Справка!$G$2:$H$579,2,0),\"\")","v":""}]
[null,null,null,null,{"$f":"IFERROR(VLOOKUP(D6620,Справка!$G$2:$H$579,2,0),\"\")","v":""}]
[null,null,null,null,{"$f":"IFERROR(VLOOKUP(D6621,Справка!$G$2:$H$579,2,0),\"\")","v":""}]
[null,null,null,null,{"$f":"IFERROR(VLOOKUP(D6622,Справка!$G$2:$H$579,2,0),\"\")","v":""}]
[null,null,null,null,{"$f":"IFERROR(VLOOKUP(D6623,Справка!$G$2:$H$579,2,0),\"\")","v":""}]
[null,null,null,null,{"$f":"IFERROR(VLOOKUP(D6624,Справка!$G$2:$H$579,2,0),\"\")","v":""}]
[null,null,null,null,{"$f":"IFERROR(VLOOKUP(D6625,Справка!$G$2:$H$579,2,0),\"\")","v":""}]
[null,null,null,null,{"$f":"IFERROR(VLOOKUP(D6626,Справка!$G$2:$H$579,2,0),\"\")","v":""}]
[null,null,null,null,{"$f":"IFERROR(VLOOKUP(D6627,Справка!$G$2:$H$579,2,0),\"\")","v":""}]
[null,null,null,null,{"$f":"IFERROR(VLOOKUP(D6628,Справка!$G$2:$H$579,2,0),\"\")","v":""}]
[null,null,null,null,{"$f":"IFERROR(VLOOKUP(D6629,Справка!$G$2:$H$579,2,0),\"\")","v":""}]
[null,null,null,null,{"$f":"IFERROR(VLOOKUP(D6630,Справка!$G$2:$H$579,2,0),\"\")","v":""}]
[null,null,null,null,{"$f":"IFERROR(VLOOKUP(D6631,Справка!$G$2:$H$579,2,0),\"\")","v":""}]
[null,null,null,null,{"$f":"IFERROR(VLOOKUP(D6632,Справка!$G$2:$H$579,2,0),\"\")","v":""}]
[null,null,null,null,{"$f":"IFERROR(VLOOKUP(D6633,Справка!$G$2:$H$579,2,0),\"\")","v":""}]
[null,null,null,null,{"$f":"IFERROR(VLOOKUP(D6634,Справка!$G$2:$H$579,2,0),\"\")","v":""}]
[null,null,null,null,{"$f":"IFERROR(VLOOKUP(D6635,Справка!$G$2:$H$579,2,0),\"\")","v":""}]
[null,null,null,null,{"$f":"IFERROR(VLOOKUP(D6636,Справка!$G$2:$H$579,2,0),\"\")","v":""}]
[null,null,null,null,{"$f":"IFERROR(VLOOKUP(D6637,Справка!$G$2:$H$579,2,0),\"\")","v":""}]
[null,null,null,null,{"$f":"IFERROR(VLOOKUP(D6638,Справка!$G$2:$H$579,2,0),\"\")","v":""}]
[null,null,null,null,{"$f":"IFERROR(VLOOKUP(D6639,Справка!$G$2:$H$579,2,0),\"\")","v":""}]
[null,null,null,null,{"$f":"IFERROR(VLOOKUP(D6640,Справка!$G$2:$H$579,2,0),\"\")","v":""}]
[null,null,null,null,{"$f":"IFERROR(VLOOKUP(D6641,Справка!$G$2:$H$579,2,0),\"\")","v":""}]
[null,null,null,null,{"$f":"IFERROR(VLOOKUP(D6642,Справка!$G$2:$H$579,2,0),\"\")","v":""}]
[null,null,null,null,{"$f":"IFERROR(VLOOKUP(D6643,Справка!$G$2:$H$579,2,0),\"\")","v":""}]
[null,null,null,null,{"$f":"IFERROR(VLOOKUP(D6644,Справка!$G$2:$H$579,2,0),\"\")","v":""}]
[null,null,null,null,{"$f":"IFERROR(VLOOKUP(D6645,Справка!$G$2:$H$579,2,0),\"\")","v":""}]
[null,null,null,null,{"$f":"IFERROR(VLOOKUP(D6646,Справка!$G$2:$H$579,2,0),\"\")","v":""}]
[null,null,null,null,{"$f":"IFERROR(VLOOKUP(D6647,Справка!$G$2:$H$579,2,0),\"\")","v":""}]
[null,null,null,null,{"$f":"IFERROR(VLOOKUP(D6648,Справка!$G$2:$H$579,2,0),\"\")","v":""}]
[null,null,null,null,{"$f":"IFERROR(VLOOKUP(D6649,Справка!$G$2:$H$579,2,0),\"\")","v":""}]
[null,null,null,null,{"$f":"IFERROR(VLOOKUP(D6650,Справка!$G$2:$H$579,2,0),\"\")","v":""}]
[null,null,null,null,{"$f":"IFERROR(VLOOKUP(D6651,Справка!$G$2:$H$579,2,0),\"\")","v":""}]
[null,null,null,null,{"$f":"IFERROR(VLOOKUP(D6652,Справка!$G$2:$H$579,2,0),\"\")","v":""}]
[null,null,null,null,{"$f":"IFERROR(VLOOKUP(D6653,Справка!$G$2:$H$579,2,0),\"\")","v":""}]
[null,null,null,null,{"$f":"IFERROR(VLOOKUP(D6654,Справка!$G$2:$H$579,2,0),\"\")","v":""}]
[null,null,null,null,{"$f":"IFERROR(VLOOKUP(D6655,Справка!$G$2:$H$579,2,0),\"\")","v":""}]
[null,null,null,null,{"$f":"IFERROR(VLOOKUP(D6656,Справка!$G$2:$H$579,2,0),\"\")","v":""}]
[null,null,null,null,{"$f":"IFERROR(VLOOKUP(D6657,Справка!$G$2:$H$579,2,0),\"\")","v":""}]
[null,null,null,null,{"$f":"IFERROR(VLOOKUP(D6658,Справка!$G$2:$H$579,2,0),\"\")","v":""}]
[null,null,null,null,{"$f":"IFERROR(VLOOKUP(D6659,Справка!$G$2:$H$579,2,0),\"\")","v":""}]
[null,null,null,null,{"$f":"IFERROR(VLOOKUP(D6660,Справка!$G$2:$H$579,2,0),\"\")","v":""}]
[null,null,null,null,{"$f":"IFERROR(VLOOKUP(D6661,Справка!$G$2:$H$579,2,0),\"\")","v":""}]
[null,null,null,null,{"$f":"IFERROR(VLOOKUP(D6662,Справка!$G$2:$H$579,2,0),\"\")","v":""}]
[null,null,null,null,{"$f":"IFERROR(VLOOKUP(D6663,Справка!$G$2:$H$579,2,0),\"\")","v":""}]
[null,null,null,null,{"$f":"IFERROR(VLOOKUP(D6664,Справка!$G$2:$H$579,2,0),\"\")","v":""}]
[null,null,null,null,{"$f":"IFERROR(VLOOKUP(D6665,Справка!$G$2:$H$579,2,0),\"\")","v":""}]
[null,null,null,null,{"$f":"IFERROR(VLOOKUP(D6666,Справка!$G$2:$H$579,2,0),\"\")","v":""}]
[null,null,null,null,{"$f":"IFERROR(VLOOKUP(D6667,Справка!$G$2:$H$579,2,0),\"\")","v":""}]
[null,null,null,null,{"$f":"IFERROR(VLOOKUP(D6668,Справка!$G$2:$H$579,2,0),\"\")","v":""}]
[null,null,null,null,{"$f":"IFERROR(VLOOKUP(D6669,Справка!$G$2:$H$579,2,0),\"\")","v":""}]
[null,null,null,null,{"$f":"IFERROR(VLOOKUP(D6670,Справка!$G$2:$H$579,2,0),\"\")","v":""}]
[null,null,null,null,{"$f":"IFERROR(VLOOKUP(D6671,Справка!$G$2:$H$579,2,0),\"\")","v":""}]
[null,null,null,null,{"$f":"IFERROR(VLOOKUP(D6672,Справка!$G$2:$H$579,2,0),\"\")","v":""}]
[null,null,null,null,{"$f":"IFERROR(VLOOKUP(D6673,Справка!$G$2:$H$579,2,0),\"\")","v":""}]
[null,null,null,null,{"$f":"IFERROR(VLOOKUP(D6674,Справка!$G$2:$H$579,2,0),\"\")","v":""}]
[null,null,null,null,{"$f":"IFERROR(VLOOKUP(D6675,Справка!$G$2:$H$579,2,0),\"\")","v":""}]
[null,null,null,null,{"$f":"IFERROR(VLOOKUP(D6676,Справка!$G$2:$H$579,2,0),\"\")","v":""}]
[null,null,null,null,{"$f":"IFERROR(VLOOKUP(D6677,Справка!$G$2:$H$579,2,0),\"\")","v":""}]
[null,null,null,null,{"$f":"IFERROR(VLOOKUP(D6678,Справка!$G$2:$H$579,2,0),\"\")","v":""}]
[null,null,null,null,{"$f":"IFERROR(VLOOKUP(D6679,Справка!$G$2:$H$579,2,0),\"\")","v":""}]
[null,null,null,null,{"$f":"IFERROR(VLOOKUP(D6680,Справка!$G$2:$H$579,2,0),\"\")","v":""}]
[null,null,null,null,{"$f":"IFERROR(VLOOKUP(D6681,Справка!$G$2:$H$579,2,0),\"\")","v":""}]
[null,null,null,null,{"$f":"IFERROR(VLOOKUP(D6682,Справка!$G$2:$H$579,2,0),\"\")","v":""}]
[null,null,null,null,{"$f":"IFERROR(VLOOKUP(D6683,Справка!$G$2:$H$579,2,0),\"\")","v":""}]
[null,null,null,null,{"$f":"IFERROR(VLOOKUP(D6684,Справка!$G$2:$H$579,2,0),\"\")","v":""}]
[null,null,null,null,{"$f":"IFERROR(VLOOKUP(D6685,Справка!$G$2:$H$579,2,0),\"\")","v":""}]
[null,null,null,null,{"$f":"IFERROR(VLOOKUP(D6686,Справка!$G$2:$H$579,2,0),\"\")","v":""}]
[null,null,null,null,{"$f":"IFERROR(VLOOKUP(D6687,Справка!$G$2:$H$579,2,0),\"\")","v":""}]
[null,null,null,null,{"$f":"IFERROR(VLOOKUP(D6688,Справка!$G$2:$H$579,2,0),\"\")","v":""}]
[null,null,null,null,{"$f":"IFERROR(VLOOKUP(D6689,Справка!$G$2:$H$579,2,0),\"\")","v":""}]
[null,null,null,null,{"$f":"IFERROR(VLOOKUP(D6690,Справка!$G$2:$H$579,2,0),\"\")","v":""}]
[null,null,null,null,{"$f":"IFERROR(VLOOKUP(D6691,Справка!$G$2:$H$579,2,0),\"\")","v":""}]
[null,null,null,null,{"$f":"IFERROR(VLOOKUP(D6692,Справка!$G$2:$H$579,2,0),\"\")","v":""}]
[null,null,null,null,{"$f":"IFERROR(VLOOKUP(D6693,Справка!$G$2:$H$579,2,0),\"\")","v":""}]
[null,null,null,null,{"$f":"IFERROR(VLOOKUP(D6694,Справка!$G$2:$H$579,2,0),\"\")","v":""}]
[null,null,null,null,{"$f":"IFERROR(VLOOKUP(D6695,Справка!$G$2:$H$579,2,0),\"\")","v":""}]
[null,null,null,null,{"$f":"IFERROR(VLOOKUP(D6696,Справка!$G$2:$H$579,2,0),\"\")","v":""}]
[null,null,null,null,{"$f":"IFERROR(VLOOKUP(D6697,Справка!$G$2:$H$579,2,0),\"\")","v":""}]
[null,null,null,null,{"$f":"IFERROR(VLOOKUP(D6698,Справка!$G$2:$H$579,2,0),\"\")","v":""}]
[null,null,null,null,{"$f":"IFERROR(VLOOKUP(D6699,Справка!$G$2:$H$579,2,0),\"\")","v":""}]
[null,null,null,null,{"$f":"IFERROR(VLOOKUP(D6700,Справка!$G$2:$H$579,2,0),\"\")","v":""}]
[null,null,null,null,{"$f":"IFERROR(VLOOKUP(D6701,Справка!$G$2:$H$579,2,0),\"\")","v":""}]
[null,null,null,null,{"$f":"IFERROR(VLOOKUP(D6702,Справка!$G$2:$H$579,2,0),\"\")","v":""}]
[null,null,null,null,{"$f":"IFERROR(VLOOKUP(D6703,Справка!$G$2:$H$579,2,0),\"\")","v":""}]
[null,null,null,null,{"$f":"IFERROR(VLOOKUP(D6704,Справка!$G$2:$H$579,2,0),\"\")","v":""}]
[null,null,null,null,{"$f":"IFERROR(VLOOKUP(D6705,Справка!$G$2:$H$579,2,0),\"\")","v":""}]
[null,null,null,null,{"$f":"IFERROR(VLOOKUP(D6706,Справка!$G$2:$H$579,2,0),\"\")","v":""}]
[null,null,null,null,{"$f":"IFERROR(VLOOKUP(D6707,Справка!$G$2:$H$579,2,0),\"\")","v":""}]
[null,null,null,null,{"$f":"IFERROR(VLOOKUP(D6708,Справка!$G$2:$H$579,2,0),\"\")","v":""}]
[null,null,null,null,{"$f":"IFERROR(VLOOKUP(D6709,Справка!$G$2:$H$579,2,0),\"\")","v":""}]
[null,null,null,null,{"$f":"IFERROR(VLOOKUP(D6710,Справка!$G$2:$H$579,2,0),\"\")","v":""}]
[null,null,null,null,{"$f":"IFERROR(VLOOKUP(D6711,Справка!$G$2:$H$579,2,0),\"\")","v":""}]
[null,null,null,null,{"$f":"IFERROR(VLOOKUP(D6712,Справка!$G$2:$H$579,2,0),\"\")","v":""}]
[null,null,null,null,{"$f":"IFERROR(VLOOKUP(D6713,Справка!$G$2:$H$579,2,0),\"\")","v":""}]
[null,null,null,null,{"$f":"IFERROR(VLOOKUP(D6714,Справка!$G$2:$H$579,2,0),\"\")","v":""}]
[null,null,null,null,{"$f":"IFERROR(VLOOKUP(D6715,Справка!$G$2:$H$579,2,0),\"\")","v":""}]
[null,null,null,null,{"$f":"IFERROR(VLOOKUP(D6716,Справка!$G$2:$H$579,2,0),\"\")","v":""}]
[null,null,null,null,{"$f":"IFERROR(VLOOKUP(D6717,Справка!$G$2:$H$579,2,0),\"\")","v":""}]
[null,null,null,null,{"$f":"IFERROR(VLOOKUP(D6718,Справка!$G$2:$H$579,2,0),\"\")","v":""}]
[null,null,null,null,{"$f":"IFERROR(VLOOKUP(D6719,Справка!$G$2:$H$579,2,0),\"\")","v":""}]
[null,null,null,null,{"$f":"IFERROR(VLOOKUP(D6720,Справка!$G$2:$H$579,2,0),\"\")","v":""}]
[null,null,null,null,{"$f":"IFERROR(VLOOKUP(D6721,Справка!$G$2:$H$579,2,0),\"\")","v":""}]
[null,null,null,null,{"$f":"IFERROR(VLOOKUP(D6722,Справка!$G$2:$H$579,2,0),\"\")","v":""}]
[null,null,null,null,{"$f":"IFERROR(VLOOKUP(D6723,Справка!$G$2:$H$579,2,0),\"\")","v":""}]
[null,null,null,null,{"$f":"IFERROR(VLOOKUP(D6724,Справка!$G$2:$H$579,2,0),\"\")","v":""}]
[null,null,null,null,{"$f":"IFERROR(VLOOKUP(D6725,Справка!$G$2:$H$579,2,0),\"\")","v":""}]
[null,null,null,null,{"$f":"IFERROR(VLOOKUP(D6726,Справка!$G$2:$H$579,2,0),\"\")","v":""}]
[null,null,null,null,{"$f":"IFERROR(VLOOKUP(D6727,Справка!$G$2:$H$579,2,0),\"\")","v":""}]
[null,null,null,null,{"$f":"IFERROR(VLOOKUP(D6728,Справка!$G$2:$H$579,2,0),\"\")","v":""}]
[null,null,null,null,{"$f":"IFERROR(VLOOKUP(D6729,Справка!$G$2:$H$579,2,0),\"\")","v":""}]
[null,null,null,null,{"$f":"IFERROR(VLOOKUP(D6730,Справка!$G$2:$H$579,2,0),\"\")","v":""}]
[null,null,null,null,{"$f":"IFERROR(VLOOKUP(D6731,Справка!$G$2:$H$579,2,0),\"\")","v":""}]
[null,null,null,null,{"$f":"IFERROR(VLOOKUP(D6732,Справка!$G$2:$H$579,2,0),\"\")","v":""}]
[null,null,null,null,{"$f":"IFERROR(VLOOKUP(D6733,Справка!$G$2:$H$579,2,0),\"\")","v":""}]
[null,null,null,null,{"$f":"IFERROR(VLOOKUP(D6734,Справка!$G$2:$H$579,2,0),\"\")","v":""}]
[null,null,null,null,{"$f":"IFERROR(VLOOKUP(D6735,Справка!$G$2:$H$579,2,0),\"\")","v":""}]
[null,null,null,null,{"$f":"IFERROR(VLOOKUP(D6736,Справка!$G$2:$H$579,2,0),\"\")","v":""}]
[null,null,null,null,{"$f":"IFERROR(VLOOKUP(D6737,Справка!$G$2:$H$579,2,0),\"\")","v":""}]
[null,null,null,null,{"$f":"IFERROR(VLOOKUP(D6738,Справка!$G$2:$H$579,2,0),\"\")","v":""}]
[null,null,null,null,{"$f":"IFERROR(VLOOKUP(D6739,Справка!$G$2:$H$579,2,0),\"\")","v":""}]
[null,null,null,null,{"$f":"IFERROR(VLOOKUP(D6740,Справка!$G$2:$H$579,2,0),\"\")","v":""}]
[null,null,null,null,{"$f":"IFERROR(VLOOKUP(D6741,Справка!$G$2:$H$579,2,0),\"\")","v":""}]
[null,null,null,null,{"$f":"IFERROR(VLOOKUP(D6742,Справка!$G$2:$H$579,2,0),\"\")","v":""}]
[null,null,null,null,{"$f":"IFERROR(VLOOKUP(D6743,Справка!$G$2:$H$579,2,0),\"\")","v":""}]
[null,null,null,null,{"$f":"IFERROR(VLOOKUP(D6744,Справка!$G$2:$H$579,2,0),\"\")","v":""}]
[null,null,null,null,{"$f":"IFERROR(VLOOKUP(D6745,Справка!$G$2:$H$579,2,0),\"\")","v":""}]
[null,null,null,null,{"$f":"IFERROR(VLOOKUP(D6746,Справка!$G$2:$H$579,2,0),\"\")","v":""}]
[null,null,null,null,{"$f":"IFERROR(VLOOKUP(D6747,Справка!$G$2:$H$579,2,0),\"\")","v":""}]
[null,null,null,null,{"$f":"IFERROR(VLOOKUP(D6748,Справка!$G$2:$H$579,2,0),\"\")","v":""}]
[null,null,null,null,{"$f":"IFERROR(VLOOKUP(D6749,Справка!$G$2:$H$579,2,0),\"\")","v":""}]
[null,null,null,null,{"$f":"IFERROR(VLOOKUP(D6750,Справка!$G$2:$H$579,2,0),\"\")","v":""}]
[null,null,null,null,{"$f":"IFERROR(VLOOKUP(D6751,Справка!$G$2:$H$579,2,0),\"\")","v":""}]
[null,null,null,null,{"$f":"IFERROR(VLOOKUP(D6752,Справка!$G$2:$H$579,2,0),\"\")","v":""}]
[null,null,null,null,{"$f":"IFERROR(VLOOKUP(D6753,Справка!$G$2:$H$579,2,0),\"\")","v":""}]
[null,null,null,null,{"$f":"IFERROR(VLOOKUP(D6754,Справка!$G$2:$H$579,2,0),\"\")","v":""}]
[null,null,null,null,{"$f":"IFERROR(VLOOKUP(D6755,Справка!$G$2:$H$579,2,0),\"\")","v":""}]
[null,null,null,null,{"$f":"IFERROR(VLOOKUP(D6756,Справка!$G$2:$H$579,2,0),\"\")","v":""}]
[null,null,null,null,{"$f":"IFERROR(VLOOKUP(D6757,Справка!$G$2:$H$579,2,0),\"\")","v":""}]
[null,null,null,null,{"$f":"IFERROR(VLOOKUP(D6758,Справка!$G$2:$H$579,2,0),\"\")","v":""}]
[null,null,null,null,{"$f":"IFERROR(VLOOKUP(D6759,Справка!$G$2:$H$579,2,0),\"\")","v":""}]
[null,null,null,null,{"$f":"IFERROR(VLOOKUP(D6760,Справка!$G$2:$H$579,2,0),\"\")","v":""}]
[null,null,null,null,{"$f":"IFERROR(VLOOKUP(D6761,Справка!$G$2:$H$579,2,0),\"\")","v":""}]
[null,null,null,null,{"$f":"IFERROR(VLOOKUP(D6762,Справка!$G$2:$H$579,2,0),\"\")","v":""}]
[null,null,null,null,{"$f":"IFERROR(VLOOKUP(D6763,Справка!$G$2:$H$579,2,0),\"\")","v":""}]
[null,null,null,null,{"$f":"IFERROR(VLOOKUP(D6764,Справка!$G$2:$H$579,2,0),\"\")","v":""}]
[null,null,null,null,{"$f":"IFERROR(VLOOKUP(D6765,Справка!$G$2:$H$579,2,0),\"\")","v":""}]
[null,null,null,null,{"$f":"IFERROR(VLOOKUP(D6766,Справка!$G$2:$H$579,2,0),\"\")","v":""}]
[null,null,null,null,{"$f":"IFERROR(VLOOKUP(D6767,Справка!$G$2:$H$579,2,0),\"\")","v":""}]
[null,null,null,null,{"$f":"IFERROR(VLOOKUP(D6768,Справка!$G$2:$H$579,2,0),\"\")","v":""}]
[null,null,null,null,{"$f":"IFERROR(VLOOKUP(D6769,Справка!$G$2:$H$579,2,0),\"\")","v":""}]
[null,null,null,null,{"$f":"IFERROR(VLOOKUP(D6770,Справка!$G$2:$H$579,2,0),\"\")","v":""}]
[null,null,null,null,{"$f":"IFERROR(VLOOKUP(D6771,Справка!$G$2:$H$579,2,0),\"\")","v":""}]
[null,null,null,null,{"$f":"IFERROR(VLOOKUP(D6772,Справка!$G$2:$H$579,2,0),\"\")","v":""}]
[null,null,null,null,{"$f":"IFERROR(VLOOKUP(D6773,Справка!$G$2:$H$579,2,0),\"\")","v":""}]
[null,null,null,null,{"$f":"IFERROR(VLOOKUP(D6774,Справка!$G$2:$H$579,2,0),\"\")","v":""}]
[null,null,null,null,{"$f":"IFERROR(VLOOKUP(D6775,Справка!$G$2:$H$579,2,0),\"\")","v":""}]
[null,null,null,null,{"$f":"IFERROR(VLOOKUP(D6776,Справка!$G$2:$H$579,2,0),\"\")","v":""}]
[null,null,null,null,{"$f":"IFERROR(VLOOKUP(D6777,Справка!$G$2:$H$579,2,0),\"\")","v":""}]
[null,null,null,null,{"$f":"IFERROR(VLOOKUP(D6778,Справка!$G$2:$H$579,2,0),\"\")","v":""}]
[null,null,null,null,{"$f":"IFERROR(VLOOKUP(D6779,Справка!$G$2:$H$579,2,0),\"\")","v":""}]
[null,null,null,null,{"$f":"IFERROR(VLOOKUP(D6780,Справка!$G$2:$H$579,2,0),\"\")","v":""}]
[null,null,null,null,{"$f":"IFERROR(VLOOKUP(D6781,Справка!$G$2:$H$579,2,0),\"\")","v":""}]
[null,null,null,null,{"$f":"IFERROR(VLOOKUP(D6782,Справка!$G$2:$H$579,2,0),\"\")","v":""}]
[null,null,null,null,{"$f":"IFERROR(VLOOKUP(D6783,Справка!$G$2:$H$579,2,0),\"\")","v":""}]
[null,null,null,null,{"$f":"IFERROR(VLOOKUP(D6784,Справка!$G$2:$H$579,2,0),\"\")","v":""}]
[null,null,null,null,{"$f":"IFERROR(VLOOKUP(D6785,Справка!$G$2:$H$579,2,0),\"\")","v":""}]
[null,null,null,null,{"$f":"IFERROR(VLOOKUP(D6786,Справка!$G$2:$H$579,2,0),\"\")","v":""}]
[null,null,null,null,{"$f":"IFERROR(VLOOKUP(D6787,Справка!$G$2:$H$579,2,0),\"\")","v":""}]
[null,null,null,null,{"$f":"IFERROR(VLOOKUP(D6788,Справка!$G$2:$H$579,2,0),\"\")","v":""}]
[null,null,null,null,{"$f":"IFERROR(VLOOKUP(D6789,Справка!$G$2:$H$579,2,0),\"\")","v":""}]
[null,null,null,null,{"$f":"IFERROR(VLOOKUP(D6790,Справка!$G$2:$H$579,2,0),\"\")","v":""}]
[null,null,null,null,{"$f":"IFERROR(VLOOKUP(D6791,Справка!$G$2:$H$579,2,0),\"\")","v":""}]
[null,null,null,null,{"$f":"IFERROR(VLOOKUP(D6792,Справка!$G$2:$H$579,2,0),\"\")","v":""}]
[null,null,null,null,{"$f":"IFERROR(VLOOKUP(D6793,Справка!$G$2:$H$579,2,0),\"\")","v":""}]
[null,null,null,null,{"$f":"IFERROR(VLOOKUP(D6794,Справка!$G$2:$H$579,2,0),\"\")","v":""}]
[null,null,null,null,{"$f":"IFERROR(VLOOKUP(D6795,Справка!$G$2:$H$579,2,0),\"\")","v":""}]
[null,null,null,null,{"$f":"IFERROR(VLOOKUP(D6796,Справка!$G$2:$H$579,2,0),\"\")","v":""}]
[null,null,null,null,{"$f":"IFERROR(VLOOKUP(D6797,Справка!$G$2:$H$579,2,0),\"\")","v":""}]
[null,null,null,null,{"$f":"IFERROR(VLOOKUP(D6798,Справка!$G$2:$H$579,2,0),\"\")","v":""}]
[null,null,null,null,{"$f":"IFERROR(VLOOKUP(D6799,Справка!$G$2:$H$579,2,0),\"\")","v":""}]
[null,null,null,null,{"$f":"IFERROR(VLOOKUP(D6800,Справка!$G$2:$H$579,2,0),\"\")","v":""}]
[null,null,null,null,{"$f":"IFERROR(VLOOKUP(D6801,Справка!$G$2:$H$579,2,0),\"\")","v":""}]
[null,null,null,null,{"$f":"IFERROR(VLOOKUP(D6802,Справка!$G$2:$H$579,2,0),\"\")","v":""}]
[null,null,null,null,{"$f":"IFERROR(VLOOKUP(D6803,Справка!$G$2:$H$579,2,0),\"\")","v":""}]
[null,null,null,null,{"$f":"IFERROR(VLOOKUP(D6804,Справка!$G$2:$H$579,2,0),\"\")","v":""}]
[null,null,null,null,{"$f":"IFERROR(VLOOKUP(D6805,Справка!$G$2:$H$579,2,0),\"\")","v":""}]
[null,null,null,null,{"$f":"IFERROR(VLOOKUP(D6806,Справка!$G$2:$H$579,2,0),\"\")","v":""}]
[null,null,null,null,{"$f":"IFERROR(VLOOKUP(D6807,Справка!$G$2:$H$579,2,0),\"\")","v":""}]
[null,null,null,null,{"$f":"IFERROR(VLOOKUP(D6808,Справка!$G$2:$H$579,2,0),\"\")","v":""}]
[null,null,null,null,{"$f":"IFERROR(VLOOKUP(D6809,Справка!$G$2:$H$579,2,0),\"\")","v":""}]
[null,null,null,null,{"$f":"IFERROR(VLOOKUP(D6810,Справка!$G$2:$H$579,2,0),\"\")","v":""}]
[null,null,null,null,{"$f":"IFERROR(VLOOKUP(D6811,Справка!$G$2:$H$579,2,0),\"\")","v":""}]
[null,null,null,null,{"$f":"IFERROR(VLOOKUP(D6812,Справка!$G$2:$H$579,2,0),\"\")","v":""}]
[null,null,null,null,{"$f":"IFERROR(VLOOKUP(D6813,Справка!$G$2:$H$579,2,0),\"\")","v":""}]
[null,null,null,null,{"$f":"IFERROR(VLOOKUP(D6814,Справка!$G$2:$H$579,2,0),\"\")","v":""}]
[null,null,null,null,{"$f":"IFERROR(VLOOKUP(D6815,Справка!$G$2:$H$579,2,0),\"\")","v":""}]
[null,null,null,null,{"$f":"IFERROR(VLOOKUP(D6816,Справка!$G$2:$H$579,2,0),\"\")","v":""}]
[null,null,null,null,{"$f":"IFERROR(VLOOKUP(D6817,Справка!$G$2:$H$579,2,0),\"\")","v":""}]
[null,null,null,null,{"$f":"IFERROR(VLOOKUP(D6818,Справка!$G$2:$H$579,2,0),\"\")","v":""}]
[null,null,null,null,{"$f":"IFERROR(VLOOKUP(D6819,Справка!$G$2:$H$579,2,0),\"\")","v":""}]
[null,null,null,null,{"$f":"IFERROR(VLOOKUP(D6820,Справка!$G$2:$H$579,2,0),\"\")","v":""}]
[null,null,null,null,{"$f":"IFERROR(VLOOKUP(D6821,Справка!$G$2:$H$579,2,0),\"\")","v":""}]
[null,null,null,null,{"$f":"IFERROR(VLOOKUP(D6822,Справка!$G$2:$H$579,2,0),\"\")","v":""}]
[null,null,null,null,{"$f":"IFERROR(VLOOKUP(D6823,Справка!$G$2:$H$579,2,0),\"\")","v":""}]
[null,null,null,null,{"$f":"IFERROR(VLOOKUP(D6824,Справка!$G$2:$H$579,2,0),\"\")","v":""}]
[null,null,null,null,{"$f":"IFERROR(VLOOKUP(D6825,Справка!$G$2:$H$579,2,0),\"\")","v":""}]
[null,null,null,null,{"$f":"IFERROR(VLOOKUP(D6826,Справка!$G$2:$H$579,2,0),\"\")","v":""}]
[null,null,null,null,{"$f":"IFERROR(VLOOKUP(D6827,Справка!$G$2:$H$579,2,0),\"\")","v":""}]
[null,null,null,null,{"$f":"IFERROR(VLOOKUP(D6828,Справка!$G$2:$H$579,2,0),\"\")","v":""}]
[null,null,null,null,{"$f":"IFERROR(VLOOKUP(D6829,Справка!$G$2:$H$579,2,0),\"\")","v":""}]
[null,null,null,null,{"$f":"IFERROR(VLOOKUP(D6830,Справка!$G$2:$H$579,2,0),\"\")","v":""}]
[null,null,null,null,{"$f":"IFERROR(VLOOKUP(D6831,Справка!$G$2:$H$579,2,0),\"\")","v":""}]
[null,null,null,null,{"$f":"IFERROR(VLOOKUP(D6832,Справка!$G$2:$H$579,2,0),\"\")","v":""}]
[null,null,null,null,{"$f":"IFERROR(VLOOKUP(D6833,Справка!$G$2:$H$579,2,0),\"\")","v":""}]
[null,null,null,null,{"$f":"IFERROR(VLOOKUP(D6834,Справка!$G$2:$H$579,2,0),\"\")","v":""}]
[null,null,null,null,{"$f":"IFERROR(VLOOKUP(D6835,Справка!$G$2:$H$579,2,0),\"\")","v":""}]
[null,null,null,null,{"$f":"IFERROR(VLOOKUP(D6836,Справка!$G$2:$H$579,2,0),\"\")","v":""}]
[null,null,null,null,{"$f":"IFERROR(VLOOKUP(D6837,Справка!$G$2:$H$579,2,0),\"\")","v":""}]
[null,null,null,null,{"$f":"IFERROR(VLOOKUP(D6838,Справка!$G$2:$H$579,2,0),\"\")","v":""}]
[null,null,null,null,{"$f":"IFERROR(VLOOKUP(D6839,Справка!$G$2:$H$579,2,0),\"\")","v":""}]
[null,null,null,null,{"$f":"IFERROR(VLOOKUP(D6840,Справка!$G$2:$H$579,2,0),\"\")","v":""}]
[null,null,null,null,{"$f":"IFERROR(VLOOKUP(D6841,Справка!$G$2:$H$579,2,0),\"\")","v":""}]
[null,null,null,null,{"$f":"IFERROR(VLOOKUP(D6842,Справка!$G$2:$H$579,2,0),\"\")","v":""}]
[null,null,null,null,{"$f":"IFERROR(VLOOKUP(D6843,Справка!$G$2:$H$579,2,0),\"\")","v":""}]
[null,null,null,null,{"$f":"IFERROR(VLOOKUP(D6844,Справка!$G$2:$H$579,2,0),\"\")","v":""}]
[null,null,null,null,{"$f":"IFERROR(VLOOKUP(D6845,Справка!$G$2:$H$579,2,0),\"\")","v":""}]
[null,null,null,null,{"$f":"IFERROR(VLOOKUP(D6846,Справка!$G$2:$H$579,2,0),\"\")","v":""}]
[null,null,null,null,{"$f":"IFERROR(VLOOKUP(D6847,Справка!$G$2:$H$579,2,0),\"\")","v":""}]
[null,null,null,null,{"$f":"IFERROR(VLOOKUP(D6848,Справка!$G$2:$H$579,2,0),\"\")","v":""}]
[null,null,null,null,{"$f":"IFERROR(VLOOKUP(D6849,Справка!$G$2:$H$579,2,0),\"\")","v":""}]
[null,null,null,null,{"$f":"IFERROR(VLOOKUP(D6850,Справка!$G$2:$H$579,2,0),\"\")","v":""}]
[null,null,null,null,{"$f":"IFERROR(VLOOKUP(D6851,Справка!$G$2:$H$579,2,0),\"\")","v":""}]
[null,null,null,null,{"$f":"IFERROR(VLOOKUP(D6852,Справка!$G$2:$H$579,2,0),\"\")","v":""}]
[null,null,null,null,{"$f":"IFERROR(VLOOKUP(D6853,Справка!$G$2:$H$579,2,0),\"\")","v":""}]
[null,null,null,null,{"$f":"IFERROR(VLOOKUP(D6854,Справка!$G$2:$H$579,2,0),\"\")","v":""}]
[null,null,null,null,{"$f":"IFERROR(VLOOKUP(D6855,Справка!$G$2:$H$579,2,0),\"\")","v":""}]
[null,null,null,null,{"$f":"IFERROR(VLOOKUP(D6856,Справка!$G$2:$H$579,2,0),\"\")","v":""}]
[null,null,null,null,{"$f":"IFERROR(VLOOKUP(D6857,Справка!$G$2:$H$579,2,0),\"\")","v":""}]
[null,null,null,null,{"$f":"IFERROR(VLOOKUP(D6858,Справка!$G$2:$H$579,2,0),\"\")","v":""}]
[null,null,null,null,{"$f":"IFERROR(VLOOKUP(D6859,Справка!$G$2:$H$579,2,0),\"\")","v":""}]
[null,null,null,null,{"$f":"IFERROR(VLOOKUP(D6860,Справка!$G$2:$H$579,2,0),\"\")","v":""}]
[null,null,null,null,{"$f":"IFERROR(VLOOKUP(D6861,Справка!$G$2:$H$579,2,0),\"\")","v":""}]
[null,null,null,null,{"$f":"IFERROR(VLOOKUP(D6862,Справка!$G$2:$H$579,2,0),\"\")","v":""}]
[null,null,null,null,{"$f":"IFERROR(VLOOKUP(D6863,Справка!$G$2:$H$579,2,0),\"\")","v":""}]
[null,null,null,null,{"$f":"IFERROR(VLOOKUP(D6864,Справка!$G$2:$H$579,2,0),\"\")","v":""}]
[null,null,null,null,{"$f":"IFERROR(VLOOKUP(D6865,Справка!$G$2:$H$579,2,0),\"\")","v":""}]
[null,null,null,null,{"$f":"IFERROR(VLOOKUP(D6866,Справка!$G$2:$H$579,2,0),\"\")","v":""}]
[null,null,null,null,{"$f":"IFERROR(VLOOKUP(D6867,Справка!$G$2:$H$579,2,0),\"\")","v":""}]
[null,null,null,null,{"$f":"IFERROR(VLOOKUP(D6868,Справка!$G$2:$H$579,2,0),\"\")","v":""}]
[null,null,null,null,{"$f":"IFERROR(VLOOKUP(D6869,Справка!$G$2:$H$579,2,0),\"\")","v":""}]
[null,null,null,null,{"$f":"IFERROR(VLOOKUP(D6870,Справка!$G$2:$H$579,2,0),\"\")","v":""}]
[null,null,null,null,{"$f":"IFERROR(VLOOKUP(D6871,Справка!$G$2:$H$579,2,0),\"\")","v":""}]
[null,null,null,null,{"$f":"IFERROR(VLOOKUP(D6872,Справка!$G$2:$H$579,2,0),\"\")","v":""}]
[null,null,null,null,{"$f":"IFERROR(VLOOKUP(D6873,Справка!$G$2:$H$579,2,0),\"\")","v":""}]
[null,null,null,null,{"$f":"IFERROR(VLOOKUP(D6874,Справка!$G$2:$H$579,2,0),\"\")","v":""}]
[null,null,null,null,{"$f":"IFERROR(VLOOKUP(D6875,Справка!$G$2:$H$579,2,0),\"\")","v":""}]
[null,null,null,null,{"$f":"IFERROR(VLOOKUP(D6876,Справка!$G$2:$H$579,2,0),\"\")","v":""}]
[null,null,null,null,{"$f":"IFERROR(VLOOKUP(D6877,Справка!$G$2:$H$579,2,0),\"\")","v":""}]
[null,null,null,null,{"$f":"IFERROR(VLOOKUP(D6878,Справка!$G$2:$H$579,2,0),\"\")","v":""}]
[null,null,null,null,{"$f":"IFERROR(VLOOKUP(D6879,Справка!$G$2:$H$579,2,0),\"\")","v":""}]
[null,null,null,null,{"$f":"IFERROR(VLOOKUP(D6880,Справка!$G$2:$H$579,2,0),\"\")","v":""}]
[null,null,null,null,{"$f":"IFERROR(VLOOKUP(D6881,Справка!$G$2:$H$579,2,0),\"\")","v":""}]
[null,null,null,null,{"$f":"IFERROR(VLOOKUP(D6882,Справка!$G$2:$H$579,2,0),\"\")","v":""}]
[null,null,null,null,{"$f":"IFERROR(VLOOKUP(D6883,Справка!$G$2:$H$579,2,0),\"\")","v":""}]
[null,null,null,null,{"$f":"IFERROR(VLOOKUP(D6884,Справка!$G$2:$H$579,2,0),\"\")","v":""}]
[null,null,null,null,{"$f":"IFERROR(VLOOKUP(D6885,Справка!$G$2:$H$579,2,0),\"\")","v":""}]
[null,null,null,null,{"$f":"IFERROR(VLOOKUP(D6886,Справка!$G$2:$H$579,2,0),\"\")","v":""}]
[null,null,null,null,{"$f":"IFERROR(VLOOKUP(D6887,Справка!$G$2:$H$579,2,0),\"\")","v":""}]
[null,null,null,null,{"$f":"IFERROR(VLOOKUP(D6888,Справка!$G$2:$H$579,2,0),\"\")","v":""}]
[null,null,null,null,{"$f":"IFERROR(VLOOKUP(D6889,Справка!$G$2:$H$579,2,0),\"\")","v":""}]
[null,null,null,null,{"$f":"IFERROR(VLOOKUP(D6890,Справка!$G$2:$H$579,2,0),\"\")","v":""}]
[null,null,null,null,{"$f":"IFERROR(VLOOKUP(D6891,Справка!$G$2:$H$579,2,0),\"\")","v":""}]
[null,null,null,null,{"$f":"IFERROR(VLOOKUP(D6892,Справка!$G$2:$H$579,2,0),\"\")","v":""}]
[null,null,null,null,{"$f":"IFERROR(VLOOKUP(D6893,Справка!$G$2:$H$579,2,0),\"\")","v":""}]
[null,null,null,null,{"$f":"IFERROR(VLOOKUP(D6894,Справка!$G$2:$H$579,2,0),\"\")","v":""}]
[null,null,null,null,{"$f":"IFERROR(VLOOKUP(D6895,Справка!$G$2:$H$579,2,0),\"\")","v":""}]
[null,null,null,null,{"$f":"IFERROR(VLOOKUP(D6896,Справка!$G$2:$H$579,2,0),\"\")","v":""}]
[null,null,null,null,{"$f":"IFERROR(VLOOKUP(D6897,Справка!$G$2:$H$579,2,0),\"\")","v":""}]
[null,null,null,null,{"$f":"IFERROR(VLOOKUP(D6898,Справка!$G$2:$H$579,2,0),\"\")","v":""}]
[null,null,null,null,{"$f":"IFERROR(VLOOKUP(D6899,Справка!$G$2:$H$579,2,0),\"\")","v":""}]
[null,null,null,null,{"$f":"IFERROR(VLOOKUP(D6900,Справка!$G$2:$H$579,2,0),\"\")","v":""}]
[null,null,null,null,{"$f":"IFERROR(VLOOKUP(D6901,Справка!$G$2:$H$579,2,0),\"\")","v":""}]
[null,null,null,null,{"$f":"IFERROR(VLOOKUP(D6902,Справка!$G$2:$H$579,2,0),\"\")","v":""}]
[null,null,null,null,{"$f":"IFERROR(VLOOKUP(D6903,Справка!$G$2:$H$579,2,0),\"\")","v":""}]
[null,null,null,null,{"$f":"IFERROR(VLOOKUP(D6904,Справка!$G$2:$H$579,2,0),\"\")","v":""}]
[null,null,null,null,{"$f":"IFERROR(VLOOKUP(D6905,Справка!$G$2:$H$579,2,0),\"\")","v":""}]
[null,null,null,null,{"$f":"IFERROR(VLOOKUP(D6906,Справка!$G$2:$H$579,2,0),\"\")","v":""}]
[null,null,null,null,{"$f":"IFERROR(VLOOKUP(D6907,Справка!$G$2:$H$579,2,0),\"\")","v":""}]
[null,null,null,null,{"$f":"IFERROR(VLOOKUP(D6908,Справка!$G$2:$H$579,2,0),\"\")","v":""}]
[null,null,null,null,{"$f":"IFERROR(VLOOKUP(D6909,Справка!$G$2:$H$579,2,0),\"\")","v":""}]
[null,null,null,null,{"$f":"IFERROR(VLOOKUP(D6910,Справка!$G$2:$H$579,2,0),\"\")","v":""}]
[null,null,null,null,{"$f":"IFERROR(VLOOKUP(D6911,Справка!$G$2:$H$579,2,0),\"\")","v":""}]
[null,null,null,null,{"$f":"IFERROR(VLOOKUP(D6912,Справка!$G$2:$H$579,2,0),\"\")","v":""}]
[null,null,null,null,{"$f":"IFERROR(VLOOKUP(D6913,Справка!$G$2:$H$579,2,0),\"\")","v":""}]
[null,null,null,null,{"$f":"IFERROR(VLOOKUP(D6914,Справка!$G$2:$H$579,2,0),\"\")","v":""}]
[null,null,null,null,{"$f":"IFERROR(VLOOKUP(D6915,Справка!$G$2:$H$579,2,0),\"\")","v":""}]
[null,null,null,null,{"$f":"IFERROR(VLOOKUP(D6916,Справка!$G$2:$H$579,2,0),\"\")","v":""}]
[null,null,null,null,{"$f":"IFERROR(VLOOKUP(D6917,Справка!$G$2:$H$579,2,0),\"\")","v":""}]
[null,null,null,null,{"$f":"IFERROR(VLOOKUP(D6918,Справка!$G$2:$H$579,2,0),\"\")","v":""}]
[null,null,null,null,{"$f":"IFERROR(VLOOKUP(D6919,Справка!$G$2:$H$579,2,0),\"\")","v":""}]
[null,null,null,null,{"$f":"IFERROR(VLOOKUP(D6920,Справка!$G$2:$H$579,2,0),\"\")","v":""}]
[null,null,null,null,{"$f":"IFERROR(VLOOKUP(D6921,Справка!$G$2:$H$579,2,0),\"\")","v":""}]
[null,null,null,null,{"$f":"IFERROR(VLOOKUP(D6922,Справка!$G$2:$H$579,2,0),\"\")","v":""}]
[null,null,null,null,{"$f":"IFERROR(VLOOKUP(D6923,Справка!$G$2:$H$579,2,0),\"\")","v":""}]
[null,null,null,null,{"$f":"IFERROR(VLOOKUP(D6924,Справка!$G$2:$H$579,2,0),\"\")","v":""}]
[null,null,null,null,{"$f":"IFERROR(VLOOKUP(D6925,Справка!$G$2:$H$579,2,0),\"\")","v":""}]
[null,null,null,null,{"$f":"IFERROR(VLOOKUP(D6926,Справка!$G$2:$H$579,2,0),\"\")","v":""}]
[null,null,null,null,{"$f":"IFERROR(VLOOKUP(D6927,Справка!$G$2:$H$579,2,0),\"\")","v":""}]
[null,null,null,null,{"$f":"IFERROR(VLOOKUP(D6928,Справка!$G$2:$H$579,2,0),\"\")","v":""}]
[null,null,null,null,{"$f":"IFERROR(VLOOKUP(D6929,Справка!$G$2:$H$579,2,0),\"\")","v":""}]
[null,null,null,null,{"$f":"IFERROR(VLOOKUP(D6930,Справка!$G$2:$H$579,2,0),\"\")","v":""}]
[null,null,null,null,{"$f":"IFERROR(VLOOKUP(D6931,Справка!$G$2:$H$579,2,0),\"\")","v":""}]
[null,null,null,null,{"$f":"IFERROR(VLOOKUP(D6932,Справка!$G$2:$H$579,2,0),\"\")","v":""}]
[null,null,null,null,{"$f":"IFERROR(VLOOKUP(D6933,Справка!$G$2:$H$579,2,0),\"\")","v":""}]
[null,null,null,null,{"$f":"IFERROR(VLOOKUP(D6934,Справка!$G$2:$H$579,2,0),\"\")","v":""}]
[null,null,null,null,{"$f":"IFERROR(VLOOKUP(D6935,Справка!$G$2:$H$579,2,0),\"\")","v":""}]
[null,null,null,null,{"$f":"IFERROR(VLOOKUP(D6936,Справка!$G$2:$H$579,2,0),\"\")","v":""}]
[null,null,null,null,{"$f":"IFERROR(VLOOKUP(D6937,Справка!$G$2:$H$579,2,0),\"\")","v":""}]
[null,null,null,null,{"$f":"IFERROR(VLOOKUP(D6938,Справка!$G$2:$H$579,2,0),\"\")","v":""}]
[null,null,null,null,{"$f":"IFERROR(VLOOKUP(D6939,Справка!$G$2:$H$579,2,0),\"\")","v":""}]
[null,null,null,null,{"$f":"IFERROR(VLOOKUP(D6940,Справка!$G$2:$H$579,2,0),\"\")","v":""}]
[null,null,null,null,{"$f":"IFERROR(VLOOKUP(D6941,Справка!$G$2:$H$579,2,0),\"\")","v":""}]
[null,null,null,null,{"$f":"IFERROR(VLOOKUP(D6942,Справка!$G$2:$H$579,2,0),\"\")","v":""}]
[null,null,null,null,{"$f":"IFERROR(VLOOKUP(D6943,Справка!$G$2:$H$579,2,0),\"\")","v":""}]
[null,null,null,null,{"$f":"IFERROR(VLOOKUP(D6944,Справка!$G$2:$H$579,2,0),\"\")","v":""}]
[null,null,null,null,{"$f":"IFERROR(VLOOKUP(D6945,Справка!$G$2:$H$579,2,0),\"\")","v":""}]
[null,null,null,null,{"$f":"IFERROR(VLOOKUP(D6946,Справка!$G$2:$H$579,2,0),\"\")","v":""}]
[null,null,null,null,{"$f":"IFERROR(VLOOKUP(D6947,Справка!$G$2:$H$579,2,0),\"\")","v":""}]
[null,null,null,null,{"$f":"IFERROR(VLOOKUP(D6948,Справка!$G$2:$H$579,2,0),\"\")","v":""}]
[null,null,null,null,{"$f":"IFERROR(VLOOKUP(D6949,Справка!$G$2:$H$579,2,0),\"\")","v":""}]
[null,null,null,null,{"$f":"IFERROR(VLOOKUP(D6950,Справка!$G$2:$H$579,2,0),\"\")","v":""}]
[null,null,null,null,{"$f":"IFERROR(VLOOKUP(D6951,Справка!$G$2:$H$579,2,0),\"\")","v":""}]
[null,null,null,null,{"$f":"IFERROR(VLOOKUP(D6952,Справка!$G$2:$H$579,2,0),\"\")","v":""}]
[null,null,null,null,{"$f":"IFERROR(VLOOKUP(D6953,Справка!$G$2:$H$579,2,0),\"\")","v":""}]
[null,null,null,null,{"$f":"IFERROR(VLOOKUP(D6954,Справка!$G$2:$H$579,2,0),\"\")","v":""}]
[null,null,null,null,{"$f":"IFERROR(VLOOKUP(D6955,Справка!$G$2:$H$579,2,0),\"\")","v":""}]
[null,null,null,null,{"$f":"IFERROR(VLOOKUP(D6956,Справка!$G$2:$H$579,2,0),\"\")","v":""}]
[null,null,null,null,{"$f":"IFERROR(VLOOKUP(D6957,Справка!$G$2:$H$579,2,0),\"\")","v":""}]
[null,null,null,null,{"$f":"IFERROR(VLOOKUP(D6958,Справка!$G$2:$H$579,2,0),\"\")","v":""}]
[null,null,null,null,{"$f":"IFERROR(VLOOKUP(D6959,Справка!$G$2:$H$579,2,0),\"\")","v":""}]
[null,null,null,null,{"$f":"IFERROR(VLOOKUP(D6960,Справка!$G$2:$H$579,2,0),\"\")","v":""}]
[null,null,null,null,{"$f":"IFERROR(VLOOKUP(D6961,Справка!$G$2:$H$579,2,0),\"\")","v":""}]
[null,null,null,null,{"$f":"IFERROR(VLOOKUP(D6962,Справка!$G$2:$H$579,2,0),\"\")","v":""}]
[null,null,null,null,{"$f":"IFERROR(VLOOKUP(D6963,Справка!$G$2:$H$579,2,0),\"\")","v":""}]
[null,null,null,null,{"$f":"IFERROR(VLOOKUP(D6964,Справка!$G$2:$H$579,2,0),\"\")","v":""}]
[null,null,null,null,{"$f":"IFERROR(VLOOKUP(D6965,Справка!$G$2:$H$579,2,0),\"\")","v":""}]
[null,null,null,null,{"$f":"IFERROR(VLOOKUP(D6966,Справка!$G$2:$H$579,2,0),\"\")","v":""}]
[null,null,null,null,{"$f":"IFERROR(VLOOKUP(D6967,Справка!$G$2:$H$579,2,0),\"\")","v":""}]
[null,null,null,null,{"$f":"IFERROR(VLOOKUP(D6968,Справка!$G$2:$H$579,2,0),\"\")","v":""}]
[null,null,null,null,{"$f":"IFERROR(VLOOKUP(D6969,Справка!$G$2:$H$579,2,0),\"\")","v":""}]
[null,null,null,null,{"$f":"IFERROR(VLOOKUP(D6970,Справка!$G$2:$H$579,2,0),\"\")","v":""}]
[null,null,null,null,{"$f":"IFERROR(VLOOKUP(D6971,Справка!$G$2:$H$579,2,0),\"\")","v":""}]
[null,null,null,null,{"$f":"IFERROR(VLOOKUP(D6972,Справка!$G$2:$H$579,2,0),\"\")","v":""}]
[null,null,null,null,{"$f":"IFERROR(VLOOKUP(D6973,Справка!$G$2:$H$579,2,0),\"\")","v":""}]
[null,null,null,null,{"$f":"IFERROR(VLOOKUP(D6974,Справка!$G$2:$H$579,2,0),\"\")","v":""}]
[null,null,null,null,{"$f":"IFERROR(VLOOKUP(D6975,Справка!$G$2:$H$579,2,0),\"\")","v":""}]
[null,null,null,null,{"$f":"IFERROR(VLOOKUP(D6976,Справка!$G$2:$H$579,2,0),\"\")","v":""}]
[null,null,null,null,{"$f":"IFERROR(VLOOKUP(D6977,Справка!$G$2:$H$579,2,0),\"\")","v":""}]
[null,null,null,null,{"$f":"IFERROR(VLOOKUP(D6978,Справка!$G$2:$H$579,2,0),\"\")","v":""}]
[null,null,null,null,{"$f":"IFERROR(VLOOKUP(D6979,Справка!$G$2:$H$579,2,0),\"\")","v":""}]
[null,null,null,null,{"$f":"IFERROR(VLOOKUP(D6980,Справка!$G$2:$H$579,2,0),\"\")","v":""}]
[null,null,null,null,{"$f":"IFERROR(VLOOKUP(D6981,Справка!$G$2:$H$579,2,0),\"\")","v":""}]
[null,null,null,null,{"$f":"IFERROR(VLOOKUP(D6982,Справка!$G$2:$H$579,2,0),\"\")","v":""}]
[null,null,null,null,{"$f":"IFERROR(VLOOKUP(D6983,Справка!$G$2:$H$579,2,0),\"\")","v":""}]
[null,null,null,null,{"$f":"IFERROR(VLOOKUP(D6984,Справка!$G$2:$H$579,2,0),\"\")","v":""}]
[null,null,null,null,{"$f":"IFERROR(VLOOKUP(D6985,Справка!$G$2:$H$579,2,0),\"\")","v":""}]
[null,null,null,null,{"$f":"IFERROR(VLOOKUP(D6986,Справка!$G$2:$H$579,2,0),\"\")","v":""}]
[null,null,null,null,{"$f":"IFERROR(VLOOKUP(D6987,Справка!$G$2:$H$579,2,0),\"\")","v":""}]
[null,null,null,null,{"$f":"IFERROR(VLOOKUP(D6988,Справка!$G$2:$H$579,2,0),\"\")","v":""}]
[null,null,null,null,{"$f":"IFERROR(VLOOKUP(D6989,Справка!$G$2:$H$579,2,0),\"\")","v":""}]
[null,null,null,null,{"$f":"IFERROR(VLOOKUP(D6990,Справка!$G$2:$H$579,2,0),\"\")","v":""}]
[null,null,null,null,{"$f":"IFERROR(VLOOKUP(D6991,Справка!$G$2:$H$579,2,0),\"\")","v":""}]
[null,null,null,null,{"$f":"IFERROR(VLOOKUP(D6992,Справка!$G$2:$H$579,2,0),\"\")","v":""}]
[null,null,null,null,{"$f":"IFERROR(VLOOKUP(D6993,Справка!$G$2:$H$579,2,0),\"\")","v":""}]
[null,null,null,null,{"$f":"IFERROR(VLOOKUP(D6994,Справка!$G$2:$H$579,2,0),\"\")","v":""}]
[null,null,null,null,{"$f":"IFERROR(VLOOKUP(D6995,Справка!$G$2:$H$579,2,0),\"\")","v":""}]
[null,null,null,null,{"$f":"IFERROR(VLOOKUP(D6996,Справка!$G$2:$H$579,2,0),\"\")","v":""}]
[null,null,null,null,{"$f":"IFERROR(VLOOKUP(D6997,Справка!$G$2:$H$579,2,0),\"\")","v":""}]
[null,null,null,null,{"$f":"IFERROR(VLOOKUP(D6998,Справка!$G$2:$H$579,2,0),\"\")","v":""}]
[null,null,null,null,{"$f":"IFERROR(VLOOKUP(D6999,Справка!$G$2:$H$579,2,0),\"\")","v":""}]
[null,null,null,null,{"$f":"IFERROR(VLOOKUP(D7000,Справка!$G$2:$H$579,2,0),\"\")","v":""}]
[null,null,null,null,{"$f":"IFERROR(VLOOKUP(D7001,Справка!$G$2:$H$579,2,0),\"\")","v":""}]
[null,null,null,null,{"$f":"IFERROR(VLOOKUP(D7002,Справка!$G$2:$H$579,2,0),\"\")","v":""}]
[null,null,null,null,{"$f":"IFERROR(VLOOKUP(D7003,Справка!$G$2:$H$579,2,0),\"\")","v":""}]
[null,null,null,null,{"$f":"IFERROR(VLOOKUP(D7004,Справка!$G$2:$H$579,2,0),\"\")","v":""}]
[null,null,null,null,{"$f":"IFERROR(VLOOKUP(D7005,Справка!$G$2:$H$579,2,0),\"\")","v":""}]
[null,null,null,null,{"$f":"IFERROR(VLOOKUP(D7006,Справка!$G$2:$H$579,2,0),\"\")","v":""}]
[null,null,null,null,{"$f":"IFERROR(VLOOKUP(D7007,Справка!$G$2:$H$579,2,0),\"\")","v":""}]
[null,null,null,null,{"$f":"IFERROR(VLOOKUP(D7008,Справка!$G$2:$H$579,2,0),\"\")","v":""}]
[null,null,null,null,{"$f":"IFERROR(VLOOKUP(D7009,Справка!$G$2:$H$579,2,0),\"\")","v":""}]
[null,null,null,null,{"$f":"IFERROR(VLOOKUP(D7010,Справка!$G$2:$H$579,2,0),\"\")","v":""}]
[null,null,null,null,{"$f":"IFERROR(VLOOKUP(D7011,Справка!$G$2:$H$579,2,0),\"\")","v":""}]
[null,null,null,null,{"$f":"IFERROR(VLOOKUP(D7012,Справка!$G$2:$H$579,2,0),\"\")","v":""}]
[null,null,null,null,{"$f":"IFERROR(VLOOKUP(D7013,Справка!$G$2:$H$579,2,0),\"\")","v":""}]
[null,null,null,null,{"$f":"IFERROR(VLOOKUP(D7014,Справка!$G$2:$H$579,2,0),\"\")","v":""}]
[null,null,null,null,{"$f":"IFERROR(VLOOKUP(D7015,Справка!$G$2:$H$579,2,0),\"\")","v":""}]
[null,null,null,null,{"$f":"IFERROR(VLOOKUP(D7016,Справка!$G$2:$H$579,2,0),\"\")","v":""}]
[null,null,null,null,{"$f":"IFERROR(VLOOKUP(D7017,Справка!$G$2:$H$579,2,0),\"\")","v":""}]
[null,null,null,null,{"$f":"IFERROR(VLOOKUP(D7018,Справка!$G$2:$H$579,2,0),\"\")","v":""}]
[null,null,null,null,{"$f":"IFERROR(VLOOKUP(D7019,Справка!$G$2:$H$579,2,0),\"\")","v":""}]
[null,null,null,null,{"$f":"IFERROR(VLOOKUP(D7020,Справка!$G$2:$H$579,2,0),\"\")","v":""}]
[null,null,null,null,{"$f":"IFERROR(VLOOKUP(D7021,Справка!$G$2:$H$579,2,0),\"\")","v":""}]
[null,null,null,null,{"$f":"IFERROR(VLOOKUP(D7022,Справка!$G$2:$H$579,2,0),\"\")","v":""}]
[null,null,null,null,{"$f":"IFERROR(VLOOKUP(D7023,Справка!$G$2:$H$579,2,0),\"\")","v":""}]
[null,null,null,null,{"$f":"IFERROR(VLOOKUP(D7024,Справка!$G$2:$H$579,2,0),\"\")","v":""}]
[null,null,null,null,{"$f":"IFERROR(VLOOKUP(D7025,Справка!$G$2:$H$579,2,0),\"\")","v":""}]
[null,null,null,null,{"$f":"IFERROR(VLOOKUP(D7026,Справка!$G$2:$H$579,2,0),\"\")","v":""}]
[null,null,null,null,{"$f":"IFERROR(VLOOKUP(D7027,Справка!$G$2:$H$579,2,0),\"\")","v":""}]
[null,null,null,null,{"$f":"IFERROR(VLOOKUP(D7028,Справка!$G$2:$H$579,2,0),\"\")","v":""}]
[null,null,null,null,{"$f":"IFERROR(VLOOKUP(D7029,Справка!$G$2:$H$579,2,0),\"\")","v":""}]
[null,null,null,null,{"$f":"IFERROR(VLOOKUP(D7030,Справка!$G$2:$H$579,2,0),\"\")","v":""}]
[null,null,null,null,{"$f":"IFERROR(VLOOKUP(D7031,Справка!$G$2:$H$579,2,0),\"\")","v":""}]
[null,null,null,null,{"$f":"IFERROR(VLOOKUP(D7032,Справка!$G$2:$H$579,2,0),\"\")","v":""}]
[null,null,null,null,{"$f":"IFERROR(VLOOKUP(D7033,Справка!$G$2:$H$579,2,0),\"\")","v":""}]
[null,null,null,null,{"$f":"IFERROR(VLOOKUP(D7034,Справка!$G$2:$H$579,2,0),\"\")","v":""}]
[null,null,null,null,{"$f":"IFERROR(VLOOKUP(D7035,Справка!$G$2:$H$579,2,0),\"\")","v":""}]
[null,null,null,null,{"$f":"IFERROR(VLOOKUP(D7036,Справка!$G$2:$H$579,2,0),\"\")","v":""}]
[null,null,null,null,{"$f":"IFERROR(VLOOKUP(D7037,Справка!$G$2:$H$579,2,0),\"\")","v":""}]
[null,null,null,null,{"$f":"IFERROR(VLOOKUP(D7038,Справка!$G$2:$H$579,2,0),\"\")","v":""}]
[null,null,null,null,{"$f":"IFERROR(VLOOKUP(D7039,Справка!$G$2:$H$579,2,0),\"\")","v":""}]
[null,null,null,null,{"$f":"IFERROR(VLOOKUP(D7040,Справка!$G$2:$H$579,2,0),\"\")","v":""}]
[null,null,null,null,{"$f":"IFERROR(VLOOKUP(D7041,Справка!$G$2:$H$579,2,0),\"\")","v":""}]
[null,null,null,null,{"$f":"IFERROR(VLOOKUP(D7042,Справка!$G$2:$H$579,2,0),\"\")","v":""}]
[null,null,null,null,{"$f":"IFERROR(VLOOKUP(D7043,Справка!$G$2:$H$579,2,0),\"\")","v":""}]
[null,null,null,null,{"$f":"IFERROR(VLOOKUP(D7044,Справка!$G$2:$H$579,2,0),\"\")","v":""}]
[null,null,null,null,{"$f":"IFERROR(VLOOKUP(D7045,Справка!$G$2:$H$579,2,0),\"\")","v":""}]
[null,null,null,null,{"$f":"IFERROR(VLOOKUP(D7046,Справка!$G$2:$H$579,2,0),\"\")","v":""}]
[null,null,null,null,{"$f":"IFERROR(VLOOKUP(D7047,Справка!$G$2:$H$579,2,0),\"\")","v":""}]
[null,null,null,null,{"$f":"IFERROR(VLOOKUP(D7048,Справка!$G$2:$H$579,2,0),\"\")","v":""}]
[null,null,null,null,{"$f":"IFERROR(VLOOKUP(D7049,Справка!$G$2:$H$579,2,0),\"\")","v":""}]
[null,null,null,null,{"$f":"IFERROR(VLOOKUP(D7050,Справка!$G$2:$H$579,2,0),\"\")","v":""}]
[null,null,null,null,{"$f":"IFERROR(VLOOKUP(D7051,Справка!$G$2:$H$579,2,0),\"\")","v":""}]
[null,null,null,null,{"$f":"IFERROR(VLOOKUP(D7052,Справка!$G$2:$H$579,2,0),\"\")","v":""}]
[null,null,null,null,{"$f":"IFERROR(VLOOKUP(D7053,Справка!$G$2:$H$579,2,0),\"\")","v":""}]
[null,null,null,null,{"$f":"IFERROR(VLOOKUP(D7054,Справка!$G$2:$H$579,2,0),\"\")","v":""}]
[null,null,null,null,{"$f":"IFERROR(VLOOKUP(D7055,Справка!$G$2:$H$579,2,0),\"\")","v":""}]
[null,null,null,null,{"$f":"IFERROR(VLOOKUP(D7056,Справка!$G$2:$H$579,2,0),\"\")","v":""}]
[null,null,null,null,{"$f":"IFERROR(VLOOKUP(D7057,Справка!$G$2:$H$579,2,0),\"\")","v":""}]
[null,null,null,null,{"$f":"IFERROR(VLOOKUP(D7058,Справка!$G$2:$H$579,2,0),\"\")","v":""}]
[null,null,null,null,{"$f":"IFERROR(VLOOKUP(D7059,Справка!$G$2:$H$579,2,0),\"\")","v":""}]
[null,null,null,null,{"$f":"IFERROR(VLOOKUP(D7060,Справка!$G$2:$H$579,2,0),\"\")","v":""}]
[null,null,null,null,{"$f":"IFERROR(VLOOKUP(D7061,Справка!$G$2:$H$579,2,0),\"\")","v":""}]
[null,null,null,null,{"$f":"IFERROR(VLOOKUP(D7062,Справка!$G$2:$H$579,2,0),\"\")","v":""}]
[null,null,null,null,{"$f":"IFERROR(VLOOKUP(D7063,Справка!$G$2:$H$579,2,0),\"\")","v":""}]
[null,null,null,null,{"$f":"IFERROR(VLOOKUP(D7064,Справка!$G$2:$H$579,2,0),\"\")","v":""}]
[null,null,null,null,{"$f":"IFERROR(VLOOKUP(D7065,Справка!$G$2:$H$579,2,0),\"\")","v":""}]
[null,null,null,null,{"$f":"IFERROR(VLOOKUP(D7066,Справка!$G$2:$H$579,2,0),\"\")","v":""}]
[null,null,null,null,{"$f":"IFERROR(VLOOKUP(D7067,Справка!$G$2:$H$579,2,0),\"\")","v":""}]
[null,null,null,null,{"$f":"IFERROR(VLOOKUP(D7068,Справка!$G$2:$H$579,2,0),\"\")","v":""}]
[null,null,null,null,{"$f":"IFERROR(VLOOKUP(D7069,Справка!$G$2:$H$579,2,0),\"\")","v":""}]
[null,null,null,null,{"$f":"IFERROR(VLOOKUP(D7070,Справка!$G$2:$H$579,2,0),\"\")","v":""}]
[null,null,null,null,{"$f":"IFERROR(VLOOKUP(D7071,Справка!$G$2:$H$579,2,0),\"\")","v":""}]
[null,null,null,null,{"$f":"IFERROR(VLOOKUP(D7072,Справка!$G$2:$H$579,2,0),\"\")","v":""}]
[null,null,null,null,{"$f":"IFERROR(VLOOKUP(D7073,Справка!$G$2:$H$579,2,0),\"\")","v":""}]
[null,null,null,null,{"$f":"IFERROR(VLOOKUP(D7074,Справка!$G$2:$H$579,2,0),\"\")","v":""}]
[null,null,null,null,{"$f":"IFERROR(VLOOKUP(D7075,Справка!$G$2:$H$579,2,0),\"\")","v":""}]
[null,null,null,null,{"$f":"IFERROR(VLOOKUP(D7076,Справка!$G$2:$H$579,2,0),\"\")","v":""}]
[null,null,null,null,{"$f":"IFERROR(VLOOKUP(D7077,Справка!$G$2:$H$579,2,0),\"\")","v":""}]
[null,null,null,null,{"$f":"IFERROR(VLOOKUP(D7078,Справка!$G$2:$H$579,2,0),\"\")","v":""}]
[null,null,null,null,{"$f":"IFERROR(VLOOKUP(D7079,Справка!$G$2:$H$579,2,0),\"\")","v":""}]
[null,null,null,null,{"$f":"IFERROR(VLOOKUP(D7080,Справка!$G$2:$H$579,2,0),\"\")","v":""}]
[null,null,null,null,{"$f":"IFERROR(VLOOKUP(D7081,Справка!$G$2:$H$579,2,0),\"\")","v":""}]
[null,null,null,null,{"$f":"IFERROR(VLOOKUP(D7082,Справка!$G$2:$H$579,2,0),\"\")","v":""}]
[null,null,null,null,{"$f":"IFERROR(VLOOKUP(D7083,Справка!$G$2:$H$579,2,0),\"\")","v":""}]
[null,null,null,null,{"$f":"IFERROR(VLOOKUP(D7084,Справка!$G$2:$H$579,2,0),\"\")","v":""}]
[null,null,null,null,{"$f":"IFERROR(VLOOKUP(D7085,Справка!$G$2:$H$579,2,0),\"\")","v":""}]
[null,null,null,null,{"$f":"IFERROR(VLOOKUP(D7086,Справка!$G$2:$H$579,2,0),\"\")","v":""}]
[null,null,null,null,{"$f":"IFERROR(VLOOKUP(D7087,Справка!$G$2:$H$579,2,0),\"\")","v":""}]
[null,null,null,null,{"$f":"IFERROR(VLOOKUP(D7088,Справка!$G$2:$H$579,2,0),\"\")","v":""}]
[null,null,null,null,{"$f":"IFERROR(VLOOKUP(D7089,Справка!$G$2:$H$579,2,0),\"\")","v":""}]
[null,null,null,null,{"$f":"IFERROR(VLOOKUP(D7090,Справка!$G$2:$H$579,2,0),\"\")","v":""}]
[null,null,null,null,{"$f":"IFERROR(VLOOKUP(D7091,Справка!$G$2:$H$579,2,0),\"\")","v":""}]
[null,null,null,null,{"$f":"IFERROR(VLOOKUP(D7092,Справка!$G$2:$H$579,2,0),\"\")","v":""}]
[null,null,null,null,{"$f":"IFERROR(VLOOKUP(D7093,Справка!$G$2:$H$579,2,0),\"\")","v":""}]
[null,null,null,null,{"$f":"IFERROR(VLOOKUP(D7094,Справка!$G$2:$H$579,2,0),\"\")","v":""}]
[null,null,null,null,{"$f":"IFERROR(VLOOKUP(D7095,Справка!$G$2:$H$579,2,0),\"\")","v":""}]
[null,null,null,null,{"$f":"IFERROR(VLOOKUP(D7096,Справка!$G$2:$H$579,2,0),\"\")","v":""}]
[null,null,null,null,{"$f":"IFERROR(VLOOKUP(D7097,Справка!$G$2:$H$579,2,0),\"\")","v":""}]
[null,null,null,null,{"$f":"IFERROR(VLOOKUP(D7098,Справка!$G$2:$H$579,2,0),\"\")","v":""}]
[null,null,null,null,{"$f":"IFERROR(VLOOKUP(D7099,Справка!$G$2:$H$579,2,0),\"\")","v":""}]
[null,null,null,null,{"$f":"IFERROR(VLOOKUP(D7100,Справка!$G$2:$H$579,2,0),\"\")","v":""}]
[null,null,null,null,{"$f":"IFERROR(VLOOKUP(D7101,Справка!$G$2:$H$579,2,0),\"\")","v":""}]
[null,null,null,null,{"$f":"IFERROR(VLOOKUP(D7102,Справка!$G$2:$H$579,2,0),\"\")","v":""}]
[null,null,null,null,{"$f":"IFERROR(VLOOKUP(D7103,Справка!$G$2:$H$579,2,0),\"\")","v":""}]
[null,null,null,null,{"$f":"IFERROR(VLOOKUP(D7104,Справка!$G$2:$H$579,2,0),\"\")","v":""}]
[null,null,null,null,{"$f":"IFERROR(VLOOKUP(D7105,Справка!$G$2:$H$579,2,0),\"\")","v":""}]
[null,null,null,null,{"$f":"IFERROR(VLOOKUP(D7106,Справка!$G$2:$H$579,2,0),\"\")","v":""}]
[null,null,null,null,{"$f":"IFERROR(VLOOKUP(D7107,Справка!$G$2:$H$579,2,0),\"\")","v":""}]
[null,null,null,null,{"$f":"IFERROR(VLOOKUP(D7108,Справка!$G$2:$H$579,2,0),\"\")","v":""}]
[null,null,null,null,{"$f":"IFERROR(VLOOKUP(D7109,Справка!$G$2:$H$579,2,0),\"\")","v":""}]
[null,null,null,null,{"$f":"IFERROR(VLOOKUP(D7110,Справка!$G$2:$H$579,2,0),\"\")","v":""}]
[null,null,null,null,{"$f":"IFERROR(VLOOKUP(D7111,Справка!$G$2:$H$579,2,0),\"\")","v":""}]
[null,null,null,null,{"$f":"IFERROR(VLOOKUP(D7112,Справка!$G$2:$H$579,2,0),\"\")","v":""}]
[null,null,null,null,{"$f":"IFERROR(VLOOKUP(D7113,Справка!$G$2:$H$579,2,0),\"\")","v":""}]
[null,null,null,null,{"$f":"IFERROR(VLOOKUP(D7114,Справка!$G$2:$H$579,2,0),\"\")","v":""}]
[null,null,null,null,{"$f":"IFERROR(VLOOKUP(D7115,Справка!$G$2:$H$579,2,0),\"\")","v":""}]
[null,null,null,null,{"$f":"IFERROR(VLOOKUP(D7116,Справка!$G$2:$H$579,2,0),\"\")","v":""}]
[null,null,null,null,{"$f":"IFERROR(VLOOKUP(D7117,Справка!$G$2:$H$579,2,0),\"\")","v":""}]
[null,null,null,null,{"$f":"IFERROR(VLOOKUP(D7118,Справка!$G$2:$H$579,2,0),\"\")","v":""}]
[null,null,null,null,{"$f":"IFERROR(VLOOKUP(D7119,Справка!$G$2:$H$579,2,0),\"\")","v":""}]
[null,null,null,null,{"$f":"IFERROR(VLOOKUP(D7120,Справка!$G$2:$H$579,2,0),\"\")","v":""}]
[null,null,null,null,{"$f":"IFERROR(VLOOKUP(D7121,Справка!$G$2:$H$579,2,0),\"\")","v":""}]
[null,null,null,null,{"$f":"IFERROR(VLOOKUP(D7122,Справка!$G$2:$H$579,2,0),\"\")","v":""}]
[null,null,null,null,{"$f":"IFERROR(VLOOKUP(D7123,Справка!$G$2:$H$579,2,0),\"\")","v":""}]
[null,null,null,null,{"$f":"IFERROR(VLOOKUP(D7124,Справка!$G$2:$H$579,2,0),\"\")","v":""}]
[null,null,null,null,{"$f":"IFERROR(VLOOKUP(D7125,Справка!$G$2:$H$579,2,0),\"\")","v":""}]
[null,null,null,null,{"$f":"IFERROR(VLOOKUP(D7126,Справка!$G$2:$H$579,2,0),\"\")","v":""}]
[null,null,null,null,{"$f":"IFERROR(VLOOKUP(D7127,Справка!$G$2:$H$579,2,0),\"\")","v":""}]
[null,null,null,null,{"$f":"IFERROR(VLOOKUP(D7128,Справка!$G$2:$H$579,2,0),\"\")","v":""}]
[null,null,null,null,{"$f":"IFERROR(VLOOKUP(D7129,Справка!$G$2:$H$579,2,0),\"\")","v":""}]
[null,null,null,null,{"$f":"IFERROR(VLOOKUP(D7130,Справка!$G$2:$H$579,2,0),\"\")","v":""}]
[null,null,null,null,{"$f":"IFERROR(VLOOKUP(D7131,Справка!$G$2:$H$579,2,0),\"\")","v":""}]
[null,null,null,null,{"$f":"IFERROR(VLOOKUP(D7132,Справка!$G$2:$H$579,2,0),\"\")","v":""}]
[null,null,null,null,{"$f":"IFERROR(VLOOKUP(D7133,Справка!$G$2:$H$579,2,0),\"\")","v":""}]
[null,null,null,null,{"$f":"IFERROR(VLOOKUP(D7134,Справка!$G$2:$H$579,2,0),\"\")","v":""}]
[null,null,null,null,{"$f":"IFERROR(VLOOKUP(D7135,Справка!$G$2:$H$579,2,0),\"\")","v":""}]
[null,null,null,null,{"$f":"IFERROR(VLOOKUP(D7136,Справка!$G$2:$H$579,2,0),\"\")","v":""}]
[null,null,null,null,{"$f":"IFERROR(VLOOKUP(D7137,Справка!$G$2:$H$579,2,0),\"\")","v":""}]
[null,null,null,null,{"$f":"IFERROR(VLOOKUP(D7138,Справка!$G$2:$H$579,2,0),\"\")","v":""}]
[null,null,null,null,{"$f":"IFERROR(VLOOKUP(D7139,Справка!$G$2:$H$579,2,0),\"\")","v":""}]
[null,null,null,null,{"$f":"IFERROR(VLOOKUP(D7140,Справка!$G$2:$H$579,2,0),\"\")","v":""}]
[null,null,null,null,{"$f":"IFERROR(VLOOKUP(D7141,Справка!$G$2:$H$579,2,0),\"\")","v":""}]
[null,null,null,null,{"$f":"IFERROR(VLOOKUP(D7142,Справка!$G$2:$H$579,2,0),\"\")","v":""}]
[null,null,null,null,{"$f":"IFERROR(VLOOKUP(D7143,Справка!$G$2:$H$579,2,0),\"\")","v":""}]
[null,null,null,null,{"$f":"IFERROR(VLOOKUP(D7144,Справка!$G$2:$H$579,2,0),\"\")","v":""}]
[null,null,null,null,{"$f":"IFERROR(VLOOKUP(D7145,Справка!$G$2:$H$579,2,0),\"\")","v":""}]
[null,null,null,null,{"$f":"IFERROR(VLOOKUP(D7146,Справка!$G$2:$H$579,2,0),\"\")","v":""}]
[null,null,null,null,{"$f":"IFERROR(VLOOKUP(D7147,Справка!$G$2:$H$579,2,0),\"\")","v":""}]
[null,null,null,null,{"$f":"IFERROR(VLOOKUP(D7148,Справка!$G$2:$H$579,2,0),\"\")","v":""}]
[null,null,null,null,{"$f":"IFERROR(VLOOKUP(D7149,Справка!$G$2:$H$579,2,0),\"\")","v":""}]
[null,null,null,null,{"$f":"IFERROR(VLOOKUP(D7150,Справка!$G$2:$H$579,2,0),\"\")","v":""}]
[null,null,null,null,{"$f":"IFERROR(VLOOKUP(D7151,Справка!$G$2:$H$579,2,0),\"\")","v":""}]
[null,null,null,null,{"$f":"IFERROR(VLOOKUP(D7152,Справка!$G$2:$H$579,2,0),\"\")","v":""}]
[null,null,null,null,{"$f":"IFERROR(VLOOKUP(D7153,Справка!$G$2:$H$579,2,0),\"\")","v":""}]
[null,null,null,null,{"$f":"IFERROR(VLOOKUP(D7154,Справка!$G$2:$H$579,2,0),\"\")","v":""}]
[null,null,null,null,{"$f":"IFERROR(VLOOKUP(D7155,Справка!$G$2:$H$579,2,0),\"\")","v":""}]
[null,null,null,null,{"$f":"IFERROR(VLOOKUP(D7156,Справка!$G$2:$H$579,2,0),\"\")","v":""}]
[null,null,null,null,{"$f":"IFERROR(VLOOKUP(D7157,Справка!$G$2:$H$579,2,0),\"\")","v":""}]
[null,null,null,null,{"$f":"IFERROR(VLOOKUP(D7158,Справка!$G$2:$H$579,2,0),\"\")","v":""}]
[null,null,null,null,{"$f":"IFERROR(VLOOKUP(D7159,Справка!$G$2:$H$579,2,0),\"\")","v":""}]
[null,null,null,null,{"$f":"IFERROR(VLOOKUP(D7160,Справка!$G$2:$H$579,2,0),\"\")","v":""}]
[null,null,null,null,{"$f":"IFERROR(VLOOKUP(D7161,Справка!$G$2:$H$579,2,0),\"\")","v":""}]
[null,null,null,null,{"$f":"IFERROR(VLOOKUP(D7162,Справка!$G$2:$H$579,2,0),\"\")","v":""}]
[null,null,null,null,{"$f":"IFERROR(VLOOKUP(D7163,Справка!$G$2:$H$579,2,0),\"\")","v":""}]
[null,null,null,null,{"$f":"IFERROR(VLOOKUP(D7164,Справка!$G$2:$H$579,2,0),\"\")","v":""}]
[null,null,null,null,{"$f":"IFERROR(VLOOKUP(D7165,Справка!$G$2:$H$579,2,0),\"\")","v":""}]
[null,null,null,null,{"$f":"IFERROR(VLOOKUP(D7166,Справка!$G$2:$H$579,2,0),\"\")","v":""}]
[null,null,null,null,{"$f":"IFERROR(VLOOKUP(D7167,Справка!$G$2:$H$579,2,0),\"\")","v":""}]
[null,null,null,null,{"$f":"IFERROR(VLOOKUP(D7168,Справка!$G$2:$H$579,2,0),\"\")","v":""}]
[null,null,null,null,{"$f":"IFERROR(VLOOKUP(D7169,Справка!$G$2:$H$579,2,0),\"\")","v":""}]
[null,null,null,null,{"$f":"IFERROR(VLOOKUP(D7170,Справка!$G$2:$H$579,2,0),\"\")","v":""}]
[null,null,null,null,{"$f":"IFERROR(VLOOKUP(D7171,Справка!$G$2:$H$579,2,0),\"\")","v":""}]
[null,null,null,null,{"$f":"IFERROR(VLOOKUP(D7172,Справка!$G$2:$H$579,2,0),\"\")","v":""}]
[null,null,null,null,{"$f":"IFERROR(VLOOKUP(D7173,Справка!$G$2:$H$579,2,0),\"\")","v":""}]
[null,null,null,null,{"$f":"IFERROR(VLOOKUP(D7174,Справка!$G$2:$H$579,2,0),\"\")","v":""}]
[null,null,null,null,{"$f":"IFERROR(VLOOKUP(D7175,Справка!$G$2:$H$579,2,0),\"\")","v":""}]
[null,null,null,null,{"$f":"IFERROR(VLOOKUP(D7176,Справка!$G$2:$H$579,2,0),\"\")","v":""}]
[null,null,null,null,{"$f":"IFERROR(VLOOKUP(D7177,Справка!$G$2:$H$579,2,0),\"\")","v":""}]
[null,null,null,null,{"$f":"IFERROR(VLOOKUP(D7178,Справка!$G$2:$H$579,2,0),\"\")","v":""}]
[null,null,null,null,{"$f":"IFERROR(VLOOKUP(D7179,Справка!$G$2:$H$579,2,0),\"\")","v":""}]
[null,null,null,null,{"$f":"IFERROR(VLOOKUP(D7180,Справка!$G$2:$H$579,2,0),\"\")","v":""}]
[null,null,null,null,{"$f":"IFERROR(VLOOKUP(D7181,Справка!$G$2:$H$579,2,0),\"\")","v":""}]
[null,null,null,null,{"$f":"IFERROR(VLOOKUP(D7182,Справка!$G$2:$H$579,2,0),\"\")","v":""}]
[null,null,null,null,{"$f":"IFERROR(VLOOKUP(D7183,Справка!$G$2:$H$579,2,0),\"\")","v":""}]
[null,null,null,null,{"$f":"IFERROR(VLOOKUP(D7184,Справка!$G$2:$H$579,2,0),\"\")","v":""}]
[null,null,null,null,{"$f":"IFERROR(VLOOKUP(D7185,Справка!$G$2:$H$579,2,0),\"\")","v":""}]
[null,null,null,null,{"$f":"IFERROR(VLOOKUP(D7186,Справка!$G$2:$H$579,2,0),\"\")","v":""}]
[null,null,null,null,{"$f":"IFERROR(VLOOKUP(D7187,Справка!$G$2:$H$579,2,0),\"\")","v":""}]
[null,null,null,null,{"$f":"IFERROR(VLOOKUP(D7188,Справка!$G$2:$H$579,2,0),\"\")","v":""}]
[null,null,null,null,{"$f":"IFERROR(VLOOKUP(D7189,Справка!$G$2:$H$579,2,0),\"\")","v":""}]
[null,null,null,null,{"$f":"IFERROR(VLOOKUP(D7190,Справка!$G$2:$H$579,2,0),\"\")","v":""}]
[null,null,null,null,{"$f":"IFERROR(VLOOKUP(D7191,Справка!$G$2:$H$579,2,0),\"\")","v":""}]
[null,null,null,null,{"$f":"IFERROR(VLOOKUP(D7192,Справка!$G$2:$H$579,2,0),\"\")","v":""}]
[null,null,null,null,{"$f":"IFERROR(VLOOKUP(D7193,Справка!$G$2:$H$579,2,0),\"\")","v":""}]
[null,null,null,null,{"$f":"IFERROR(VLOOKUP(D7194,Справка!$G$2:$H$579,2,0),\"\")","v":""}]
[null,null,null,null,{"$f":"IFERROR(VLOOKUP(D7195,Справка!$G$2:$H$579,2,0),\"\")","v":""}]
[null,null,null,null,{"$f":"IFERROR(VLOOKUP(D7196,Справка!$G$2:$H$579,2,0),\"\")","v":""}]
[null,null,null,null,{"$f":"IFERROR(VLOOKUP(D7197,Справка!$G$2:$H$579,2,0),\"\")","v":""}]
[null,null,null,null,{"$f":"IFERROR(VLOOKUP(D7198,Справка!$G$2:$H$579,2,0),\"\")","v":""}]
[null,null,null,null,{"$f":"IFERROR(VLOOKUP(D7199,Справка!$G$2:$H$579,2,0),\"\")","v":""}]
[null,null,null,null,{"$f":"IFERROR(VLOOKUP(D7200,Справка!$G$2:$H$579,2,0),\"\")","v":""}]
[null,null,null,null,{"$f":"IFERROR(VLOOKUP(D7201,Справка!$G$2:$H$579,2,0),\"\")","v":""}]
[null,null,null,null,{"$f":"IFERROR(VLOOKUP(D7202,Справка!$G$2:$H$579,2,0),\"\")","v":""}]
[null,null,null,null,{"$f":"IFERROR(VLOOKUP(D7203,Справка!$G$2:$H$579,2,0),\"\")","v":""}]
[null,null,null,null,{"$f":"IFERROR(VLOOKUP(D7204,Справка!$G$2:$H$579,2,0),\"\")","v":""}]
[null,null,null,null,{"$f":"IFERROR(VLOOKUP(D7205,Справка!$G$2:$H$579,2,0),\"\")","v":""}]
[null,null,null,null,{"$f":"IFERROR(VLOOKUP(D7206,Справка!$G$2:$H$579,2,0),\"\")","v":""}]
[null,null,null,null,{"$f":"IFERROR(VLOOKUP(D7207,Справка!$G$2:$H$579,2,0),\"\")","v":""}]
[null,null,null,null,{"$f":"IFERROR(VLOOKUP(D7208,Справка!$G$2:$H$579,2,0),\"\")","v":""}]
[null,null,null,null,{"$f":"IFERROR(VLOOKUP(D7209,Справка!$G$2:$H$579,2,0),\"\")","v":""}]
[null,null,null,null,{"$f":"IFERROR(VLOOKUP(D7210,Справка!$G$2:$H$579,2,0),\"\")","v":""}]
[null,null,null,null,{"$f":"IFERROR(VLOOKUP(D7211,Справка!$G$2:$H$579,2,0),\"\")","v":""}]
[null,null,null,null,{"$f":"IFERROR(VLOOKUP(D7212,Справка!$G$2:$H$579,2,0),\"\")","v":""}]
[null,null,null,null,{"$f":"IFERROR(VLOOKUP(D7213,Справка!$G$2:$H$579,2,0),\"\")","v":""}]
[null,null,null,null,{"$f":"IFERROR(VLOOKUP(D7214,Справка!$G$2:$H$579,2,0),\"\")","v":""}]
[null,null,null,null,{"$f":"IFERROR(VLOOKUP(D7215,Справка!$G$2:$H$579,2,0),\"\")","v":""}]
[null,null,null,null,{"$f":"IFERROR(VLOOKUP(D7216,Справка!$G$2:$H$579,2,0),\"\")","v":""}]
[null,null,null,null,{"$f":"IFERROR(VLOOKUP(D7217,Справка!$G$2:$H$579,2,0),\"\")","v":""}]
[null,null,null,null,{"$f":"IFERROR(VLOOKUP(D7218,Справка!$G$2:$H$579,2,0),\"\")","v":""}]
[null,null,null,null,{"$f":"IFERROR(VLOOKUP(D7219,Справка!$G$2:$H$579,2,0),\"\")","v":""}]
[null,null,null,null,{"$f":"IFERROR(VLOOKUP(D7220,Справка!$G$2:$H$579,2,0),\"\")","v":""}]
[null,null,null,null,{"$f":"IFERROR(VLOOKUP(D7221,Справка!$G$2:$H$579,2,0),\"\")","v":""}]
[null,null,null,null,{"$f":"IFERROR(VLOOKUP(D7222,Справка!$G$2:$H$579,2,0),\"\")","v":""}]
[null,null,null,null,{"$f":"IFERROR(VLOOKUP(D7223,Справка!$G$2:$H$579,2,0),\"\")","v":""}]
[null,null,null,null,{"$f":"IFERROR(VLOOKUP(D7224,Справка!$G$2:$H$579,2,0),\"\")","v":""}]
[null,null,null,null,{"$f":"IFERROR(VLOOKUP(D7225,Справка!$G$2:$H$579,2,0),\"\")","v":""}]
[null,null,null,null,{"$f":"IFERROR(VLOOKUP(D7226,Справка!$G$2:$H$579,2,0),\"\")","v":""}]
[null,null,null,null,{"$f":"IFERROR(VLOOKUP(D7227,Справка!$G$2:$H$579,2,0),\"\")","v":""}]
[null,null,null,null,{"$f":"IFERROR(VLOOKUP(D7228,Справка!$G$2:$H$579,2,0),\"\")","v":""}]
[null,null,null,null,{"$f":"IFERROR(VLOOKUP(D7229,Справка!$G$2:$H$579,2,0),\"\")","v":""}]
[null,null,null,null,{"$f":"IFERROR(VLOOKUP(D7230,Справка!$G$2:$H$579,2,0),\"\")","v":""}]
[null,null,null,null,{"$f":"IFERROR(VLOOKUP(D7231,Справка!$G$2:$H$579,2,0),\"\")","v":""}]
[null,null,null,null,{"$f":"IFERROR(VLOOKUP(D7232,Справка!$G$2:$H$579,2,0),\"\")","v":""}]
[null,null,null,null,{"$f":"IFERROR(VLOOKUP(D7233,Справка!$G$2:$H$579,2,0),\"\")","v":""}]
[null,null,null,null,{"$f":"IFERROR(VLOOKUP(D7234,Справка!$G$2:$H$579,2,0),\"\")","v":""}]
[null,null,null,null,{"$f":"IFERROR(VLOOKUP(D7235,Справка!$G$2:$H$579,2,0),\"\")","v":""}]
[null,null,null,null,{"$f":"IFERROR(VLOOKUP(D7236,Справка!$G$2:$H$579,2,0),\"\")","v":""}]
[null,null,null,null,{"$f":"IFERROR(VLOOKUP(D7237,Справка!$G$2:$H$579,2,0),\"\")","v":""}]
[null,null,null,null,{"$f":"IFERROR(VLOOKUP(D7238,Справка!$G$2:$H$579,2,0),\"\")","v":""}]
[null,null,null,null,{"$f":"IFERROR(VLOOKUP(D7239,Справка!$G$2:$H$579,2,0),\"\")","v":""}]
[null,null,null,null,{"$f":"IFERROR(VLOOKUP(D7240,Справка!$G$2:$H$579,2,0),\"\")","v":""}]
[null,null,null,null,{"$f":"IFERROR(VLOOKUP(D7241,Справка!$G$2:$H$579,2,0),\"\")","v":""}]
[null,null,null,null,{"$f":"IFERROR(VLOOKUP(D7242,Справка!$G$2:$H$579,2,0),\"\")","v":""}]
[null,null,null,null,{"$f":"IFERROR(VLOOKUP(D7243,Справка!$G$2:$H$579,2,0),\"\")","v":""}]
[null,null,null,null,{"$f":"IFERROR(VLOOKUP(D7244,Справка!$G$2:$H$579,2,0),\"\")","v":""}]
[null,null,null,null,{"$f":"IFERROR(VLOOKUP(D7245,Справка!$G$2:$H$579,2,0),\"\")","v":""}]
[null,null,null,null,{"$f":"IFERROR(VLOOKUP(D7246,Справка!$G$2:$H$579,2,0),\"\")","v":""}]
[null,null,null,null,{"$f":"IFERROR(VLOOKUP(D7247,Справка!$G$2:$H$579,2,0),\"\")","v":""}]
[null,null,null,null,{"$f":"IFERROR(VLOOKUP(D7248,Справка!$G$2:$H$579,2,0),\"\")","v":""}]
[null,null,null,null,{"$f":"IFERROR(VLOOKUP(D7249,Справка!$G$2:$H$579,2,0),\"\")","v":""}]
[null,null,null,null,{"$f":"IFERROR(VLOOKUP(D7250,Справка!$G$2:$H$579,2,0),\"\")","v":""}]
[null,null,null,null,{"$f":"IFERROR(VLOOKUP(D7251,Справка!$G$2:$H$579,2,0),\"\")","v":""}]
[null,null,null,null,{"$f":"IFERROR(VLOOKUP(D7252,Справка!$G$2:$H$579,2,0),\"\")","v":""}]
[null,null,null,null,{"$f":"IFERROR(VLOOKUP(D7253,Справка!$G$2:$H$579,2,0),\"\")","v":""}]
[null,null,null,null,{"$f":"IFERROR(VLOOKUP(D7254,Справка!$G$2:$H$579,2,0),\"\")","v":""}]
[null,null,null,null,{"$f":"IFERROR(VLOOKUP(D7255,Справка!$G$2:$H$579,2,0),\"\")","v":""}]
[null,null,null,null,{"$f":"IFERROR(VLOOKUP(D7256,Справка!$G$2:$H$579,2,0),\"\")","v":""}]
[null,null,null,null,{"$f":"IFERROR(VLOOKUP(D7257,Справка!$G$2:$H$579,2,0),\"\")","v":""}]
[null,null,null,null,{"$f":"IFERROR(VLOOKUP(D7258,Справка!$G$2:$H$579,2,0),\"\")","v":""}]
[null,null,null,null,{"$f":"IFERROR(VLOOKUP(D7259,Справка!$G$2:$H$579,2,0),\"\")","v":""}]
[null,null,null,null,{"$f":"IFERROR(VLOOKUP(D7260,Справка!$G$2:$H$579,2,0),\"\")","v":""}]
[null,null,null,null,{"$f":"IFERROR(VLOOKUP(D7261,Справка!$G$2:$H$579,2,0),\"\")","v":""}]
[null,null,null,null,{"$f":"IFERROR(VLOOKUP(D7262,Справка!$G$2:$H$579,2,0),\"\")","v":""}]
[null,null,null,null,{"$f":"IFERROR(VLOOKUP(D7263,Справка!$G$2:$H$579,2,0),\"\")","v":""}]
[null,null,null,null,{"$f":"IFERROR(VLOOKUP(D7264,Справка!$G$2:$H$579,2,0),\"\")","v":""}]
[null,null,null,null,{"$f":"IFERROR(VLOOKUP(D7265,Справка!$G$2:$H$579,2,0),\"\")","v":""}]
[null,null,null,null,{"$f":"IFERROR(VLOOKUP(D7266,Справка!$G$2:$H$579,2,0),\"\")","v":""}]
[null,null,null,null,{"$f":"IFERROR(VLOOKUP(D7267,Справка!$G$2:$H$579,2,0),\"\")","v":""}]
[null,null,null,null,{"$f":"IFERROR(VLOOKUP(D7268,Справка!$G$2:$H$579,2,0),\"\")","v":""}]
[null,null,null,null,{"$f":"IFERROR(VLOOKUP(D7269,Справка!$G$2:$H$579,2,0),\"\")","v":""}]
[null,null,null,null,{"$f":"IFERROR(VLOOKUP(D7270,Справка!$G$2:$H$579,2,0),\"\")","v":""}]
[null,null,null,null,{"$f":"IFERROR(VLOOKUP(D7271,Справка!$G$2:$H$579,2,0),\"\")","v":""}]
[null,null,null,null,{"$f":"IFERROR(VLOOKUP(D7272,Справка!$G$2:$H$579,2,0),\"\")","v":""}]
[null,null,null,null,{"$f":"IFERROR(VLOOKUP(D7273,Справка!$G$2:$H$579,2,0),\"\")","v":""}]
[null,null,null,null,{"$f":"IFERROR(VLOOKUP(D7274,Справка!$G$2:$H$579,2,0),\"\")","v":""}]
[null,null,null,null,{"$f":"IFERROR(VLOOKUP(D7275,Справка!$G$2:$H$579,2,0),\"\")","v":""}]
[null,null,null,null,{"$f":"IFERROR(VLOOKUP(D7276,Справка!$G$2:$H$579,2,0),\"\")","v":""}]
[null,null,null,null,{"$f":"IFERROR(VLOOKUP(D7277,Справка!$G$2:$H$579,2,0),\"\")","v":""}]
[null,null,null,null,{"$f":"IFERROR(VLOOKUP(D7278,Справка!$G$2:$H$579,2,0),\"\")","v":""}]
[null,null,null,null,{"$f":"IFERROR(VLOOKUP(D7279,Справка!$G$2:$H$579,2,0),\"\")","v":""}]
[null,null,null,null,{"$f":"IFERROR(VLOOKUP(D7280,Справка!$G$2:$H$579,2,0),\"\")","v":""}]
[null,null,null,null,{"$f":"IFERROR(VLOOKUP(D7281,Справка!$G$2:$H$579,2,0),\"\")","v":""}]
[null,null,null,null,{"$f":"IFERROR(VLOOKUP(D7282,Справка!$G$2:$H$579,2,0),\"\")","v":""}]
[null,null,null,null,{"$f":"IFERROR(VLOOKUP(D7283,Справка!$G$2:$H$579,2,0),\"\")","v":""}]
[null,null,null,null,{"$f":"IFERROR(VLOOKUP(D7284,Справка!$G$2:$H$579,2,0),\"\")","v":""}]
[null,null,null,null,{"$f":"IFERROR(VLOOKUP(D7285,Справка!$G$2:$H$579,2,0),\"\")","v":""}]
[null,null,null,null,{"$f":"IFERROR(VLOOKUP(D7286,Справка!$G$2:$H$579,2,0),\"\")","v":""}]
[null,null,null,null,{"$f":"IFERROR(VLOOKUP(D7287,Справка!$G$2:$H$579,2,0),\"\")","v":""}]
[null,null,null,null,{"$f":"IFERROR(VLOOKUP(D7288,Справка!$G$2:$H$579,2,0),\"\")","v":""}]
[null,null,null,null,{"$f":"IFERROR(VLOOKUP(D7289,Справка!$G$2:$H$579,2,0),\"\")","v":""}]
[null,null,null,null,{"$f":"IFERROR(VLOOKUP(D7290,Справка!$G$2:$H$579,2,0),\"\")","v":""}]
[null,null,null,null,{"$f":"IFERROR(VLOOKUP(D7291,Справка!$G$2:$H$579,2,0),\"\")","v":""}]
[null,null,null,null,{"$f":"IFERROR(VLOOKUP(D7292,Справка!$G$2:$H$579,2,0),\"\")","v":""}]
[null,null,null,null,{"$f":"IFERROR(VLOOKUP(D7293,Справка!$G$2:$H$579,2,0),\"\")","v":""}]
[null,null,null,null,{"$f":"IFERROR(VLOOKUP(D7294,Справка!$G$2:$H$579,2,0),\"\")","v":""}]
[null,null,null,null,{"$f":"IFERROR(VLOOKUP(D7295,Справка!$G$2:$H$579,2,0),\"\")","v":""}]
[null,null,null,null,{"$f":"IFERROR(VLOOKUP(D7296,Справка!$G$2:$H$579,2,0),\"\")","v":""}]
[null,null,null,null,{"$f":"IFERROR(VLOOKUP(D7297,Справка!$G$2:$H$579,2,0),\"\")","v":""}]
[null,null,null,null,{"$f":"IFERROR(VLOOKUP(D7298,Справка!$G$2:$H$579,2,0),\"\")","v":""}]
[null,null,null,null,{"$f":"IFERROR(VLOOKUP(D7299,Справка!$G$2:$H$579,2,0),\"\")","v":""}]
[null,null,null,null,{"$f":"IFERROR(VLOOKUP(D7300,Справка!$G$2:$H$579,2,0),\"\")","v":""}]
[null,null,null,null,{"$f":"IFERROR(VLOOKUP(D7301,Справка!$G$2:$H$579,2,0),\"\")","v":""}]
[null,null,null,null,{"$f":"IFERROR(VLOOKUP(D7302,Справка!$G$2:$H$579,2,0),\"\")","v":""}]
[null,null,null,null,{"$f":"IFERROR(VLOOKUP(D7303,Справка!$G$2:$H$579,2,0),\"\")","v":""}]
[null,null,null,null,{"$f":"IFERROR(VLOOKUP(D7304,Справка!$G$2:$H$579,2,0),\"\")","v":""}]
[null,null,null,null,{"$f":"IFERROR(VLOOKUP(D7305,Справка!$G$2:$H$579,2,0),\"\")","v":""}]
[null,null,null,null,{"$f":"IFERROR(VLOOKUP(D7306,Справка!$G$2:$H$579,2,0),\"\")","v":""}]
[null,null,null,null,{"$f":"IFERROR(VLOOKUP(D7307,Справка!$G$2:$H$579,2,0),\"\")","v":""}]
[null,null,null,null,{"$f":"IFERROR(VLOOKUP(D7308,Справка!$G$2:$H$579,2,0),\"\")","v":""}]
[null,null,null,null,{"$f":"IFERROR(VLOOKUP(D7309,Справка!$G$2:$H$579,2,0),\"\")","v":""}]
[null,null,null,null,{"$f":"IFERROR(VLOOKUP(D7310,Справка!$G$2:$H$579,2,0),\"\")","v":""}]
[null,null,null,null,{"$f":"IFERROR(VLOOKUP(D7311,Справка!$G$2:$H$579,2,0),\"\")","v":""}]
[null,null,null,null,{"$f":"IFERROR(VLOOKUP(D7312,Справка!$G$2:$H$579,2,0),\"\")","v":""}]
[null,null,null,null,{"$f":"IFERROR(VLOOKUP(D7313,Справка!$G$2:$H$579,2,0),\"\")","v":""}]
[null,null,null,null,{"$f":"IFERROR(VLOOKUP(D7314,Справка!$G$2:$H$579,2,0),\"\")","v":""}]
[null,null,null,null,{"$f":"IFERROR(VLOOKUP(D7315,Справка!$G$2:$H$579,2,0),\"\")","v":""}]
[null,null,null,null,{"$f":"IFERROR(VLOOKUP(D7316,Справка!$G$2:$H$579,2,0),\"\")","v":""}]
[null,null,null,null,{"$f":"IFERROR(VLOOKUP(D7317,Справка!$G$2:$H$579,2,0),\"\")","v":""}]
[null,null,null,null,{"$f":"IFERROR(VLOOKUP(D7318,Справка!$G$2:$H$579,2,0),\"\")","v":""}]
[null,null,null,null,{"$f":"IFERROR(VLOOKUP(D7319,Справка!$G$2:$H$579,2,0),\"\")","v":""}]
[null,null,null,null,{"$f":"IFERROR(VLOOKUP(D7320,Справка!$G$2:$H$579,2,0),\"\")","v":""}]
[null,null,null,null,{"$f":"IFERROR(VLOOKUP(D7321,Справка!$G$2:$H$579,2,0),\"\")","v":""}]
[null,null,null,null,{"$f":"IFERROR(VLOOKUP(D7322,Справка!$G$2:$H$579,2,0),\"\")","v":""}]
[null,null,null,null,{"$f":"IFERROR(VLOOKUP(D7323,Справка!$G$2:$H$579,2,0),\"\")","v":""}]
[null,null,null,null,{"$f":"IFERROR(VLOOKUP(D7324,Справка!$G$2:$H$579,2,0),\"\")","v":""}]
[null,null,null,null,{"$f":"IFERROR(VLOOKUP(D7325,Справка!$G$2:$H$579,2,0),\"\")","v":""}]
[null,null,null,null,{"$f":"IFERROR(VLOOKUP(D7326,Справка!$G$2:$H$579,2,0),\"\")","v":""}]
[null,null,null,null,{"$f":"IFERROR(VLOOKUP(D7327,Справка!$G$2:$H$579,2,0),\"\")","v":""}]
[null,null,null,null,{"$f":"IFERROR(VLOOKUP(D7328,Справка!$G$2:$H$579,2,0),\"\")","v":""}]
[null,null,null,null,{"$f":"IFERROR(VLOOKUP(D7329,Справка!$G$2:$H$579,2,0),\"\")","v":""}]
[null,null,null,null,{"$f":"IFERROR(VLOOKUP(D7330,Справка!$G$2:$H$579,2,0),\"\")","v":""}]
[null,null,null,null,{"$f":"IFERROR(VLOOKUP(D7331,Справка!$G$2:$H$579,2,0),\"\")","v":""}]
[null,null,null,null,{"$f":"IFERROR(VLOOKUP(D7332,Справка!$G$2:$H$579,2,0),\"\")","v":""}]
[null,null,null,null,{"$f":"IFERROR(VLOOKUP(D7333,Справка!$G$2:$H$579,2,0),\"\")","v":""}]
[null,null,null,null,{"$f":"IFERROR(VLOOKUP(D7334,Справка!$G$2:$H$579,2,0),\"\")","v":""}]
[null,null,null,null,{"$f":"IFERROR(VLOOKUP(D7335,Справка!$G$2:$H$579,2,0),\"\")","v":""}]
[null,null,null,null,{"$f":"IFERROR(VLOOKUP(D7336,Справка!$G$2:$H$579,2,0),\"\")","v":""}]
[null,null,null,null,{"$f":"IFERROR(VLOOKUP(D7337,Справка!$G$2:$H$579,2,0),\"\")","v":""}]
[null,null,null,null,{"$f":"IFERROR(VLOOKUP(D7338,Справка!$G$2:$H$579,2,0),\"\")","v":""}]
[null,null,null,null,{"$f":"IFERROR(VLOOKUP(D7339,Справка!$G$2:$H$579,2,0),\"\")","v":""}]
[null,null,null,null,{"$f":"IFERROR(VLOOKUP(D7340,Справка!$G$2:$H$579,2,0),\"\")","v":""}]
[null,null,null,null,{"$f":"IFERROR(VLOOKUP(D7341,Справка!$G$2:$H$579,2,0),\"\")","v":""}]
[null,null,null,null,{"$f":"IFERROR(VLOOKUP(D7342,Справка!$G$2:$H$579,2,0),\"\")","v":""}]
[null,null,null,null,{"$f":"IFERROR(VLOOKUP(D7343,Справка!$G$2:$H$579,2,0),\"\")","v":""}]
[null,null,null,null,{"$f":"IFERROR(VLOOKUP(D7344,Справка!$G$2:$H$579,2,0),\"\")","v":""}]
[null,null,null,null,{"$f":"IFERROR(VLOOKUP(D7345,Справка!$G$2:$H$579,2,0),\"\")","v":""}]
[null,null,null,null,{"$f":"IFERROR(VLOOKUP(D7346,Справка!$G$2:$H$579,2,0),\"\")","v":""}]
[null,null,null,null,{"$f":"IFERROR(VLOOKUP(D7347,Справка!$G$2:$H$579,2,0),\"\")","v":""}]
[null,null,null,null,{"$f":"IFERROR(VLOOKUP(D7348,Справка!$G$2:$H$579,2,0),\"\")","v":""}]
[null,null,null,null,{"$f":"IFERROR(VLOOKUP(D7349,Справка!$G$2:$H$579,2,0),\"\")","v":""}]
[null,null,null,null,{"$f":"IFERROR(VLOOKUP(D7350,Справка!$G$2:$H$579,2,0),\"\")","v":""}]
[null,null,null,null,{"$f":"IFERROR(VLOOKUP(D7351,Справка!$G$2:$H$579,2,0),\"\")","v":""}]
[null,null,null,null,{"$f":"IFERROR(VLOOKUP(D7352,Справка!$G$2:$H$579,2,0),\"\")","v":""}]
[null,null,null,null,{"$f":"IFERROR(VLOOKUP(D7353,Справка!$G$2:$H$579,2,0),\"\")","v":""}]
[null,null,null,null,{"$f":"IFERROR(VLOOKUP(D7354,Справка!$G$2:$H$579,2,0),\"\")","v":""}]
[null,null,null,null,{"$f":"IFERROR(VLOOKUP(D7355,Справка!$G$2:$H$579,2,0),\"\")","v":""}]
[null,null,null,null,{"$f":"IFERROR(VLOOKUP(D7356,Справка!$G$2:$H$579,2,0),\"\")","v":""}]
[null,null,null,null,{"$f":"IFERROR(VLOOKUP(D7357,Справка!$G$2:$H$579,2,0),\"\")","v":""}]
[null,null,null,null,{"$f":"IFERROR(VLOOKUP(D7358,Справка!$G$2:$H$579,2,0),\"\")","v":""}]
[null,null,null,null,{"$f":"IFERROR(VLOOKUP(D7359,Справка!$G$2:$H$579,2,0),\"\")","v":""}]
[null,null,null,null,{"$f":"IFERROR(VLOOKUP(D7360,Справка!$G$2:$H$579,2,0),\"\")","v":""}]
[null,null,null,null,{"$f":"IFERROR(VLOOKUP(D7361,Справка!$G$2:$H$579,2,0),\"\")","v":""}]
[null,null,null,null,{"$f":"IFERROR(VLOOKUP(D7362,Справка!$G$2:$H$579,2,0),\"\")","v":""}]
[null,null,null,null,{"$f":"IFERROR(VLOOKUP(D7363,Справка!$G$2:$H$579,2,0),\"\")","v":""}]
[null,null,null,null,{"$f":"IFERROR(VLOOKUP(D7364,Справка!$G$2:$H$579,2,0),\"\")","v":""}]
[null,null,null,null,{"$f":"IFERROR(VLOOKUP(D7365,Справка!$G$2:$H$579,2,0),\"\")","v":""}]
[null,null,null,null,{"$f":"IFERROR(VLOOKUP(D7366,Справка!$G$2:$H$579,2,0),\"\")","v":""}]
[null,null,null,null,{"$f":"IFERROR(VLOOKUP(D7367,Справка!$G$2:$H$579,2,0),\"\")","v":""}]
[null,null,null,null,{"$f":"IFERROR(VLOOKUP(D7368,Справка!$G$2:$H$579,2,0),\"\")","v":""}]
[null,null,null,null,{"$f":"IFERROR(VLOOKUP(D7369,Справка!$G$2:$H$579,2,0),\"\")","v":""}]
[null,null,null,null,{"$f":"IFERROR(VLOOKUP(D7370,Справка!$G$2:$H$579,2,0),\"\")","v":""}]
[null,null,null,null,{"$f":"IFERROR(VLOOKUP(D7371,Справка!$G$2:$H$579,2,0),\"\")","v":""}]
[null,null,null,null,{"$f":"IFERROR(VLOOKUP(D7372,Справка!$G$2:$H$579,2,0),\"\")","v":""}]
[null,null,null,null,{"$f":"IFERROR(VLOOKUP(D7373,Справка!$G$2:$H$579,2,0),\"\")","v":""}]
[null,null,null,null,{"$f":"IFERROR(VLOOKUP(D7374,Справка!$G$2:$H$579,2,0),\"\")","v":""}]
[null,null,null,null,{"$f":"IFERROR(VLOOKUP(D7375,Справка!$G$2:$H$579,2,0),\"\")","v":""}]
[null,null,null,null,{"$f":"IFERROR(VLOOKUP(D7376,Справка!$G$2:$H$579,2,0),\"\")","v":""}]
[null,null,null,null,{"$f":"IFERROR(VLOOKUP(D7377,Справка!$G$2:$H$579,2,0),\"\")","v":""}]
[null,null,null,null,{"$f":"IFERROR(VLOOKUP(D7378,Справка!$G$2:$H$579,2,0),\"\")","v":""}]
[null,null,null,null,{"$f":"IFERROR(VLOOKUP(D7379,Справка!$G$2:$H$579,2,0),\"\")","v":""}]
[null,null,null,null,{"$f":"IFERROR(VLOOKUP(D7380,Справка!$G$2:$H$579,2,0),\"\")","v":""}]
[null,null,null,null,{"$f":"IFERROR(VLOOKUP(D7381,Справка!$G$2:$H$579,2,0),\"\")","v":""}]
[null,null,null,null,{"$f":"IFERROR(VLOOKUP(D7382,Справка!$G$2:$H$579,2,0),\"\")","v":""}]
[null,null,null,null,{"$f":"IFERROR(VLOOKUP(D7383,Справка!$G$2:$H$579,2,0),\"\")","v":""}]
[null,null,null,null,{"$f":"IFERROR(VLOOKUP(D7384,Справка!$G$2:$H$579,2,0),\"\")","v":""}]
[null,null,null,null,{"$f":"IFERROR(VLOOKUP(D7385,Справка!$G$2:$H$579,2,0),\"\")","v":""}]
[null,null,null,null,{"$f":"IFERROR(VLOOKUP(D7386,Справка!$G$2:$H$579,2,0),\"\")","v":""}]
[null,null,null,null,{"$f":"IFERROR(VLOOKUP(D7387,Справка!$G$2:$H$579,2,0),\"\")","v":""}]
[null,null,null,null,{"$f":"IFERROR(VLOOKUP(D7388,Справка!$G$2:$H$579,2,0),\"\")","v":""}]
[null,null,null,null,{"$f":"IFERROR(VLOOKUP(D7389,Справка!$G$2:$H$579,2,0),\"\")","v":""}]
[null,null,null,null,{"$f":"IFERROR(VLOOKUP(D7390,Справка!$G$2:$H$579,2,0),\"\")","v":""}]
[null,null,null,null,{"$f":"IFERROR(VLOOKUP(D7391,Справка!$G$2:$H$579,2,0),\"\")","v":""}]
[null,null,null,null,{"$f":"IFERROR(VLOOKUP(D7392,Справка!$G$2:$H$579,2,0),\"\")","v":""}]
[null,null,null,null,{"$f":"IFERROR(VLOOKUP(D7393,Справка!$G$2:$H$579,2,0),\"\")","v":""}]
[null,null,null,null,{"$f":"IFERROR(VLOOKUP(D7394,Справка!$G$2:$H$579,2,0),\"\")","v":""}]
[null,null,null,null,{"$f":"IFERROR(VLOOKUP(D7395,Справка!$G$2:$H$579,2,0),\"\")","v":""}]
[null,null,null,null,{"$f":"IFERROR(VLOOKUP(D7396,Справка!$G$2:$H$579,2,0),\"\")","v":""}]
[null,null,null,null,{"$f":"IFERROR(VLOOKUP(D7397,Справка!$G$2:$H$579,2,0),\"\")","v":""}]
[null,null,null,null,{"$f":"IFERROR(VLOOKUP(D7398,Справка!$G$2:$H$579,2,0),\"\")","v":""}]
[null,null,null,null,{"$f":"IFERROR(VLOOKUP(D7399,Справка!$G$2:$H$579,2,0),\"\")","v":""}]
[null,null,null,null,{"$f":"IFERROR(VLOOKUP(D7400,Справка!$G$2:$H$579,2,0),\"\")","v":""}]
[null,null,null,null,{"$f":"IFERROR(VLOOKUP(D7401,Справка!$G$2:$H$579,2,0),\"\")","v":""}]
[null,null,null,null,{"$f":"IFERROR(VLOOKUP(D7402,Справка!$G$2:$H$579,2,0),\"\")","v":""}]
[null,null,null,null,{"$f":"IFERROR(VLOOKUP(D7403,Справка!$G$2:$H$579,2,0),\"\")","v":""}]
[null,null,null,null,{"$f":"IFERROR(VLOOKUP(D7404,Справка!$G$2:$H$579,2,0),\"\")","v":""}]
[null,null,null,null,{"$f":"IFERROR(VLOOKUP(D7405,Справка!$G$2:$H$579,2,0),\"\")","v":""}]
[null,null,null,null,{"$f":"IFERROR(VLOOKUP(D7406,Справка!$G$2:$H$579,2,0),\"\")","v":""}]
[null,null,null,null,{"$f":"IFERROR(VLOOKUP(D7407,Справка!$G$2:$H$579,2,0),\"\")","v":""}]
[null,null,null,null,{"$f":"IFERROR(VLOOKUP(D7408,Справка!$G$2:$H$579,2,0),\"\")","v":""}]
[null,null,null,null,{"$f":"IFERROR(VLOOKUP(D7409,Справка!$G$2:$H$579,2,0),\"\")","v":""}]
[null,null,null,null,{"$f":"IFERROR(VLOOKUP(D7410,Справка!$G$2:$H$579,2,0),\"\")","v":""}]
[null,null,null,null,{"$f":"IFERROR(VLOOKUP(D7411,Справка!$G$2:$H$579,2,0),\"\")","v":""}]
[null,null,null,null,{"$f":"IFERROR(VLOOKUP(D7412,Справка!$G$2:$H$579,2,0),\"\")","v":""}]
[null,null,null,null,{"$f":"IFERROR(VLOOKUP(D7413,Справка!$G$2:$H$579,2,0),\"\")","v":""}]
[null,null,null,null,{"$f":"IFERROR(VLOOKUP(D7414,Справка!$G$2:$H$579,2,0),\"\")","v":""}]
[null,null,null,null,{"$f":"IFERROR(VLOOKUP(D7415,Справка!$G$2:$H$579,2,0),\"\")","v":""}]
[null,null,null,null,{"$f":"IFERROR(VLOOKUP(D7416,Справка!$G$2:$H$579,2,0),\"\")","v":""}]
[null,null,null,null,{"$f":"IFERROR(VLOOKUP(D7417,Справка!$G$2:$H$579,2,0),\"\")","v":""}]
[null,null,null,null,{"$f":"IFERROR(VLOOKUP(D7418,Справка!$G$2:$H$579,2,0),\"\")","v":""}]
[null,null,null,null,{"$f":"IFERROR(VLOOKUP(D7419,Справка!$G$2:$H$579,2,0),\"\")","v":""}]
[null,null,null,null,{"$f":"IFERROR(VLOOKUP(D7420,Справка!$G$2:$H$579,2,0),\"\")","v":""}]
[null,null,null,null,{"$f":"IFERROR(VLOOKUP(D7421,Справка!$G$2:$H$579,2,0),\"\")","v":""}]
[null,null,null,null,{"$f":"IFERROR(VLOOKUP(D7422,Справка!$G$2:$H$579,2,0),\"\")","v":""}]
[null,null,null,null,{"$f":"IFERROR(VLOOKUP(D7423,Справка!$G$2:$H$579,2,0),\"\")","v":""}]
[null,null,null,null,{"$f":"IFERROR(VLOOKUP(D7424,Справка!$G$2:$H$579,2,0),\"\")","v":""}]
[null,null,null,null,{"$f":"IFERROR(VLOOKUP(D7425,Справка!$G$2:$H$579,2,0),\"\")","v":""}]
[null,null,null,null,{"$f":"IFERROR(VLOOKUP(D7426,Справка!$G$2:$H$579,2,0),\"\")","v":""}]
[null,null,null,null,{"$f":"IFERROR(VLOOKUP(D7427,Справка!$G$2:$H$579,2,0),\"\")","v":""}]
[null,null,null,null,{"$f":"IFERROR(VLOOKUP(D7428,Справка!$G$2:$H$579,2,0),\"\")","v":""}]
[null,null,null,null,{"$f":"IFERROR(VLOOKUP(D7429,Справка!$G$2:$H$579,2,0),\"\")","v":""}]
[null,null,null,null,{"$f":"IFERROR(VLOOKUP(D7430,Справка!$G$2:$H$579,2,0),\"\")","v":""}]
[null,null,null,null,{"$f":"IFERROR(VLOOKUP(D7431,Справка!$G$2:$H$579,2,0),\"\")","v":""}]
[null,null,null,null,{"$f":"IFERROR(VLOOKUP(D7432,Справка!$G$2:$H$579,2,0),\"\")","v":""}]
[null,null,null,null,{"$f":"IFERROR(VLOOKUP(D7433,Справка!$G$2:$H$579,2,0),\"\")","v":""}]
[null,null,null,null,{"$f":"IFERROR(VLOOKUP(D7434,Справка!$G$2:$H$579,2,0),\"\")","v":""}]
[null,null,null,null,{"$f":"IFERROR(VLOOKUP(D7435,Справка!$G$2:$H$579,2,0),\"\")","v":""}]
[null,null,null,null,{"$f":"IFERROR(VLOOKUP(D7436,Справка!$G$2:$H$579,2,0),\"\")","v":""}]
[null,null,null,null,{"$f":"IFERROR(VLOOKUP(D7437,Справка!$G$2:$H$579,2,0),\"\")","v":""}]
[null,null,null,null,{"$f":"IFERROR(VLOOKUP(D7438,Справка!$G$2:$H$579,2,0),\"\")","v":""}]
[null,null,null,null,{"$f":"IFERROR(VLOOKUP(D7439,Справка!$G$2:$H$579,2,0),\"\")","v":""}]
[null,null,null,null,{"$f":"IFERROR(VLOOKUP(D7440,Справка!$G$2:$H$579,2,0),\"\")","v":""}]
[null,null,null,null,{"$f":"IFERROR(VLOOKUP(D7441,Справка!$G$2:$H$579,2,0),\"\")","v":""}]
[null,null,null,null,{"$f":"IFERROR(VLOOKUP(D7442,Справка!$G$2:$H$579,2,0),\"\")","v":""}]
[null,null,null,null,{"$f":"IFERROR(VLOOKUP(D7443,Справка!$G$2:$H$579,2,0),\"\")","v":""}]
[null,null,null,null,{"$f":"IFERROR(VLOOKUP(D7444,Справка!$G$2:$H$579,2,0),\"\")","v":""}]
[null,null,null,null,{"$f":"IFERROR(VLOOKUP(D7445,Справка!$G$2:$H$579,2,0),\"\")","v":""}]
[null,null,null,null,{"$f":"IFERROR(VLOOKUP(D7446,Справка!$G$2:$H$579,2,0),\"\")","v":""}]
[null,null,null,null,{"$f":"IFERROR(VLOOKUP(D7447,Справка!$G$2:$H$579,2,0),\"\")","v":""}]
[null,null,null,null,{"$f":"IFERROR(VLOOKUP(D7448,Справка!$G$2:$H$579,2,0),\"\")","v":""}]
[null,null,null,null,{"$f":"IFERROR(VLOOKUP(D7449,Справка!$G$2:$H$579,2,0),\"\")","v":""}]
[null,null,null,null,{"$f":"IFERROR(VLOOKUP(D7450,Справка!$G$2:$H$579,2,0),\"\")","v":""}]
[null,null,null,null,{"$f":"IFERROR(VLOOKUP(D7451,Справка!$G$2:$H$579,2,0),\"\")","v":""}]
[null,null,null,null,{"$f":"IFERROR(VLOOKUP(D7452,Справка!$G$2:$H$579,2,0),\"\")","v":""}]
[null,null,null,null,{"$f":"IFERROR(VLOOKUP(D7453,Справка!$G$2:$H$579,2,0),\"\")","v":""}]
[null,null,null,null,{"$f":"IFERROR(VLOOKUP(D7454,Справка!$G$2:$H$579,2,0),\"\")","v":""}]
[null,null,null,null,{"$f":"IFERROR(VLOOKUP(D7455,Справка!$G$2:$H$579,2,0),\"\")","v":""}]
[null,null,null,null,{"$f":"IFERROR(VLOOKUP(D7456,Справка!$G$2:$H$579,2,0),\"\")","v":""}]
[null,null,null,null,{"$f":"IFERROR(VLOOKUP(D7457,Справка!$G$2:$H$579,2,0),\"\")","v":""}]
[null,null,null,null,{"$f":"IFERROR(VLOOKUP(D7458,Справка!$G$2:$H$579,2,0),\"\")","v":""}]
[null,null,null,null,{"$f":"IFERROR(VLOOKUP(D7459,Справка!$G$2:$H$579,2,0),\"\")","v":""}]
[null,null,null,null,{"$f":"IFERROR(VLOOKUP(D7460,Справка!$G$2:$H$579,2,0),\"\")","v":""}]
[null,null,null,null,{"$f":"IFERROR(VLOOKUP(D7461,Справка!$G$2:$H$579,2,0),\"\")","v":""}]
[null,null,null,null,{"$f":"IFERROR(VLOOKUP(D7462,Справка!$G$2:$H$579,2,0),\"\")","v":""}]
[null,null,null,null,{"$f":"IFERROR(VLOOKUP(D7463,Справка!$G$2:$H$579,2,0),\"\")","v":""}]
[null,null,null,null,{"$f":"IFERROR(VLOOKUP(D7464,Справка!$G$2:$H$579,2,0),\"\")","v":""}]
[null,null,null,null,{"$f":"IFERROR(VLOOKUP(D7465,Справка!$G$2:$H$579,2,0),\"\")","v":""}]
[null,null,null,null,{"$f":"IFERROR(VLOOKUP(D7466,Справка!$G$2:$H$579,2,0),\"\")","v":""}]
[null,null,null,null,{"$f":"IFERROR(VLOOKUP(D7467,Справка!$G$2:$H$579,2,0),\"\")","v":""}]
[null,null,null,null,{"$f":"IFERROR(VLOOKUP(D7468,Справка!$G$2:$H$579,2,0),\"\")","v":""}]
[null,null,null,null,{"$f":"IFERROR(VLOOKUP(D7469,Справка!$G$2:$H$579,2,0),\"\")","v":""}]
[null,null,null,null,{"$f":"IFERROR(VLOOKUP(D7470,Справка!$G$2:$H$579,2,0),\"\")","v":""}]
[null,null,null,null,{"$f":"IFERROR(VLOOKUP(D7471,Справка!$G$2:$H$579,2,0),\"\")","v":""}]
[null,null,null,null,{"$f":"IFERROR(VLOOKUP(D7472,Справка!$G$2:$H$579,2,0),\"\")","v":""}]
[null,null,null,null,{"$f":"IFERROR(VLOOKUP(D7473,Справка!$G$2:$H$579,2,0),\"\")","v":""}]
[null,null,null,null,{"$f":"IFERROR(VLOOKUP(D7474,Справка!$G$2:$H$579,2,0),\"\")","v":""}]
[null,null,null,null,{"$f":"IFERROR(VLOOKUP(D7475,Справка!$G$2:$H$579,2,0),\"\")","v":""}]
[null,null,null,null,{"$f":"IFERROR(VLOOKUP(D7476,Справка!$G$2:$H$579,2,0),\"\")","v":""}]
[null,null,null,null,{"$f":"IFERROR(VLOOKUP(D7477,Справка!$G$2:$H$579,2,0),\"\")","v":""}]
[null,null,null,null,{"$f":"IFERROR(VLOOKUP(D7478,Справка!$G$2:$H$579,2,0),\"\")","v":""}]
[null,null,null,null,{"$f":"IFERROR(VLOOKUP(D7479,Справка!$G$2:$H$579,2,0),\"\")","v":""}]
[null,null,null,null,{"$f":"IFERROR(VLOOKUP(D7480,Справка!$G$2:$H$579,2,0),\"\")","v":""}]
[null,null,null,null,{"$f":"IFERROR(VLOOKUP(D7481,Справка!$G$2:$H$579,2,0),\"\")","v":""}]
[null,null,null,null,{"$f":"IFERROR(VLOOKUP(D7482,Справка!$G$2:$H$579,2,0),\"\")","v":""}]
[null,null,null,null,{"$f":"IFERROR(VLOOKUP(D7483,Справка!$G$2:$H$579,2,0),\"\")","v":""}]
[null,null,null,null,{"$f":"IFERROR(VLOOKUP(D7484,Справка!$G$2:$H$579,2,0),\"\")","v":""}]
[null,null,null,null,{"$f":"IFERROR(VLOOKUP(D7485,Справка!$G$2:$H$579,2,0),\"\")","v":""}]
[null,null,null,null,{"$f":"IFERROR(VLOOKUP(D7486,Справка!$G$2:$H$579,2,0),\"\")","v":""}]
[null,null,null,null,{"$f":"IFERROR(VLOOKUP(D7487,Справка!$G$2:$H$579,2,0),\"\")","v":""}]
[null,null,null,null,{"$f":"IFERROR(VLOOKUP(D7488,Справка!$G$2:$H$579,2,0),\"\")","v":""}]
[null,null,null,null,{"$f":"IFERROR(VLOOKUP(D7489,Справка!$G$2:$H$579,2,0),\"\")","v":""}]
[null,null,null,null,{"$f":"IFERROR(VLOOKUP(D7490,Справка!$G$2:$H$579,2,0),\"\")","v":""}]
[null,null,null,null,{"$f":"IFERROR(VLOOKUP(D7491,Справка!$G$2:$H$579,2,0),\"\")","v":""}]
[null,null,null,null,{"$f":"IFERROR(VLOOKUP(D7492,Справка!$G$2:$H$579,2,0),\"\")","v":""}]
[null,null,null,null,{"$f":"IFERROR(VLOOKUP(D7493,Справка!$G$2:$H$579,2,0),\"\")","v":""}]
[null,null,null,null,{"$f":"IFERROR(VLOOKUP(D7494,Справка!$G$2:$H$579,2,0),\"\")","v":""}]
[null,null,null,null,{"$f":"IFERROR(VLOOKUP(D7495,Справка!$G$2:$H$579,2,0),\"\")","v":""}]
[null,null,null,null,{"$f":"IFERROR(VLOOKUP(D7496,Справка!$G$2:$H$579,2,0),\"\")","v":""}]
[null,null,null,null,{"$f":"IFERROR(VLOOKUP(D7497,Справка!$G$2:$H$579,2,0),\"\")","v":""}]
[null,null,null,null,{"$f":"IFERROR(VLOOKUP(D7498,Справка!$G$2:$H$579,2,0),\"\")","v":""}]
[null,null,null,null,{"$f":"IFERROR(VLOOKUP(D7499,Справка!$G$2:$H$579,2,0),\"\")","v":""}]
[null,null,null,null,{"$f":"IFERROR(VLOOKUP(D7500,Справка!$G$2:$H$579,2,0),\"\")","v":""}]
[null,null,null,null,{"$f":"IFERROR(VLOOKUP(D7501,Справка!$G$2:$H$579,2,0),\"\")","v":""}]
[null,null,null,null,{"$f":"IFERROR(VLOOKUP(D7502,Справка!$G$2:$H$579,2,0),\"\")","v":""}]
[null,null,null,null,{"$f":"IFERROR(VLOOKUP(D7503,Справка!$G$2:$H$579,2,0),\"\")","v":""}]
[null,null,null,null,{"$f":"IFERROR(VLOOKUP(D7504,Справка!$G$2:$H$579,2,0),\"\")","v":""}]
[null,null,null,null,{"$f":"IFERROR(VLOOKUP(D7505,Справка!$G$2:$H$579,2,0),\"\")","v":""}]
[null,null,null,null,{"$f":"IFERROR(VLOOKUP(D7506,Справка!$G$2:$H$579,2,0),\"\")","v":""}]
[null,null,null,null,{"$f":"IFERROR(VLOOKUP(D7507,Справка!$G$2:$H$579,2,0),\"\")","v":""}]
[null,null,null,null,{"$f":"IFERROR(VLOOKUP(D7508,Справка!$G$2:$H$579,2,0),\"\")","v":""}]
[null,null,null,null,{"$f":"IFERROR(VLOOKUP(D7509,Справка!$G$2:$H$579,2,0),\"\")","v":""}]
[null,null,null,null,{"$f":"IFERROR(VLOOKUP(D7510,Справка!$G$2:$H$579,2,0),\"\")","v":""}]
[null,null,null,null,{"$f":"IFERROR(VLOOKUP(D7511,Справка!$G$2:$H$579,2,0),\"\")","v":""}]
[null,null,null,null,{"$f":"IFERROR(VLOOKUP(D7512,Справка!$G$2:$H$579,2,0),\"\")","v":""}]
[null,null,null,null,{"$f":"IFERROR(VLOOKUP(D7513,Справка!$G$2:$H$579,2,0),\"\")","v":""}]
[null,null,null,null,{"$f":"IFERROR(VLOOKUP(D7514,Справка!$G$2:$H$579,2,0),\"\")","v":""}]
[null,null,null,null,{"$f":"IFERROR(VLOOKUP(D7515,Справка!$G$2:$H$579,2,0),\"\")","v":""}]
[null,null,null,null,{"$f":"IFERROR(VLOOKUP(D7516,Справка!$G$2:$H$579,2,0),\"\")","v":""}]
[null,null,null,null,{"$f":"IFERROR(VLOOKUP(D7517,Справка!$G$2:$H$579,2,0),\"\")","v":""}]
[null,null,null,null,{"$f":"IFERROR(VLOOKUP(D7518,Справка!$G$2:$H$579,2,0),\"\")","v":""}]
[null,null,null,null,{"$f":"IFERROR(VLOOKUP(D7519,Справка!$G$2:$H$579,2,0),\"\")","v":""}]
[null,null,null,null,{"$f":"IFERROR(VLOOKUP(D7520,Справка!$G$2:$H$579,2,0),\"\")","v":""}]
[null,null,null,null,{"$f":"IFERROR(VLOOKUP(D7521,Справка!$G$2:$H$579,2,0),\"\")","v":""}]
[null,null,null,null,{"$f":"IFERROR(VLOOKUP(D7522,Справка!$G$2:$H$579,2,0),\"\")","v":""}]
[null,null,null,null,{"$f":"IFERROR(VLOOKUP(D7523,Справка!$G$2:$H$579,2,0),\"\")","v":""}]
[null,null,null,null,{"$f":"IFERROR(VLOOKUP(D7524,Справка!$G$2:$H$579,2,0),\"\")","v":""}]
[null,null,null,null,{"$f":"IFERROR(VLOOKUP(D7525,Справка!$G$2:$H$579,2,0),\"\")","v":""}]
[null,null,null,null,{"$f":"IFERROR(VLOOKUP(D7526,Справка!$G$2:$H$579,2,0),\"\")","v":""}]
[null,null,null,null,{"$f":"IFERROR(VLOOKUP(D7527,Справка!$G$2:$H$579,2,0),\"\")","v":""}]
[null,null,null,null,{"$f":"IFERROR(VLOOKUP(D7528,Справка!$G$2:$H$579,2,0),\"\")","v":""}]
[null,null,null,null,{"$f":"IFERROR(VLOOKUP(D7529,Справка!$G$2:$H$579,2,0),\"\")","v":""}]
[null,null,null,null,{"$f":"IFERROR(VLOOKUP(D7530,Справка!$G$2:$H$579,2,0),\"\")","v":""}]
[null,null,null,null,{"$f":"IFERROR(VLOOKUP(D7531,Справка!$G$2:$H$579,2,0),\"\")","v":""}]
[null,null,null,null,{"$f":"IFERROR(VLOOKUP(D7532,Справка!$G$2:$H$579,2,0),\"\")","v":""}]
[null,null,null,null,{"$f":"IFERROR(VLOOKUP(D7533,Справка!$G$2:$H$579,2,0),\"\")","v":""}]
[null,null,null,null,{"$f":"IFERROR(VLOOKUP(D7534,Справка!$G$2:$H$579,2,0),\"\")","v":""}]
[null,null,null,null,{"$f":"IFERROR(VLOOKUP(D7535,Справка!$G$2:$H$579,2,0),\"\")","v":""}]
[null,null,null,null,{"$f":"IFERROR(VLOOKUP(D7536,Справка!$G$2:$H$579,2,0),\"\")","v":""}]
[null,null,null,null,{"$f":"IFERROR(VLOOKUP(D7537,Справка!$G$2:$H$579,2,0),\"\")","v":""}]
[null,null,null,null,{"$f":"IFERROR(VLOOKUP(D7538,Справка!$G$2:$H$579,2,0),\"\")","v":""}]
[null,null,null,null,{"$f":"IFERROR(VLOOKUP(D7539,Справка!$G$2:$H$579,2,0),\"\")","v":""}]
[null,null,null,null,{"$f":"IFERROR(VLOOKUP(D7540,Справка!$G$2:$H$579,2,0),\"\")","v":""}]
[null,null,null,null,{"$f":"IFERROR(VLOOKUP(D7541,Справка!$G$2:$H$579,2,0),\"\")","v":""}]
[null,null,null,null,{"$f":"IFERROR(VLOOKUP(D7542,Справка!$G$2:$H$579,2,0),\"\")","v":""}]
[null,null,null,null,{"$f":"IFERROR(VLOOKUP(D7543,Справка!$G$2:$H$579,2,0),\"\")","v":""}]
[null,null,null,null,{"$f":"IFERROR(VLOOKUP(D7544,Справка!$G$2:$H$579,2,0),\"\")","v":""}]
[null,null,null,null,{"$f":"IFERROR(VLOOKUP(D7545,Справка!$G$2:$H$579,2,0),\"\")","v":""}]
[null,null,null,null,{"$f":"IFERROR(VLOOKUP(D7546,Справка!$G$2:$H$579,2,0),\"\")","v":""}]
[null,null,null,null,{"$f":"IFERROR(VLOOKUP(D7547,Справка!$G$2:$H$579,2,0),\"\")","v":""}]
[null,null,null,null,{"$f":"IFERROR(VLOOKUP(D7548,Справка!$G$2:$H$579,2,0),\"\")","v":""}]
[null,null,null,null,{"$f":"IFERROR(VLOOKUP(D7549,Справка!$G$2:$H$579,2,0),\"\")","v":""}]
[null,null,null,null,{"$f":"IFERROR(VLOOKUP(D7550,Справка!$G$2:$H$579,2,0),\"\")","v":""}]
[null,null,null,null,{"$f":"IFERROR(VLOOKUP(D7551,Справка!$G$2:$H$579,2,0),\"\")","v":""}]
[null,null,null,null,{"$f":"IFERROR(VLOOKUP(D7552,Справка!$G$2:$H$579,2,0),\"\")","v":""}]
[null,null,null,null,{"$f":"IFERROR(VLOOKUP(D7553,Справка!$G$2:$H$579,2,0),\"\")","v":""}]
[null,null,null,null,{"$f":"IFERROR(VLOOKUP(D7554,Справка!$G$2:$H$579,2,0),\"\")","v":""}]
[null,null,null,null,{"$f":"IFERROR(VLOOKUP(D7555,Справка!$G$2:$H$579,2,0),\"\")","v":""}]
[null,null,null,null,{"$f":"IFERROR(VLOOKUP(D7556,Справка!$G$2:$H$579,2,0),\"\")","v":""}]
[null,null,null,null,{"$f":"IFERROR(VLOOKUP(D7557,Справка!$G$2:$H$579,2,0),\"\")","v":""}]
[null,null,null,null,{"$f":"IFERROR(VLOOKUP(D7558,Справка!$G$2:$H$579,2,0),\"\")","v":""}]
[null,null,null,null,{"$f":"IFERROR(VLOOKUP(D7559,Справка!$G$2:$H$579,2,0),\"\")","v":""}]
[null,null,null,null,{"$f":"IFERROR(VLOOKUP(D7560,Справка!$G$2:$H$579,2,0),\"\")","v":""}]
[null,null,null,null,{"$f":"IFERROR(VLOOKUP(D7561,Справка!$G$2:$H$579,2,0),\"\")","v":""}]
[null,null,null,null,{"$f":"IFERROR(VLOOKUP(D7562,Справка!$G$2:$H$579,2,0),\"\")","v":""}]
[null,null,null,null,{"$f":"IFERROR(VLOOKUP(D7563,Справка!$G$2:$H$579,2,0),\"\")","v":""}]
[null,null,null,null,{"$f":"IFERROR(VLOOKUP(D7564,Справка!$G$2:$H$579,2,0),\"\")","v":""}]
[null,null,null,null,{"$f":"IFERROR(VLOOKUP(D7565,Справка!$G$2:$H$579,2,0),\"\")","v":""}]
[null,null,null,null,{"$f":"IFERROR(VLOOKUP(D7566,Справка!$G$2:$H$579,2,0),\"\")","v":""}]
[null,null,null,null,{"$f":"IFERROR(VLOOKUP(D7567,Справка!$G$2:$H$579,2,0),\"\")","v":""}]
[null,null,null,null,{"$f":"IFERROR(VLOOKUP(D7568,Справка!$G$2:$H$579,2,0),\"\")","v":""}]
[null,null,null,null,{"$f":"IFERROR(VLOOKUP(D7569,Справка!$G$2:$H$579,2,0),\"\")","v":""}]
[null,null,null,null,{"$f":"IFERROR(VLOOKUP(D7570,Справка!$G$2:$H$579,2,0),\"\")","v":""}]
[null,null,null,null,{"$f":"IFERROR(VLOOKUP(D7571,Справка!$G$2:$H$579,2,0),\"\")","v":""}]
[null,null,null,null,{"$f":"IFERROR(VLOOKUP(D7572,Справка!$G$2:$H$579,2,0),\"\")","v":""}]
[null,null,null,null,{"$f":"IFERROR(VLOOKUP(D7573,Справка!$G$2:$H$579,2,0),\"\")","v":""}]
[null,null,null,null,{"$f":"IFERROR(VLOOKUP(D7574,Справка!$G$2:$H$579,2,0),\"\")","v":""}]
[null,null,null,null,{"$f":"IFERROR(VLOOKUP(D7575,Справка!$G$2:$H$579,2,0),\"\")","v":""}]
[null,null,null,null,{"$f":"IFERROR(VLOOKUP(D7576,Справка!$G$2:$H$579,2,0),\"\")","v":""}]
[null,null,null,null,{"$f":"IFERROR(VLOOKUP(D7577,Справка!$G$2:$H$579,2,0),\"\")","v":""}]
[null,null,null,null,{"$f":"IFERROR(VLOOKUP(D7578,Справка!$G$2:$H$579,2,0),\"\")","v":""}]
[null,null,null,null,{"$f":"IFERROR(VLOOKUP(D7579,Справка!$G$2:$H$579,2,0),\"\")","v":""}]
[null,null,null,null,{"$f":"IFERROR(VLOOKUP(D7580,Справка!$G$2:$H$579,2,0),\"\")","v":""}]
[null,null,null,null,{"$f":"IFERROR(VLOOKUP(D7581,Справка!$G$2:$H$579,2,0),\"\")","v":""}]
[null,null,null,null,{"$f":"IFERROR(VLOOKUP(D7582,Справка!$G$2:$H$579,2,0),\"\")","v":""}]
[null,null,null,null,{"$f":"IFERROR(VLOOKUP(D7583,Справка!$G$2:$H$579,2,0),\"\")","v":""}]
[null,null,null,null,{"$f":"IFERROR(VLOOKUP(D7584,Справка!$G$2:$H$579,2,0),\"\")","v":""}]
[null,null,null,null,{"$f":"IFERROR(VLOOKUP(D7585,Справка!$G$2:$H$579,2,0),\"\")","v":""}]
[null,null,null,null,{"$f":"IFERROR(VLOOKUP(D7586,Справка!$G$2:$H$579,2,0),\"\")","v":""}]
[null,null,null,null,{"$f":"IFERROR(VLOOKUP(D7587,Справка!$G$2:$H$579,2,0),\"\")","v":""}]
[null,null,null,null,{"$f":"IFERROR(VLOOKUP(D7588,Справка!$G$2:$H$579,2,0),\"\")","v":""}]
[null,null,null,null,{"$f":"IFERROR(VLOOKUP(D7589,Справка!$G$2:$H$579,2,0),\"\")","v":""}]
[null,null,null,null,{"$f":"IFERROR(VLOOKUP(D7590,Справка!$G$2:$H$579,2,0),\"\")","v":""}]
[null,null,null,null,{"$f":"IFERROR(VLOOKUP(D7591,Справка!$G$2:$H$579,2,0),\"\")","v":""}]
[null,null,null,null,{"$f":"IFERROR(VLOOKUP(D7592,Справка!$G$2:$H$579,2,0),\"\")","v":""}]
[null,null,null,null,{"$f":"IFERROR(VLOOKUP(D7593,Справка!$G$2:$H$579,2,0),\"\")","v":""}]
[null,null,null,null,{"$f":"IFERROR(VLOOKUP(D7594,Справка!$G$2:$H$579,2,0),\"\")","v":""}]
[null,null,null,null,{"$f":"IFERROR(VLOOKUP(D7595,Справка!$G$2:$H$579,2,0),\"\")","v":""}]
[null,null,null,null,{"$f":"IFERROR(VLOOKUP(D7596,Справка!$G$2:$H$579,2,0),\"\")","v":""}]
[null,null,null,null,{"$f":"IFERROR(VLOOKUP(D7597,Справка!$G$2:$H$579,2,0),\"\")","v":""}]
[null,null,null,null,{"$f":"IFERROR(VLOOKUP(D7598,Справка!$G$2:$H$579,2,0),\"\")","v":""}]
[null,null,null,null,{"$f":"IFERROR(VLOOKUP(D7599,Справка!$G$2:$H$579,2,0),\"\")","v":""}]
[null,null,null,null,{"$f":"IFERROR(VLOOKUP(D7600,Справка!$G$2:$H$579,2,0),\"\")","v":""}]
[null,null,null,null,{"$f":"IFERROR(VLOOKUP(D7601,Справка!$G$2:$H$579,2,0),\"\")","v":""}]
[null,null,null,null,{"$f":"IFERROR(VLOOKUP(D7602,Справка!$G$2:$H$579,2,0),\"\")","v":""}]
[null,null,null,null,{"$f":"IFERROR(VLOOKUP(D7603,Справка!$G$2:$H$579,2,0),\"\")","v":""}]
[null,null,null,null,{"$f":"IFERROR(VLOOKUP(D7604,Справка!$G$2:$H$579,2,0),\"\")","v":""}]
[null,null,null,null,{"$f":"IFERROR(VLOOKUP(D7605,Справка!$G$2:$H$579,2,0),\"\")","v":""}]
[null,null,null,null,{"$f":"IFERROR(VLOOKUP(D7606,Справка!$G$2:$H$579,2,0),\"\")","v":""}]
[null,null,null,null,{"$f":"IFERROR(VLOOKUP(D7607,Справка!$G$2:$H$579,2,0),\"\")","v":""}]
[null,null,null,null,{"$f":"IFERROR(VLOOKUP(D7608,Справка!$G$2:$H$579,2,0),\"\")","v":""}]
[null,null,null,null,{"$f":"IFERROR(VLOOKUP(D7609,Справка!$G$2:$H$579,2,0),\"\")","v":""}]
[null,null,null,null,{"$f":"IFERROR(VLOOKUP(D7610,Справка!$G$2:$H$579,2,0),\"\")","v":""}]
[null,null,null,null,{"$f":"IFERROR(VLOOKUP(D7611,Справка!$G$2:$H$579,2,0),\"\")","v":""}]
[null,null,null,null,{"$f":"IFERROR(VLOOKUP(D7612,Справка!$G$2:$H$579,2,0),\"\")","v":""}]
[null,null,null,null,{"$f":"IFERROR(VLOOKUP(D7613,Справка!$G$2:$H$579,2,0),\"\")","v":""}]
[null,null,null,null,{"$f":"IFERROR(VLOOKUP(D7614,Справка!$G$2:$H$579,2,0),\"\")","v":""}]
[null,null,null,null,{"$f":"IFERROR(VLOOKUP(D7615,Справка!$G$2:$H$579,2,0),\"\")","v":""}]
[null,null,null,null,{"$f":"IFERROR(VLOOKUP(D7616,Справка!$G$2:$H$579,2,0),\"\")","v":""}]
[null,null,null,null,{"$f":"IFERROR(VLOOKUP(D7617,Справка!$G$2:$H$579,2,0),\"\")","v":""}]
[null,null,null,null,{"$f":"IFERROR(VLOOKUP(D7618,Справка!$G$2:$H$579,2,0),\"\")","v":""}]
[null,null,null,null,{"$f":"IFERROR(VLOOKUP(D7619,Справка!$G$2:$H$579,2,0),\"\")","v":""}]
[null,null,null,null,{"$f":"IFERROR(VLOOKUP(D7620,Справка!$G$2:$H$579,2,0),\"\")","v":""}]
[null,null,null,null,{"$f":"IFERROR(VLOOKUP(D7621,Справка!$G$2:$H$579,2,0),\"\")","v":""}]
[null,null,null,null,{"$f":"IFERROR(VLOOKUP(D7622,Справка!$G$2:$H$579,2,0),\"\")","v":""}]
[null,null,null,null,{"$f":"IFERROR(VLOOKUP(D7623,Справка!$G$2:$H$579,2,0),\"\")","v":""}]
[null,null,null,null,{"$f":"IFERROR(VLOOKUP(D7624,Справка!$G$2:$H$579,2,0),\"\")","v":""}]
[null,null,null,null,{"$f":"IFERROR(VLOOKUP(D7625,Справка!$G$2:$H$579,2,0),\"\")","v":""}]
[null,null,null,null,{"$f":"IFERROR(VLOOKUP(D7626,Справка!$G$2:$H$579,2,0),\"\")","v":""}]
[null,null,null,null,{"$f":"IFERROR(VLOOKUP(D7627,Справка!$G$2:$H$579,2,0),\"\")","v":""}]
[null,null,null,null,{"$f":"IFERROR(VLOOKUP(D7628,Справка!$G$2:$H$579,2,0),\"\")","v":""}]
[null,null,null,null,{"$f":"IFERROR(VLOOKUP(D7629,Справка!$G$2:$H$579,2,0),\"\")","v":""}]
[null,null,null,null,{"$f":"IFERROR(VLOOKUP(D7630,Справка!$G$2:$H$579,2,0),\"\")","v":""}]
[null,null,null,null,{"$f":"IFERROR(VLOOKUP(D7631,Справка!$G$2:$H$579,2,0),\"\")","v":""}]
[null,null,null,null,{"$f":"IFERROR(VLOOKUP(D7632,Справка!$G$2:$H$579,2,0),\"\")","v":""}]
[null,null,null,null,{"$f":"IFERROR(VLOOKUP(D7633,Справка!$G$2:$H$579,2,0),\"\")","v":""}]
[null,null,null,null,{"$f":"IFERROR(VLOOKUP(D7634,Справка!$G$2:$H$579,2,0),\"\")","v":""}]
[null,null,null,null,{"$f":"IFERROR(VLOOKUP(D7635,Справка!$G$2:$H$579,2,0),\"\")","v":""}]
[null,null,null,null,{"$f":"IFERROR(VLOOKUP(D7636,Справка!$G$2:$H$579,2,0),\"\")","v":""}]
[null,null,null,null,{"$f":"IFERROR(VLOOKUP(D7637,Справка!$G$2:$H$579,2,0),\"\")","v":""}]
[null,null,null,null,{"$f":"IFERROR(VLOOKUP(D7638,Справка!$G$2:$H$579,2,0),\"\")","v":""}]
[null,null,null,null,{"$f":"IFERROR(VLOOKUP(D7639,Справка!$G$2:$H$579,2,0),\"\")","v":""}]
[null,null,null,null,{"$f":"IFERROR(VLOOKUP(D7640,Справка!$G$2:$H$579,2,0),\"\")","v":""}]
[null,null,null,null,{"$f":"IFERROR(VLOOKUP(D7641,Справка!$G$2:$H$579,2,0),\"\")","v":""}]
[null,null,null,null,{"$f":"IFERROR(VLOOKUP(D7642,Справка!$G$2:$H$579,2,0),\"\")","v":""}]
[null,null,null,null,{"$f":"IFERROR(VLOOKUP(D7643,Справка!$G$2:$H$579,2,0),\"\")","v":""}]
[null,null,null,null,{"$f":"IFERROR(VLOOKUP(D7644,Справка!$G$2:$H$579,2,0),\"\")","v":""}]
[null,null,null,null,{"$f":"IFERROR(VLOOKUP(D7645,Справка!$G$2:$H$579,2,0),\"\")","v":""}]
[null,null,null,null,{"$f":"IFERROR(VLOOKUP(D7646,Справка!$G$2:$H$579,2,0),\"\")","v":""}]
[null,null,null,null,{"$f":"IFERROR(VLOOKUP(D7647,Справка!$G$2:$H$579,2,0),\"\")","v":""}]
[null,null,null,null,{"$f":"IFERROR(VLOOKUP(D7648,Справка!$G$2:$H$579,2,0),\"\")","v":""}]
[null,null,null,null,{"$f":"IFERROR(VLOOKUP(D7649,Справка!$G$2:$H$579,2,0),\"\")","v":""}]
[null,null,null,null,{"$f":"IFERROR(VLOOKUP(D7650,Справка!$G$2:$H$579,2,0),\"\")","v":""}]
[null,null,null,null,{"$f":"IFERROR(VLOOKUP(D7651,Справка!$G$2:$H$579,2,0),\"\")","v":""}]
[null,null,null,null,{"$f":"IFERROR(VLOOKUP(D7652,Справка!$G$2:$H$579,2,0),\"\")","v":""}]
[null,null,null,null,{"$f":"IFERROR(VLOOKUP(D7653,Справка!$G$2:$H$579,2,0),\"\")","v":""}]
[null,null,null,null,{"$f":"IFERROR(VLOOKUP(D7654,Справка!$G$2:$H$579,2,0),\"\")","v":""}]
[null,null,null,null,{"$f":"IFERROR(VLOOKUP(D7655,Справка!$G$2:$H$579,2,0),\"\")","v":""}]
[null,null,null,null,{"$f":"IFERROR(VLOOKUP(D7656,Справка!$G$2:$H$579,2,0),\"\")","v":""}]
[null,null,null,null,{"$f":"IFERROR(VLOOKUP(D7657,Справка!$G$2:$H$579,2,0),\"\")","v":""}]
[null,null,null,null,{"$f":"IFERROR(VLOOKUP(D7658,Справка!$G$2:$H$579,2,0),\"\")","v":""}]
[null,null,null,null,{"$f":"IFERROR(VLOOKUP(D7659,Справка!$G$2:$H$579,2,0),\"\")","v":""}]
[null,null,null,null,{"$f":"IFERROR(VLOOKUP(D7660,Справка!$G$2:$H$579,2,0),\"\")","v":""}]
[null,null,null,null,{"$f":"IFERROR(VLOOKUP(D7661,Справка!$G$2:$H$579,2,0),\"\")","v":""}]
[null,null,null,null,{"$f":"IFERROR(VLOOKUP(D7662,Справка!$G$2:$H$579,2,0),\"\")","v":""}]
[null,null,null,null,{"$f":"IFERROR(VLOOKUP(D7663,Справка!$G$2:$H$579,2,0),\"\")","v":""}]
[null,null,null,null,{"$f":"IFERROR(VLOOKUP(D7664,Справка!$G$2:$H$579,2,0),\"\")","v":""}]
[null,null,null,null,{"$f":"IFERROR(VLOOKUP(D7665,Справка!$G$2:$H$579,2,0),\"\")","v":""}]
[null,null,null,null,{"$f":"IFERROR(VLOOKUP(D7666,Справка!$G$2:$H$579,2,0),\"\")","v":""}]
[null,null,null,null,{"$f":"IFERROR(VLOOKUP(D7667,Справка!$G$2:$H$579,2,0),\"\")","v":""}]
[null,null,null,null,{"$f":"IFERROR(VLOOKUP(D7668,Справка!$G$2:$H$579,2,0),\"\")","v":""}]
[null,null,null,null,{"$f":"IFERROR(VLOOKUP(D7669,Справка!$G$2:$H$579,2,0),\"\")","v":""}]
[null,null,null,null,{"$f":"IFERROR(VLOOKUP(D7670,Справка!$G$2:$H$579,2,0),\"\")","v":""}]
[null,null,null,null,{"$f":"IFERROR(VLOOKUP(D7671,Справка!$G$2:$H$579,2,0),\"\")","v":""}]
[null,null,null,null,{"$f":"IFERROR(VLOOKUP(D7672,Справка!$G$2:$H$579,2,0),\"\")","v":""}]
[null,null,null,null,{"$f":"IFERROR(VLOOKUP(D7673,Справка!$G$2:$H$579,2,0),\"\")","v":""}]
[null,null,null,null,{"$f":"IFERROR(VLOOKUP(D7674,Справка!$G$2:$H$579,2,0),\"\")","v":""}]
[null,null,null,null,{"$f":"IFERROR(VLOOKUP(D7675,Справка!$G$2:$H$579,2,0),\"\")","v":""}]
[null,null,null,null,{"$f":"IFERROR(VLOOKUP(D7676,Справка!$G$2:$H$579,2,0),\"\")","v":""}]
[null,null,null,null,{"$f":"IFERROR(VLOOKUP(D7677,Справка!$G$2:$H$579,2,0),\"\")","v":""}]
[null,null,null,null,{"$f":"IFERROR(VLOOKUP(D7678,Справка!$G$2:$H$579,2,0),\"\")","v":""}]
[null,null,null,null,{"$f":"IFERROR(VLOOKUP(D7679,Справка!$G$2:$H$579,2,0),\"\")","v":""}]
[null,null,null,null,{"$f":"IFERROR(VLOOKUP(D7680,Справка!$G$2:$H$579,2,0),\"\")","v":""}]
[null,null,null,null,{"$f":"IFERROR(VLOOKUP(D7681,Справка!$G$2:$H$579,2,0),\"\")","v":""}]
[null,null,null,null,{"$f":"IFERROR(VLOOKUP(D7682,Справка!$G$2:$H$579,2,0),\"\")","v":""}]
[null,null,null,null,{"$f":"IFERROR(VLOOKUP(D7683,Справка!$G$2:$H$579,2,0),\"\")","v":""}]
[null,null,null,null,{"$f":"IFERROR(VLOOKUP(D7684,Справка!$G$2:$H$579,2,0),\"\")","v":""}]
[null,null,null,null,{"$f":"IFERROR(VLOOKUP(D7685,Справка!$G$2:$H$579,2,0),\"\")","v":""}]
[null,null,null,null,{"$f":"IFERROR(VLOOKUP(D7686,Справка!$G$2:$H$579,2,0),\"\")","v":""}]
[null,null,null,null,{"$f":"IFERROR(VLOOKUP(D7687,Справка!$G$2:$H$579,2,0),\"\")","v":""}]
[null,null,null,null,{"$f":"IFERROR(VLOOKUP(D7688,Справка!$G$2:$H$579,2,0),\"\")","v":""}]
[null,null,null,null,{"$f":"IFERROR(VLOOKUP(D7689,Справка!$G$2:$H$579,2,0),\"\")","v":""}]
[null,null,null,null,{"$f":"IFERROR(VLOOKUP(D7690,Справка!$G$2:$H$579,2,0),\"\")","v":""}]
[null,null,null,null,{"$f":"IFERROR(VLOOKUP(D7691,Справка!$G$2:$H$579,2,0),\"\")","v":""}]
[null,null,null,null,{"$f":"IFERROR(VLOOKUP(D7692,Справка!$G$2:$H$579,2,0),\"\")","v":""}]
[null,null,null,null,{"$f":"IFERROR(VLOOKUP(D7693,Справка!$G$2:$H$579,2,0),\"\")","v":""}]
[null,null,null,null,{"$f":"IFERROR(VLOOKUP(D7694,Справка!$G$2:$H$579,2,0),\"\")","v":""}]
[null,null,null,null,{"$f":"IFERROR(VLOOKUP(D7695,Справка!$G$2:$H$579,2,0),\"\")","v":""}]
[null,null,null,null,{"$f":"IFERROR(VLOOKUP(D7696,Справка!$G$2:$H$579,2,0),\"\")","v":""}]
[null,null,null,null,{"$f":"IFERROR(VLOOKUP(D7697,Справка!$G$2:$H$579,2,0),\"\")","v":""}]
[null,null,null,null,{"$f":"IFERROR(VLOOKUP(D7698,Справка!$G$2:$H$579,2,0),\"\")","v":""}]
[null,null,null,null,{"$f":"IFERROR(VLOOKUP(D7699,Справка!$G$2:$H$579,2,0),\"\")","v":""}]
[null,null,null,null,{"$f":"IFERROR(VLOOKUP(D7700,Справка!$G$2:$H$579,2,0),\"\")","v":""}]
[null,null,null,null,{"$f":"IFERROR(VLOOKUP(D7701,Справка!$G$2:$H$579,2,0),\"\")","v":""}]
[null,null,null,null,{"$f":"IFERROR(VLOOKUP(D7702,Справка!$G$2:$H$579,2,0),\"\")","v":""}]
[null,null,null,null,{"$f":"IFERROR(VLOOKUP(D7703,Справка!$G$2:$H$579,2,0),\"\")","v":""}]
[null,null,null,null,{"$f":"IFERROR(VLOOKUP(D7704,Справка!$G$2:$H$579,2,0),\"\")","v":""}]
[null,null,null,null,{"$f":"IFERROR(VLOOKUP(D7705,Справка!$G$2:$H$579,2,0),\"\")","v":""}]
[null,null,null,null,{"$f":"IFERROR(VLOOKUP(D7706,Справка!$G$2:$H$579,2,0),\"\")","v":""}]
[null,null,null,null,{"$f":"IFERROR(VLOOKUP(D7707,Справка!$G$2:$H$579,2,0),\"\")","v":""}]
[null,null,null,null,{"$f":"IFERROR(VLOOKUP(D7708,Справка!$G$2:$H$579,2,0),\"\")","v":""}]
[null,null,null,null,{"$f":"IFERROR(VLOOKUP(D7709,Справка!$G$2:$H$579,2,0),\"\")","v":""}]
[null,null,null,null,{"$f":"IFERROR(VLOOKUP(D7710,Справка!$G$2:$H$579,2,0),\"\")","v":""}]
[null,null,null,null,{"$f":"IFERROR(VLOOKUP(D7711,Справка!$G$2:$H$579,2,0),\"\")","v":""}]
[null,null,null,null,{"$f":"IFERROR(VLOOKUP(D7712,Справка!$G$2:$H$579,2,0),\"\")","v":""}]
[null,null,null,null,{"$f":"IFERROR(VLOOKUP(D7713,Справка!$G$2:$H$579,2,0),\"\")","v":""}]
[null,null,null,null,{"$f":"IFERROR(VLOOKUP(D7714,Справка!$G$2:$H$579,2,0),\"\")","v":""}]
[null,null,null,null,{"$f":"IFERROR(VLOOKUP(D7715,Справка!$G$2:$H$579,2,0),\"\")","v":""}]
[null,null,null,null,{"$f":"IFERROR(VLOOKUP(D7716,Справка!$G$2:$H$579,2,0),\"\")","v":""}]
[null,null,null,null,{"$f":"IFERROR(VLOOKUP(D7717,Справка!$G$2:$H$579,2,0),\"\")","v":""}]
[null,null,null,null,{"$f":"IFERROR(VLOOKUP(D7718,Справка!$G$2:$H$579,2,0),\"\")","v":""}]
[null,null,null,null,{"$f":"IFERROR(VLOOKUP(D7719,Справка!$G$2:$H$579,2,0),\"\")","v":""}]
[null,null,null,null,{"$f":"IFERROR(VLOOKUP(D7720,Справка!$G$2:$H$579,2,0),\"\")","v":""}]
[null,null,null,null,{"$f":"IFERROR(VLOOKUP(D7721,Справка!$G$2:$H$579,2,0),\"\")","v":""}]
[null,null,null,null,{"$f":"IFERROR(VLOOKUP(D7722,Справка!$G$2:$H$579,2,0),\"\")","v":""}]
[null,null,null,null,{"$f":"IFERROR(VLOOKUP(D7723,Справка!$G$2:$H$579,2,0),\"\")","v":""}]
[null,null,null,null,{"$f":"IFERROR(VLOOKUP(D7724,Справка!$G$2:$H$579,2,0),\"\")","v":""}]
[null,null,null,null,{"$f":"IFERROR(VLOOKUP(D7725,Справка!$G$2:$H$579,2,0),\"\")","v":""}]
[null,null,null,null,{"$f":"IFERROR(VLOOKUP(D7726,Справка!$G$2:$H$579,2,0),\"\")","v":""}]
[null,null,null,null,{"$f":"IFERROR(VLOOKUP(D7727,Справка!$G$2:$H$579,2,0),\"\")","v":""}]
[null,null,null,null,{"$f":"IFERROR(VLOOKUP(D7728,Справка!$G$2:$H$579,2,0),\"\")","v":""}]
[null,null,null,null,{"$f":"IFERROR(VLOOKUP(D7729,Справка!$G$2:$H$579,2,0),\"\")","v":""}]
[null,null,null,null,{"$f":"IFERROR(VLOOKUP(D7730,Справка!$G$2:$H$579,2,0),\"\")","v":""}]
[null,null,null,null,{"$f":"IFERROR(VLOOKUP(D7731,Справка!$G$2:$H$579,2,0),\"\")","v":""}]
[null,null,null,null,{"$f":"IFERROR(VLOOKUP(D7732,Справка!$G$2:$H$579,2,0),\"\")","v":""}]
[null,null,null,null,{"$f":"IFERROR(VLOOKUP(D7733,Справка!$G$2:$H$579,2,0),\"\")","v":""}]
[null,null,null,null,{"$f":"IFERROR(VLOOKUP(D7734,Справка!$G$2:$H$579,2,0),\"\")","v":""}]
[null,null,null,null,{"$f":"IFERROR(VLOOKUP(D7735,Справка!$G$2:$H$579,2,0),\"\")","v":""}]
[null,null,null,null,{"$f":"IFERROR(VLOOKUP(D7736,Справка!$G$2:$H$579,2,0),\"\")","v":""}]
[null,null,null,null,{"$f":"IFERROR(VLOOKUP(D7737,Справка!$G$2:$H$579,2,0),\"\")","v":""}]
[null,null,null,null,{"$f":"IFERROR(VLOOKUP(D7738,Справка!$G$2:$H$579,2,0),\"\")","v":""}]
[null,null,null,null,{"$f":"IFERROR(VLOOKUP(D7739,Справка!$G$2:$H$579,2,0),\"\")","v":""}]
[null,null,null,null,{"$f":"IFERROR(VLOOKUP(D7740,Справка!$G$2:$H$579,2,0),\"\")","v":""}]
[null,null,null,null,{"$f":"IFERROR(VLOOKUP(D7741,Справка!$G$2:$H$579,2,0),\"\")","v":""}]
[null,null,null,null,{"$f":"IFERROR(VLOOKUP(D7742,Справка!$G$2:$H$579,2,0),\"\")","v":""}]
[null,null,null,null,{"$f":"IFERROR(VLOOKUP(D7743,Справка!$G$2:$H$579,2,0),\"\")","v":""}]
[null,null,null,null,{"$f":"IFERROR(VLOOKUP(D7744,Справка!$G$2:$H$579,2,0),\"\")","v":""}]
[null,null,null,null,{"$f":"IFERROR(VLOOKUP(D7745,Справка!$G$2:$H$579,2,0),\"\")","v":""}]
[null,null,null,null,{"$f":"IFERROR(VLOOKUP(D7746,Справка!$G$2:$H$579,2,0),\"\")","v":""}]
[null,null,null,null,{"$f":"IFERROR(VLOOKUP(D7747,Справка!$G$2:$H$579,2,0),\"\")","v":""}]
[null,null,null,null,{"$f":"IFERROR(VLOOKUP(D7748,Справка!$G$2:$H$579,2,0),\"\")","v":""}]
[null,null,null,null,{"$f":"IFERROR(VLOOKUP(D7749,Справка!$G$2:$H$579,2,0),\"\")","v":""}]
[null,null,null,null,{"$f":"IFERROR(VLOOKUP(D7750,Справка!$G$2:$H$579,2,0),\"\")","v":""}]
[null,null,null,null,{"$f":"IFERROR(VLOOKUP(D7751,Справка!$G$2:$H$579,2,0),\"\")","v":""}]
[null,null,null,null,{"$f":"IFERROR(VLOOKUP(D7752,Справка!$G$2:$H$579,2,0),\"\")","v":""}]
[null,null,null,null,{"$f":"IFERROR(VLOOKUP(D7753,Справка!$G$2:$H$579,2,0),\"\")","v":""}]
[null,null,null,null,{"$f":"IFERROR(VLOOKUP(D7754,Справка!$G$2:$H$579,2,0),\"\")","v":""}]
[null,null,null,null,{"$f":"IFERROR(VLOOKUP(D7755,Справка!$G$2:$H$579,2,0),\"\")","v":""}]
[null,null,null,null,{"$f":"IFERROR(VLOOKUP(D7756,Справка!$G$2:$H$579,2,0),\"\")","v":""}]
[null,null,null,null,{"$f":"IFERROR(VLOOKUP(D7757,Справка!$G$2:$H$579,2,0),\"\")","v":""}]
[null,null,null,null,{"$f":"IFERROR(VLOOKUP(D7758,Справка!$G$2:$H$579,2,0),\"\")","v":""}]
[null,null,null,null,{"$f":"IFERROR(VLOOKUP(D7759,Справка!$G$2:$H$579,2,0),\"\")","v":""}]
[null,null,null,null,{"$f":"IFERROR(VLOOKUP(D7760,Справка!$G$2:$H$579,2,0),\"\")","v":""}]
[null,null,null,null,{"$f":"IFERROR(VLOOKUP(D7761,Справка!$G$2:$H$579,2,0),\"\")","v":""}]
[null,null,null,null,{"$f":"IFERROR(VLOOKUP(D7762,Справка!$G$2:$H$579,2,0),\"\")","v":""}]
[null,null,null,null,{"$f":"IFERROR(VLOOKUP(D7763,Справка!$G$2:$H$579,2,0),\"\")","v":""}]
[null,null,null,null,{"$f":"IFERROR(VLOOKUP(D7764,Справка!$G$2:$H$579,2,0),\"\")","v":""}]
[null,null,null,null,{"$f":"IFERROR(VLOOKUP(D7765,Справка!$G$2:$H$579,2,0),\"\")","v":""}]
[null,null,null,null,{"$f":"IFERROR(VLOOKUP(D7766,Справка!$G$2:$H$579,2,0),\"\")","v":""}]
[null,null,null,null,{"$f":"IFERROR(VLOOKUP(D7767,Справка!$G$2:$H$579,2,0),\"\")","v":""}]
[null,null,null,null,{"$f":"IFERROR(VLOOKUP(D7768,Справка!$G$2:$H$579,2,0),\"\")","v":""}]
[null,null,null,null,{"$f":"IFERROR(VLOOKUP(D7769,Справка!$G$2:$H$579,2,0),\"\")","v":""}]
[null,null,null,null,{"$f":"IFERROR(VLOOKUP(D7770,Справка!$G$2:$H$579,2,0),\"\")","v":""}]
[null,null,null,null,{"$f":"IFERROR(VLOOKUP(D7771,Справка!$G$2:$H$579,2,0),\"\")","v":""}]
[null,null,null,null,{"$f":"IFERROR(VLOOKUP(D7772,Справка!$G$2:$H$579,2,0),\"\")","v":""}]
[null,null,null,null,{"$f":"IFERROR(VLOOKUP(D7773,Справка!$G$2:$H$579,2,0),\"\")","v":""}]
[null,null,null,null,{"$f":"IFERROR(VLOOKUP(D7774,Справка!$G$2:$H$579,2,0),\"\")","v":""}]
[null,null,null,null,{"$f":"IFERROR(VLOOKUP(D7775,Справка!$G$2:$H$579,2,0),\"\")","v":""}]
[null,null,null,null,{"$f":"IFERROR(VLOOKUP(D7776,Справка!$G$2:$H$579,2,0),\"\")","v":""}]
[null,null,null,null,{"$f":"IFERROR(VLOOKUP(D7777,Справка!$G$2:$H$579,2,0),\"\")","v":""}]
[null,null,null,null,{"$f":"IFERROR(VLOOKUP(D7778,Справка!$G$2:$H$579,2,0),\"\")","v":""}]
[null,null,null,null,{"$f":"IFERROR(VLOOKUP(D7779,Справка!$G$2:$H$579,2,0),\"\")","v":""}]
[null,null,null,null,{"$f":"IFERROR(VLOOKUP(D7780,Справка!$G$2:$H$579,2,0),\"\")","v":""}]
[null,null,null,null,{"$f":"IFERROR(VLOOKUP(D7781,Справка!$G$2:$H$579,2,0),\"\")","v":""}]
[null,null,null,null,{"$f":"IFERROR(VLOOKUP(D7782,Справка!$G$2:$H$579,2,0),\"\")","v":""}]
[null,null,null,null,{"$f":"IFERROR(VLOOKUP(D7783,Справка!$G$2:$H$579,2,0),\"\")","v":""}]
[null,null,null,null,{"$f":"IFERROR(VLOOKUP(D7784,Справка!$G$2:$H$579,2,0),\"\")","v":""}]
[null,null,null,null,{"$f":"IFERROR(VLOOKUP(D7785,Справка!$G$2:$H$579,2,0),\"\")","v":""}]
[null,null,null,null,{"$f":"IFERROR(VLOOKUP(D7786,Справка!$G$2:$H$579,2,0),\"\")","v":""}]
[null,null,null,null,{"$f":"IFERROR(VLOOKUP(D7787,Справка!$G$2:$H$579,2,0),\"\")","v":""}]
[null,null,null,null,{"$f":"IFERROR(VLOOKUP(D7788,Справка!$G$2:$H$579,2,0),\"\")","v":""}]
[null,null,null,null,{"$f":"IFERROR(VLOOKUP(D7789,Справка!$G$2:$H$579,2,0),\"\")","v":""}]
[null,null,null,null,{"$f":"IFERROR(VLOOKUP(D7790,Справка!$G$2:$H$579,2,0),\"\")","v":""}]
[null,null,null,null,{"$f":"IFERROR(VLOOKUP(D7791,Справка!$G$2:$H$579,2,0),\"\")","v":""}]
[null,null,null,null,{"$f":"IFERROR(VLOOKUP(D7792,Справка!$G$2:$H$579,2,0),\"\")","v":""}]
[null,null,null,null,{"$f":"IFERROR(VLOOKUP(D7793,Справка!$G$2:$H$579,2,0),\"\")","v":""}]
[null,null,null,null,{"$f":"IFERROR(VLOOKUP(D7794,Справка!$G$2:$H$579,2,0),\"\")","v":""}]
[null,null,null,null,{"$f":"IFERROR(VLOOKUP(D7795,Справка!$G$2:$H$579,2,0),\"\")","v":""}]
[null,null,null,null,{"$f":"IFERROR(VLOOKUP(D7796,Справка!$G$2:$H$579,2,0),\"\")","v":""}]
[null,null,null,null,{"$f":"IFERROR(VLOOKUP(D7797,Справка!$G$2:$H$579,2,0),\"\")","v":""}]
[null,null,null,null,{"$f":"IFERROR(VLOOKUP(D7798,Справка!$G$2:$H$579,2,0),\"\")","v":""}]
[null,null,null,null,{"$f":"IFERROR(VLOOKUP(D7799,Справка!$G$2:$H$579,2,0),\"\")","v":""}]
[null,null,null,null,{"$f":"IFERROR(VLOOKUP(D7800,Справка!$G$2:$H$579,2,0),\"\")","v":""}]
[null,null,null,null,{"$f":"IFERROR(VLOOKUP(D7801,Справка!$G$2:$H$579,2,0),\"\")","v":""}]
[null,null,null,null,{"$f":"IFERROR(VLOOKUP(D7802,Справка!$G$2:$H$579,2,0),\"\")","v":""}]
[null,null,null,null,{"$f":"IFERROR(VLOOKUP(D7803,Справка!$G$2:$H$579,2,0),\"\")","v":""}]
[null,null,null,null,{"$f":"IFERROR(VLOOKUP(D7804,Справка!$G$2:$H$579,2,0),\"\")","v":""}]
[null,null,null,null,{"$f":"IFERROR(VLOOKUP(D7805,Справка!$G$2:$H$579,2,0),\"\")","v":""}]
[null,null,null,null,{"$f":"IFERROR(VLOOKUP(D7806,Справка!$G$2:$H$579,2,0),\"\")","v":""}]
[null,null,null,null,{"$f":"IFERROR(VLOOKUP(D7807,Справка!$G$2:$H$579,2,0),\"\")","v":""}]
[null,null,null,null,{"$f":"IFERROR(VLOOKUP(D7808,Справка!$G$2:$H$579,2,0),\"\")","v":""}]
[null,null,null,null,{"$f":"IFERROR(VLOOKUP(D7809,Справка!$G$2:$H$579,2,0),\"\")","v":""}]
[null,null,null,null,{"$f":"IFERROR(VLOOKUP(D7810,Справка!$G$2:$H$579,2,0),\"\")","v":""}]
[null,null,null,null,{"$f":"IFERROR(VLOOKUP(D7811,Справка!$G$2:$H$579,2,0),\"\")","v":""}]
[null,null,null,null,{"$f":"IFERROR(VLOOKUP(D7812,Справка!$G$2:$H$579,2,0),\"\")","v":""}]
[null,null,null,null,{"$f":"IFERROR(VLOOKUP(D7813,Справка!$G$2:$H$579,2,0),\"\")","v":""}]
[null,null,null,null,{"$f":"IFERROR(VLOOKUP(D7814,Справка!$G$2:$H$579,2,0),\"\")","v":""}]
[null,null,null,null,{"$f":"IFERROR(VLOOKUP(D7815,Справка!$G$2:$H$579,2,0),\"\")","v":""}]
[null,null,null,null,{"$f":"IFERROR(VLOOKUP(D7816,Справка!$G$2:$H$579,2,0),\"\")","v":""}]
[null,null,null,null,{"$f":"IFERROR(VLOOKUP(D7817,Справка!$G$2:$H$579,2,0),\"\")","v":""}]
[null,null,null,null,{"$f":"IFERROR(VLOOKUP(D7818,Справка!$G$2:$H$579,2,0),\"\")","v":""}]
[null,null,null,null,{"$f":"IFERROR(VLOOKUP(D7819,Справка!$G$2:$H$579,2,0),\"\")","v":""}]
[null,null,null,null,{"$f":"IFERROR(VLOOKUP(D7820,Справка!$G$2:$H$579,2,0),\"\")","v":""}]
[null,null,null,null,{"$f":"IFERROR(VLOOKUP(D7821,Справка!$G$2:$H$579,2,0),\"\")","v":""}]
[null,null,null,null,{"$f":"IFERROR(VLOOKUP(D7822,Справка!$G$2:$H$579,2,0),\"\")","v":""}]
[null,null,null,null,{"$f":"IFERROR(VLOOKUP(D7823,Справка!$G$2:$H$579,2,0),\"\")","v":""}]
[null,null,null,null,{"$f":"IFERROR(VLOOKUP(D7824,Справка!$G$2:$H$579,2,0),\"\")","v":""}]
[null,null,null,null,{"$f":"IFERROR(VLOOKUP(D7825,Справка!$G$2:$H$579,2,0),\"\")","v":""}]
[null,null,null,null,{"$f":"IFERROR(VLOOKUP(D7826,Справка!$G$2:$H$579,2,0),\"\")","v":""}]
[null,null,null,null,{"$f":"IFERROR(VLOOKUP(D7827,Справка!$G$2:$H$579,2,0),\"\")","v":""}]
[null,null,null,null,{"$f":"IFERROR(VLOOKUP(D7828,Справка!$G$2:$H$579,2,0),\"\")","v":""}]
[null,null,null,null,{"$f":"IFERROR(VLOOKUP(D7829,Справка!$G$2:$H$579,2,0),\"\")","v":""}]
[null,null,null,null,{"$f":"IFERROR(VLOOKUP(D7830,Справка!$G$2:$H$579,2,0),\"\")","v":""}]
[null,null,null,null,{"$f":"IFERROR(VLOOKUP(D7831,Справка!$G$2:$H$579,2,0),\"\")","v":""}]
[null,null,null,null,{"$f":"IFERROR(VLOOKUP(D7832,Справка!$G$2:$H$579,2,0),\"\")","v":""}]
[null,null,null,null,{"$f":"IFERROR(VLOOKUP(D7833,Справка!$G$2:$H$579,2,0),\"\")","v":""}]
[null,null,null,null,{"$f":"IFERROR(VLOOKUP(D7834,Справка!$G$2:$H$579,2,0),\"\")","v":""}]
[null,null,null,null,{"$f":"IFERROR(VLOOKUP(D7835,Справка!$G$2:$H$579,2,0),\"\")","v":""}]
[null,null,null,null,{"$f":"IFERROR(VLOOKUP(D7836,Справка!$G$2:$H$579,2,0),\"\")","v":""}]
[null,null,null,null,{"$f":"IFERROR(VLOOKUP(D7837,Справка!$G$2:$H$579,2,0),\"\")","v":""}]
[null,null,null,null,{"$f":"IFERROR(VLOOKUP(D7838,Справка!$G$2:$H$579,2,0),\"\")","v":""}]
[null,null,null,null,{"$f":"IFERROR(VLOOKUP(D7839,Справка!$G$2:$H$579,2,0),\"\")","v":""}]
[null,null,null,null,{"$f":"IFERROR(VLOOKUP(D7840,Справка!$G$2:$H$579,2,0),\"\")","v":""}]
[null,null,null,null,{"$f":"IFERROR(VLOOKUP(D7841,Справка!$G$2:$H$579,2,0),\"\")","v":""}]
[null,null,null,null,{"$f":"IFERROR(VLOOKUP(D7842,Справка!$G$2:$H$579,2,0),\"\")","v":""}]
[null,null,null,null,{"$f":"IFERROR(VLOOKUP(D7843,Справка!$G$2:$H$579,2,0),\"\")","v":""}]
[null,null,null,null,{"$f":"IFERROR(VLOOKUP(D7844,Справка!$G$2:$H$579,2,0),\"\")","v":""}]
[null,null,null,null,{"$f":"IFERROR(VLOOKUP(D7845,Справка!$G$2:$H$579,2,0),\"\")","v":""}]
[null,null,null,null,{"$f":"IFERROR(VLOOKUP(D7846,Справка!$G$2:$H$579,2,0),\"\")","v":""}]
[null,null,null,null,{"$f":"IFERROR(VLOOKUP(D7847,Справка!$G$2:$H$579,2,0),\"\")","v":""}]
[null,null,null,null,{"$f":"IFERROR(VLOOKUP(D7848,Справка!$G$2:$H$579,2,0),\"\")","v":""}]
[null,null,null,null,{"$f":"IFERROR(VLOOKUP(D7849,Справка!$G$2:$H$579,2,0),\"\")","v":""}]
[null,null,null,null,{"$f":"IFERROR(VLOOKUP(D7850,Справка!$G$2:$H$579,2,0),\"\")","v":""}]
[null,null,null,null,{"$f":"IFERROR(VLOOKUP(D7851,Справка!$G$2:$H$579,2,0),\"\")","v":""}]
[null,null,null,null,{"$f":"IFERROR(VLOOKUP(D7852,Справка!$G$2:$H$579,2,0),\"\")","v":""}]
[null,null,null,null,{"$f":"IFERROR(VLOOKUP(D7853,Справка!$G$2:$H$579,2,0),\"\")","v":""}]
[null,null,null,null,{"$f":"IFERROR(VLOOKUP(D7854,Справка!$G$2:$H$579,2,0),\"\")","v":""}]
[null,null,null,null,{"$f":"IFERROR(VLOOKUP(D7855,Справка!$G$2:$H$579,2,0),\"\")","v":""}]
[null,null,null,null,{"$f":"IFERROR(VLOOKUP(D7856,Справка!$G$2:$H$579,2,0),\"\")","v":""}]
[null,null,null,null,{"$f":"IFERROR(VLOOKUP(D7857,Справка!$G$2:$H$579,2,0),\"\")","v":""}]
[null,null,null,null,{"$f":"IFERROR(VLOOKUP(D7858,Справка!$G$2:$H$579,2,0),\"\")","v":""}]
[null,null,null,null,{"$f":"IFERROR(VLOOKUP(D7859,Справка!$G$2:$H$579,2,0),\"\")","v":""}]
[null,null,null,null,{"$f":"IFERROR(VLOOKUP(D7860,Справка!$G$2:$H$579,2,0),\"\")","v":""}]
[null,null,null,null,{"$f":"IFERROR(VLOOKUP(D7861,Справка!$G$2:$H$579,2,0),\"\")","v":""}]
[null,null,null,null,{"$f":"IFERROR(VLOOKUP(D7862,Справка!$G$2:$H$579,2,0),\"\")","v":""}]
[null,null,null,null,{"$f":"IFERROR(VLOOKUP(D7863,Справка!$G$2:$H$579,2,0),\"\")","v":""}]
[null,null,null,null,{"$f":"IFERROR(VLOOKUP(D7864,Справка!$G$2:$H$579,2,0),\"\")","v":""}]
[null,null,null,null,{"$f":"IFERROR(VLOOKUP(D7865,Справка!$G$2:$H$579,2,0),\"\")","v":""}]
[null,null,null,null,{"$f":"IFERROR(VLOOKUP(D7866,Справка!$G$2:$H$579,2,0),\"\")","v":""}]
[null,null,null,null,{"$f":"IFERROR(VLOOKUP(D7867,Справка!$G$2:$H$579,2,0),\"\")","v":""}]
[null,null,null,null,{"$f":"IFERROR(VLOOKUP(D7868,Справка!$G$2:$H$579,2,0),\"\")","v":""}]
[null,null,null,null,{"$f":"IFERROR(VLOOKUP(D7869,Справка!$G$2:$H$579,2,0),\"\")","v":""}]
[null,null,null,null,{"$f":"IFERROR(VLOOKUP(D7870,Справка!$G$2:$H$579,2,0),\"\")","v":""}]
[null,null,null,null,{"$f":"IFERROR(VLOOKUP(D7871,Справка!$G$2:$H$579,2,0),\"\")","v":""}]
[null,null,null,null,{"$f":"IFERROR(VLOOKUP(D7872,Справка!$G$2:$H$579,2,0),\"\")","v":""}]
[null,null,null,null,{"$f":"IFERROR(VLOOKUP(D7873,Справка!$G$2:$H$579,2,0),\"\")","v":""}]
[null,null,null,null,{"$f":"IFERROR(VLOOKUP(D7874,Справка!$G$2:$H$579,2,0),\"\")","v":""}]
[null,null,null,null,{"$f":"IFERROR(VLOOKUP(D7875,Справка!$G$2:$H$579,2,0),\"\")","v":""}]
[null,null,null,null,{"$f":"IFERROR(VLOOKUP(D7876,Справка!$G$2:$H$579,2,0),\"\")","v":""}]
[null,null,null,null,{"$f":"IFERROR(VLOOKUP(D7877,Справка!$G$2:$H$579,2,0),\"\")","v":""}]
[null,null,null,null,{"$f":"IFERROR(VLOOKUP(D7878,Справка!$G$2:$H$579,2,0),\"\")","v":""}]
[null,null,null,null,{"$f":"IFERROR(VLOOKUP(D7879,Справка!$G$2:$H$579,2,0),\"\")","v":""}]
[null,null,null,null,{"$f":"IFERROR(VLOOKUP(D7880,Справка!$G$2:$H$579,2,0),\"\")","v":""}]
[null,null,null,null,{"$f":"IFERROR(VLOOKUP(D7881,Справка!$G$2:$H$579,2,0),\"\")","v":""}]
[null,null,null,null,{"$f":"IFERROR(VLOOKUP(D7882,Справка!$G$2:$H$579,2,0),\"\")","v":""}]
[null,null,null,null,{"$f":"IFERROR(VLOOKUP(D7883,Справка!$G$2:$H$579,2,0),\"\")","v":""}]
[null,null,null,null,{"$f":"IFERROR(VLOOKUP(D7884,Справка!$G$2:$H$579,2,0),\"\")","v":""}]
[null,null,null,null,{"$f":"IFERROR(VLOOKUP(D7885,Справка!$G$2:$H$579,2,0),\"\")","v":""}]
[null,null,null,null,{"$f":"IFERROR(VLOOKUP(D7886,Справка!$G$2:$H$579,2,0),\"\")","v":""}]
[null,null,null,null,{"$f":"IFERROR(VLOOKUP(D7887,Справка!$G$2:$H$579,2,0),\"\")","v":""}]
[null,null,null,null,{"$f":"IFERROR(VLOOKUP(D7888,Справка!$G$2:$H$579,2,0),\"\")","v":""}]
[null,null,null,null,{"$f":"IFERROR(VLOOKUP(D7889,Справка!$G$2:$H$579,2,0),\"\")","v":""}]
[null,null,null,null,{"$f":"IFERROR(VLOOKUP(D7890,Справка!$G$2:$H$579,2,0),\"\")","v":""}]
[null,null,null,null,{"$f":"IFERROR(VLOOKUP(D7891,Справка!$G$2:$H$579,2,0),\"\")","v":""}]
[null,null,null,null,{"$f":"IFERROR(VLOOKUP(D7892,Справка!$G$2:$H$579,2,0),\"\")","v":""}]
[null,null,null,null,{"$f":"IFERROR(VLOOKUP(D7893,Справка!$G$2:$H$579,2,0),\"\")","v":""}]
[null,null,null,null,{"$f":"IFERROR(VLOOKUP(D7894,Справка!$G$2:$H$579,2,0),\"\")","v":""}]
[null,null,null,null,{"$f":"IFERROR(VLOOKUP(D7895,Справка!$G$2:$H$579,2,0),\"\")","v":""}]
[null,null,null,null,{"$f":"IFERROR(VLOOKUP(D7896,Справка!$G$2:$H$579,2,0),\"\")","v":""}]
[null,null,null,null,{"$f":"IFERROR(VLOOKUP(D7897,Справка!$G$2:$H$579,2,0),\"\")","v":""}]
[null,null,null,null,{"$f":"IFERROR(VLOOKUP(D7898,Справка!$G$2:$H$579,2,0),\"\")","v":""}]
[null,null,null,null,{"$f":"IFERROR(VLOOKUP(D7899,Справка!$G$2:$H$579,2,0),\"\")","v":""}]
[null,null,null,null,{"$f":"IFERROR(VLOOKUP(D7900,Справка!$G$2:$H$579,2,0),\"\")","v":""}]
[null,null,null,null,{"$f":"IFERROR(VLOOKUP(D7901,Справка!$G$2:$H$579,2,0),\"\")","v":""}]
[null,null,null,null,{"$f":"IFERROR(VLOOKUP(D7902,Справка!$G$2:$H$579,2,0),\"\")","v":""}]
[null,null,null,null,{"$f":"IFERROR(VLOOKUP(D7903,Справка!$G$2:$H$579,2,0),\"\")","v":""}]
[null,null,null,null,{"$f":"IFERROR(VLOOKUP(D7904,Справка!$G$2:$H$579,2,0),\"\")","v":""}]
[null,null,null,null,{"$f":"IFERROR(VLOOKUP(D7905,Справка!$G$2:$H$579,2,0),\"\")","v":""}]
[null,null,null,null,{"$f":"IFERROR(VLOOKUP(D7906,Справка!$G$2:$H$579,2,0),\"\")","v":""}]
[null,null,null,null,{"$f":"IFERROR(VLOOKUP(D7907,Справка!$G$2:$H$579,2,0),\"\")","v":""}]
[null,null,null,null,{"$f":"IFERROR(VLOOKUP(D7908,Справка!$G$2:$H$579,2,0),\"\")","v":""}]
[null,null,null,null,{"$f":"IFERROR(VLOOKUP(D7909,Справка!$G$2:$H$579,2,0),\"\")","v":""}]
[null,null,null,null,{"$f":"IFERROR(VLOOKUP(D7910,Справка!$G$2:$H$579,2,0),\"\")","v":""}]
[null,null,null,null,{"$f":"IFERROR(VLOOKUP(D7911,Справка!$G$2:$H$579,2,0),\"\")","v":""}]
[null,null,null,null,{"$f":"IFERROR(VLOOKUP(D7912,Справка!$G$2:$H$579,2,0),\"\")","v":""}]
[null,null,null,null,{"$f":"IFERROR(VLOOKUP(D7913,Справка!$G$2:$H$579,2,0),\"\")","v":""}]
[null,null,null,null,{"$f":"IFERROR(VLOOKUP(D7914,Справка!$G$2:$H$579,2,0),\"\")","v":""}]
[null,null,null,null,{"$f":"IFERROR(VLOOKUP(D7915,Справка!$G$2:$H$579,2,0),\"\")","v":""}]
[null,null,null,null,{"$f":"IFERROR(VLOOKUP(D7916,Справка!$G$2:$H$579,2,0),\"\")","v":""}]
[null,null,null,null,{"$f":"IFERROR(VLOOKUP(D7917,Справка!$G$2:$H$579,2,0),\"\")","v":""}]
[null,null,null,null,{"$f":"IFERROR(VLOOKUP(D7918,Справка!$G$2:$H$579,2,0),\"\")","v":""}]
[null,null,null,null,{"$f":"IFERROR(VLOOKUP(D7919,Справка!$G$2:$H$579,2,0),\"\")","v":""}]
[null,null,null,null,{"$f":"IFERROR(VLOOKUP(D7920,Справка!$G$2:$H$579,2,0),\"\")","v":""}]
[null,null,null,null,{"$f":"IFERROR(VLOOKUP(D7921,Справка!$G$2:$H$579,2,0),\"\")","v":""}]
[null,null,null,null,{"$f":"IFERROR(VLOOKUP(D7922,Справка!$G$2:$H$579,2,0),\"\")","v":""}]
[null,null,null,null,{"$f":"IFERROR(VLOOKUP(D7923,Справка!$G$2:$H$579,2,0),\"\")","v":""}]
[null,null,null,null,{"$f":"IFERROR(VLOOKUP(D7924,Справка!$G$2:$H$579,2,0),\"\")","v":""}]
[null,null,null,null,{"$f":"IFERROR(VLOOKUP(D7925,Справка!$G$2:$H$579,2,0),\"\")","v":""}]
[null,null,null,null,{"$f":"IFERROR(VLOOKUP(D7926,Справка!$G$2:$H$579,2,0),\"\")","v":""}]
[null,null,null,null,{"$f":"IFERROR(VLOOKUP(D7927,Справка!$G$2:$H$579,2,0),\"\")","v":""}]
[null,null,null,null,{"$f":"IFERROR(VLOOKUP(D7928,Справка!$G$2:$H$579,2,0),\"\")","v":""}]
[null,null,null,null,{"$f":"IFERROR(VLOOKUP(D7929,Справка!$G$2:$H$579,2,0),\"\")","v":""}]
[null,null,null,null,{"$f":"IFERROR(VLOOKUP(D7930,Справка!$G$2:$H$579,2,0),\"\")","v":""}]
[null,null,null,null,{"$f":"IFERROR(VLOOKUP(D7931,Справка!$G$2:$H$579,2,0),\"\")","v":""}]
[null,null,null,null,{"$f":"IFERROR(VLOOKUP(D7932,Справка!$G$2:$H$579,2,0),\"\")","v":""}]
[null,null,null,null,{"$f":"IFERROR(VLOOKUP(D7933,Справка!$G$2:$H$579,2,0),\"\")","v":""}]
[null,null,null,null,{"$f":"IFERROR(VLOOKUP(D7934,Справка!$G$2:$H$579,2,0),\"\")","v":""}]
[null,null,null,null,{"$f":"IFERROR(VLOOKUP(D7935,Справка!$G$2:$H$579,2,0),\"\")","v":""}]
[null,null,null,null,{"$f":"IFERROR(VLOOKUP(D7936,Справка!$G$2:$H$579,2,0),\"\")","v":""}]
[null,null,null,null,{"$f":"IFERROR(VLOOKUP(D7937,Справка!$G$2:$H$579,2,0),\"\")","v":""}]
[null,null,null,null,{"$f":"IFERROR(VLOOKUP(D7938,Справка!$G$2:$H$579,2,0),\"\")","v":""}]
[null,null,null,null,{"$f":"IFERROR(VLOOKUP(D7939,Справка!$G$2:$H$579,2,0),\"\")","v":""}]
[null,null,null,null,{"$f":"IFERROR(VLOOKUP(D7940,Справка!$G$2:$H$579,2,0),\"\")","v":""}]
[null,null,null,null,{"$f":"IFERROR(VLOOKUP(D7941,Справка!$G$2:$H$579,2,0),\"\")","v":""}]
[null,null,null,null,{"$f":"IFERROR(VLOOKUP(D7942,Справка!$G$2:$H$579,2,0),\"\")","v":""}]
[null,null,null,null,{"$f":"IFERROR(VLOOKUP(D7943,Справка!$G$2:$H$579,2,0),\"\")","v":""}]
[null,null,null,null,{"$f":"IFERROR(VLOOKUP(D7944,Справка!$G$2:$H$579,2,0),\"\")","v":""}]
[null,null,null,null,{"$f":"IFERROR(VLOOKUP(D7945,Справка!$G$2:$H$579,2,0),\"\")","v":""}]
[null,null,null,null,{"$f":"IFERROR(VLOOKUP(D7946,Справка!$G$2:$H$579,2,0),\"\")","v":""}]
[null,null,null,null,{"$f":"IFERROR(VLOOKUP(D7947,Справка!$G$2:$H$579,2,0),\"\")","v":""}]
[null,null,null,null,{"$f":"IFERROR(VLOOKUP(D7948,Справка!$G$2:$H$579,2,0),\"\")","v":""}]
[null,null,null,null,{"$f":"IFERROR(VLOOKUP(D7949,Справка!$G$2:$H$579,2,0),\"\")","v":""}]
[null,null,null,null,{"$f":"IFERROR(VLOOKUP(D7950,Справка!$G$2:$H$579,2,0),\"\")","v":""}]
[null,null,null,null,{"$f":"IFERROR(VLOOKUP(D7951,Справка!$G$2:$H$579,2,0),\"\")","v":""}]
[null,null,null,null,{"$f":"IFERROR(VLOOKUP(D7952,Справка!$G$2:$H$579,2,0),\"\")","v":""}]
[null,null,null,null,{"$f":"IFERROR(VLOOKUP(D7953,Справка!$G$2:$H$579,2,0),\"\")","v":""}]
[null,null,null,null,{"$f":"IFERROR(VLOOKUP(D7954,Справка!$G$2:$H$579,2,0),\"\")","v":""}]
[null,null,null,null,{"$f":"IFERROR(VLOOKUP(D7955,Справка!$G$2:$H$579,2,0),\"\")","v":""}]
[null,null,null,null,{"$f":"IFERROR(VLOOKUP(D7956,Справка!$G$2:$H$579,2,0),\"\")","v":""}]
[null,null,null,null,{"$f":"IFERROR(VLOOKUP(D7957,Справка!$G$2:$H$579,2,0),\"\")","v":""}]
[null,null,null,null,{"$f":"IFERROR(VLOOKUP(D7958,Справка!$G$2:$H$579,2,0),\"\")","v":""}]
[null,null,null,null,{"$f":"IFERROR(VLOOKUP(D7959,Справка!$G$2:$H$579,2,0),\"\")","v":""}]
[null,null,null,null,{"$f":"IFERROR(VLOOKUP(D7960,Справка!$G$2:$H$579,2,0),\"\")","v":""}]
[null,null,null,null,{"$f":"IFERROR(VLOOKUP(D7961,Справка!$G$2:$H$579,2,0),\"\")","v":""}]
[null,null,null,null,{"$f":"IFERROR(VLOOKUP(D7962,Справка!$G$2:$H$579,2,0),\"\")","v":""}]
[null,null,null,null,{"$f":"IFERROR(VLOOKUP(D7963,Справка!$G$2:$H$579,2,0),\"\")","v":""}]
[null,null,null,null,{"$f":"IFERROR(VLOOKUP(D7964,Справка!$G$2:$H$579,2,0),\"\")","v":""}]
[null,null,null,null,{"$f":"IFERROR(VLOOKUP(D7965,Справка!$G$2:$H$579,2,0),\"\")","v":""}]
[null,null,null,null,{"$f":"IFERROR(VLOOKUP(D7966,Справка!$G$2:$H$579,2,0),\"\")","v":""}]
[null,null,null,null,{"$f":"IFERROR(VLOOKUP(D7967,Справка!$G$2:$H$579,2,0),\"\")","v":""}]
[null,null,null,null,{"$f":"IFERROR(VLOOKUP(D7968,Справка!$G$2:$H$579,2,0),\"\")","v":""}]
[null,null,null,null,{"$f":"IFERROR(VLOOKUP(D7969,Справка!$G$2:$H$579,2,0),\"\")","v":""}]
[null,null,null,null,{"$f":"IFERROR(VLOOKUP(D7970,Справка!$G$2:$H$579,2,0),\"\")","v":""}]
[null,null,null,null,{"$f":"IFERROR(VLOOKUP(D7971,Справка!$G$2:$H$579,2,0),\"\")","v":""}]
[null,null,null,null,{"$f":"IFERROR(VLOOKUP(D7972,Справка!$G$2:$H$579,2,0),\"\")","v":""}]
[null,null,null,null,{"$f":"IFERROR(VLOOKUP(D7973,Справка!$G$2:$H$579,2,0),\"\")","v":""}]
[null,null,null,null,{"$f":"IFERROR(VLOOKUP(D7974,Справка!$G$2:$H$579,2,0),\"\")","v":""}]
[null,null,null,null,{"$f":"IFERROR(VLOOKUP(D7975,Справка!$G$2:$H$579,2,0),\"\")","v":""}]
[null,null,null,null,{"$f":"IFERROR(VLOOKUP(D7976,Справка!$G$2:$H$579,2,0),\"\")","v":""}]
[null,null,null,null,{"$f":"IFERROR(VLOOKUP(D7977,Справка!$G$2:$H$579,2,0),\"\")","v":""}]
[null,null,null,null,{"$f":"IFERROR(VLOOKUP(D7978,Справка!$G$2:$H$579,2,0),\"\")","v":""}]
[null,null,null,null,{"$f":"IFERROR(VLOOKUP(D7979,Справка!$G$2:$H$579,2,0),\"\")","v":""}]
[null,null,null,null,{"$f":"IFERROR(VLOOKUP(D7980,Справка!$G$2:$H$579,2,0),\"\")","v":""}]
[null,null,null,null,{"$f":"IFERROR(VLOOKUP(D7981,Справка!$G$2:$H$579,2,0),\"\")","v":""}]
[null,null,null,null,{"$f":"IFERROR(VLOOKUP(D7982,Справка!$G$2:$H$579,2,0),\"\")","v":""}]
[null,null,null,null,{"$f":"IFERROR(VLOOKUP(D7983,Справка!$G$2:$H$579,2,0),\"\")","v":""}]
[null,null,null,null,{"$f":"IFERROR(VLOOKUP(D7984,Справка!$G$2:$H$579,2,0),\"\")","v":""}]
[null,null,null,null,{"$f":"IFERROR(VLOOKUP(D7985,Справка!$G$2:$H$579,2,0),\"\")","v":""}]
[null,null,null,null,{"$f":"IFERROR(VLOOKUP(D7986,Справка!$G$2:$H$579,2,0),\"\")","v":""}]
[null,null,null,null,{"$f":"IFERROR(VLOOKUP(D7987,Справка!$G$2:$H$579,2,0),\"\")","v":""}]
[null,null,null,null,{"$f":"IFERROR(VLOOKUP(D7988,Справка!$G$2:$H$579,2,0),\"\")","v":""}]
[null,null,null,null,{"$f":"IFERROR(VLOOKUP(D7989,Справка!$G$2:$H$579,2,0),\"\")","v":""}]
[null,null,null,null,{"$f":"IFERROR(VLOOKUP(D7990,Справка!$G$2:$H$579,2,0),\"\")","v":""}]
[null,null,null,null,{"$f":"IFERROR(VLOOKUP(D7991,Справка!$G$2:$H$579,2,0),\"\")","v":""}]
[null,null,null,null,{"$f":"IFERROR(VLOOKUP(D7992,Справка!$G$2:$H$579,2,0),\"\")","v":""}]
[null,null,null,null,{"$f":"IFERROR(VLOOKUP(D7993,Справка!$G$2:$H$579,2,0),\"\")","v":""}]
[null,null,null,null,{"$f":"IFERROR(VLOOKUP(D7994,Справка!$G$2:$H$579,2,0),\"\")","v":""}]
[null,null,null,null,{"$f":"IFERROR(VLOOKUP(D7995,Справка!$G$2:$H$579,2,0),\"\")","v":""}]
[null,null,null,null,{"$f":"IFERROR(VLOOKUP(D7996,Справка!$G$2:$H$579,2,0),\"\")","v":""}]
[null,null,null,null,{"$f":"IFERROR(VLOOKUP(D7997,Справка!$G$2:$H$579,2,0),\"\")","v":""}]
[null,null,null,null,{"$f":"IFERROR(VLOOKUP(D7998,Справка!$G$2:$H$579,2,0),\"\")","v":""}]
[null,null,null,null,{"$f":"IFERROR(VLOOKUP(D7999,Справка!$G$2:$H$579,2,0),\"\")","v":""}]
[null,null,null,null,{"$f":"IFERROR(VLOOKUP(D8000,Справка!$G$2:$H$579,2,0),\"\")","v":""}]
[null,null,null,null,{"$f":"IFERROR(VLOOKUP(D8001,Справка!$G$2:$H$579,2,0),\"\")","v":""}]
[null,null,null,null,{"$f":"IFERROR(VLOOKUP(D8002,Справка!$G$2:$H$579,2,0),\"\")","v":""}]
[null,null,null,null,{"$f":"IFERROR(VLOOKUP(D8003,Справка!$G$2:$H$579,2,0),\"\")","v":""}]
[null,null,null,null,{"$f":"IFERROR(VLOOKUP(D8004,Справка!$G$2:$H$579,2,0),\"\")","v":""}]
[null,null,null,null,{"$f":"IFERROR(VLOOKUP(D8005,Справка!$G$2:$H$579,2,0),\"\")","v":""}]
[null,null,null,null,{"$f":"IFERROR(VLOOKUP(D8006,Справка!$G$2:$H$579,2,0),\"\")","v":""}]
[null,null,null,null,{"$f":"IFERROR(VLOOKUP(D8007,Справка!$G$2:$H$579,2,0),\"\")","v":""}]
[null,null,null,null,{"$f":"IFERROR(VLOOKUP(D8008,Справка!$G$2:$H$579,2,0),\"\")","v":""}]
[null,null,null,null,{"$f":"IFERROR(VLOOKUP(D8009,Справка!$G$2:$H$579,2,0),\"\")","v":""}]
[null,null,null,null,{"$f":"IFERROR(VLOOKUP(D8010,Справка!$G$2:$H$579,2,0),\"\")","v":""}]
[null,null,null,null,{"$f":"IFERROR(VLOOKUP(D8011,Справка!$G$2:$H$579,2,0),\"\")","v":""}]
[null,null,null,null,{"$f":"IFERROR(VLOOKUP(D8012,Справка!$G$2:$H$579,2,0),\"\")","v":""}]
[null,null,null,null,{"$f":"IFERROR(VLOOKUP(D8013,Справка!$G$2:$H$579,2,0),\"\")","v":""}]
[null,null,null,null,{"$f":"IFERROR(VLOOKUP(D8014,Справка!$G$2:$H$579,2,0),\"\")","v":""}]
[null,null,null,null,{"$f":"IFERROR(VLOOKUP(D8015,Справка!$G$2:$H$579,2,0),\"\")","v":""}]
[null,null,null,null,{"$f":"IFERROR(VLOOKUP(D8016,Справка!$G$2:$H$579,2,0),\"\")","v":""}]
[null,null,null,null,{"$f":"IFERROR(VLOOKUP(D8017,Справка!$G$2:$H$579,2,0),\"\")","v":""}]
[null,null,null,null,{"$f":"IFERROR(VLOOKUP(D8018,Справка!$G$2:$H$579,2,0),\"\")","v":""}]
[null,null,null,null,{"$f":"IFERROR(VLOOKUP(D8019,Справка!$G$2:$H$579,2,0),\"\")","v":""}]
[null,null,null,null,{"$f":"IFERROR(VLOOKUP(D8020,Справка!$G$2:$H$579,2,0),\"\")","v":""}]
[null,null,null,null,{"$f":"IFERROR(VLOOKUP(D8021,Справка!$G$2:$H$579,2,0),\"\")","v":""}]
[null,null,null,null,{"$f":"IFERROR(VLOOKUP(D8022,Справка!$G$2:$H$579,2,0),\"\")","v":""}]
[null,null,null,null,{"$f":"IFERROR(VLOOKUP(D8023,Справка!$G$2:$H$579,2,0),\"\")","v":""}]
[null,null,null,null,{"$f":"IFERROR(VLOOKUP(D8024,Справка!$G$2:$H$579,2,0),\"\")","v":""}]
[null,null,null,null,{"$f":"IFERROR(VLOOKUP(D8025,Справка!$G$2:$H$579,2,0),\"\")","v":""}]
[null,null,null,null,{"$f":"IFERROR(VLOOKUP(D8026,Справка!$G$2:$H$579,2,0),\"\")","v":""}]
[null,null,null,null,{"$f":"IFERROR(VLOOKUP(D8027,Справка!$G$2:$H$579,2,0),\"\")","v":""}]
[null,null,null,null,{"$f":"IFERROR(VLOOKUP(D8028,Справка!$G$2:$H$579,2,0),\"\")","v":""}]
[null,null,null,null,{"$f":"IFERROR(VLOOKUP(D8029,Справка!$G$2:$H$579,2,0),\"\")","v":""}]
[null,null,null,null,{"$f":"IFERROR(VLOOKUP(D8030,Справка!$G$2:$H$579,2,0),\"\")","v":""}]
[null,null,null,null,{"$f":"IFERROR(VLOOKUP(D8031,Справка!$G$2:$H$579,2,0),\"\")","v":""}]
[null,null,null,null,{"$f":"IFERROR(VLOOKUP(D8032,Справка!$G$2:$H$579,2,0),\"\")","v":""}]
[null,null,null,null,{"$f":"IFERROR(VLOOKUP(D8033,Справка!$G$2:$H$579,2,0),\"\")","v":""}]
[null,null,null,null,{"$f":"IFERROR(VLOOKUP(D8034,Справка!$G$2:$H$579,2,0),\"\")","v":""}]
[null,null,null,null,{"$f":"IFERROR(VLOOKUP(D8035,Справка!$G$2:$H$579,2,0),\"\")","v":""}]
[null,null,null,null,{"$f":"IFERROR(VLOOKUP(D8036,Справка!$G$2:$H$579,2,0),\"\")","v":""}]
[null,null,null,null,{"$f":"IFERROR(VLOOKUP(D8037,Справка!$G$2:$H$579,2,0),\"\")","v":""}]
[null,null,null,null,{"$f":"IFERROR(VLOOKUP(D8038,Справка!$G$2:$H$579,2,0),\"\")","v":""}]
[null,null,null,null,{"$f":"IFERROR(VLOOKUP(D8039,Справка!$G$2:$H$579,2,0),\"\")","v":""}]
[null,null,null,null,{"$f":"IFERROR(VLOOKUP(D8040,Справка!$G$2:$H$579,2,0),\"\")","v":""}]
[null,null,null,null,{"$f":"IFERROR(VLOOKUP(D8041,Справка!$G$2:$H$579,2,0),\"\")","v":""}]
[null,null,null,null,{"$f":"IFERROR(VLOOKUP(D8042,Справка!$G$2:$H$579,2,0),\"\")","v":""}]
[null,null,null,null,{"$f":"IFERROR(VLOOKUP(D8043,Справка!$G$2:$H$579,2,0),\"\")","v":""}]
[null,null,null,null,{"$f":"IFERROR(VLOOKUP(D8044,Справка!$G$2:$H$579,2,0),\"\")","v":""}]
[null,null,null,null,{"$f":"IFERROR(VLOOKUP(D8045,Справка!$G$2:$H$579,2,0),\"\")","v":""}]
[null,null,null,null,{"$f":"IFERROR(VLOOKUP(D8046,Справка!$G$2:$H$579,2,0),\"\")","v":""}]
[null,null,null,null,{"$f":"IFERROR(VLOOKUP(D8047,Справка!$G$2:$H$579,2,0),\"\")","v":""}]
[null,null,null,null,{"$f":"IFERROR(VLOOKUP(D8048,Справка!$G$2:$H$579,2,0),\"\")","v":""}]
[null,null,null,null,{"$f":"IFERROR(VLOOKUP(D8049,Справка!$G$2:$H$579,2,0),\"\")","v":""}]
[null,null,null,null,{"$f":"IFERROR(VLOOKUP(D8050,Справка!$G$2:$H$579,2,0),\"\")","v":""}]
[null,null,null,null,{"$f":"IFERROR(VLOOKUP(D8051,Справка!$G$2:$H$579,2,0),\"\")","v":""}]
[null,null,null,null,{"$f":"IFERROR(VLOOKUP(D8052,Справка!$G$2:$H$579,2,0),\"\")","v":""}]
[null,null,null,null,{"$f":"IFERROR(VLOOKUP(D8053,Справка!$G$2:$H$579,2,0),\"\")","v":""}]
[null,null,null,null,{"$f":"IFERROR(VLOOKUP(D8054,Справка!$G$2:$H$579,2,0),\"\")","v":""}]
[null,null,null,null,{"$f":"IFERROR(VLOOKUP(D8055,Справка!$G$2:$H$579,2,0),\"\")","v":""}]
[null,null,null,null,{"$f":"IFERROR(VLOOKUP(D8056,Справка!$G$2:$H$579,2,0),\"\")","v":""}]
[null,null,null,null,{"$f":"IFERROR(VLOOKUP(D8057,Справка!$G$2:$H$579,2,0),\"\")","v":""}]
[null,null,null,null,{"$f":"IFERROR(VLOOKUP(D8058,Справка!$G$2:$H$579,2,0),\"\")","v":""}]
[null,null,null,null,{"$f":"IFERROR(VLOOKUP(D8059,Справка!$G$2:$H$579,2,0),\"\")","v":""}]
[null,null,null,null,{"$f":"IFERROR(VLOOKUP(D8060,Справка!$G$2:$H$579,2,0),\"\")","v":""}]
[null,null,null,null,{"$f":"IFERROR(VLOOKUP(D8061,Справка!$G$2:$H$579,2,0),\"\")","v":""}]
[null,null,null,null,{"$f":"IFERROR(VLOOKUP(D8062,Справка!$G$2:$H$579,2,0),\"\")","v":""}]
[null,null,null,null,{"$f":"IFERROR(VLOOKUP(D8063,Справка!$G$2:$H$579,2,0),\"\")","v":""}]
[null,null,null,null,{"$f":"IFERROR(VLOOKUP(D8064,Справка!$G$2:$H$579,2,0),\"\")","v":""}]
[null,null,null,null,{"$f":"IFERROR(VLOOKUP(D8065,Справка!$G$2:$H$579,2,0),\"\")","v":""}]
[null,null,null,null,{"$f":"IFERROR(VLOOKUP(D8066,Справка!$G$2:$H$579,2,0),\"\")","v":""}]
[null,null,null,null,{"$f":"IFERROR(VLOOKUP(D8067,Справка!$G$2:$H$579,2,0),\"\")","v":""}]
[null,null,null,null,{"$f":"IFERROR(VLOOKUP(D8068,Справка!$G$2:$H$579,2,0),\"\")","v":""}]
[null,null,null,null,{"$f":"IFERROR(VLOOKUP(D8069,Справка!$G$2:$H$579,2,0),\"\")","v":""}]
[null,null,null,null,{"$f":"IFERROR(VLOOKUP(D8070,Справка!$G$2:$H$579,2,0),\"\")","v":""}]
[null,null,null,null,{"$f":"IFERROR(VLOOKUP(D8071,Справка!$G$2:$H$579,2,0),\"\")","v":""}]
[null,null,null,null,{"$f":"IFERROR(VLOOKUP(D8072,Справка!$G$2:$H$579,2,0),\"\")","v":""}]
[null,null,null,null,{"$f":"IFERROR(VLOOKUP(D8073,Справка!$G$2:$H$579,2,0),\"\")","v":""}]
[null,null,null,null,{"$f":"IFERROR(VLOOKUP(D8074,Справка!$G$2:$H$579,2,0),\"\")","v":""}]
[null,null,null,null,{"$f":"IFERROR(VLOOKUP(D8075,Справка!$G$2:$H$579,2,0),\"\")","v":""}]
[null,null,null,null,{"$f":"IFERROR(VLOOKUP(D8076,Справка!$G$2:$H$579,2,0),\"\")","v":""}]
[null,null,null,null,{"$f":"IFERROR(VLOOKUP(D8077,Справка!$G$2:$H$579,2,0),\"\")","v":""}]
[null,null,null,null,{"$f":"IFERROR(VLOOKUP(D8078,Справка!$G$2:$H$579,2,0),\"\")","v":""}]
[null,null,null,null,{"$f":"IFERROR(VLOOKUP(D8079,Справка!$G$2:$H$579,2,0),\"\")","v":""}]
[null,null,null,null,{"$f":"IFERROR(VLOOKUP(D8080,Справка!$G$2:$H$579,2,0),\"\")","v":""}]
[null,null,null,null,{"$f":"IFERROR(VLOOKUP(D8081,Справка!$G$2:$H$579,2,0),\"\")","v":""}]
[null,null,null,null,{"$f":"IFERROR(VLOOKUP(D8082,Справка!$G$2:$H$579,2,0),\"\")","v":""}]
[null,null,null,null,{"$f":"IFERROR(VLOOKUP(D8083,Справка!$G$2:$H$579,2,0),\"\")","v":""}]
[null,null,null,null,{"$f":"IFERROR(VLOOKUP(D8084,Справка!$G$2:$H$579,2,0),\"\")","v":""}]
[null,null,null,null,{"$f":"IFERROR(VLOOKUP(D8085,Справка!$G$2:$H$579,2,0),\"\")","v":""}]
[null,null,null,null,{"$f":"IFERROR(VLOOKUP(D8086,Справка!$G$2:$H$579,2,0),\"\")","v":""}]
[null,null,null,null,{"$f":"IFERROR(VLOOKUP(D8087,Справка!$G$2:$H$579,2,0),\"\")","v":""}]
[null,null,null,null,{"$f":"IFERROR(VLOOKUP(D8088,Справка!$G$2:$H$579,2,0),\"\")","v":""}]
[null,null,null,null,{"$f":"IFERROR(VLOOKUP(D8089,Справка!$G$2:$H$579,2,0),\"\")","v":""}]
[null,null,null,null,{"$f":"IFERROR(VLOOKUP(D8090,Справка!$G$2:$H$579,2,0),\"\")","v":""}]
[null,null,null,null,{"$f":"IFERROR(VLOOKUP(D8091,Справка!$G$2:$H$579,2,0),\"\")","v":""}]
[null,null,null,null,{"$f":"IFERROR(VLOOKUP(D8092,Справка!$G$2:$H$579,2,0),\"\")","v":""}]
[null,null,null,null,{"$f":"IFERROR(VLOOKUP(D8093,Справка!$G$2:$H$579,2,0),\"\")","v":""}]
[null,null,null,null,{"$f":"IFERROR(VLOOKUP(D8094,Справка!$G$2:$H$579,2,0),\"\")","v":""}]
[null,null,null,null,{"$f":"IFERROR(VLOOKUP(D8095,Справка!$G$2:$H$579,2,0),\"\")","v":""}]
[null,null,null,null,{"$f":"IFERROR(VLOOKUP(D8096,Справка!$G$2:$H$579,2,0),\"\")","v":""}]
[null,null,null,null,{"$f":"IFERROR(VLOOKUP(D8097,Справка!$G$2:$H$579,2,0),\"\")","v":""}]
[null,null,null,null,{"$f":"IFERROR(VLOOKUP(D8098,Справка!$G$2:$H$579,2,0),\"\")","v":""}]
[null,null,null,null,{"$f":"IFERROR(VLOOKUP(D8099,Справка!$G$2:$H$579,2,0),\"\")","v":""}]
[null,null,null,null,{"$f":"IFERROR(VLOOKUP(D8100,Справка!$G$2:$H$579,2,0),\"\")","v":""}]
[null,null,null,null,{"$f":"IFERROR(VLOOKUP(D8101,Справка!$G$2:$H$579,2,0),\"\")","v":""}]
[null,null,null,null,{"$f":"IFERROR(VLOOKUP(D8102,Справка!$G$2:$H$579,2,0),\"\")","v":""}]
[null,null,null,null,{"$f":"IFERROR(VLOOKUP(D8103,Справка!$G$2:$H$579,2,0),\"\")","v":""}]
[null,null,null,null,{"$f":"IFERROR(VLOOKUP(D8104,Справка!$G$2:$H$579,2,0),\"\")","v":""}]
[null,null,null,null,{"$f":"IFERROR(VLOOKUP(D8105,Справка!$G$2:$H$579,2,0),\"\")","v":""}]
[null,null,null,null,{"$f":"IFERROR(VLOOKUP(D8106,Справка!$G$2:$H$579,2,0),\"\")","v":""}]
[null,null,null,null,{"$f":"IFERROR(VLOOKUP(D8107,Справка!$G$2:$H$579,2,0),\"\")","v":""}]
[null,null,null,null,{"$f":"IFERROR(VLOOKUP(D8108,Справка!$G$2:$H$579,2,0),\"\")","v":""}]
[null,null,null,null,{"$f":"IFERROR(VLOOKUP(D8109,Справка!$G$2:$H$579,2,0),\"\")","v":""}]
[null,null,null,null,{"$f":"IFERROR(VLOOKUP(D8110,Справка!$G$2:$H$579,2,0),\"\")","v":""}]
[null,null,null,null,{"$f":"IFERROR(VLOOKUP(D8111,Справка!$G$2:$H$579,2,0),\"\")","v":""}]
[null,null,null,null,{"$f":"IFERROR(VLOOKUP(D8112,Справка!$G$2:$H$579,2,0),\"\")","v":""}]
[null,null,null,null,{"$f":"IFERROR(VLOOKUP(D8113,Справка!$G$2:$H$579,2,0),\"\")","v":""}]
[null,null,null,null,{"$f":"IFERROR(VLOOKUP(D8114,Справка!$G$2:$H$579,2,0),\"\")","v":""}]
[null,null,null,null,{"$f":"IFERROR(VLOOKUP(D8115,Справка!$G$2:$H$579,2,0),\"\")","v":""}]
[null,null,null,null,{"$f":"IFERROR(VLOOKUP(D8116,Справка!$G$2:$H$579,2,0),\"\")","v":""}]
[null,null,null,null,{"$f":"IFERROR(VLOOKUP(D8117,Справка!$G$2:$H$579,2,0),\"\")","v":""}]
[null,null,null,null,{"$f":"IFERROR(VLOOKUP(D8118,Справка!$G$2:$H$579,2,0),\"\")","v":""}]
[null,null,null,null,{"$f":"IFERROR(VLOOKUP(D8119,Справка!$G$2:$H$579,2,0),\"\")","v":""}]
[null,null,null,null,{"$f":"IFERROR(VLOOKUP(D8120,Справка!$G$2:$H$579,2,0),\"\")","v":""}]
[null,null,null,null,{"$f":"IFERROR(VLOOKUP(D8121,Справка!$G$2:$H$579,2,0),\"\")","v":""}]
[null,null,null,null,{"$f":"IFERROR(VLOOKUP(D8122,Справка!$G$2:$H$579,2,0),\"\")","v":""}]
[null,null,null,null,{"$f":"IFERROR(VLOOKUP(D8123,Справка!$G$2:$H$579,2,0),\"\")","v":""}]
[null,null,null,null,{"$f":"IFERROR(VLOOKUP(D8124,Справка!$G$2:$H$579,2,0),\"\")","v":""}]
[null,null,null,null,{"$f":"IFERROR(VLOOKUP(D8125,Справка!$G$2:$H$579,2,0),\"\")","v":""}]
[null,null,null,null,{"$f":"IFERROR(VLOOKUP(D8126,Справка!$G$2:$H$579,2,0),\"\")","v":""}]
[null,null,null,null,{"$f":"IFERROR(VLOOKUP(D8127,Справка!$G$2:$H$579,2,0),\"\")","v":""}]
[null,null,null,null,{"$f":"IFERROR(VLOOKUP(D8128,Справка!$G$2:$H$579,2,0),\"\")","v":""}]
[null,null,null,null,{"$f":"IFERROR(VLOOKUP(D8129,Справка!$G$2:$H$579,2,0),\"\")","v":""}]
[null,null,null,null,{"$f":"IFERROR(VLOOKUP(D8130,Справка!$G$2:$H$579,2,0),\"\")","v":""}]
[null,null,null,null,{"$f":"IFERROR(VLOOKUP(D8131,Справка!$G$2:$H$579,2,0),\"\")","v":""}]
[null,null,null,null,{"$f":"IFERROR(VLOOKUP(D8132,Справка!$G$2:$H$579,2,0),\"\")","v":""}]
[null,null,null,null,{"$f":"IFERROR(VLOOKUP(D8133,Справка!$G$2:$H$579,2,0),\"\")","v":""}]
[null,null,null,null,{"$f":"IFERROR(VLOOKUP(D8134,Справка!$G$2:$H$579,2,0),\"\")","v":""}]
[null,null,null,null,{"$f":"IFERROR(VLOOKUP(D8135,Справка!$G$2:$H$579,2,0),\"\")","v":""}]
[null,null,null,null,{"$f":"IFERROR(VLOOKUP(D8136,Справка!$G$2:$H$579,2,0),\"\")","v":""}]
[null,null,null,null,{"$f":"IFERROR(VLOOKUP(D8137,Справка!$G$2:$H$579,2,0),\"\")","v":""}]
[null,null,null,null,{"$f":"IFERROR(VLOOKUP(D8138,Справка!$G$2:$H$579,2,0),\"\")","v":""}]
[null,null,null,null,{"$f":"IFERROR(VLOOKUP(D8139,Справка!$G$2:$H$579,2,0),\"\")","v":""}]
[null,null,null,null,{"$f":"IFERROR(VLOOKUP(D8140,Справка!$G$2:$H$579,2,0),\"\")","v":""}]
[null,null,null,null,{"$f":"IFERROR(VLOOKUP(D8141,Справка!$G$2:$H$579,2,0),\"\")","v":""}]
[null,null,null,null,{"$f":"IFERROR(VLOOKUP(D8142,Справка!$G$2:$H$579,2,0),\"\")","v":""}]
[null,null,null,null,{"$f":"IFERROR(VLOOKUP(D8143,Справка!$G$2:$H$579,2,0),\"\")","v":""}]
[null,null,null,null,{"$f":"IFERROR(VLOOKUP(D8144,Справка!$G$2:$H$579,2,0),\"\")","v":""}]
[null,null,null,null,{"$f":"IFERROR(VLOOKUP(D8145,Справка!$G$2:$H$579,2,0),\"\")","v":""}]
[null,null,null,null,{"$f":"IFERROR(VLOOKUP(D8146,Справка!$G$2:$H$579,2,0),\"\")","v":""}]
[null,null,null,null,{"$f":"IFERROR(VLOOKUP(D8147,Справка!$G$2:$H$579,2,0),\"\")","v":""}]
[null,null,null,null,{"$f":"IFERROR(VLOOKUP(D8148,Справка!$G$2:$H$579,2,0),\"\")","v":""}]
[null,null,null,null,{"$f":"IFERROR(VLOOKUP(D8149,Справка!$G$2:$H$579,2,0),\"\")","v":""}]
[null,null,null,null,{"$f":"IFERROR(VLOOKUP(D8150,Справка!$G$2:$H$579,2,0),\"\")","v":""}]
[null,null,null,null,{"$f":"IFERROR(VLOOKUP(D8151,Справка!$G$2:$H$579,2,0),\"\")","v":""}]
[null,null,null,null,{"$f":"IFERROR(VLOOKUP(D8152,Справка!$G$2:$H$579,2,0),\"\")","v":""}]
[null,null,null,null,{"$f":"IFERROR(VLOOKUP(D8153,Справка!$G$2:$H$579,2,0),\"\")","v":""}]
[null,null,null,null,{"$f":"IFERROR(VLOOKUP(D8154,Справка!$G$2:$H$579,2,0),\"\")","v":""}]
[null,null,null,null,{"$f":"IFERROR(VLOOKUP(D8155,Справка!$G$2:$H$579,2,0),\"\")","v":""}]
[null,null,null,null,{"$f":"IFERROR(VLOOKUP(D8156,Справка!$G$2:$H$579,2,0),\"\")","v":""}]
[null,null,null,null,{"$f":"IFERROR(VLOOKUP(D8157,Справка!$G$2:$H$579,2,0),\"\")","v":""}]
[null,null,null,null,{"$f":"IFERROR(VLOOKUP(D8158,Справка!$G$2:$H$579,2,0),\"\")","v":""}]
[null,null,null,null,{"$f":"IFERROR(VLOOKUP(D8159,Справка!$G$2:$H$579,2,0),\"\")","v":""}]
[null,null,null,null,{"$f":"IFERROR(VLOOKUP(D8160,Справка!$G$2:$H$579,2,0),\"\")","v":""}]
[null,null,null,null,{"$f":"IFERROR(VLOOKUP(D8161,Справка!$G$2:$H$579,2,0),\"\")","v":""}]
[null,null,null,null,{"$f":"IFERROR(VLOOKUP(D8162,Справка!$G$2:$H$579,2,0),\"\")","v":""}]
[null,null,null,null,{"$f":"IFERROR(VLOOKUP(D8163,Справка!$G$2:$H$579,2,0),\"\")","v":""}]
[null,null,null,null,{"$f":"IFERROR(VLOOKUP(D8164,Справка!$G$2:$H$579,2,0),\"\")","v":""}]
[null,null,null,null,{"$f":"IFERROR(VLOOKUP(D8165,Справка!$G$2:$H$579,2,0),\"\")","v":""}]
[null,null,null,null,{"$f":"IFERROR(VLOOKUP(D8166,Справка!$G$2:$H$579,2,0),\"\")","v":""}]
[null,null,null,null,{"$f":"IFERROR(VLOOKUP(D8167,Справка!$G$2:$H$579,2,0),\"\")","v":""}]
[null,null,null,null,{"$f":"IFERROR(VLOOKUP(D8168,Справка!$G$2:$H$579,2,0),\"\")","v":""}]
[null,null,null,null,{"$f":"IFERROR(VLOOKUP(D8169,Справка!$G$2:$H$579,2,0),\"\")","v":""}]
[null,null,null,null,{"$f":"IFERROR(VLOOKUP(D8170,Справка!$G$2:$H$579,2,0),\"\")","v":""}]
[null,null,null,null,{"$f":"IFERROR(VLOOKUP(D8171,Справка!$G$2:$H$579,2,0),\"\")","v":""}]
[null,null,null,null,{"$f":"IFERROR(VLOOKUP(D8172,Справка!$G$2:$H$579,2,0),\"\")","v":""}]
[null,null,null,null,{"$f":"IFERROR(VLOOKUP(D8173,Справка!$G$2:$H$579,2,0),\"\")","v":""}]
[null,null,null,null,{"$f":"IFERROR(VLOOKUP(D8174,Справка!$G$2:$H$579,2,0),\"\")","v":""}]
[null,null,null,null,{"$f":"IFERROR(VLOOKUP(D8175,Справка!$G$2:$H$579,2,0),\"\")","v":""}]
[null,null,null,null,{"$f":"IFERROR(VLOOKUP(D8176,Справка!$G$2:$H$579,2,0),\"\")","v":""}]
[null,null,null,null,{"$f":"IFERROR(VLOOKUP(D8177,Справка!$G$2:$H$579,2,0),\"\")","v":""}]
[null,null,null,null,{"$f":"IFERROR(VLOOKUP(D8178,Справка!$G$2:$H$579,2,0),\"\")","v":""}]
[null,null,null,null,{"$f":"IFERROR(VLOOKUP(D8179,Справка!$G$2:$H$579,2,0),\"\")","v":""}]
[null,null,null,null,{"$f":"IFERROR(VLOOKUP(D8180,Справка!$G$2:$H$579,2,0),\"\")","v":""}]
[null,null,null,null,{"$f":"IFERROR(VLOOKUP(D8181,Справка!$G$2:$H$579,2,0),\"\")","v":""}]
[null,null,null,null,{"$f":"IFERROR(VLOOKUP(D8182,Справка!$G$2:$H$579,2,0),\"\")","v":""}]
[null,null,null,null,{"$f":"IFERROR(VLOOKUP(D8183,Справка!$G$2:$H$579,2,0),\"\")","v":""}]
[null,null,null,null,{"$f":"IFERROR(VLOOKUP(D8184,Справка!$G$2:$H$579,2,0),\"\")","v":""}]
[null,null,null,null,{"$f":"IFERROR(VLOOKUP(D8185,Справка!$G$2:$H$579,2,0),\"\")","v":""}]
[null,null,null,null,{"$f":"IFERROR(VLOOKUP(D8186,Справка!$G$2:$H$579,2,0),\"\")","v":""}]
[null,null,null,null,{"$f":"IFERROR(VLOOKUP(D8187,Справка!$G$2:$H$579,2,0),\"\")","v":""}]
[null,null,null,null,{"$f":"IFERROR(VLOOKUP(D8188,Справка!$G$2:$H$579,2,0),\"\")","v":""}]
[null,null,null,null,{"$f":"IFERROR(VLOOKUP(D8189,Справка!$G$2:$H$579,2,0),\"\")","v":""}]
[null,null,null,null,{"$f":"IFERROR(VLOOKUP(D8190,Справка!$G$2:$H$579,2,0),\"\")","v":""}]
[null,null,null,null,{"$f":"IFERROR(VLOOKUP(D8191,Справка!$G$2:$H$579,2,0),\"\")","v":""}]
[null,null,null,null,{"$f":"IFERROR(VLOOKUP(D8192,Справка!$G$2:$H$579,2,0),\"\")","v":""}]
[null,null,null,null,{"$f":"IFERROR(VLOOKUP(D8193,Справка!$G$2:$H$579,2,0),\"\")","v":""}]
[null,null,null,null,{"$f":"IFERROR(VLOOKUP(D8194,Справка!$G$2:$H$579,2,0),\"\")","v":""}]
[null,null,null,null,{"$f":"IFERROR(VLOOKUP(D8195,Справка!$G$2:$H$579,2,0),\"\")","v":""}]
[null,null,null,null,{"$f":"IFERROR(VLOOKUP(D8196,Справка!$G$2:$H$579,2,0),\"\")","v":""}]
[null,null,null,null,{"$f":"IFERROR(VLOOKUP(D8197,Справка!$G$2:$H$579,2,0),\"\")","v":""}]
[null,null,null,null,{"$f":"IFERROR(VLOOKUP(D8198,Справка!$G$2:$H$579,2,0),\"\")","v":""}]
[null,null,null,null,{"$f":"IFERROR(VLOOKUP(D8199,Справка!$G$2:$H$579,2,0),\"\")","v":""}]
[null,null,null,null,{"$f":"IFERROR(VLOOKUP(D8200,Справка!$G$2:$H$579,2,0),\"\")","v":""}]
[null,null,null,null,{"$f":"IFERROR(VLOOKUP(D8201,Справка!$G$2:$H$579,2,0),\"\")","v":""}]
[null,null,null,null,{"$f":"IFERROR(VLOOKUP(D8202,Справка!$G$2:$H$579,2,0),\"\")","v":""}]
[null,null,null,null,{"$f":"IFERROR(VLOOKUP(D8203,Справка!$G$2:$H$579,2,0),\"\")","v":""}]
[null,null,null,null,{"$f":"IFERROR(VLOOKUP(D8204,Справка!$G$2:$H$579,2,0),\"\")","v":""}]
[null,null,null,null,{"$f":"IFERROR(VLOOKUP(D8205,Справка!$G$2:$H$579,2,0),\"\")","v":""}]
[null,null,null,null,{"$f":"IFERROR(VLOOKUP(D8206,Справка!$G$2:$H$579,2,0),\"\")","v":""}]
[null,null,null,null,{"$f":"IFERROR(VLOOKUP(D8207,Справка!$G$2:$H$579,2,0),\"\")","v":""}]
[null,null,null,null,{"$f":"IFERROR(VLOOKUP(D8208,Справка!$G$2:$H$579,2,0),\"\")","v":""}]
[null,null,null,null,{"$f":"IFERROR(VLOOKUP(D8209,Справка!$G$2:$H$579,2,0),\"\")","v":""}]
[null,null,null,null,{"$f":"IFERROR(VLOOKUP(D8210,Справка!$G$2:$H$579,2,0),\"\")","v":""}]
[null,null,null,null,{"$f":"IFERROR(VLOOKUP(D8211,Справка!$G$2:$H$579,2,0),\"\")","v":""}]
[null,null,null,null,{"$f":"IFERROR(VLOOKUP(D8212,Справка!$G$2:$H$579,2,0),\"\")","v":""}]
[null,null,null,null,{"$f":"IFERROR(VLOOKUP(D8213,Справка!$G$2:$H$579,2,0),\"\")","v":""}]
[null,null,null,null,{"$f":"IFERROR(VLOOKUP(D8214,Справка!$G$2:$H$579,2,0),\"\")","v":""}]
[null,null,null,null,{"$f":"IFERROR(VLOOKUP(D8215,Справка!$G$2:$H$579,2,0),\"\")","v":""}]
[null,null,null,null,{"$f":"IFERROR(VLOOKUP(D8216,Справка!$G$2:$H$579,2,0),\"\")","v":""}]
[null,null,null,null,{"$f":"IFERROR(VLOOKUP(D8217,Справка!$G$2:$H$579,2,0),\"\")","v":""}]
[null,null,null,null,{"$f":"IFERROR(VLOOKUP(D8218,Справка!$G$2:$H$579,2,0),\"\")","v":""}]
[null,null,null,null,{"$f":"IFERROR(VLOOKUP(D8219,Справка!$G$2:$H$579,2,0),\"\")","v":""}]
[null,null,null,null,{"$f":"IFERROR(VLOOKUP(D8220,Справка!$G$2:$H$579,2,0),\"\")","v":""}]
[null,null,null,null,{"$f":"IFERROR(VLOOKUP(D8221,Справка!$G$2:$H$579,2,0),\"\")","v":""}]
[null,null,null,null,{"$f":"IFERROR(VLOOKUP(D8222,Справка!$G$2:$H$579,2,0),\"\")","v":""}]
[null,null,null,null,{"$f":"IFERROR(VLOOKUP(D8223,Справка!$G$2:$H$579,2,0),\"\")","v":""}]
[null,null,null,null,{"$f":"IFERROR(VLOOKUP(D8224,Справка!$G$2:$H$579,2,0),\"\")","v":""}]
[null,null,null,null,{"$f":"IFERROR(VLOOKUP(D8225,Справка!$G$2:$H$579,2,0),\"\")","v":""}]
[null,null,null,null,{"$f":"IFERROR(VLOOKUP(D8226,Справка!$G$2:$H$579,2,0),\"\")","v":""}]
[null,null,null,null,{"$f":"IFERROR(VLOOKUP(D8227,Справка!$G$2:$H$579,2,0),\"\")","v":""}]
[null,null,null,null,{"$f":"IFERROR(VLOOKUP(D8228,Справка!$G$2:$H$579,2,0),\"\")","v":""}]
[null,null,null,null,{"$f":"IFERROR(VLOOKUP(D8229,Справка!$G$2:$H$579,2,0),\"\")","v":""}]
[null,null,null,null,{"$f":"IFERROR(VLOOKUP(D8230,Справка!$G$2:$H$579,2,0),\"\")","v":""}]
[null,null,null,null,{"$f":"IFERROR(VLOOKUP(D8231,Справка!$G$2:$H$579,2,0),\"\")","v":""}]
[null,null,null,null,{"$f":"IFERROR(VLOOKUP(D8232,Справка!$G$2:$H$579,2,0),\"\")","v":""}]
[null,null,null,null,{"$f":"IFERROR(VLOOKUP(D8233,Справка!$G$2:$H$579,2,0),\"\")","v":""}]
[null,null,null,null,{"$f":"IFERROR(VLOOKUP(D8234,Справка!$G$2:$H$579,2,0),\"\")","v":""}]
[null,null,null,null,{"$f":"IFERROR(VLOOKUP(D8235,Справка!$G$2:$H$579,2,0),\"\")","v":""}]
[null,null,null,null,{"$f":"IFERROR(VLOOKUP(D8236,Справка!$G$2:$H$579,2,0),\"\")","v":""}]
[null,null,null,null,{"$f":"IFERROR(VLOOKUP(D8237,Справка!$G$2:$H$579,2,0),\"\")","v":""}]
[null,null,null,null,{"$f":"IFERROR(VLOOKUP(D8238,Справка!$G$2:$H$579,2,0),\"\")","v":""}]
[null,null,null,null,{"$f":"IFERROR(VLOOKUP(D8239,Справка!$G$2:$H$579,2,0),\"\")","v":""}]
[null,null,null,null,{"$f":"IFERROR(VLOOKUP(D8240,Справка!$G$2:$H$579,2,0),\"\")","v":""}]
[null,null,null,null,{"$f":"IFERROR(VLOOKUP(D8241,Справка!$G$2:$H$579,2,0),\"\")","v":""}]
[null,null,null,null,{"$f":"IFERROR(VLOOKUP(D8242,Справка!$G$2:$H$579,2,0),\"\")","v":""}]
[null,null,null,null,{"$f":"IFERROR(VLOOKUP(D8243,Справка!$G$2:$H$579,2,0),\"\")","v":""}]
[null,null,null,null,{"$f":"IFERROR(VLOOKUP(D8244,Справка!$G$2:$H$579,2,0),\"\")","v":""}]
[null,null,null,null,{"$f":"IFERROR(VLOOKUP(D8245,Справка!$G$2:$H$579,2,0),\"\")","v":""}]
[null,null,null,null,{"$f":"IFERROR(VLOOKUP(D8246,Справка!$G$2:$H$579,2,0),\"\")","v":""}]
[null,null,null,null,{"$f":"IFERROR(VLOOKUP(D8247,Справка!$G$2:$H$579,2,0),\"\")","v":""}]
[null,null,null,null,{"$f":"IFERROR(VLOOKUP(D8248,Справка!$G$2:$H$579,2,0),\"\")","v":""}]
[null,null,null,null,{"$f":"IFERROR(VLOOKUP(D8249,Справка!$G$2:$H$579,2,0),\"\")","v":""}]
[null,null,null,null,{"$f":"IFERROR(VLOOKUP(D8250,Справка!$G$2:$H$579,2,0),\"\")","v":""}]
[null,null,null,null,{"$f":"IFERROR(VLOOKUP(D8251,Справка!$G$2:$H$579,2,0),\"\")","v":""}]
[null,null,null,null,{"$f":"IFERROR(VLOOKUP(D8252,Справка!$G$2:$H$579,2,0),\"\")","v":""}]
[null,null,null,null,{"$f":"IFERROR(VLOOKUP(D8253,Справка!$G$2:$H$579,2,0),\"\")","v":""}]
[null,null,null,null,{"$f":"IFERROR(VLOOKUP(D8254,Справка!$G$2:$H$579,2,0),\"\")","v":""}]
[null,null,null,null,{"$f":"IFERROR(VLOOKUP(D8255,Справка!$G$2:$H$579,2,0),\"\")","v":""}]
[null,null,null,null,{"$f":"IFERROR(VLOOKUP(D8256,Справка!$G$2:$H$579,2,0),\"\")","v":""}]
[null,null,null,null,{"$f":"IFERROR(VLOOKUP(D8257,Справка!$G$2:$H$579,2,0),\"\")","v":""}]
[null,null,null,null,{"$f":"IFERROR(VLOOKUP(D8258,Справка!$G$2:$H$579,2,0),\"\")","v":""}]
[null,null,null,null,{"$f":"IFERROR(VLOOKUP(D8259,Справка!$G$2:$H$579,2,0),\"\")","v":""}]
[null,null,null,null,{"$f":"IFERROR(VLOOKUP(D8260,Справка!$G$2:$H$579,2,0),\"\")","v":""}]
[null,null,null,null,{"$f":"IFERROR(VLOOKUP(D8261,Справка!$G$2:$H$579,2,0),\"\")","v":""}]
[null,null,null,null,{"$f":"IFERROR(VLOOKUP(D8262,Справка!$G$2:$H$579,2,0),\"\")","v":""}]
[null,null,null,null,{"$f":"IFERROR(VLOOKUP(D8263,Справка!$G$2:$H$579,2,0),\"\")","v":""}]
[null,null,null,null,{"$f":"IFERROR(VLOOKUP(D8264,Справка!$G$2:$H$579,2,0),\"\")","v":""}]
[null,null,null,null,{"$f":"IFERROR(VLOOKUP(D8265,Справка!$G$2:$H$579,2,0),\"\")","v":""}]
[null,null,null,null,{"$f":"IFERROR(VLOOKUP(D8266,Справка!$G$2:$H$579,2,0),\"\")","v":""}]
[null,null,null,null,{"$f":"IFERROR(VLOOKUP(D8267,Справка!$G$2:$H$579,2,0),\"\")","v":""}]
[null,null,null,null,{"$f":"IFERROR(VLOOKUP(D8268,Справка!$G$2:$H$579,2,0),\"\")","v":""}]
[null,null,null,null,{"$f":"IFERROR(VLOOKUP(D8269,Справка!$G$2:$H$579,2,0),\"\")","v":""}]
[null,null,null,null,{"$f":"IFERROR(VLOOKUP(D8270,Справка!$G$2:$H$579,2,0),\"\")","v":""}]
[null,null,null,null,{"$f":"IFERROR(VLOOKUP(D8271,Справка!$G$2:$H$579,2,0),\"\")","v":""}]
[null,null,null,null,{"$f":"IFERROR(VLOOKUP(D8272,Справка!$G$2:$H$579,2,0),\"\")","v":""}]
[null,null,null,null,{"$f":"IFERROR(VLOOKUP(D8273,Справка!$G$2:$H$579,2,0),\"\")","v":""}]
[null,null,null,null,{"$f":"IFERROR(VLOOKUP(D8274,Справка!$G$2:$H$579,2,0),\"\")","v":""}]
[null,null,null,null,{"$f":"IFERROR(VLOOKUP(D8275,Справка!$G$2:$H$579,2,0),\"\")","v":""}]
[null,null,null,null,{"$f":"IFERROR(VLOOKUP(D8276,Справка!$G$2:$H$579,2,0),\"\")","v":""}]
[null,null,null,null,{"$f":"IFERROR(VLOOKUP(D8277,Справка!$G$2:$H$579,2,0),\"\")","v":""}]
[null,null,null,null,{"$f":"IFERROR(VLOOKUP(D8278,Справка!$G$2:$H$579,2,0),\"\")","v":""}]
[null,null,null,null,{"$f":"IFERROR(VLOOKUP(D8279,Справка!$G$2:$H$579,2,0),\"\")","v":""}]
[null,null,null,null,{"$f":"IFERROR(VLOOKUP(D8280,Справка!$G$2:$H$579,2,0),\"\")","v":""}]
[null,null,null,null,{"$f":"IFERROR(VLOOKUP(D8281,Справка!$G$2:$H$579,2,0),\"\")","v":""}]
[null,null,null,null,{"$f":"IFERROR(VLOOKUP(D8282,Справка!$G$2:$H$579,2,0),\"\")","v":""}]
[null,null,null,null,{"$f":"IFERROR(VLOOKUP(D8283,Справка!$G$2:$H$579,2,0),\"\")","v":""}]
[null,null,null,null,{"$f":"IFERROR(VLOOKUP(D8284,Справка!$G$2:$H$579,2,0),\"\")","v":""}]
[null,null,null,null,{"$f":"IFERROR(VLOOKUP(D8285,Справка!$G$2:$H$579,2,0),\"\")","v":""}]
[null,null,null,null,{"$f":"IFERROR(VLOOKUP(D8286,Справка!$G$2:$H$579,2,0),\"\")","v":""}]
[null,null,null,null,{"$f":"IFERROR(VLOOKUP(D8287,Справка!$G$2:$H$579,2,0),\"\")","v":""}]
[null,null,null,null,{"$f":"IFERROR(VLOOKUP(D8288,Справка!$G$2:$H$579,2,0),\"\")","v":""}]
[null,null,null,null,{"$f":"IFERROR(VLOOKUP(D8289,Справка!$G$2:$H$579,2,0),\"\")","v":""}]
[null,null,null,null,{"$f":"IFERROR(VLOOKUP(D8290,Справка!$G$2:$H$579,2,0),\"\")","v":""}]
[null,null,null,null,{"$f":"IFERROR(VLOOKUP(D8291,Справка!$G$2:$H$579,2,0),\"\")","v":""}]
[null,null,null,null,{"$f":"IFERROR(VLOOKUP(D8292,Справка!$G$2:$H$579,2,0),\"\")","v":""}]
[null,null,null,null,{"$f":"IFERROR(VLOOKUP(D8293,Справка!$G$2:$H$579,2,0),\"\")","v":""}]
[null,null,null,null,{"$f":"IFERROR(VLOOKUP(D8294,Справка!$G$2:$H$579,2,0),\"\")","v":""}]
[null,null,null,null,{"$f":"IFERROR(VLOOKUP(D8295,Справка!$G$2:$H$579,2,0),\"\")","v":""}]
[null,null,null,null,{"$f":"IFERROR(VLOOKUP(D8296,Справка!$G$2:$H$579,2,0),\"\")","v":""}]
[null,null,null,null,{"$f":"IFERROR(VLOOKUP(D8297,Справка!$G$2:$H$579,2,0),\"\")","v":""}]
[null,null,null,null,{"$f":"IFERROR(VLOOKUP(D8298,Справка!$G$2:$H$579,2,0),\"\")","v":""}]
[null,null,null,null,{"$f":"IFERROR(VLOOKUP(D8299,Справка!$G$2:$H$579,2,0),\"\")","v":""}]
[null,null,null,null,{"$f":"IFERROR(VLOOKUP(D8300,Справка!$G$2:$H$579,2,0),\"\")","v":""}]
[null,null,null,null,{"$f":"IFERROR(VLOOKUP(D8301,Справка!$G$2:$H$579,2,0),\"\")","v":""}]
[null,null,null,null,{"$f":"IFERROR(VLOOKUP(D8302,Справка!$G$2:$H$579,2,0),\"\")","v":""}]
[null,null,null,null,{"$f":"IFERROR(VLOOKUP(D8303,Справка!$G$2:$H$579,2,0),\"\")","v":""}]
[null,null,null,null,{"$f":"IFERROR(VLOOKUP(D8304,Справка!$G$2:$H$579,2,0),\"\")","v":""}]
[null,null,null,null,{"$f":"IFERROR(VLOOKUP(D8305,Справка!$G$2:$H$579,2,0),\"\")","v":""}]
[null,null,null,null,{"$f":"IFERROR(VLOOKUP(D8306,Справка!$G$2:$H$579,2,0),\"\")","v":""}]
[null,null,null,null,{"$f":"IFERROR(VLOOKUP(D8307,Справка!$G$2:$H$579,2,0),\"\")","v":""}]
[null,null,null,null,{"$f":"IFERROR(VLOOKUP(D8308,Справка!$G$2:$H$579,2,0),\"\")","v":""}]
[null,null,null,null,{"$f":"IFERROR(VLOOKUP(D8309,Справка!$G$2:$H$579,2,0),\"\")","v":""}]
[null,null,null,null,{"$f":"IFERROR(VLOOKUP(D8310,Справка!$G$2:$H$579,2,0),\"\")","v":""}]
[null,null,null,null,{"$f":"IFERROR(VLOOKUP(D8311,Справка!$G$2:$H$579,2,0),\"\")","v":""}]
[null,null,null,null,{"$f":"IFERROR(VLOOKUP(D8312,Справка!$G$2:$H$579,2,0),\"\")","v":""}]
[null,null,null,null,{"$f":"IFERROR(VLOOKUP(D8313,Справка!$G$2:$H$579,2,0),\"\")","v":""}]
[null,null,null,null,{"$f":"IFERROR(VLOOKUP(D8314,Справка!$G$2:$H$579,2,0),\"\")","v":""}]
[null,null,null,null,{"$f":"IFERROR(VLOOKUP(D8315,Справка!$G$2:$H$579,2,0),\"\")","v":""}]
[null,null,null,null,{"$f":"IFERROR(VLOOKUP(D8316,Справка!$G$2:$H$579,2,0),\"\")","v":""}]
[null,null,null,null,{"$f":"IFERROR(VLOOKUP(D8317,Справка!$G$2:$H$579,2,0),\"\")","v":""}]
[null,null,null,null,{"$f":"IFERROR(VLOOKUP(D8318,Справка!$G$2:$H$579,2,0),\"\")","v":""}]
[null,null,null,null,{"$f":"IFERROR(VLOOKUP(D8319,Справка!$G$2:$H$579,2,0),\"\")","v":""}]
[null,null,null,null,{"$f":"IFERROR(VLOOKUP(D8320,Справка!$G$2:$H$579,2,0),\"\")","v":""}]
[null,null,null,null,{"$f":"IFERROR(VLOOKUP(D8321,Справка!$G$2:$H$579,2,0),\"\")","v":""}]
[null,null,null,null,{"$f":"IFERROR(VLOOKUP(D8322,Справка!$G$2:$H$579,2,0),\"\")","v":""}]
[null,null,null,null,{"$f":"IFERROR(VLOOKUP(D8323,Справка!$G$2:$H$579,2,0),\"\")","v":""}]
[null,null,null,null,{"$f":"IFERROR(VLOOKUP(D8324,Справка!$G$2:$H$579,2,0),\"\")","v":""}]
[null,null,null,null,{"$f":"IFERROR(VLOOKUP(D8325,Справка!$G$2:$H$579,2,0),\"\")","v":""}]
[null,null,null,null,{"$f":"IFERROR(VLOOKUP(D8326,Справка!$G$2:$H$579,2,0),\"\")","v":""}]
[null,null,null,null,{"$f":"IFERROR(VLOOKUP(D8327,Справка!$G$2:$H$579,2,0),\"\")","v":""}]
[null,null,null,null,{"$f":"IFERROR(VLOOKUP(D8328,Справка!$G$2:$H$579,2,0),\"\")","v":""}]
[null,null,null,null,{"$f":"IFERROR(VLOOKUP(D8329,Справка!$G$2:$H$579,2,0),\"\")","v":""}]
[null,null,null,null,{"$f":"IFERROR(VLOOKUP(D8330,Справка!$G$2:$H$579,2,0),\"\")","v":""}]
[null,null,null,null,{"$f":"IFERROR(VLOOKUP(D8331,Справка!$G$2:$H$579,2,0),\"\")","v":""}]
[null,null,null,null,{"$f":"IFERROR(VLOOKUP(D8332,Справка!$G$2:$H$579,2,0),\"\")","v":""}]
[null,null,null,null,{"$f":"IFERROR(VLOOKUP(D8333,Справка!$G$2:$H$579,2,0),\"\")","v":""}]
[null,null,null,null,{"$f":"IFERROR(VLOOKUP(D8334,Справка!$G$2:$H$579,2,0),\"\")","v":""}]
[null,null,null,null,{"$f":"IFERROR(VLOOKUP(D8335,Справка!$G$2:$H$579,2,0),\"\")","v":""}]
[null,null,null,null,{"$f":"IFERROR(VLOOKUP(D8336,Справка!$G$2:$H$579,2,0),\"\")","v":""}]
[null,null,null,null,{"$f":"IFERROR(VLOOKUP(D8337,Справка!$G$2:$H$579,2,0),\"\")","v":""}]
[null,null,null,null,{"$f":"IFERROR(VLOOKUP(D8338,Справка!$G$2:$H$579,2,0),\"\")","v":""}]
[null,null,null,null,{"$f":"IFERROR(VLOOKUP(D8339,Справка!$G$2:$H$579,2,0),\"\")","v":""}]
[null,null,null,null,{"$f":"IFERROR(VLOOKUP(D8340,Справка!$G$2:$H$579,2,0),\"\")","v":""}]
[null,null,null,null,{"$f":"IFERROR(VLOOKUP(D8341,Справка!$G$2:$H$579,2,0),\"\")","v":""}]
[null,null,null,null,{"$f":"IFERROR(VLOOKUP(D8342,Справка!$G$2:$H$579,2,0),\"\")","v":""}]
[null,null,null,null,{"$f":"IFERROR(VLOOKUP(D8343,Справка!$G$2:$H$579,2,0),\"\")","v":""}]
[null,null,null,null,{"$f":"IFERROR(VLOOKUP(D8344,Справка!$G$2:$H$579,2,0),\"\")","v":""}]
[null,null,null,null,{"$f":"IFERROR(VLOOKUP(D8345,Справка!$G$2:$H$579,2,0),\"\")","v":""}]
[null,null,null,null,{"$f":"IFERROR(VLOOKUP(D8346,Справка!$G$2:$H$579,2,0),\"\")","v":""}]
[null,null,null,null,{"$f":"IFERROR(VLOOKUP(D8347,Справка!$G$2:$H$579,2,0),\"\")","v":""}]
[null,null,null,null,{"$f":"IFERROR(VLOOKUP(D8348,Справка!$G$2:$H$579,2,0),\"\")","v":""}]
[null,null,null,null,{"$f":"IFERROR(VLOOKUP(D8349,Справка!$G$2:$H$579,2,0),\"\")","v":""}]
[null,null,null,null,{"$f":"IFERROR(VLOOKUP(D8350,Справка!$G$2:$H$579,2,0),\"\")","v":""}]
[null,null,null,null,{"$f":"IFERROR(VLOOKUP(D8351,Справка!$G$2:$H$579,2,0),\"\")","v":""}]
[null,null,null,null,{"$f":"IFERROR(VLOOKUP(D8352,Справка!$G$2:$H$579,2,0),\"\")","v":""}]
[null,null,null,null,{"$f":"IFERROR(VLOOKUP(D8353,Справка!$G$2:$H$579,2,0),\"\")","v":""}]
[null,null,null,null,{"$f":"IFERROR(VLOOKUP(D8354,Справка!$G$2:$H$579,2,0),\"\")","v":""}]
[null,null,null,null,{"$f":"IFERROR(VLOOKUP(D8355,Справка!$G$2:$H$579,2,0),\"\")","v":""}]
[null,null,null,null,{"$f":"IFERROR(VLOOKUP(D8356,Справка!$G$2:$H$579,2,0),\"\")","v":""}]
[null,null,null,null,{"$f":"IFERROR(VLOOKUP(D8357,Справка!$G$2:$H$579,2,0),\"\")","v":""}]
[null,null,null,null,{"$f":"IFERROR(VLOOKUP(D8358,Справка!$G$2:$H$579,2,0),\"\")","v":""}]
[null,null,null,null,{"$f":"IFERROR(VLOOKUP(D8359,Справка!$G$2:$H$579,2,0),\"\")","v":""}]
[null,null,null,null,{"$f":"IFERROR(VLOOKUP(D8360,Справка!$G$2:$H$579,2,0),\"\")","v":""}]
[null,null,null,null,{"$f":"IFERROR(VLOOKUP(D8361,Справка!$G$2:$H$579,2,0),\"\")","v":""}]
[null,null,null,null,{"$f":"IFERROR(VLOOKUP(D8362,Справка!$G$2:$H$579,2,0),\"\")","v":""}]
[null,null,null,null,{"$f":"IFERROR(VLOOKUP(D8363,Справка!$G$2:$H$579,2,0),\"\")","v":""}]
[null,null,null,null,{"$f":"IFERROR(VLOOKUP(D8364,Справка!$G$2:$H$579,2,0),\"\")","v":""}]
[null,null,null,null,{"$f":"IFERROR(VLOOKUP(D8365,Справка!$G$2:$H$579,2,0),\"\")","v":""}]
[null,null,null,null,{"$f":"IFERROR(VLOOKUP(D8366,Справка!$G$2:$H$579,2,0),\"\")","v":""}]
[null,null,null,null,{"$f":"IFERROR(VLOOKUP(D8367,Справка!$G$2:$H$579,2,0),\"\")","v":""}]
[null,null,null,null,{"$f":"IFERROR(VLOOKUP(D8368,Справка!$G$2:$H$579,2,0),\"\")","v":""}]
[null,null,null,null,{"$f":"IFERROR(VLOOKUP(D8369,Справка!$G$2:$H$579,2,0),\"\")","v":""}]
[null,null,null,null,{"$f":"IFERROR(VLOOKUP(D8370,Справка!$G$2:$H$579,2,0),\"\")","v":""}]
[null,null,null,null,{"$f":"IFERROR(VLOOKUP(D8371,Справка!$G$2:$H$579,2,0),\"\")","v":""}]
[null,null,null,null,{"$f":"IFERROR(VLOOKUP(D8372,Справка!$G$2:$H$579,2,0),\"\")","v":""}]
[null,null,null,null,{"$f":"IFERROR(VLOOKUP(D8373,Справка!$G$2:$H$579,2,0),\"\")","v":""}]
[null,null,null,null,{"$f":"IFERROR(VLOOKUP(D8374,Справка!$G$2:$H$579,2,0),\"\")","v":""}]
[null,null,null,null,{"$f":"IFERROR(VLOOKUP(D8375,Справка!$G$2:$H$579,2,0),\"\")","v":""}]
[null,null,null,null,{"$f":"IFERROR(VLOOKUP(D8376,Справка!$G$2:$H$579,2,0),\"\")","v":""}]
[null,null,null,null,{"$f":"IFERROR(VLOOKUP(D8377,Справка!$G$2:$H$579,2,0),\"\")","v":""}]
[null,null,null,null,{"$f":"IFERROR(VLOOKUP(D8378,Справка!$G$2:$H$579,2,0),\"\")","v":""}]
[null,null,null,null,{"$f":"IFERROR(VLOOKUP(D8379,Справка!$G$2:$H$579,2,0),\"\")","v":""}]
[null,null,null,null,{"$f":"IFERROR(VLOOKUP(D8380,Справка!$G$2:$H$579,2,0),\"\")","v":""}]
[null,null,null,null,{"$f":"IFERROR(VLOOKUP(D8381,Справка!$G$2:$H$579,2,0),\"\")","v":""}]
[null,null,null,null,{"$f":"IFERROR(VLOOKUP(D8382,Справка!$G$2:$H$579,2,0),\"\")","v":""}]
[null,null,null,null,{"$f":"IFERROR(VLOOKUP(D8383,Справка!$G$2:$H$579,2,0),\"\")","v":""}]
[null,null,null,null,{"$f":"IFERROR(VLOOKUP(D8384,Справка!$G$2:$H$579,2,0),\"\")","v":""}]
[null,null,null,null,{"$f":"IFERROR(VLOOKUP(D8385,Справка!$G$2:$H$579,2,0),\"\")","v":""}]
[null,null,null,null,{"$f":"IFERROR(VLOOKUP(D8386,Справка!$G$2:$H$579,2,0),\"\")","v":""}]
[null,null,null,null,{"$f":"IFERROR(VLOOKUP(D8387,Справка!$G$2:$H$579,2,0),\"\")","v":""}]
[null,null,null,null,{"$f":"IFERROR(VLOOKUP(D8388,Справка!$G$2:$H$579,2,0),\"\")","v":""}]
[null,null,null,null,{"$f":"IFERROR(VLOOKUP(D8389,Справка!$G$2:$H$579,2,0),\"\")","v":""}]
[null,null,null,null,{"$f":"IFERROR(VLOOKUP(D8390,Справка!$G$2:$H$579,2,0),\"\")","v":""}]
[null,null,null,null,{"$f":"IFERROR(VLOOKUP(D8391,Справка!$G$2:$H$579,2,0),\"\")","v":""}]
[null,null,null,null,{"$f":"IFERROR(VLOOKUP(D8392,Справка!$G$2:$H$579,2,0),\"\")","v":""}]
[null,null,null,null,{"$f":"IFERROR(VLOOKUP(D8393,Справка!$G$2:$H$579,2,0),\"\")","v":""}]
[null,null,null,null,{"$f":"IFERROR(VLOOKUP(D8394,Справка!$G$2:$H$579,2,0),\"\")","v":""}]
[null,null,null,null,{"$f":"IFERROR(VLOOKUP(D8395,Справка!$G$2:$H$579,2,0),\"\")","v":""}]
[null,null,null,null,{"$f":"IFERROR(VLOOKUP(D8396,Справка!$G$2:$H$579,2,0),\"\")","v":""}]
[null,null,null,null,{"$f":"IFERROR(VLOOKUP(D8397,Справка!$G$2:$H$579,2,0),\"\")","v":""}]
[null,null,null,null,{"$f":"IFERROR(VLOOKUP(D8398,Справка!$G$2:$H$579,2,0),\"\")","v":""}]
[null,null,null,null,{"$f":"IFERROR(VLOOKUP(D8399,Справка!$G$2:$H$579,2,0),\"\")","v":""}]
[null,null,null,null,{"$f":"IFERROR(VLOOKUP(D8400,Справка!$G$2:$H$579,2,0),\"\")","v":""}]
[null,null,null,null,{"$f":"IFERROR(VLOOKUP(D8401,Справка!$G$2:$H$579,2,0),\"\")","v":""}]
[null,null,null,null,{"$f":"IFERROR(VLOOKUP(D8402,Справка!$G$2:$H$579,2,0),\"\")","v":""}]
[null,null,null,null,{"$f":"IFERROR(VLOOKUP(D8403,Справка!$G$2:$H$579,2,0),\"\")","v":""}]
[null,null,null,null,{"$f":"IFERROR(VLOOKUP(D8404,Справка!$G$2:$H$579,2,0),\"\")","v":""}]
[null,null,null,null,{"$f":"IFERROR(VLOOKUP(D8405,Справка!$G$2:$H$579,2,0),\"\")","v":""}]
[null,null,null,null,{"$f":"IFERROR(VLOOKUP(D8406,Справка!$G$2:$H$579,2,0),\"\")","v":""}]
[null,null,null,null,{"$f":"IFERROR(VLOOKUP(D8407,Справка!$G$2:$H$579,2,0),\"\")","v":""}]
[null,null,null,null,{"$f":"IFERROR(VLOOKUP(D8408,Справка!$G$2:$H$579,2,0),\"\")","v":""}]
[null,null,null,null,{"$f":"IFERROR(VLOOKUP(D8409,Справка!$G$2:$H$579,2,0),\"\")","v":""}]
[null,null,null,null,{"$f":"IFERROR(VLOOKUP(D8410,Справка!$G$2:$H$579,2,0),\"\")","v":""}]
[null,null,null,null,{"$f":"IFERROR(VLOOKUP(D8411,Справка!$G$2:$H$579,2,0),\"\")","v":""}]
[null,null,null,null,{"$f":"IFERROR(VLOOKUP(D8412,Справка!$G$2:$H$579,2,0),\"\")","v":""}]
[null,null,null,null,{"$f":"IFERROR(VLOOKUP(D8413,Справка!$G$2:$H$579,2,0),\"\")","v":""}]
[null,null,null,null,{"$f":"IFERROR(VLOOKUP(D8414,Справка!$G$2:$H$579,2,0),\"\")","v":""}]
[null,null,null,null,{"$f":"IFERROR(VLOOKUP(D8415,Справка!$G$2:$H$579,2,0),\"\")","v":""}]
[null,null,null,null,{"$f":"IFERROR(VLOOKUP(D8416,Справка!$G$2:$H$579,2,0),\"\")","v":""}]
[null,null,null,null,{"$f":"IFERROR(VLOOKUP(D8417,Справка!$G$2:$H$579,2,0),\"\")","v":""}]
[null,null,null,null,{"$f":"IFERROR(VLOOKUP(D8418,Справка!$G$2:$H$579,2,0),\"\")","v":""}]
[null,null,null,null,{"$f":"IFERROR(VLOOKUP(D8419,Справка!$G$2:$H$579,2,0),\"\")","v":""}]
[null,null,null,null,{"$f":"IFERROR(VLOOKUP(D8420,Справка!$G$2:$H$579,2,0),\"\")","v":""}]
[null,null,null,null,{"$f":"IFERROR(VLOOKUP(D8421,Справка!$G$2:$H$579,2,0),\"\")","v":""}]
[null,null,null,null,{"$f":"IFERROR(VLOOKUP(D8422,Справка!$G$2:$H$579,2,0),\"\")","v":""}]
[null,null,null,null,{"$f":"IFERROR(VLOOKUP(D8423,Справка!$G$2:$H$579,2,0),\"\")","v":""}]
[null,null,null,null,{"$f":"IFERROR(VLOOKUP(D8424,Справка!$G$2:$H$579,2,0),\"\")","v":""}]
[null,null,null,null,{"$f":"IFERROR(VLOOKUP(D8425,Справка!$G$2:$H$579,2,0),\"\")","v":""}]
[null,null,null,null,{"$f":"IFERROR(VLOOKUP(D8426,Справка!$G$2:$H$579,2,0),\"\")","v":""}]
[null,null,null,null,{"$f":"IFERROR(VLOOKUP(D8427,Справка!$G$2:$H$579,2,0),\"\")","v":""}]
[null,null,null,null,{"$f":"IFERROR(VLOOKUP(D8428,Справка!$G$2:$H$579,2,0),\"\")","v":""}]
[null,null,null,null,{"$f":"IFERROR(VLOOKUP(D8429,Справка!$G$2:$H$579,2,0),\"\")","v":""}]
[null,null,null,null,{"$f":"IFERROR(VLOOKUP(D8430,Справка!$G$2:$H$579,2,0),\"\")","v":""}]
[null,null,null,null,{"$f":"IFERROR(VLOOKUP(D8431,Справка!$G$2:$H$579,2,0),\"\")","v":""}]
[null,null,null,null,{"$f":"IFERROR(VLOOKUP(D8432,Справка!$G$2:$H$579,2,0),\"\")","v":""}]
[null,null,null,null,{"$f":"IFERROR(VLOOKUP(D8433,Справка!$G$2:$H$579,2,0),\"\")","v":""}]
[null,null,null,null,{"$f":"IFERROR(VLOOKUP(D8434,Справка!$G$2:$H$579,2,0),\"\")","v":""}]
[null,null,null,null,{"$f":"IFERROR(VLOOKUP(D8435,Справка!$G$2:$H$579,2,0),\"\")","v":""}]
[null,null,null,null,{"$f":"IFERROR(VLOOKUP(D8436,Справка!$G$2:$H$579,2,0),\"\")","v":""}]
[null,null,null,null,{"$f":"IFERROR(VLOOKUP(D8437,Справка!$G$2:$H$579,2,0),\"\")","v":""}]
[null,null,null,null,{"$f":"IFERROR(VLOOKUP(D8438,Справка!$G$2:$H$579,2,0),\"\")","v":""}]
[null,null,null,null,{"$f":"IFERROR(VLOOKUP(D8439,Справка!$G$2:$H$579,2,0),\"\")","v":""}]
[null,null,null,null,{"$f":"IFERROR(VLOOKUP(D8440,Справка!$G$2:$H$579,2,0),\"\")","v":""}]
[null,null,null,null,{"$f":"IFERROR(VLOOKUP(D8441,Справка!$G$2:$H$579,2,0),\"\")","v":""}]
[null,null,null,null,{"$f":"IFERROR(VLOOKUP(D8442,Справка!$G$2:$H$579,2,0),\"\")","v":""}]
[null,null,null,null,{"$f":"IFERROR(VLOOKUP(D8443,Справка!$G$2:$H$579,2,0),\"\")","v":""}]
[null,null,null,null,{"$f":"IFERROR(VLOOKUP(D8444,Справка!$G$2:$H$579,2,0),\"\")","v":""}]
[null,null,null,null,{"$f":"IFERROR(VLOOKUP(D8445,Справка!$G$2:$H$579,2,0),\"\")","v":""}]
[null,null,null,null,{"$f":"IFERROR(VLOOKUP(D8446,Справка!$G$2:$H$579,2,0),\"\")","v":""}]
[null,null,null,null,{"$f":"IFERROR(VLOOKUP(D8447,Справка!$G$2:$H$579,2,0),\"\")","v":""}]
[null,null,null,null,{"$f":"IFERROR(VLOOKUP(D8448,Справка!$G$2:$H$579,2,0),\"\")","v":""}]
[null,null,null,null,{"$f":"IFERROR(VLOOKUP(D8449,Справка!$G$2:$H$579,2,0),\"\")","v":""}]
[null,null,null,null,{"$f":"IFERROR(VLOOKUP(D8450,Справка!$G$2:$H$579,2,0),\"\")","v":""}]
[null,null,null,null,{"$f":"IFERROR(VLOOKUP(D8451,Справка!$G$2:$H$579,2,0),\"\")","v":""}]
[null,null,null,null,{"$f":"IFERROR(VLOOKUP(D8452,Справка!$G$2:$H$579,2,0),\"\")","v":""}]
[null,null,null,null,{"$f":"IFERROR(VLOOKUP(D8453,Справка!$G$2:$H$579,2,0),\"\")","v":""}]
[null,null,null,null,{"$f":"IFERROR(VLOOKUP(D8454,Справка!$G$2:$H$579,2,0),\"\")","v":""}]
[null,null,null,null,{"$f":"IFERROR(VLOOKUP(D8455,Справка!$G$2:$H$579,2,0),\"\")","v":""}]
[null,null,null,null,{"$f":"IFERROR(VLOOKUP(D8456,Справка!$G$2:$H$579,2,0),\"\")","v":""}]
[null,null,null,null,{"$f":"IFERROR(VLOOKUP(D8457,Справка!$G$2:$H$579,2,0),\"\")","v":""}]
[null,null,null,null,{"$f":"IFERROR(VLOOKUP(D8458,Справка!$G$2:$H$579,2,0),\"\")","v":""}]
[null,null,null,null,{"$f":"IFERROR(VLOOKUP(D8459,Справка!$G$2:$H$579,2,0),\"\")","v":""}]
[null,null,null,null,{"$f":"IFERROR(VLOOKUP(D8460,Справка!$G$2:$H$579,2,0),\"\")","v":""}]
[null,null,null,null,{"$f":"IFERROR(VLOOKUP(D8461,Справка!$G$2:$H$579,2,0),\"\")","v":""}]
[null,null,null,null,{"$f":"IFERROR(VLOOKUP(D8462,Справка!$G$2:$H$579,2,0),\"\")","v":""}]
[null,null,null,null,{"$f":"IFERROR(VLOOKUP(D8463,Справка!$G$2:$H$579,2,0),\"\")","v":""}]
[null,null,null,null,{"$f":"IFERROR(VLOOKUP(D8464,Справка!$G$2:$H$579,2,0),\"\")","v":""}]
[null,null,null,null,{"$f":"IFERROR(VLOOKUP(D8465,Справка!$G$2:$H$579,2,0),\"\")","v":""}]
[null,null,null,null,{"$f":"IFERROR(VLOOKUP(D8466,Справка!$G$2:$H$579,2,0),\"\")","v":""}]
[null,null,null,null,{"$f":"IFERROR(VLOOKUP(D8467,Справка!$G$2:$H$579,2,0),\"\")","v":""}]
[null,null,null,null,{"$f":"IFERROR(VLOOKUP(D8468,Справка!$G$2:$H$579,2,0),\"\")","v":""}]
[null,null,null,null,{"$f":"IFERROR(VLOOKUP(D8469,Справка!$G$2:$H$579,2,0),\"\")","v":""}]
[null,null,null,null,{"$f":"IFERROR(VLOOKUP(D8470,Справка!$G$2:$H$579,2,0),\"\")","v":""}]
[null,null,null,null,{"$f":"IFERROR(VLOOKUP(D8471,Справка!$G$2:$H$579,2,0),\"\")","v":""}]
[null,null,null,null,{"$f":"IFERROR(VLOOKUP(D8472,Справка!$G$2:$H$579,2,0),\"\")","v":""}]
[null,null,null,null,{"$f":"IFERROR(VLOOKUP(D8473,Справка!$G$2:$H$579,2,0),\"\")","v":""}]
[null,null,null,null,{"$f":"IFERROR(VLOOKUP(D8474,Справка!$G$2:$H$579,2,0),\"\")","v":""}]
[null,null,null,null,{"$f":"IFERROR(VLOOKUP(D8475,Справка!$G$2:$H$579,2,0),\"\")","v":""}]
[null,null,null,null,{"$f":"IFERROR(VLOOKUP(D8476,Справка!$G$2:$H$579,2,0),\"\")","v":""}]
[null,null,null,null,{"$f":"IFERROR(VLOOKUP(D8477,Справка!$G$2:$H$579,2,0),\"\")","v":""}]
[null,null,null,null,{"$f":"IFERROR(VLOOKUP(D8478,Справка!$G$2:$H$579,2,0),\"\")","v":""}]
[null,null,null,null,{"$f":"IFERROR(VLOOKUP(D8479,Справка!$G$2:$H$579,2,0),\"\")","v":""}]
[null,null,null,null,{"$f":"IFERROR(VLOOKUP(D8480,Справка!$G$2:$H$579,2,0),\"\")","v":""}]
[null,null,null,null,{"$f":"IFERROR(VLOOKUP(D8481,Справка!$G$2:$H$579,2,0),\"\")","v":""}]
[null,null,null,null,{"$f":"IFERROR(VLOOKUP(D8482,Справка!$G$2:$H$579,2,0),\"\")","v":""}]
[null,null,null,null,{"$f":"IFERROR(VLOOKUP(D8483,Справка!$G$2:$H$579,2,0),\"\")","v":""}]
[null,null,null,null,{"$f":"IFERROR(VLOOKUP(D8484,Справка!$G$2:$H$579,2,0),\"\")","v":""}]
[null,null,null,null,{"$f":"IFERROR(VLOOKUP(D8485,Справка!$G$2:$H$579,2,0),\"\")","v":""}]
[null,null,null,null,{"$f":"IFERROR(VLOOKUP(D8486,Справка!$G$2:$H$579,2,0),\"\")","v":""}]
[null,null,null,null,{"$f":"IFERROR(VLOOKUP(D8487,Справка!$G$2:$H$579,2,0),\"\")","v":""}]
[null,null,null,null,{"$f":"IFERROR(VLOOKUP(D8488,Справка!$G$2:$H$579,2,0),\"\")","v":""}]
[null,null,null,null,{"$f":"IFERROR(VLOOKUP(D8489,Справка!$G$2:$H$579,2,0),\"\")","v":""}]
[null,null,null,null,{"$f":"IFERROR(VLOOKUP(D8490,Справка!$G$2:$H$579,2,0),\"\")","v":""}]
[null,null,null,null,{"$f":"IFERROR(VLOOKUP(D8491,Справка!$G$2:$H$579,2,0),\"\")","v":""}]
[null,null,null,null,{"$f":"IFERROR(VLOOKUP(D8492,Справка!$G$2:$H$579,2,0),\"\")","v":""}]
[null,null,null,null,{"$f":"IFERROR(VLOOKUP(D8493,Справка!$G$2:$H$579,2,0),\"\")","v":""}]
[null,null,null,null,{"$f":"IFERROR(VLOOKUP(D8494,Справка!$G$2:$H$579,2,0),\"\")","v":""}]
[null,null,null,null,{"$f":"IFERROR(VLOOKUP(D8495,Справка!$G$2:$H$579,2,0),\"\")","v":""}]
[null,null,null,null,{"$f":"IFERROR(VLOOKUP(D8496,Справка!$G$2:$H$579,2,0),\"\")","v":""}]
[null,null,null,null,{"$f":"IFERROR(VLOOKUP(D8497,Справка!$G$2:$H$579,2,0),\"\")","v":""}]
[null,null,null,null,{"$f":"IFERROR(VLOOKUP(D8498,Справка!$G$2:$H$579,2,0),\"\")","v":""}]
[null,null,null,null,{"$f":"IFERROR(VLOOKUP(D8499,Справка!$G$2:$H$579,2,0),\"\")","v":""}]
[null,null,null,null,{"$f":"IFERROR(VLOOKUP(D8500,Справка!$G$2:$H$579,2,0),\"\")","v":""}]
[null,null,null,null,{"$f":"IFERROR(VLOOKUP(D8501,Справка!$G$2:$H$579,2,0),\"\")","v":""}]
[null,null,null,null,{"$f":"IFERROR(VLOOKUP(D8502,Справка!$G$2:$H$579,2,0),\"\")","v":""}]
[null,null,null,null,{"$f":"IFERROR(VLOOKUP(D8503,Справка!$G$2:$H$579,2,0),\"\")","v":""}]
[null,null,null,null,{"$f":"IFERROR(VLOOKUP(D8504,Справка!$G$2:$H$579,2,0),\"\")","v":""}]
[null,null,null,null,{"$f":"IFERROR(VLOOKUP(D8505,Справка!$G$2:$H$579,2,0),\"\")","v":""}]
[null,null,null,null,{"$f":"IFERROR(VLOOKUP(D8506,Справка!$G$2:$H$579,2,0),\"\")","v":""}]
[null,null,null,null,{"$f":"IFERROR(VLOOKUP(D8507,Справка!$G$2:$H$579,2,0),\"\")","v":""}]
[null,null,null,null,{"$f":"IFERROR(VLOOKUP(D8508,Справка!$G$2:$H$579,2,0),\"\")","v":""}]
[null,null,null,null,{"$f":"IFERROR(VLOOKUP(D8509,Справка!$G$2:$H$579,2,0),\"\")","v":""}]
[null,null,null,null,{"$f":"IFERROR(VLOOKUP(D8510,Справка!$G$2:$H$579,2,0),\"\")","v":""}]
[null,null,null,null,{"$f":"IFERROR(VLOOKUP(D8511,Справка!$G$2:$H$579,2,0),\"\")","v":""}]
[null,null,null,null,{"$f":"IFERROR(VLOOKUP(D8512,Справка!$G$2:$H$579,2,0),\"\")","v":""}]
[null,null,null,null,{"$f":"IFERROR(VLOOKUP(D8513,Справка!$G$2:$H$579,2,0),\"\")","v":""}]
[null,null,null,null,{"$f":"IFERROR(VLOOKUP(D8514,Справка!$G$2:$H$579,2,0),\"\")","v":""}]
[null,null,null,null,{"$f":"IFERROR(VLOOKUP(D8515,Справка!$G$2:$H$579,2,0),\"\")","v":""}]
[null,null,null,null,{"$f":"IFERROR(VLOOKUP(D8516,Справка!$G$2:$H$579,2,0),\"\")","v":""}]
[null,null,null,null,{"$f":"IFERROR(VLOOKUP(D8517,Справка!$G$2:$H$579,2,0),\"\")","v":""}]
[null,null,null,null,{"$f":"IFERROR(VLOOKUP(D8518,Справка!$G$2:$H$579,2,0),\"\")","v":""}]
[null,null,null,null,{"$f":"IFERROR(VLOOKUP(D8519,Справка!$G$2:$H$579,2,0),\"\")","v":""}]
[null,null,null,null,{"$f":"IFERROR(VLOOKUP(D8520,Справка!$G$2:$H$579,2,0),\"\")","v":""}]
[null,null,null,null,{"$f":"IFERROR(VLOOKUP(D8521,Справка!$G$2:$H$579,2,0),\"\")","v":""}]
[null,null,null,null,{"$f":"IFERROR(VLOOKUP(D8522,Справка!$G$2:$H$579,2,0),\"\")","v":""}]
[null,null,null,null,{"$f":"IFERROR(VLOOKUP(D8523,Справка!$G$2:$H$579,2,0),\"\")","v":""}]
[null,null,null,null,{"$f":"IFERROR(VLOOKUP(D8524,Справка!$G$2:$H$579,2,0),\"\")","v":""}]
[null,null,null,null,{"$f":"IFERROR(VLOOKUP(D8525,Справка!$G$2:$H$579,2,0),\"\")","v":""}]
[null,null,null,null,{"$f":"IFERROR(VLOOKUP(D8526,Справка!$G$2:$H$579,2,0),\"\")","v":""}]
[null,null,null,null,{"$f":"IFERROR(VLOOKUP(D8527,Справка!$G$2:$H$579,2,0),\"\")","v":""}]
[null,null,null,null,{"$f":"IFERROR(VLOOKUP(D8528,Справка!$G$2:$H$579,2,0),\"\")","v":""}]
[null,null,null,null,{"$f":"IFERROR(VLOOKUP(D8529,Справка!$G$2:$H$579,2,0),\"\")","v":""}]
[null,null,null,null,{"$f":"IFERROR(VLOOKUP(D8530,Справка!$G$2:$H$579,2,0),\"\")","v":""}]
[null,null,null,null,{"$f":"IFERROR(VLOOKUP(D8531,Справка!$G$2:$H$579,2,0),\"\")","v":""}]
[null,null,null,null,{"$f":"IFERROR(VLOOKUP(D8532,Справка!$G$2:$H$579,2,0),\"\")","v":""}]
[null,null,null,null,{"$f":"IFERROR(VLOOKUP(D8533,Справка!$G$2:$H$579,2,0),\"\")","v":""}]
[null,null,null,null,{"$f":"IFERROR(VLOOKUP(D8534,Справка!$G$2:$H$579,2,0),\"\")","v":""}]
[null,null,null,null,{"$f":"IFERROR(VLOOKUP(D8535,Справка!$G$2:$H$579,2,0),\"\")","v":""}]
[null,null,null,null,{"$f":"IFERROR(VLOOKUP(D8536,Справка!$G$2:$H$579,2,0),\"\")","v":""}]
[null,null,null,null,{"$f":"IFERROR(VLOOKUP(D8537,Справка!$G$2:$H$579,2,0),\"\")","v":""}]
[null,null,null,null,{"$f":"IFERROR(VLOOKUP(D8538,Справка!$G$2:$H$579,2,0),\"\")","v":""}]
[null,null,null,null,{"$f":"IFERROR(VLOOKUP(D8539,Справка!$G$2:$H$579,2,0),\"\")","v":""}]
[null,null,null,null,{"$f":"IFERROR(VLOOKUP(D8540,Справка!$G$2:$H$579,2,0),\"\")","v":""}]
[null,null,null,null,{"$f":"IFERROR(VLOOKUP(D8541,Справка!$G$2:$H$579,2,0),\"\")","v":""}]
[null,null,null,null,{"$f":"IFERROR(VLOOKUP(D8542,Справка!$G$2:$H$579,2,0),\"\")","v":""}]
[null,null,null,null,{"$f":"IFERROR(VLOOKUP(D8543,Справка!$G$2:$H$579,2,0),\"\")","v":""}]
[null,null,null,null,{"$f":"IFERROR(VLOOKUP(D8544,Справка!$G$2:$H$579,2,0),\"\")","v":""}]
[null,null,null,null,{"$f":"IFERROR(VLOOKUP(D8545,Справка!$G$2:$H$579,2,0),\"\")","v":""}]
[null,null,null,null,{"$f":"IFERROR(VLOOKUP(D8546,Справка!$G$2:$H$579,2,0),\"\")","v":""}]
[null,null,null,null,{"$f":"IFERROR(VLOOKUP(D8547,Справка!$G$2:$H$579,2,0),\"\")","v":""}]
[null,null,null,null,{"$f":"IFERROR(VLOOKUP(D8548,Справка!$G$2:$H$579,2,0),\"\")","v":""}]
[null,null,null,null,{"$f":"IFERROR(VLOOKUP(D8549,Справка!$G$2:$H$579,2,0),\"\")","v":""}]
[null,null,null,null,{"$f":"IFERROR(VLOOKUP(D8550,Справка!$G$2:$H$579,2,0),\"\")","v":""}]
[null,null,null,null,{"$f":"IFERROR(VLOOKUP(D8551,Справка!$G$2:$H$579,2,0),\"\")","v":""}]
[null,null,null,null,{"$f":"IFERROR(VLOOKUP(D8552,Справка!$G$2:$H$579,2,0),\"\")","v":""}]
[null,null,null,null,{"$f":"IFERROR(VLOOKUP(D8553,Справка!$G$2:$H$579,2,0),\"\")","v":""}]
[null,null,null,null,{"$f":"IFERROR(VLOOKUP(D8554,Справка!$G$2:$H$579,2,0),\"\")","v":""}]
[null,null,null,null,{"$f":"IFERROR(VLOOKUP(D8555,Справка!$G$2:$H$579,2,0),\"\")","v":""}]
[null,null,null,null,{"$f":"IFERROR(VLOOKUP(D8556,Справка!$G$2:$H$579,2,0),\"\")","v":""}]
[null,null,null,null,{"$f":"IFERROR(VLOOKUP(D8557,Справка!$G$2:$H$579,2,0),\"\")","v":""}]
[null,null,null,null,{"$f":"IFERROR(VLOOKUP(D8558,Справка!$G$2:$H$579,2,0),\"\")","v":""}]
[null,null,null,null,{"$f":"IFERROR(VLOOKUP(D8559,Справка!$G$2:$H$579,2,0),\"\")","v":""}]
[null,null,null,null,{"$f":"IFERROR(VLOOKUP(D8560,Справка!$G$2:$H$579,2,0),\"\")","v":""}]
[null,null,null,null,{"$f":"IFERROR(VLOOKUP(D8561,Справка!$G$2:$H$579,2,0),\"\")","v":""}]
[null,null,null,null,{"$f":"IFERROR(VLOOKUP(D8562,Справка!$G$2:$H$579,2,0),\"\")","v":""}]
[null,null,null,null,{"$f":"IFERROR(VLOOKUP(D8563,Справка!$G$2:$H$579,2,0),\"\")","v":""}]
[null,null,null,null,{"$f":"IFERROR(VLOOKUP(D8564,Справка!$G$2:$H$579,2,0),\"\")","v":""}]
[null,null,null,null,{"$f":"IFERROR(VLOOKUP(D8565,Справка!$G$2:$H$579,2,0),\"\")","v":""}]
[null,null,null,null,{"$f":"IFERROR(VLOOKUP(D8566,Справка!$G$2:$H$579,2,0),\"\")","v":""}]
[null,null,null,null,{"$f":"IFERROR(VLOOKUP(D8567,Справка!$G$2:$H$579,2,0),\"\")","v":""}]
[null,null,null,null,{"$f":"IFERROR(VLOOKUP(D8568,Справка!$G$2:$H$579,2,0),\"\")","v":""}]
[null,null,null,null,{"$f":"IFERROR(VLOOKUP(D8569,Справка!$G$2:$H$579,2,0),\"\")","v":""}]
[null,null,null,null,{"$f":"IFERROR(VLOOKUP(D8570,Справка!$G$2:$H$579,2,0),\"\")","v":""}]
[null,null,null,null,{"$f":"IFERROR(VLOOKUP(D8571,Справка!$G$2:$H$579,2,0),\"\")","v":""}]
[null,null,null,null,{"$f":"IFERROR(VLOOKUP(D8572,Справка!$G$2:$H$579,2,0),\"\")","v":""}]
[null,null,null,null,{"$f":"IFERROR(VLOOKUP(D8573,Справка!$G$2:$H$579,2,0),\"\")","v":""}]
[null,null,null,null,{"$f":"IFERROR(VLOOKUP(D8574,Справка!$G$2:$H$579,2,0),\"\")","v":""}]
[null,null,null,null,{"$f":"IFERROR(VLOOKUP(D8575,Справка!$G$2:$H$579,2,0),\"\")","v":""}]
[null,null,null,null,{"$f":"IFERROR(VLOOKUP(D8576,Справка!$G$2:$H$579,2,0),\"\")","v":""}]
[null,null,null,null,{"$f":"IFERROR(VLOOKUP(D8577,Справка!$G$2:$H$579,2,0),\"\")","v":""}]
[null,null,null,null,{"$f":"IFERROR(VLOOKUP(D8578,Справка!$G$2:$H$579,2,0),\"\")","v":""}]
[null,null,null,null,{"$f":"IFERROR(VLOOKUP(D8579,Справка!$G$2:$H$579,2,0),\"\")","v":""}]
[null,null,null,null,{"$f":"IFERROR(VLOOKUP(D8580,Справка!$G$2:$H$579,2,0),\"\")","v":""}]
[null,null,null,null,{"$f":"IFERROR(VLOOKUP(D8581,Справка!$G$2:$H$579,2,0),\"\")","v":""}]
[null,null,null,null,{"$f":"IFERROR(VLOOKUP(D8582,Справка!$G$2:$H$579,2,0),\"\")","v":""}]
[null,null,null,null,{"$f":"IFERROR(VLOOKUP(D8583,Справка!$G$2:$H$579,2,0),\"\")","v":""}]
[null,null,null,null,{"$f":"IFERROR(VLOOKUP(D8584,Справка!$G$2:$H$579,2,0),\"\")","v":""}]
[null,null,null,null,{"$f":"IFERROR(VLOOKUP(D8585,Справка!$G$2:$H$579,2,0),\"\")","v":""}]
[null,null,null,null,{"$f":"IFERROR(VLOOKUP(D8586,Справка!$G$2:$H$579,2,0),\"\")","v":""}]
[null,null,null,null,{"$f":"IFERROR(VLOOKUP(D8587,Справка!$G$2:$H$579,2,0),\"\")","v":""}]
[null,null,null,null,{"$f":"IFERROR(VLOOKUP(D8588,Справка!$G$2:$H$579,2,0),\"\")","v":""}]
[null,null,null,null,{"$f":"IFERROR(VLOOKUP(D8589,Справка!$G$2:$H$579,2,0),\"\")","v":""}]
[null,null,null,null,{"$f":"IFERROR(VLOOKUP(D8590,Справка!$G$2:$H$579,2,0),\"\")","v":""}]
[null,null,null,null,{"$f":"IFERROR(VLOOKUP(D8591,Справка!$G$2:$H$579,2,0),\"\")","v":""}]
[null,null,null,null,{"$f":"IFERROR(VLOOKUP(D8592,Справка!$G$2:$H$579,2,0),\"\")","v":""}]
[null,null,null,null,{"$f":"IFERROR(VLOOKUP(D8593,Справка!$G$2:$H$579,2,0),\"\")","v":""}]
[null,null,null,null,{"$f":"IFERROR(VLOOKUP(D8594,Справка!$G$2:$H$579,2,0),\"\")","v":""}]
[null,null,null,null,{"$f":"IFERROR(VLOOKUP(D8595,Справка!$G$2:$H$579,2,0),\"\")","v":""}]
[null,null,null,null,{"$f":"IFERROR(VLOOKUP(D8596,Справка!$G$2:$H$579,2,0),\"\")","v":""}]
[null,null,null,null,{"$f":"IFERROR(VLOOKUP(D8597,Справка!$G$2:$H$579,2,0),\"\")","v":""}]
[null,null,null,null,{"$f":"IFERROR(VLOOKUP(D8598,Справка!$G$2:$H$579,2,0),\"\")","v":""}]
[null,null,null,null,{"$f":"IFERROR(VLOOKUP(D8599,Справка!$G$2:$H$579,2,0),\"\")","v":""}]
[null,null,null,null,{"$f":"IFERROR(VLOOKUP(D8600,Справка!$G$2:$H$579,2,0),\"\")","v":""}]
[null,null,null,null,{"$f":"IFERROR(VLOOKUP(D8601,Справка!$G$2:$H$579,2,0),\"\")","v":""}]
[null,null,null,null,{"$f":"IFERROR(VLOOKUP(D8602,Справка!$G$2:$H$579,2,0),\"\")","v":""}]
[null,null,null,null,{"$f":"IFERROR(VLOOKUP(D8603,Справка!$G$2:$H$579,2,0),\"\")","v":""}]
[null,null,null,null,{"$f":"IFERROR(VLOOKUP(D8604,Справка!$G$2:$H$579,2,0),\"\")","v":""}]
[null,null,null,null,{"$f":"IFERROR(VLOOKUP(D8605,Справка!$G$2:$H$579,2,0),\"\")","v":""}]
[null,null,null,null,{"$f":"IFERROR(VLOOKUP(D8606,Справка!$G$2:$H$579,2,0),\"\")","v":""}]
[null,null,null,null,{"$f":"IFERROR(VLOOKUP(D8607,Справка!$G$2:$H$579,2,0),\"\")","v":""}]
[null,null,null,null,{"$f":"IFERROR(VLOOKUP(D8608,Справка!$G$2:$H$579,2,0),\"\")","v":""}]
[null,null,null,null,{"$f":"IFERROR(VLOOKUP(D8609,Справка!$G$2:$H$579,2,0),\"\")","v":""}]
[null,null,null,null,{"$f":"IFERROR(VLOOKUP(D8610,Справка!$G$2:$H$579,2,0),\"\")","v":""}]
[null,null,null,null,{"$f":"IFERROR(VLOOKUP(D8611,Справка!$G$2:$H$579,2,0),\"\")","v":""}]
[null,null,null,null,{"$f":"IFERROR(VLOOKUP(D8612,Справка!$G$2:$H$579,2,0),\"\")","v":""}]
[null,null,null,null,{"$f":"IFERROR(VLOOKUP(D8613,Справка!$G$2:$H$579,2,0),\"\")","v":""}]
[null,null,null,null,{"$f":"IFERROR(VLOOKUP(D8614,Справка!$G$2:$H$579,2,0),\"\")","v":""}]
[null,null,null,null,{"$f":"IFERROR(VLOOKUP(D8615,Справка!$G$2:$H$579,2,0),\"\")","v":""}]
[null,null,null,null,{"$f":"IFERROR(VLOOKUP(D8616,Справка!$G$2:$H$579,2,0),\"\")","v":""}]
[null,null,null,null,{"$f":"IFERROR(VLOOKUP(D8617,Справка!$G$2:$H$579,2,0),\"\")","v":""}]
[null,null,null,null,{"$f":"IFERROR(VLOOKUP(D8618,Справка!$G$2:$H$579,2,0),\"\")","v":""}]
[null,null,null,null,{"$f":"IFERROR(VLOOKUP(D8619,Справка!$G$2:$H$579,2,0),\"\")","v":""}]
[null,null,null,null,{"$f":"IFERROR(VLOOKUP(D8620,Справка!$G$2:$H$579,2,0),\"\")","v":""}]
[null,null,null,null,{"$f":"IFERROR(VLOOKUP(D8621,Справка!$G$2:$H$579,2,0),\"\")","v":""}]
[null,null,null,null,{"$f":"IFERROR(VLOOKUP(D8622,Справка!$G$2:$H$579,2,0),\"\")","v":""}]
[null,null,null,null,{"$f":"IFERROR(VLOOKUP(D8623,Справка!$G$2:$H$579,2,0),\"\")","v":""}]
[null,null,null,null,{"$f":"IFERROR(VLOOKUP(D8624,Справка!$G$2:$H$579,2,0),\"\")","v":""}]
[null,null,null,null,{"$f":"IFERROR(VLOOKUP(D8625,Справка!$G$2:$H$579,2,0),\"\")","v":""}]
[null,null,null,null,{"$f":"IFERROR(VLOOKUP(D8626,Справка!$G$2:$H$579,2,0),\"\")","v":""}]
[null,null,null,null,{"$f":"IFERROR(VLOOKUP(D8627,Справка!$G$2:$H$579,2,0),\"\")","v":""}]
[null,null,null,null,{"$f":"IFERROR(VLOOKUP(D8628,Справка!$G$2:$H$579,2,0),\"\")","v":""}]
[null,null,null,null,{"$f":"IFERROR(VLOOKUP(D8629,Справка!$G$2:$H$579,2,0),\"\")","v":""}]
[null,null,null,null,{"$f":"IFERROR(VLOOKUP(D8630,Справка!$G$2:$H$579,2,0),\"\")","v":""}]
[null,null,null,null,{"$f":"IFERROR(VLOOKUP(D8631,Справка!$G$2:$H$579,2,0),\"\")","v":""}]
[null,null,null,null,{"$f":"IFERROR(VLOOKUP(D8632,Справка!$G$2:$H$579,2,0),\"\")","v":""}]
[null,null,null,null,{"$f":"IFERROR(VLOOKUP(D8633,Справка!$G$2:$H$579,2,0),\"\")","v":""}]
[null,null,null,null,{"$f":"IFERROR(VLOOKUP(D8634,Справка!$G$2:$H$579,2,0),\"\")","v":""}]
[null,null,null,null,{"$f":"IFERROR(VLOOKUP(D8635,Справка!$G$2:$H$579,2,0),\"\")","v":""}]
[null,null,null,null,{"$f":"IFERROR(VLOOKUP(D8636,Справка!$G$2:$H$579,2,0),\"\")","v":""}]
[null,null,null,null,{"$f":"IFERROR(VLOOKUP(D8637,Справка!$G$2:$H$579,2,0),\"\")","v":""}]
[null,null,null,null,{"$f":"IFERROR(VLOOKUP(D8638,Справка!$G$2:$H$579,2,0),\"\")","v":""}]
[null,null,null,null,{"$f":"IFERROR(VLOOKUP(D8639,Справка!$G$2:$H$579,2,0),\"\")","v":""}]
[null,null,null,null,{"$f":"IFERROR(VLOOKUP(D8640,Справка!$G$2:$H$579,2,0),\"\")","v":""}]
[null,null,null,null,{"$f":"IFERROR(VLOOKUP(D8641,Справка!$G$2:$H$579,2,0),\"\")","v":""}]
[null,null,null,null,{"$f":"IFERROR(VLOOKUP(D8642,Справка!$G$2:$H$579,2,0),\"\")","v":""}]
[null,null,null,null,{"$f":"IFERROR(VLOOKUP(D8643,Справка!$G$2:$H$579,2,0),\"\")","v":""}]
[null,null,null,null,{"$f":"IFERROR(VLOOKUP(D8644,Справка!$G$2:$H$579,2,0),\"\")","v":""}]
[null,null,null,null,{"$f":"IFERROR(VLOOKUP(D8645,Справка!$G$2:$H$579,2,0),\"\")","v":""}]
[null,null,null,null,{"$f":"IFERROR(VLOOKUP(D8646,Справка!$G$2:$H$579,2,0),\"\")","v":""}]
[null,null,null,null,{"$f":"IFERROR(VLOOKUP(D8647,Справка!$G$2:$H$579,2,0),\"\")","v":""}]
[null,null,null,null,{"$f":"IFERROR(VLOOKUP(D8648,Справка!$G$2:$H$579,2,0),\"\")","v":""}]
[null,null,null,null,{"$f":"IFERROR(VLOOKUP(D8649,Справка!$G$2:$H$579,2,0),\"\")","v":""}]
[null,null,null,null,{"$f":"IFERROR(VLOOKUP(D8650,Справка!$G$2:$H$579,2,0),\"\")","v":""}]
[null,null,null,null,{"$f":"IFERROR(VLOOKUP(D8651,Справка!$G$2:$H$579,2,0),\"\")","v":""}]
[null,null,null,null,{"$f":"IFERROR(VLOOKUP(D8652,Справка!$G$2:$H$579,2,0),\"\")","v":""}]
[null,null,null,null,{"$f":"IFERROR(VLOOKUP(D8653,Справка!$G$2:$H$579,2,0),\"\")","v":""}]
[null,null,null,null,{"$f":"IFERROR(VLOOKUP(D8654,Справка!$G$2:$H$579,2,0),\"\")","v":""}]
[null,null,null,null,{"$f":"IFERROR(VLOOKUP(D8655,Справка!$G$2:$H$579,2,0),\"\")","v":""}]
[null,null,null,null,{"$f":"IFERROR(VLOOKUP(D8656,Справка!$G$2:$H$579,2,0),\"\")","v":""}]
[null,null,null,null,{"$f":"IFERROR(VLOOKUP(D8657,Справка!$G$2:$H$579,2,0),\"\")","v":""}]
[null,null,null,null,{"$f":"IFERROR(VLOOKUP(D8658,Справка!$G$2:$H$579,2,0),\"\")","v":""}]
[null,null,null,null,{"$f":"IFERROR(VLOOKUP(D8659,Справка!$G$2:$H$579,2,0),\"\")","v":""}]
[null,null,null,null,{"$f":"IFERROR(VLOOKUP(D8660,Справка!$G$2:$H$579,2,0),\"\")","v":""}]
[null,null,null,null,{"$f":"IFERROR(VLOOKUP(D8661,Справка!$G$2:$H$579,2,0),\"\")","v":""}]
[null,null,null,null,{"$f":"IFERROR(VLOOKUP(D8662,Справка!$G$2:$H$579,2,0),\"\")","v":""}]
[null,null,null,null,{"$f":"IFERROR(VLOOKUP(D8663,Справка!$G$2:$H$579,2,0),\"\")","v":""}]
[null,null,null,null,{"$f":"IFERROR(VLOOKUP(D8664,Справка!$G$2:$H$579,2,0),\"\")","v":""}]
[null,null,null,null,{"$f":"IFERROR(VLOOKUP(D8665,Справка!$G$2:$H$579,2,0),\"\")","v":""}]
[null,null,null,null,{"$f":"IFERROR(VLOOKUP(D8666,Справка!$G$2:$H$579,2,0),\"\")","v":""}]
[null,null,null,null,{"$f":"IFERROR(VLOOKUP(D8667,Справка!$G$2:$H$579,2,0),\"\")","v":""}]
[null,null,null,null,{"$f":"IFERROR(VLOOKUP(D8668,Справка!$G$2:$H$579,2,0),\"\")","v":""}]
[null,null,null,null,{"$f":"IFERROR(VLOOKUP(D8669,Справка!$G$2:$H$579,2,0),\"\")","v":""}]
[null,null,null,null,{"$f":"IFERROR(VLOOKUP(D8670,Справка!$G$2:$H$579,2,0),\"\")","v":""}]
[null,null,null,null,{"$f":"IFERROR(VLOOKUP(D8671,Справка!$G$2:$H$579,2,0),\"\")","v":""}]
[null,null,null,null,{"$f":"IFERROR(VLOOKUP(D8672,Справка!$G$2:$H$579,2,0),\"\")","v":""}]
[null,null,null,null,{"$f":"IFERROR(VLOOKUP(D8673,Справка!$G$2:$H$579,2,0),\"\")","v":""}]
[null,null,null,null,{"$f":"IFERROR(VLOOKUP(D8674,Справка!$G$2:$H$579,2,0),\"\")","v":""}]
[null,null,null,null,{"$f":"IFERROR(VLOOKUP(D8675,Справка!$G$2:$H$579,2,0),\"\")","v":""}]
[null,null,null,null,{"$f":"IFERROR(VLOOKUP(D8676,Справка!$G$2:$H$579,2,0),\"\")","v":""}]
[null,null,null,null,{"$f":"IFERROR(VLOOKUP(D8677,Справка!$G$2:$H$579,2,0),\"\")","v":""}]
[null,null,null,null,{"$f":"IFERROR(VLOOKUP(D8678,Справка!$G$2:$H$579,2,0),\"\")","v":""}]
[null,null,null,null,{"$f":"IFERROR(VLOOKUP(D8679,Справка!$G$2:$H$579,2,0),\"\")","v":""}]
[null,null,null,null,{"$f":"IFERROR(VLOOKUP(D8680,Справка!$G$2:$H$579,2,0),\"\")","v":""}]
[null,null,null,null,{"$f":"IFERROR(VLOOKUP(D8681,Справка!$G$2:$H$579,2,0),\"\")","v":""}]
[null,null,null,null,{"$f":"IFERROR(VLOOKUP(D8682,Справка!$G$2:$H$579,2,0),\"\")","v":""}]
[null,null,null,null,{"$f":"IFERROR(VLOOKUP(D8683,Справка!$G$2:$H$579,2,0),\"\")","v":""}]
[null,null,null,null,{"$f":"IFERROR(VLOOKUP(D8684,Справка!$G$2:$H$579,2,0),\"\")","v":""}]
[null,null,null,null,{"$f":"IFERROR(VLOOKUP(D8685,Справка!$G$2:$H$579,2,0),\"\")","v":""}]
[null,null,null,null,{"$f":"IFERROR(VLOOKUP(D8686,Справка!$G$2:$H$579,2,0),\"\")","v":""}]
[null,null,null,null,{"$f":"IFERROR(VLOOKUP(D8687,Справка!$G$2:$H$579,2,0),\"\")","v":""}]
[null,null,null,null,{"$f":"IFERROR(VLOOKUP(D8688,Справка!$G$2:$H$579,2,0),\"\")","v":""}]
[null,null,null,null,{"$f":"IFERROR(VLOOKUP(D8689,Справка!$G$2:$H$579,2,0),\"\")","v":""}]
[null,null,null,null,{"$f":"IFERROR(VLOOKUP(D8690,Справка!$G$2:$H$579,2,0),\"\")","v":""}]
[null,null,null,null,{"$f":"IFERROR(VLOOKUP(D8691,Справка!$G$2:$H$579,2,0),\"\")","v":""}]
[null,null,null,null,{"$f":"IFERROR(VLOOKUP(D8692,Справка!$G$2:$H$579,2,0),\"\")","v":""}]
[null,null,null,null,{"$f":"IFERROR(VLOOKUP(D8693,Справка!$G$2:$H$579,2,0),\"\")","v":""}]
[null,null,null,null,{"$f":"IFERROR(VLOOKUP(D8694,Справка!$G$2:$H$579,2,0),\"\")","v":""}]
[null,null,null,null,{"$f":"IFERROR(VLOOKUP(D8695,Справка!$G$2:$H$579,2,0),\"\")","v":""}]
[null,null,null,null,{"$f":"IFERROR(VLOOKUP(D8696,Справка!$G$2:$H$579,2,0),\"\")","v":""}]
[null,null,null,null,{"$f":"IFERROR(VLOOKUP(D8697,Справка!$G$2:$H$579,2,0),\"\")","v":""}]
[null,null,null,null,{"$f":"IFERROR(VLOOKUP(D8698,Справка!$G$2:$H$579,2,0),\"\")","v":""}]
[null,null,null,null,{"$f":"IFERROR(VLOOKUP(D8699,Справка!$G$2:$H$579,2,0),\"\")","v":""}]
[null,null,null,null,{"$f":"IFERROR(VLOOKUP(D8700,Справка!$G$2:$H$579,2,0),\"\")","v":""}]
[null,null,null,null,{"$f":"IFERROR(VLOOKUP(D8701,Справка!$G$2:$H$579,2,0),\"\")","v":""}]
[null,null,null,null,{"$f":"IFERROR(VLOOKUP(D8702,Справка!$G$2:$H$579,2,0),\"\")","v":""}]
[null,null,null,null,{"$f":"IFERROR(VLOOKUP(D8703,Справка!$G$2:$H$579,2,0),\"\")","v":""}]
[null,null,null,null,{"$f":"IFERROR(VLOOKUP(D8704,Справка!$G$2:$H$579,2,0),\"\")","v":""}]
[null,null,null,null,{"$f":"IFERROR(VLOOKUP(D8705,Справка!$G$2:$H$579,2,0),\"\")","v":""}]
[null,null,null,null,{"$f":"IFERROR(VLOOKUP(D8706,Справка!$G$2:$H$579,2,0),\"\")","v":""}]
[null,null,null,null,{"$f":"IFERROR(VLOOKUP(D8707,Справка!$G$2:$H$579,2,0),\"\")","v":""}]
[null,null,null,null,{"$f":"IFERROR(VLOOKUP(D8708,Справка!$G$2:$H$579,2,0),\"\")","v":""}]
[null,null,null,null,{"$f":"IFERROR(VLOOKUP(D8709,Справка!$G$2:$H$579,2,0),\"\")","v":""}]
[null,null,null,null,{"$f":"IFERROR(VLOOKUP(D8710,Справка!$G$2:$H$579,2,0),\"\")","v":""}]
[null,null,null,null,{"$f":"IFERROR(VLOOKUP(D8711,Справка!$G$2:$H$579,2,0),\"\")","v":""}]
[null,null,null,null,{"$f":"IFERROR(VLOOKUP(D8712,Справка!$G$2:$H$579,2,0),\"\")","v":""}]
[null,null,null,null,{"$f":"IFERROR(VLOOKUP(D8713,Справка!$G$2:$H$579,2,0),\"\")","v":""}]
[null,null,null,null,{"$f":"IFERROR(VLOOKUP(D8714,Справка!$G$2:$H$579,2,0),\"\")","v":""}]
[null,null,null,null,{"$f":"IFERROR(VLOOKUP(D8715,Справка!$G$2:$H$579,2,0),\"\")","v":""}]
[null,null,null,null,{"$f":"IFERROR(VLOOKUP(D8716,Справка!$G$2:$H$579,2,0),\"\")","v":""}]
[null,null,null,null,{"$f":"IFERROR(VLOOKUP(D8717,Справка!$G$2:$H$579,2,0),\"\")","v":""}]
[null,null,null,null,{"$f":"IFERROR(VLOOKUP(D8718,Справка!$G$2:$H$579,2,0),\"\")","v":""}]
[null,null,null,null,{"$f":"IFERROR(VLOOKUP(D8719,Справка!$G$2:$H$579,2,0),\"\")","v":""}]
[null,null,null,null,{"$f":"IFERROR(VLOOKUP(D8720,Справка!$G$2:$H$579,2,0),\"\")","v":""}]
[null,null,null,null,{"$f":"IFERROR(VLOOKUP(D8721,Справка!$G$2:$H$579,2,0),\"\")","v":""}]
[null,null,null,null,{"$f":"IFERROR(VLOOKUP(D8722,Справка!$G$2:$H$579,2,0),\"\")","v":""}]
[null,null,null,null,{"$f":"IFERROR(VLOOKUP(D8723,Справка!$G$2:$H$579,2,0),\"\")","v":""}]
[null,null,null,null,{"$f":"IFERROR(VLOOKUP(D8724,Справка!$G$2:$H$579,2,0),\"\")","v":""}]
[null,null,null,null,{"$f":"IFERROR(VLOOKUP(D8725,Справка!$G$2:$H$579,2,0),\"\")","v":""}]
[null,null,null,null,{"$f":"IFERROR(VLOOKUP(D8726,Справка!$G$2:$H$579,2,0),\"\")","v":""}]
[null,null,null,null,{"$f":"IFERROR(VLOOKUP(D8727,Справка!$G$2:$H$579,2,0),\"\")","v":""}]
[null,null,null,null,{"$f":"IFERROR(VLOOKUP(D8728,Справка!$G$2:$H$579,2,0),\"\")","v":""}]
[null,null,null,null,{"$f":"IFERROR(VLOOKUP(D8729,Справка!$G$2:$H$579,2,0),\"\")","v":""}]
[null,null,null,null,{"$f":"IFERROR(VLOOKUP(D8730,Справка!$G$2:$H$579,2,0),\"\")","v":""}]
[null,null,null,null,{"$f":"IFERROR(VLOOKUP(D8731,Справка!$G$2:$H$579,2,0),\"\")","v":""}]
[null,null,null,null,{"$f":"IFERROR(VLOOKUP(D8732,Справка!$G$2:$H$579,2,0),\"\")","v":""}]
[null,null,null,null,{"$f":"IFERROR(VLOOKUP(D8733,Справка!$G$2:$H$579,2,0),\"\")","v":""}]
[null,null,null,null,{"$f":"IFERROR(VLOOKUP(D8734,Справка!$G$2:$H$579,2,0),\"\")","v":""}]
[null,null,null,null,{"$f":"IFERROR(VLOOKUP(D8735,Справка!$G$2:$H$579,2,0),\"\")","v":""}]
[null,null,null,null,{"$f":"IFERROR(VLOOKUP(D8736,Справка!$G$2:$H$579,2,0),\"\")","v":""}]
[null,null,null,null,{"$f":"IFERROR(VLOOKUP(D8737,Справка!$G$2:$H$579,2,0),\"\")","v":""}]
[null,null,null,null,{"$f":"IFERROR(VLOOKUP(D8738,Справка!$G$2:$H$579,2,0),\"\")","v":""}]
[null,null,null,null,{"$f":"IFERROR(VLOOKUP(D8739,Справка!$G$2:$H$579,2,0),\"\")","v":""}]
[null,null,null,null,{"$f":"IFERROR(VLOOKUP(D8740,Справка!$G$2:$H$579,2,0),\"\")","v":""}]
[null,null,null,null,{"$f":"IFERROR(VLOOKUP(D8741,Справка!$G$2:$H$579,2,0),\"\")","v":""}]
[null,null,null,null,{"$f":"IFERROR(VLOOKUP(D8742,Справка!$G$2:$H$579,2,0),\"\")","v":""}]
[null,null,null,null,{"$f":"IFERROR(VLOOKUP(D8743,Справка!$G$2:$H$579,2,0),\"\")","v":""}]
[null,null,null,null,{"$f":"IFERROR(VLOOKUP(D8744,Справка!$G$2:$H$579,2,0),\"\")","v":""}]
[null,null,null,null,{"$f":"IFERROR(VLOOKUP(D8745,Справка!$G$2:$H$579,2,0),\"\")","v":""}]
[null,null,null,null,{"$f":"IFERROR(VLOOKUP(D8746,Справка!$G$2:$H$579,2,0),\"\")","v":""}]
[null,null,null,null,{"$f":"IFERROR(VLOOKUP(D8747,Справка!$G$2:$H$579,2,0),\"\")","v":""}]
[null,null,null,null,{"$f":"IFERROR(VLOOKUP(D8748,Справка!$G$2:$H$579,2,0),\"\")","v":""}]
[null,null,null,null,{"$f":"IFERROR(VLOOKUP(D8749,Справка!$G$2:$H$579,2,0),\"\")","v":""}]
[null,null,null,null,{"$f":"IFERROR(VLOOKUP(D8750,Справка!$G$2:$H$579,2,0),\"\")","v":""}]
[null,null,null,null,{"$f":"IFERROR(VLOOKUP(D8751,Справка!$G$2:$H$579,2,0),\"\")","v":""}]
[null,null,null,null,{"$f":"IFERROR(VLOOKUP(D8752,Справка!$G$2:$H$579,2,0),\"\")","v":""}]
[null,null,null,null,{"$f":"IFERROR(VLOOKUP(D8753,Справка!$G$2:$H$579,2,0),\"\")","v":""}]
[null,null,null,null,{"$f":"IFERROR(VLOOKUP(D8754,Справка!$G$2:$H$579,2,0),\"\")","v":""}]
[null,null,null,null,{"$f":"IFERROR(VLOOKUP(D8755,Справка!$G$2:$H$579,2,0),\"\")","v":""}]
[null,null,null,null,{"$f":"IFERROR(VLOOKUP(D8756,Справка!$G$2:$H$579,2,0),\"\")","v":""}]
[null,null,null,null,{"$f":"IFERROR(VLOOKUP(D8757,Справка!$G$2:$H$579,2,0),\"\")","v":""}]
[null,null,null,null,{"$f":"IFERROR(VLOOKUP(D8758,Справка!$G$2:$H$579,2,0),\"\")","v":""}]
[null,null,null,null,{"$f":"IFERROR(VLOOKUP(D8759,Справка!$G$2:$H$579,2,0),\"\")","v":""}]
[null,null,null,null,{"$f":"IFERROR(VLOOKUP(D8760,Справка!$G$2:$H$579,2,0),\"\")","v":""}]
[null,null,null,null,{"$f":"IFERROR(VLOOKUP(D8761,Справка!$G$2:$H$579,2,0),\"\")","v":""}]
[null,null,null,null,{"$f":"IFERROR(VLOOKUP(D8762,Справка!$G$2:$H$579,2,0),\"\")","v":""}]
[null,null,null,null,{"$f":"IFERROR(VLOOKUP(D8763,Справка!$G$2:$H$579,2,0),\"\")","v":""}]
[null,null,null,null,{"$f":"IFERROR(VLOOKUP(D8764,Справка!$G$2:$H$579,2,0),\"\")","v":""}]
[null,null,null,null,{"$f":"IFERROR(VLOOKUP(D8765,Справка!$G$2:$H$579,2,0),\"\")","v":""}]
[null,null,null,null,{"$f":"IFERROR(VLOOKUP(D8766,Справка!$G$2:$H$579,2,0),\"\")","v":""}]
[null,null,null,null,{"$f":"IFERROR(VLOOKUP(D8767,Справка!$G$2:$H$579,2,0),\"\")","v":""}]
[null,null,null,null,{"$f":"IFERROR(VLOOKUP(D8768,Справка!$G$2:$H$579,2,0),\"\")","v":""}]
[null,null,null,null,{"$f":"IFERROR(VLOOKUP(D8769,Справка!$G$2:$H$579,2,0),\"\")","v":""}]
[null,null,null,null,{"$f":"IFERROR(VLOOKUP(D8770,Справка!$G$2:$H$579,2,0),\"\")","v":""}]
[null,null,null,null,{"$f":"IFERROR(VLOOKUP(D8771,Справка!$G$2:$H$579,2,0),\"\")","v":""}]
[null,null,null,null,{"$f":"IFERROR(VLOOKUP(D8772,Справка!$G$2:$H$579,2,0),\"\")","v":""}]
[null,null,null,null,{"$f":"IFERROR(VLOOKUP(D8773,Справка!$G$2:$H$579,2,0),\"\")","v":""}]
[null,null,null,null,{"$f":"IFERROR(VLOOKUP(D8774,Справка!$G$2:$H$579,2,0),\"\")","v":""}]
[null,null,null,null,{"$f":"IFERROR(VLOOKUP(D8775,Справка!$G$2:$H$579,2,0),\"\")","v":""}]
[null,null,null,null,{"$f":"IFERROR(VLOOKUP(D8776,Справка!$G$2:$H$579,2,0),\"\")","v":""}]
[null,null,null,null,{"$f":"IFERROR(VLOOKUP(D8777,Справка!$G$2:$H$579,2,0),\"\")","v":""}]
[null,null,null,null,{"$f":"IFERROR(VLOOKUP(D8778,Справка!$G$2:$H$579,2,0),\"\")","v":""}]
[null,null,null,null,{"$f":"IFERROR(VLOOKUP(D8779,Справка!$G$2:$H$579,2,0),\"\")","v":""}]
[null,null,null,null,{"$f":"IFERROR(VLOOKUP(D8780,Справка!$G$2:$H$579,2,0),\"\")","v":""}]
[null,null,null,null,{"$f":"IFERROR(VLOOKUP(D8781,Справка!$G$2:$H$579,2,0),\"\")","v":""}]
[null,null,null,null,{"$f":"IFERROR(VLOOKUP(D8782,Справка!$G$2:$H$579,2,0),\"\")","v":""}]
[null,null,null,null,{"$f":"IFERROR(VLOOKUP(D8783,Справка!$G$2:$H$579,2,0),\"\")","v":""}]
[null,null,null,null,{"$f":"IFERROR(VLOOKUP(D8784,Справка!$G$2:$H$579,2,0),\"\")","v":""}]
[null,null,null,null,{"$f":"IFERROR(VLOOKUP(D8785,Справка!$G$2:$H$579,2,0),\"\")","v":""}]
[null,null,null,null,{"$f":"IFERROR(VLOOKUP(D8786,Справка!$G$2:$H$579,2,0),\"\")","v":""}]
[null,null,null,null,{"$f":"IFERROR(VLOOKUP(D8787,Справка!$G$2:$H$579,2,0),\"\")","v":""}]
[null,null,null,null,{"$f":"IFERROR(VLOOKUP(D8788,Справка!$G$2:$H$579,2,0),\"\")","v":""}]
[null,null,null,null,{"$f":"IFERROR(VLOOKUP(D8789,Справка!$G$2:$H$579,2,0),\"\")","v":""}]
[null,null,null,null,{"$f":"IFERROR(VLOOKUP(D8790,Справка!$G$2:$H$579,2,0),\"\")","v":""}]
[null,null,null,null,{"$f":"IFERROR(VLOOKUP(D8791,Справка!$G$2:$H$579,2,0),\"\")","v":""}]
[null,null,null,null,{"$f":"IFERROR(VLOOKUP(D8792,Справка!$G$2:$H$579,2,0),\"\")","v":""}]
[null,null,null,null,{"$f":"IFERROR(VLOOKUP(D8793,Справка!$G$2:$H$579,2,0),\"\")","v":""}]
[null,null,null,null,{"$f":"IFERROR(VLOOKUP(D8794,Справка!$G$2:$H$579,2,0),\"\")","v":""}]
[null,null,null,null,{"$f":"IFERROR(VLOOKUP(D8795,Справка!$G$2:$H$579,2,0),\"\")","v":""}]
[null,null,null,null,{"$f":"IFERROR(VLOOKUP(D8796,Справка!$G$2:$H$579,2,0),\"\")","v":""}]
[null,null,null,null,{"$f":"IFERROR(VLOOKUP(D8797,Справка!$G$2:$H$579,2,0),\"\")","v":""}]
[null,null,null,null,{"$f":"IFERROR(VLOOKUP(D8798,Справка!$G$2:$H$579,2,0),\"\")","v":""}]
[null,null,null,null,{"$f":"IFERROR(VLOOKUP(D8799,Справка!$G$2:$H$579,2,0),\"\")","v":""}]
[null,null,null,null,{"$f":"IFERROR(VLOOKUP(D8800,Справка!$G$2:$H$579,2,0),\"\")","v":""}]
[null,null,null,null,{"$f":"IFERROR(VLOOKUP(D8801,Справка!$G$2:$H$579,2,0),\"\")","v":""}]
[null,null,null,null,{"$f":"IFERROR(VLOOKUP(D8802,Справка!$G$2:$H$579,2,0),\"\")","v":""}]
[null,null,null,null,{"$f":"IFERROR(VLOOKUP(D8803,Справка!$G$2:$H$579,2,0),\"\")","v":""}]
[null,null,null,null,{"$f":"IFERROR(VLOOKUP(D8804,Справка!$G$2:$H$579,2,0),\"\")","v":""}]
[null,null,null,null,{"$f":"IFERROR(VLOOKUP(D8805,Справка!$G$2:$H$579,2,0),\"\")","v":""}]
[null,null,null,null,{"$f":"IFERROR(VLOOKUP(D8806,Справка!$G$2:$H$579,2,0),\"\")","v":""}]
[null,null,null,null,{"$f":"IFERROR(VLOOKUP(D8807,Справка!$G$2:$H$579,2,0),\"\")","v":""}]
[null,null,null,null,{"$f":"IFERROR(VLOOKUP(D8808,Справка!$G$2:$H$579,2,0),\"\")","v":""}]
[null,null,null,null,{"$f":"IFERROR(VLOOKUP(D8809,Справка!$G$2:$H$579,2,0),\"\")","v":""}]
[null,null,null,null,{"$f":"IFERROR(VLOOKUP(D8810,Справка!$G$2:$H$579,2,0),\"\")","v":""}]
[null,null,null,null,{"$f":"IFERROR(VLOOKUP(D8811,Справка!$G$2:$H$579,2,0),\"\")","v":""}]
[null,null,null,null,{"$f":"IFERROR(VLOOKUP(D8812,Справка!$G$2:$H$579,2,0),\"\")","v":""}]
[null,null,null,null,{"$f":"IFERROR(VLOOKUP(D8813,Справка!$G$2:$H$579,2,0),\"\")","v":""}]
[null,null,null,null,{"$f":"IFERROR(VLOOKUP(D8814,Справка!$G$2:$H$579,2,0),\"\")","v":""}]
[null,null,null,null,{"$f":"IFERROR(VLOOKUP(D8815,Справка!$G$2:$H$579,2,0),\"\")","v":""}]
[null,null,null,null,{"$f":"IFERROR(VLOOKUP(D8816,Справка!$G$2:$H$579,2,0),\"\")","v":""}]
[null,null,null,null,{"$f":"IFERROR(VLOOKUP(D8817,Справка!$G$2:$H$579,2,0),\"\")","v":""}]
[null,null,null,null,{"$f":"IFERROR(VLOOKUP(D8818,Справка!$G$2:$H$579,2,0),\"\")","v":""}]
[null,null,null,null,{"$f":"IFERROR(VLOOKUP(D8819,Справка!$G$2:$H$579,2,0),\"\")","v":""}]
[null,null,null,null,{"$f":"IFERROR(VLOOKUP(D8820,Справка!$G$2:$H$579,2,0),\"\")","v":""}]
[null,null,null,null,{"$f":"IFERROR(VLOOKUP(D8821,Справка!$G$2:$H$579,2,0),\"\")","v":""}]
[null,null,null,null,{"$f":"IFERROR(VLOOKUP(D8822,Справка!$G$2:$H$579,2,0),\"\")","v":""}]
[null,null,null,null,{"$f":"IFERROR(VLOOKUP(D8823,Справка!$G$2:$H$579,2,0),\"\")","v":""}]
[null,null,null,null,{"$f":"IFERROR(VLOOKUP(D8824,Справка!$G$2:$H$579,2,0),\"\")","v":""}]
[null,null,null,null,{"$f":"IFERROR(VLOOKUP(D8825,Справка!$G$2:$H$579,2,0),\"\")","v":""}]
[null,null,null,null,{"$f":"IFERROR(VLOOKUP(D8826,Справка!$G$2:$H$579,2,0),\"\")","v":""}]
[null,null,null,null,{"$f":"IFERROR(VLOOKUP(D8827,Справка!$G$2:$H$579,2,0),\"\")","v":""}]
[null,null,null,null,{"$f":"IFERROR(VLOOKUP(D8828,Справка!$G$2:$H$579,2,0),\"\")","v":""}]
[null,null,null,null,{"$f":"IFERROR(VLOOKUP(D8829,Справка!$G$2:$H$579,2,0),\"\")","v":""}]
[null,null,null,null,{"$f":"IFERROR(VLOOKUP(D8830,Справка!$G$2:$H$579,2,0),\"\")","v":""}]
[null,null,null,null,{"$f":"IFERROR(VLOOKUP(D8831,Справка!$G$2:$H$579,2,0),\"\")","v":""}]
[null,null,null,null,{"$f":"IFERROR(VLOOKUP(D8832,Справка!$G$2:$H$579,2,0),\"\")","v":""}]
[null,null,null,null,{"$f":"IFERROR(VLOOKUP(D8833,Справка!$G$2:$H$579,2,0),\"\")","v":""}]
[null,null,null,null,{"$f":"IFERROR(VLOOKUP(D8834,Справка!$G$2:$H$579,2,0),\"\")","v":""}]
[null,null,null,null,{"$f":"IFERROR(VLOOKUP(D8835,Справка!$G$2:$H$579,2,0),\"\")","v":""}]
[null,null,null,null,{"$f":"IFERROR(VLOOKUP(D8836,Справка!$G$2:$H$579,2,0),\"\")","v":""}]
[null,null,null,null,{"$f":"IFERROR(VLOOKUP(D8837,Справка!$G$2:$H$579,2,0),\"\")","v":""}]
[null,null,null,null,{"$f":"IFERROR(VLOOKUP(D8838,Справка!$G$2:$H$579,2,0),\"\")","v":""}]
[null,null,null,null,{"$f":"IFERROR(VLOOKUP(D8839,Справка!$G$2:$H$579,2,0),\"\")","v":""}]
[null,null,null,null,{"$f":"IFERROR(VLOOKUP(D8840,Справка!$G$2:$H$579,2,0),\"\")","v":""}]
[null,null,null,null,{"$f":"IFERROR(VLOOKUP(D8841,Справка!$G$2:$H$579,2,0),\"\")","v":""}]
[null,null,null,null,{"$f":"IFERROR(VLOOKUP(D8842,Справка!$G$2:$H$579,2,0),\"\")","v":""}]
[null,null,null,null,{"$f":"IFERROR(VLOOKUP(D8843,Справка!$G$2:$H$579,2,0),\"\")","v":""}]
[null,null,null,null,{"$f":"IFERROR(VLOOKUP(D8844,Справка!$G$2:$H$579,2,0),\"\")","v":""}]
[null,null,null,null,{"$f":"IFERROR(VLOOKUP(D8845,Справка!$G$2:$H$579,2,0),\"\")","v":""}]
[null,null,null,null,{"$f":"IFERROR(VLOOKUP(D8846,Справка!$G$2:$H$579,2,0),\"\")","v":""}]
[null,null,null,null,{"$f":"IFERROR(VLOOKUP(D8847,Справка!$G$2:$H$579,2,0),\"\")","v":""}]
[null,null,null,null,{"$f":"IFERROR(VLOOKUP(D8848,Справка!$G$2:$H$579,2,0),\"\")","v":""}]
[null,null,null,null,{"$f":"IFERROR(VLOOKUP(D8849,Справка!$G$2:$H$579,2,0),\"\")","v":""}]
[null,null,null,null,{"$f":"IFERROR(VLOOKUP(D8850,Справка!$G$2:$H$579,2,0),\"\")","v":""}]
[null,null,null,null,{"$f":"IFERROR(VLOOKUP(D8851,Справка!$G$2:$H$579,2,0),\"\")","v":""}]
[null,null,null,null,{"$f":"IFERROR(VLOOKUP(D8852,Справка!$G$2:$H$579,2,0),\"\")","v":""}]
[null,null,null,null,{"$f":"IFERROR(VLOOKUP(D8853,Справка!$G$2:$H$579,2,0),\"\")","v":""}]
[null,null,null,null,{"$f":"IFERROR(VLOOKUP(D8854,Справка!$G$2:$H$579,2,0),\"\")","v":""}]
[null,null,null,null,{"$f":"IFERROR(VLOOKUP(D8855,Справка!$G$2:$H$579,2,0),\"\")","v":""}]
[null,null,null,null,{"$f":"IFERROR(VLOOKUP(D8856,Справка!$G$2:$H$579,2,0),\"\")","v":""}]
[null,null,null,null,{"$f":"IFERROR(VLOOKUP(D8857,Справка!$G$2:$H$579,2,0),\"\")","v":""}]
[null,null,null,null,{"$f":"IFERROR(VLOOKUP(D8858,Справка!$G$2:$H$579,2,0),\"\")","v":""}]
[null,null,null,null,{"$f":"IFERROR(VLOOKUP(D8859,Справка!$G$2:$H$579,2,0),\"\")","v":""}]
[null,null,null,null,{"$f":"IFERROR(VLOOKUP(D8860,Справка!$G$2:$H$579,2,0),\"\")","v":""}]
[null,null,null,null,{"$f":"IFERROR(VLOOKUP(D8861,Справка!$G$2:$H$579,2,0),\"\")","v":""}]
[null,null,null,null,{"$f":"IFERROR(VLOOKUP(D8862,Справка!$G$2:$H$579,2,0),\"\")","v":""}]
[null,null,null,null,{"$f":"IFERROR(VLOOKUP(D8863,Справка!$G$2:$H$579,2,0),\"\")","v":""}]
[null,null,null,null,{"$f":"IFERROR(VLOOKUP(D8864,Справка!$G$2:$H$579,2,0),\"\")","v":""}]
[null,null,null,null,{"$f":"IFERROR(VLOOKUP(D8865,Справка!$G$2:$H$579,2,0),\"\")","v":""}]
[null,null,null,null,{"$f":"IFERROR(VLOOKUP(D8866,Справка!$G$2:$H$579,2,0),\"\")","v":""}]
[null,null,null,null,{"$f":"IFERROR(VLOOKUP(D8867,Справка!$G$2:$H$579,2,0),\"\")","v":""}]
[null,null,null,null,{"$f":"IFERROR(VLOOKUP(D8868,Справка!$G$2:$H$579,2,0),\"\")","v":""}]
[null,null,null,null,{"$f":"IFERROR(VLOOKUP(D8869,Справка!$G$2:$H$579,2,0),\"\")","v":""}]
[null,null,null,null,{"$f":"IFERROR(VLOOKUP(D8870,Справка!$G$2:$H$579,2,0),\"\")","v":""}]
[null,null,null,null,{"$f":"IFERROR(VLOOKUP(D8871,Справка!$G$2:$H$579,2,0),\"\")","v":""}]
[null,null,null,null,{"$f":"IFERROR(VLOOKUP(D8872,Справка!$G$2:$H$579,2,0),\"\")","v":""}]
[null,null,null,null,{"$f":"IFERROR(VLOOKUP(D8873,Справка!$G$2:$H$579,2,0),\"\")","v":""}]
[null,null,null,null,{"$f":"IFERROR(VLOOKUP(D8874,Справка!$G$2:$H$579,2,0),\"\")","v":""}]
[null,null,null,null,{"$f":"IFERROR(VLOOKUP(D8875,Справка!$G$2:$H$579,2,0),\"\")","v":""}]
[null,null,null,null,{"$f":"IFERROR(VLOOKUP(D8876,Справка!$G$2:$H$579,2,0),\"\")","v":""}]
[null,null,null,null,{"$f":"IFERROR(VLOOKUP(D8877,Справка!$G$2:$H$579,2,0),\"\")","v":""}]
[null,null,null,null,{"$f":"IFERROR(VLOOKUP(D8878,Справка!$G$2:$H$579,2,0),\"\")","v":""}]
[null,null,null,null,{"$f":"IFERROR(VLOOKUP(D8879,Справка!$G$2:$H$579,2,0),\"\")","v":""}]
[null,null,null,null,{"$f":"IFERROR(VLOOKUP(D8880,Справка!$G$2:$H$579,2,0),\"\")","v":""}]
[null,null,null,null,{"$f":"IFERROR(VLOOKUP(D8881,Справка!$G$2:$H$579,2,0),\"\")","v":""}]
[null,null,null,null,{"$f":"IFERROR(VLOOKUP(D8882,Справка!$G$2:$H$579,2,0),\"\")","v":""}]
[null,null,null,null,{"$f":"IFERROR(VLOOKUP(D8883,Справка!$G$2:$H$579,2,0),\"\")","v":""}]
[null,null,null,null,{"$f":"IFERROR(VLOOKUP(D8884,Справка!$G$2:$H$579,2,0),\"\")","v":""}]
[null,null,null,null,{"$f":"IFERROR(VLOOKUP(D8885,Справка!$G$2:$H$579,2,0),\"\")","v":""}]
[null,null,null,null,{"$f":"IFERROR(VLOOKUP(D8886,Справка!$G$2:$H$579,2,0),\"\")","v":""}]
[null,null,null,null,{"$f":"IFERROR(VLOOKUP(D8887,Справка!$G$2:$H$579,2,0),\"\")","v":""}]
[null,null,null,null,{"$f":"IFERROR(VLOOKUP(D8888,Справка!$G$2:$H$579,2,0),\"\")","v":""}]
[null,null,null,null,{"$f":"IFERROR(VLOOKUP(D8889,Справка!$G$2:$H$579,2,0),\"\")","v":""}]
[null,null,null,null,{"$f":"IFERROR(VLOOKUP(D8890,Справка!$G$2:$H$579,2,0),\"\")","v":""}]
[null,null,null,null,{"$f":"IFERROR(VLOOKUP(D8891,Справка!$G$2:$H$579,2,0),\"\")","v":""}]
[null,null,null,null,{"$f":"IFERROR(VLOOKUP(D8892,Справка!$G$2:$H$579,2,0),\"\")","v":""}]
[null,null,null,null,{"$f":"IFERROR(VLOOKUP(D8893,Справка!$G$2:$H$579,2,0),\"\")","v":""}]
[null,null,null,null,{"$f":"IFERROR(VLOOKUP(D8894,Справка!$G$2:$H$579,2,0),\"\")","v":""}]
[null,null,null,null,{"$f":"IFERROR(VLOOKUP(D8895,Справка!$G$2:$H$579,2,0),\"\")","v":""}]
[null,null,null,null,{"$f":"IFERROR(VLOOKUP(D8896,Справка!$G$2:$H$579,2,0),\"\")","v":""}]
[null,null,null,null,{"$f":"IFERROR(VLOOKUP(D8897,Справка!$G$2:$H$579,2,0),\"\")","v":""}]
[null,null,null,null,{"$f":"IFERROR(VLOOKUP(D8898,Справка!$G$2:$H$579,2,0),\"\")","v":""}]
[null,null,null,null,{"$f":"IFERROR(VLOOKUP(D8899,Справка!$G$2:$H$579,2,0),\"\")","v":""}]
[null,null,null,null,{"$f":"IFERROR(VLOOKUP(D8900,Справка!$G$2:$H$579,2,0),\"\")","v":""}]
[null,null,null,null,{"$f":"IFERROR(VLOOKUP(D8901,Справка!$G$2:$H$579,2,0),\"\")","v":""}]
[null,null,null,null,{"$f":"IFERROR(VLOOKUP(D8902,Справка!$G$2:$H$579,2,0),\"\")","v":""}]
[null,null,null,null,{"$f":"IFERROR(VLOOKUP(D8903,Справка!$G$2:$H$579,2,0),\"\")","v":""}]
[null,null,null,null,{"$f":"IFERROR(VLOOKUP(D8904,Справка!$G$2:$H$579,2,0),\"\")","v":""}]
[null,null,null,null,{"$f":"IFERROR(VLOOKUP(D8905,Справка!$G$2:$H$579,2,0),\"\")","v":""}]
[null,null,null,null,{"$f":"IFERROR(VLOOKUP(D8906,Справка!$G$2:$H$579,2,0),\"\")","v":""}]
[null,null,null,null,{"$f":"IFERROR(VLOOKUP(D8907,Справка!$G$2:$H$579,2,0),\"\")","v":""}]
[null,null,null,null,{"$f":"IFERROR(VLOOKUP(D8908,Справка!$G$2:$H$579,2,0),\"\")","v":""}]
[null,null,null,null,{"$f":"IFERROR(VLOOKUP(D8909,Справка!$G$2:$H$579,2,0),\"\")","v":""}]
[null,null,null,null,{"$f":"IFERROR(VLOOKUP(D8910,Справка!$G$2:$H$579,2,0),\"\")","v":""}]
[null,null,null,null,{"$f":"IFERROR(VLOOKUP(D8911,Справка!$G$2:$H$579,2,0),\"\")","v":""}]
[null,null,null,null,{"$f":"IFERROR(VLOOKUP(D8912,Справка!$G$2:$H$579,2,0),\"\")","v":""}]
[null,null,null,null,{"$f":"IFERROR(VLOOKUP(D8913,Справка!$G$2:$H$579,2,0),\"\")","v":""}]
[null,null,null,null,{"$f":"IFERROR(VLOOKUP(D8914,Справка!$G$2:$H$579,2,0),\"\")","v":""}]
[null,null,null,null,{"$f":"IFERROR(VLOOKUP(D8915,Справка!$G$2:$H$579,2,0),\"\")","v":""}]
[null,null,null,null,{"$f":"IFERROR(VLOOKUP(D8916,Справка!$G$2:$H$579,2,0),\"\")","v":""}]
[null,null,null,null,{"$f":"IFERROR(VLOOKUP(D8917,Справка!$G$2:$H$579,2,0),\"\")","v":""}]
[null,null,null,null,{"$f":"IFERROR(VLOOKUP(D8918,Справка!$G$2:$H$579,2,0),\"\")","v":""}]
[null,null,null,null,{"$f":"IFERROR(VLOOKUP(D8919,Справка!$G$2:$H$579,2,0),\"\")","v":""}]
[null,null,null,null,{"$f":"IFERROR(VLOOKUP(D8920,Справка!$G$2:$H$579,2,0),\"\")","v":""}]
[null,null,null,null,{"$f":"IFERROR(VLOOKUP(D8921,Справка!$G$2:$H$579,2,0),\"\")","v":""}]
[null,null,null,null,{"$f":"IFERROR(VLOOKUP(D8922,Справка!$G$2:$H$579,2,0),\"\")","v":""}]
[null,null,null,null,{"$f":"IFERROR(VLOOKUP(D8923,Справка!$G$2:$H$579,2,0),\"\")","v":""}]
[null,null,null,null,{"$f":"IFERROR(VLOOKUP(D8924,Справка!$G$2:$H$579,2,0),\"\")","v":""}]
[null,null,null,null,{"$f":"IFERROR(VLOOKUP(D8925,Справка!$G$2:$H$579,2,0),\"\")","v":""}]
[null,null,null,null,{"$f":"IFERROR(VLOOKUP(D8926,Справка!$G$2:$H$579,2,0),\"\")","v":""}]
[null,null,null,null,{"$f":"IFERROR(VLOOKUP(D8927,Справка!$G$2:$H$579,2,0),\"\")","v":""}]
[null,null,null,null,{"$f":"IFERROR(VLOOKUP(D8928,Справка!$G$2:$H$579,2,0),\"\")","v":""}]
[null,null,null,null,{"$f":"IFERROR(VLOOKUP(D8929,Справка!$G$2:$H$579,2,0),\"\")","v":""}]
[null,null,null,null,{"$f":"IFERROR(VLOOKUP(D8930,Справка!$G$2:$H$579,2,0),\"\")","v":""}]
[null,null,null,null,{"$f":"IFERROR(VLOOKUP(D8931,Справка!$G$2:$H$579,2,0),\"\")","v":""}]
[null,null,null,null,{"$f":"IFERROR(VLOOKUP(D8932,Справка!$G$2:$H$579,2,0),\"\")","v":""}]
[null,null,null,null,{"$f":"IFERROR(VLOOKUP(D8933,Справка!$G$2:$H$579,2,0),\"\")","v":""}]
[null,null,null,null,{"$f":"IFERROR(VLOOKUP(D8934,Справка!$G$2:$H$579,2,0),\"\")","v":""}]
[null,null,null,null,{"$f":"IFERROR(VLOOKUP(D8935,Справка!$G$2:$H$579,2,0),\"\")","v":""}]
[null,null,null,null,{"$f":"IFERROR(VLOOKUP(D8936,Справка!$G$2:$H$579,2,0),\"\")","v":""}]
[null,null,null,null,{"$f":"IFERROR(VLOOKUP(D8937,Справка!$G$2:$H$579,2,0),\"\")","v":""}]
[null,null,null,null,{"$f":"IFERROR(VLOOKUP(D8938,Справка!$G$2:$H$579,2,0),\"\")","v":""}]
[null,null,null,null,{"$f":"IFERROR(VLOOKUP(D8939,Справка!$G$2:$H$579,2,0),\"\")","v":""}]
[null,null,null,null,{"$f":"IFERROR(VLOOKUP(D8940,Справка!$G$2:$H$579,2,0),\"\")","v":""}]
[null,null,null,null,{"$f":"IFERROR(VLOOKUP(D8941,Справка!$G$2:$H$579,2,0),\"\")","v":""}]
[null,null,null,null,{"$f":"IFERROR(VLOOKUP(D8942,Справка!$G$2:$H$579,2,0),\"\")","v":""}]
[null,null,null,null,{"$f":"IFERROR(VLOOKUP(D8943,Справка!$G$2:$H$579,2,0),\"\")","v":""}]
[null,null,null,null,{"$f":"IFERROR(VLOOKUP(D8944,Справка!$G$2:$H$579,2,0),\"\")","v":""}]
[null,null,null,null,{"$f":"IFERROR(VLOOKUP(D8945,Справка!$G$2:$H$579,2,0),\"\")","v":""}]
[null,null,null,null,{"$f":"IFERROR(VLOOKUP(D8946,Справка!$G$2:$H$579,2,0),\"\")","v":""}]
[null,null,null,null,{"$f":"IFERROR(VLOOKUP(D8947,Справка!$G$2:$H$579,2,0),\"\")","v":""}]
[null,null,null,null,{"$f":"IFERROR(VLOOKUP(D8948,Справка!$G$2:$H$579,2,0),\"\")","v":""}]
[null,null,null,null,{"$f":"IFERROR(VLOOKUP(D8949,Справка!$G$2:$H$579,2,0),\"\")","v":""}]
[null,null,null,null,{"$f":"IFERROR(VLOOKUP(D8950,Справка!$G$2:$H$579,2,0),\"\")","v":""}]
[null,null,null,null,{"$f":"IFERROR(VLOOKUP(D8951,Справка!$G$2:$H$579,2,0),\"\")","v":""}]
[null,null,null,null,{"$f":"IFERROR(VLOOKUP(D8952,Справка!$G$2:$H$579,2,0),\"\")","v":""}]
[null,null,null,null,{"$f":"IFERROR(VLOOKUP(D8953,Справка!$G$2:$H$579,2,0),\"\")","v":""}]
[null,null,null,null,{"$f":"IFERROR(VLOOKUP(D8954,Справка!$G$2:$H$579,2,0),\"\")","v":""}]
[null,null,null,null,{"$f":"IFERROR(VLOOKUP(D8955,Справка!$G$2:$H$579,2,0),\"\")","v":""}]
[null,null,null,null,{"$f":"IFERROR(VLOOKUP(D8956,Справка!$G$2:$H$579,2,0),\"\")","v":""}]
[null,null,null,null,{"$f":"IFERROR(VLOOKUP(D8957,Справка!$G$2:$H$579,2,0),\"\")","v":""}]
[null,null,null,null,{"$f":"IFERROR(VLOOKUP(D8958,Справка!$G$2:$H$579,2,0),\"\")","v":""}]
[null,null,null,null,{"$f":"IFERROR(VLOOKUP(D8959,Справка!$G$2:$H$579,2,0),\"\")","v":""}]
[null,null,null,null,{"$f":"IFERROR(VLOOKUP(D8960,Справка!$G$2:$H$579,2,0),\"\")","v":""}]
[null,null,null,null,{"$f":"IFERROR(VLOOKUP(D8961,Справка!$G$2:$H$579,2,0),\"\")","v":""}]
[null,null,null,null,{"$f":"IFERROR(VLOOKUP(D8962,Справка!$G$2:$H$579,2,0),\"\")","v":""}]
[null,null,null,null,{"$f":"IFERROR(VLOOKUP(D8963,Справка!$G$2:$H$579,2,0),\"\")","v":""}]
[null,null,null,null,{"$f":"IFERROR(VLOOKUP(D8964,Справка!$G$2:$H$579,2,0),\"\")","v":""}]
[null,null,null,null,{"$f":"IFERROR(VLOOKUP(D8965,Справка!$G$2:$H$579,2,0),\"\")","v":""}]
[null,null,null,null,{"$f":"IFERROR(VLOOKUP(D8966,Справка!$G$2:$H$579,2,0),\"\")","v":""}]
[null,null,null,null,{"$f":"IFERROR(VLOOKUP(D8967,Справка!$G$2:$H$579,2,0),\"\")","v":""}]
[null,null,null,null,{"$f":"IFERROR(VLOOKUP(D8968,Справка!$G$2:$H$579,2,0),\"\")","v":""}]
[null,null,null,null,{"$f":"IFERROR(VLOOKUP(D8969,Справка!$G$2:$H$579,2,0),\"\")","v":""}]
[null,null,null,null,{"$f":"IFERROR(VLOOKUP(D8970,Справка!$G$2:$H$579,2,0),\"\")","v":""}]
[null,null,null,null,{"$f":"IFERROR(VLOOKUP(D8971,Справка!$G$2:$H$579,2,0),\"\")","v":""}]
[null,null,null,null,{"$f":"IFERROR(VLOOKUP(D8972,Справка!$G$2:$H$579,2,0),\"\")","v":""}]
[null,null,null,null,{"$f":"IFERROR(VLOOKUP(D8973,Справка!$G$2:$H$579,2,0),\"\")","v":""}]
[null,null,null,null,{"$f":"IFERROR(VLOOKUP(D8974,Справка!$G$2:$H$579,2,0),\"\")","v":""}]
[null,null,null,null,{"$f":"IFERROR(VLOOKUP(D8975,Справка!$G$2:$H$579,2,0),\"\")","v":""}]
[null,null,null,null,{"$f":"IFERROR(VLOOKUP(D8976,Справка!$G$2:$H$579,2,0),\"\")","v":""}]
[null,null,null,null,{"$f":"IFERROR(VLOOKUP(D8977,Справка!$G$2:$H$579,2,0),\"\")","v":""}]
[null,null,null,null,{"$f":"IFERROR(VLOOKUP(D8978,Справка!$G$2:$H$579,2,0),\"\")","v":""}]
[null,null,null,null,{"$f":"IFERROR(VLOOKUP(D8979,Справка!$G$2:$H$579,2,0),\"\")","v":""}]
[null,null,null,null,{"$f":"IFERROR(VLOOKUP(D8980,Справка!$G$2:$H$579,2,0),\"\")","v":""}]
[null,null,null,null,{"$f":"IFERROR(VLOOKUP(D8981,Справка!$G$2:$H$579,2,0),\"\")","v":""}]
[null,null,null,null,{"$f":"IFERROR(VLOOKUP(D8982,Справка!$G$2:$H$579,2,0),\"\")","v":""}]
[null,null,null,null,{"$f":"IFERROR(VLOOKUP(D8983,Справка!$G$2:$H$579,2,0),\"\")","v":""}]
[null,null,null,null,{"$f":"IFERROR(VLOOKUP(D8984,Справка!$G$2:$H$579,2,0),\"\")","v":""}]
[null,null,null,null,{"$f":"IFERROR(VLOOKUP(D8985,Справка!$G$2:$H$579,2,0),\"\")","v":""}]
[null,null,null,null,{"$f":"IFERROR(VLOOKUP(D8986,Справка!$G$2:$H$579,2,0),\"\")","v":""}]
[null,null,null,null,{"$f":"IFERROR(VLOOKUP(D8987,Справка!$G$2:$H$579,2,0),\"\")","v":""}]
[null,null,null,null,{"$f":"IFERROR(VLOOKUP(D8988,Справка!$G$2:$H$579,2,0),\"\")","v":""}]
[null,null,null,null,{"$f":"IFERROR(VLOOKUP(D8989,Справка!$G$2:$H$579,2,0),\"\")","v":""}]
[null,null,null,null,{"$f":"IFERROR(VLOOKUP(D8990,Справка!$G$2:$H$579,2,0),\"\")","v":""}]
[null,null,null,null,{"$f":"IFERROR(VLOOKUP(D8991,Справка!$G$2:$H$579,2,0),\"\")","v":""}]
[null,null,null,null,{"$f":"IFERROR(VLOOKUP(D8992,Справка!$G$2:$H$579,2,0),\"\")","v":""}]
[null,null,null,null,{"$f":"IFERROR(VLOOKUP(D8993,Справка!$G$2:$H$579,2,0),\"\")","v":""}]
[null,null,null,null,{"$f":"IFERROR(VLOOKUP(D8994,Справка!$G$2:$H$579,2,0),\"\")","v":""}]
[null,null,null,null,{"$f":"IFERROR(VLOOKUP(D8995,Справка!$G$2:$H$579,2,0),\"\")","v":""}]
[null,null,null,null,{"$f":"IFERROR(VLOOKUP(D8996,Справка!$G$2:$H$579,2,0),\"\")","v":""}]
[null,null,null,null,{"$f":"IFERROR(VLOOKUP(D8997,Справка!$G$2:$H$579,2,0),\"\")","v":""}]
[null,null,null,null,{"$f":"IFERROR(VLOOKUP(D8998,Справка!$G$2:$H$579,2,0),\"\")","v":""}]
[null,null,null,null,{"$f":"IFERROR(VLOOKUP(D8999,Справка!$G$2:$H$579,2,0),\"\")","v":""}]
[null,null,null,null,{"$f":"IFERROR(VLOOKUP(D9000,Справка!$G$2:$H$579,2,0),\"\")","v":""}]
[null,null,null,null,{"$f":"IFERROR(VLOOKUP(D9001,Справка!$G$2:$H$579,2,0),\"\")","v":""}]
[null,null,null,null,{"$f":"IFERROR(VLOOKUP(D9002,Справка!$G$2:$H$579,2,0),\"\")","v":""}]
[null,null,null,null,{"$f":"IFERROR(VLOOKUP(D9003,Справка!$G$2:$H$579,2,0),\"\")","v":""}]
[null,null,null,null,{"$f":"IFERROR(VLOOKUP(D9004,Справка!$G$2:$H$579,2,0),\"\")","v":""}]
[null,null,null,null,{"$f":"IFERROR(VLOOKUP(D9005,Справка!$G$2:$H$579,2,0),\"\")","v":""}]
[null,null,null,null,{"$f":"IFERROR(VLOOKUP(D9006,Справка!$G$2:$H$579,2,0),\"\")","v":""}]
[null,null,null,null,{"$f":"IFERROR(VLOOKUP(D9007,Справка!$G$2:$H$579,2,0),\"\")","v":""}]
[null,null,null,null,{"$f":"IFERROR(VLOOKUP(D9008,Справка!$G$2:$H$579,2,0),\"\")","v":""}]
[null,null,null,null,{"$f":"IFERROR(VLOOKUP(D9009,Справка!$G$2:$H$579,2,0),\"\")","v":""}]
[null,null,null,null,{"$f":"IFERROR(VLOOKUP(D9010,Справка!$G$2:$H$579,2,0),\"\")","v":""}]
[null,null,null,null,{"$f":"IFERROR(VLOOKUP(D9011,Справка!$G$2:$H$579,2,0),\"\")","v":""}]
[null,null,null,null,{"$f":"IFERROR(VLOOKUP(D9012,Справка!$G$2:$H$579,2,0),\"\")","v":""}]
[null,null,null,null,{"$f":"IFERROR(VLOOKUP(D9013,Справка!$G$2:$H$579,2,0),\"\")","v":""}]
[null,null,null,null,{"$f":"IFERROR(VLOOKUP(D9014,Справка!$G$2:$H$579,2,0),\"\")","v":""}]
[null,null,null,null,{"$f":"IFERROR(VLOOKUP(D9015,Справка!$G$2:$H$579,2,0),\"\")","v":""}]
[null,null,null,null,{"$f":"IFERROR(VLOOKUP(D9016,Справка!$G$2:$H$579,2,0),\"\")","v":""}]
[null,null,null,null,{"$f":"IFERROR(VLOOKUP(D9017,Справка!$G$2:$H$579,2,0),\"\")","v":""}]
[null,null,null,null,{"$f":"IFERROR(VLOOKUP(D9018,Справка!$G$2:$H$579,2,0),\"\")","v":""}]
[null,null,null,null,{"$f":"IFERROR(VLOOKUP(D9019,Справка!$G$2:$H$579,2,0),\"\")","v":""}]
[null,null,null,null,{"$f":"IFERROR(VLOOKUP(D9020,Справка!$G$2:$H$579,2,0),\"\")","v":""}]
[null,null,null,null,{"$f":"IFERROR(VLOOKUP(D9021,Справка!$G$2:$H$579,2,0),\"\")","v":""}]
[null,null,null,null,{"$f":"IFERROR(VLOOKUP(D9022,Справка!$G$2:$H$579,2,0),\"\")","v":""}]
[null,null,null,null,{"$f":"IFERROR(VLOOKUP(D9023,Справка!$G$2:$H$579,2,0),\"\")","v":""}]
[null,null,null,null,{"$f":"IFERROR(VLOOKUP(D9024,Справка!$G$2:$H$579,2,0),\"\")","v":""}]
[null,null,null,null,{"$f":"IFERROR(VLOOKUP(D9025,Справка!$G$2:$H$579,2,0),\"\")","v":""}]
[null,null,null,null,{"$f":"IFERROR(VLOOKUP(D9026,Справка!$G$2:$H$579,2,0),\"\")","v":""}]
[null,null,null,null,{"$f":"IFERROR(VLOOKUP(D9027,Справка!$G$2:$H$579,2,0),\"\")","v":""}]
[null,null,null,null,{"$f":"IFERROR(VLOOKUP(D9028,Справка!$G$2:$H$579,2,0),\"\")","v":""}]
[null,null,null,null,{"$f":"IFERROR(VLOOKUP(D9029,Справка!$G$2:$H$579,2,0),\"\")","v":""}]
[null,null,null,null,{"$f":"IFERROR(VLOOKUP(D9030,Справка!$G$2:$H$579,2,0),\"\")","v":""}]
[null,null,null,null,{"$f":"IFERROR(VLOOKUP(D9031,Справка!$G$2:$H$579,2,0),\"\")","v":""}]
[null,null,null,null,{"$f":"IFERROR(VLOOKUP(D9032,Справка!$G$2:$H$579,2,0),\"\")","v":""}]
[null,null,null,null,{"$f":"IFERROR(VLOOKUP(D9033,Справка!$G$2:$H$579,2,0),\"\")","v":""}]
[null,null,null,null,{"$f":"IFERROR(VLOOKUP(D9034,Справка!$G$2:$H$579,2,0),\"\")","v":""}]
[null,null,null,null,{"$f":"IFERROR(VLOOKUP(D9035,Справка!$G$2:$H$579,2,0),\"\")","v":""}]
[null,null,null,null,{"$f":"IFERROR(VLOOKUP(D9036,Справка!$G$2:$H$579,2,0),\"\")","v":""}]
[null,null,null,null,{"$f":"IFERROR(VLOOKUP(D9037,Справка!$G$2:$H$579,2,0),\"\")","v":""}]
[null,null,null,null,{"$f":"IFERROR(VLOOKUP(D9038,Справка!$G$2:$H$579,2,0),\"\")","v":""}]
[null,null,null,null,{"$f":"IFERROR(VLOOKUP(D9039,Справка!$G$2:$H$579,2,0),\"\")","v":""}]
[null,null,null,null,{"$f":"IFERROR(VLOOKUP(D9040,Справка!$G$2:$H$579,2,0),\"\")","v":""}]
[null,null,null,null,{"$f":"IFERROR(VLOOKUP(D9041,Справка!$G$2:$H$579,2,0),\"\")","v":""}]
[null,null,null,null,{"$f":"IFERROR(VLOOKUP(D9042,Справка!$G$2:$H$579,2,0),\"\")","v":""}]
[null,null,null,null,{"$f":"IFERROR(VLOOKUP(D9043,Справка!$G$2:$H$579,2,0),\"\")","v":""}]
[null,null,null,null,{"$f":"IFERROR(VLOOKUP(D9044,Справка!$G$2:$H$579,2,0),\"\")","v":""}]
[null,null,null,null,{"$f":"IFERROR(VLOOKUP(D9045,Справка!$G$2:$H$579,2,0),\"\")","v":""}]
[null,null,null,null,{"$f":"IFERROR(VLOOKUP(D9046,Справка!$G$2:$H$579,2,0),\"\")","v":""}]
[null,null,null,null,{"$f":"IFERROR(VLOOKUP(D9047,Справка!$G$2:$H$579,2,0),\"\")","v":""}]
[null,null,null,null,{"$f":"IFERROR(VLOOKUP(D9048,Справка!$G$2:$H$579,2,0),\"\")","v":""}]
[null,null,null,null,{"$f":"IFERROR(VLOOKUP(D9049,Справка!$G$2:$H$579,2,0),\"\")","v":""}]
[null,null,null,null,{"$f":"IFERROR(VLOOKUP(D9050,Справка!$G$2:$H$579,2,0),\"\")","v":""}]
[null,null,null,null,{"$f":"IFERROR(VLOOKUP(D9051,Справка!$G$2:$H$579,2,0),\"\")","v":""}]
[null,null,null,null,{"$f":"IFERROR(VLOOKUP(D9052,Справка!$G$2:$H$579,2,0),\"\")","v":""}]
[null,null,null,null,{"$f":"IFERROR(VLOOKUP(D9053,Справка!$G$2:$H$579,2,0),\"\")","v":""}]
[null,null,null,null,{"$f":"IFERROR(VLOOKUP(D9054,Справка!$G$2:$H$579,2,0),\"\")","v":""}]
[null,null,null,null,{"$f":"IFERROR(VLOOKUP(D9055,Справка!$G$2:$H$579,2,0),\"\")","v":""}]
[null,null,null,null,{"$f":"IFERROR(VLOOKUP(D9056,Справка!$G$2:$H$579,2,0),\"\")","v":""}]
[null,null,null,null,{"$f":"IFERROR(VLOOKUP(D9057,Справка!$G$2:$H$579,2,0),\"\")","v":""}]
[null,null,null,null,{"$f":"IFERROR(VLOOKUP(D9058,Справка!$G$2:$H$579,2,0),\"\")","v":""}]
[null,null,null,null,{"$f":"IFERROR(VLOOKUP(D9059,Справка!$G$2:$H$579,2,0),\"\")","v":""}]
[null,null,null,null,{"$f":"IFERROR(VLOOKUP(D9060,Справка!$G$2:$H$579,2,0),\"\")","v":""}]
[null,null,null,null,{"$f":"IFERROR(VLOOKUP(D9061,Справка!$G$2:$H$579,2,0),\"\")","v":""}]
[null,null,null,null,{"$f":"IFERROR(VLOOKUP(D9062,Справка!$G$2:$H$579,2,0),\"\")","v":""}]
[null,null,null,null,{"$f":"IFERROR(VLOOKUP(D9063,Справка!$G$2:$H$579,2,0),\"\")","v":""}]
[null,null,null,null,{"$f":"IFERROR(VLOOKUP(D9064,Справка!$G$2:$H$579,2,0),\"\")","v":""}]
[null,null,null,null,{"$f":"IFERROR(VLOOKUP(D9065,Справка!$G$2:$H$579,2,0),\"\")","v":""}]
[null,null,null,null,{"$f":"IFERROR(VLOOKUP(D9066,Справка!$G$2:$H$579,2,0),\"\")","v":""}]
[null,null,null,null,{"$f":"IFERROR(VLOOKUP(D9067,Справка!$G$2:$H$579,2,0),\"\")","v":""}]
[null,null,null,null,{"$f":"IFERROR(VLOOKUP(D9068,Справка!$G$2:$H$579,2,0),\"\")","v":""}]
[null,null,null,null,{"$f":"IFERROR(VLOOKUP(D9069,Справка!$G$2:$H$579,2,0),\"\")","v":""}]
[null,null,null,null,{"$f":"IFERROR(VLOOKUP(D9070,Справка!$G$2:$H$579,2,0),\"\")","v":""}]
[null,null,null,null,{"$f":"IFERROR(VLOOKUP(D9071,Справка!$G$2:$H$579,2,0),\"\")","v":""}]
[null,null,null,null,{"$f":"IFERROR(VLOOKUP(D9072,Справка!$G$2:$H$579,2,0),\"\")","v":""}]
[null,null,null,null,{"$f":"IFERROR(VLOOKUP(D9073,Справка!$G$2:$H$579,2,0),\"\")","v":""}]
[null,null,null,null,{"$f":"IFERROR(VLOOKUP(D9074,Справка!$G$2:$H$579,2,0),\"\")","v":""}]
[null,null,null,null,{"$f":"IFERROR(VLOOKUP(D9075,Справка!$G$2:$H$579,2,0),\"\")","v":""}]
[null,null,null,null,{"$f":"IFERROR(VLOOKUP(D9076,Справка!$G$2:$H$579,2,0),\"\")","v":""}]
[null,null,null,null,{"$f":"IFERROR(VLOOKUP(D9077,Справка!$G$2:$H$579,2,0),\"\")","v":""}]
[null,null,null,null,{"$f":"IFERROR(VLOOKUP(D9078,Справка!$G$2:$H$579,2,0),\"\")","v":""}]
[null,null,null,null,{"$f":"IFERROR(VLOOKUP(D9079,Справка!$G$2:$H$579,2,0),\"\")","v":""}]
[null,null,null,null,{"$f":"IFERROR(VLOOKUP(D9080,Справка!$G$2:$H$579,2,0),\"\")","v":""}]
[null,null,null,null,{"$f":"IFERROR(VLOOKUP(D9081,Справка!$G$2:$H$579,2,0),\"\")","v":""}]
[null,null,null,null,{"$f":"IFERROR(VLOOKUP(D9082,Справка!$G$2:$H$579,2,0),\"\")","v":""}]
[null,null,null,null,{"$f":"IFERROR(VLOOKUP(D9083,Справка!$G$2:$H$579,2,0),\"\")","v":""}]
[null,null,null,null,{"$f":"IFERROR(VLOOKUP(D9084,Справка!$G$2:$H$579,2,0),\"\")","v":""}]
[null,null,null,null,{"$f":"IFERROR(VLOOKUP(D9085,Справка!$G$2:$H$579,2,0),\"\")","v":""}]
[null,null,null,null,{"$f":"IFERROR(VLOOKUP(D9086,Справка!$G$2:$H$579,2,0),\"\")","v":""}]
[null,null,null,null,{"$f":"IFERROR(VLOOKUP(D9087,Справка!$G$2:$H$579,2,0),\"\")","v":""}]
[null,null,null,null,{"$f":"IFERROR(VLOOKUP(D9088,Справка!$G$2:$H$579,2,0),\"\")","v":""}]
[null,null,null,null,{"$f":"IFERROR(VLOOKUP(D9089,Справка!$G$2:$H$579,2,0),\"\")","v":""}]
[null,null,null,null,{"$f":"IFERROR(VLOOKUP(D9090,Справка!$G$2:$H$579,2,0),\"\")","v":""}]
[null,null,null,null,{"$f":"IFERROR(VLOOKUP(D9091,Справка!$G$2:$H$579,2,0),\"\")","v":""}]
[null,null,null,null,{"$f":"IFERROR(VLOOKUP(D9092,Справка!$G$2:$H$579,2,0),\"\")","v":""}]
[null,null,null,null,{"$f":"IFERROR(VLOOKUP(D9093,Справка!$G$2:$H$579,2,0),\"\")","v":""}]
[null,null,null,null,{"$f":"IFERROR(VLOOKUP(D9094,Справка!$G$2:$H$579,2,0),\"\")","v":""}]
[null,null,null,null,{"$f":"IFERROR(VLOOKUP(D9095,Справка!$G$2:$H$579,2,0),\"\")","v":""}]
[null,null,null,null,{"$f":"IFERROR(VLOOKUP(D9096,Справка!$G$2:$H$579,2,0),\"\")","v":""}]
[null,null,null,null,{"$f":"IFERROR(VLOOKUP(D9097,Справка!$G$2:$H$579,2,0),\"\")","v":""}]
[null,null,null,null,{"$f":"IFERROR(VLOOKUP(D9098,Справка!$G$2:$H$579,2,0),\"\")","v":""}]
[null,null,null,null,{"$f":"IFERROR(VLOOKUP(D9099,Справка!$G$2:$H$579,2,0),\"\")","v":""}]
[null,null,null,null,{"$f":"IFERROR(VLOOKUP(D9100,Справка!$G$2:$H$579,2,0),\"\")","v":""}]
[null,null,null,null,{"$f":"IFERROR(VLOOKUP(D9101,Справка!$G$2:$H$579,2,0),\"\")","v":""}]
[null,null,null,null,{"$f":"IFERROR(VLOOKUP(D9102,Справка!$G$2:$H$579,2,0),\"\")","v":""}]
[null,null,null,null,{"$f":"IFERROR(VLOOKUP(D9103,Справка!$G$2:$H$579,2,0),\"\")","v":""}]
[null,null,null,null,{"$f":"IFERROR(VLOOKUP(D9104,Справка!$G$2:$H$579,2,0),\"\")","v":""}]
[null,null,null,null,{"$f":"IFERROR(VLOOKUP(D9105,Справка!$G$2:$H$579,2,0),\"\")","v":""}]
[null,null,null,null,{"$f":"IFERROR(VLOOKUP(D9106,Справка!$G$2:$H$579,2,0),\"\")","v":""}]
[null,null,null,null,{"$f":"IFERROR(VLOOKUP(D9107,Справка!$G$2:$H$579,2,0),\"\")","v":""}]
[null,null,null,null,{"$f":"IFERROR(VLOOKUP(D9108,Справка!$G$2:$H$579,2,0),\"\")","v":""}]
[null,null,null,null,{"$f":"IFERROR(VLOOKUP(D9109,Справка!$G$2:$H$579,2,0),\"\")","v":""}]
[null,null,null,null,{"$f":"IFERROR(VLOOKUP(D9110,Справка!$G$2:$H$579,2,0),\"\")","v":""}]
[null,null,null,null,{"$f":"IFERROR(VLOOKUP(D9111,Справка!$G$2:$H$579,2,0),\"\")","v":""}]
[null,null,null,null,{"$f":"IFERROR(VLOOKUP(D9112,Справка!$G$2:$H$579,2,0),\"\")","v":""}]
[null,null,null,null,{"$f":"IFERROR(VLOOKUP(D9113,Справка!$G$2:$H$579,2,0),\"\")","v":""}]
[null,null,null,null,{"$f":"IFERROR(VLOOKUP(D9114,Справка!$G$2:$H$579,2,0),\"\")","v":""}]
[null,null,null,null,{"$f":"IFERROR(VLOOKUP(D9115,Справка!$G$2:$H$579,2,0),\"\")","v":""}]
[null,null,null,null,{"$f":"IFERROR(VLOOKUP(D9116,Справка!$G$2:$H$579,2,0),\"\")","v":""}]
[null,null,null,null,{"$f":"IFERROR(VLOOKUP(D9117,Справка!$G$2:$H$579,2,0),\"\")","v":""}]
[null,null,null,null,{"$f":"IFERROR(VLOOKUP(D9118,Справка!$G$2:$H$579,2,0),\"\")","v":""}]
[null,null,null,null,{"$f":"IFERROR(VLOOKUP(D9119,Справка!$G$2:$H$579,2,0),\"\")","v":""}]
[null,null,null,null,{"$f":"IFERROR(VLOOKUP(D9120,Справка!$G$2:$H$579,2,0),\"\")","v":""}]
[null,null,null,null,{"$f":"IFERROR(VLOOKUP(D9121,Справка!$G$2:$H$579,2,0),\"\")","v":""}]
[null,null,null,null,{"$f":"IFERROR(VLOOKUP(D9122,Справка!$G$2:$H$579,2,0),\"\")","v":""}]
[null,null,null,null,{"$f":"IFERROR(VLOOKUP(D9123,Справка!$G$2:$H$579,2,0),\"\")","v":""}]
[null,null,null,null,{"$f":"IFERROR(VLOOKUP(D9124,Справка!$G$2:$H$579,2,0),\"\")","v":""}]
[null,null,null,null,{"$f":"IFERROR(VLOOKUP(D9125,Справка!$G$2:$H$579,2,0),\"\")","v":""}]
[null,null,null,null,{"$f":"IFERROR(VLOOKUP(D9126,Справка!$G$2:$H$579,2,0),\"\")","v":""}]
[null,null,null,null,{"$f":"IFERROR(VLOOKUP(D9127,Справка!$G$2:$H$579,2,0),\"\")","v":""}]
[null,null,null,null,{"$f":"IFERROR(VLOOKUP(D9128,Справка!$G$2:$H$579,2,0),\"\")","v":""}]
[null,null,null,null,{"$f":"IFERROR(VLOOKUP(D9129,Справка!$G$2:$H$579,2,0),\"\")","v":""}]
[null,null,null,null,{"$f":"IFERROR(VLOOKUP(D9130,Справка!$G$2:$H$579,2,0),\"\")","v":""}]
[null,null,null,null,{"$f":"IFERROR(VLOOKUP(D9131,Справка!$G$2:$H$579,2,0),\"\")","v":""}]
[null,null,null,null,{"$f":"IFERROR(VLOOKUP(D9132,Справка!$G$2:$H$579,2,0),\"\")","v":""}]
[null,null,null,null,{"$f":"IFERROR(VLOOKUP(D9133,Справка!$G$2:$H$579,2,0),\"\")","v":""}]
[null,null,null,null,{"$f":"IFERROR(VLOOKUP(D9134,Справка!$G$2:$H$579,2,0),\"\")","v":""}]
[null,null,null,null,{"$f":"IFERROR(VLOOKUP(D9135,Справка!$G$2:$H$579,2,0),\"\")","v":""}]
[null,null,null,null,{"$f":"IFERROR(VLOOKUP(D9136,Справка!$G$2:$H$579,2,0),\"\")","v":""}]
[null,null,null,null,{"$f":"IFERROR(VLOOKUP(D9137,Справка!$G$2:$H$579,2,0),\"\")","v":""}]
[null,null,null,null,{"$f":"IFERROR(VLOOKUP(D9138,Справка!$G$2:$H$579,2,0),\"\")","v":""}]
[null,null,null,null,{"$f":"IFERROR(VLOOKUP(D9139,Справка!$G$2:$H$579,2,0),\"\")","v":""}]
[null,null,null,null,{"$f":"IFERROR(VLOOKUP(D9140,Справка!$G$2:$H$579,2,0),\"\")","v":""}]
[null,null,null,null,{"$f":"IFERROR(VLOOKUP(D9141,Справка!$G$2:$H$579,2,0),\"\")","v":""}]
[null,null,null,null,{"$f":"IFERROR(VLOOKUP(D9142,Справка!$G$2:$H$579,2,0),\"\")","v":""}]
[null,null,null,null,{"$f":"IFERROR(VLOOKUP(D9143,Справка!$G$2:$H$579,2,0),\"\")","v":""}]
[null,null,null,null,{"$f":"IFERROR(VLOOKUP(D9144,Справка!$G$2:$H$579,2,0),\"\")","v":""}]
[null,null,null,null,{"$f":"IFERROR(VLOOKUP(D9145,Справка!$G$2:$H$579,2,0),\"\")","v":""}]
[null,null,null,null,{"$f":"IFERROR(VLOOKUP(D9146,Справка!$G$2:$H$579,2,0),\"\")","v":""}]
[null,null,null,null,{"$f":"IFERROR(VLOOKUP(D9147,Справка!$G$2:$H$579,2,0),\"\")","v":""}]
[null,null,null,null,{"$f":"IFERROR(VLOOKUP(D9148,Справка!$G$2:$H$579,2,0),\"\")","v":""}]
[null,null,null,null,{"$f":"IFERROR(VLOOKUP(D9149,Справка!$G$2:$H$579,2,0),\"\")","v":""}]
[null,null,null,null,{"$f":"IFERROR(VLOOKUP(D9150,Справка!$G$2:$H$579,2,0),\"\")","v":""}]
[null,null,null,null,{"$f":"IFERROR(VLOOKUP(D9151,Справка!$G$2:$H$579,2,0),\"\")","v":""}]
[null,null,null,null,{"$f":"IFERROR(VLOOKUP(D9152,Справка!$G$2:$H$579,2,0),\"\")","v":""}]
[null,null,null,null,{"$f":"IFERROR(VLOOKUP(D9153,Справка!$G$2:$H$579,2,0),\"\")","v":""}]
[null,null,null,null,{"$f":"IFERROR(VLOOKUP(D9154,Справка!$G$2:$H$579,2,0),\"\")","v":""}]
[null,null,null,null,{"$f":"IFERROR(VLOOKUP(D9155,Справка!$G$2:$H$579,2,0),\"\")","v":""}]
[null,null,null,null,{"$f":"IFERROR(VLOOKUP(D9156,Справка!$G$2:$H$579,2,0),\"\")","v":""}]
[null,null,null,null,{"$f":"IFERROR(VLOOKUP(D9157,Справка!$G$2:$H$579,2,0),\"\")","v":""}]
[null,null,null,null,{"$f":"IFERROR(VLOOKUP(D9158,Справка!$G$2:$H$579,2,0),\"\")","v":""}]
[null,null,null,null,{"$f":"IFERROR(VLOOKUP(D9159,Справка!$G$2:$H$579,2,0),\"\")","v":""}]
[null,null,null,null,{"$f":"IFERROR(VLOOKUP(D9160,Справка!$G$2:$H$579,2,0),\"\")","v":""}]
[null,null,null,null,{"$f":"IFERROR(VLOOKUP(D9161,Справка!$G$2:$H$579,2,0),\"\")","v":""}]
[null,null,null,null,{"$f":"IFERROR(VLOOKUP(D9162,Справка!$G$2:$H$579,2,0),\"\")","v":""}]
[null,null,null,null,{"$f":"IFERROR(VLOOKUP(D9163,Справка!$G$2:$H$579,2,0),\"\")","v":""}]
[null,null,null,null,{"$f":"IFERROR(VLOOKUP(D9164,Справка!$G$2:$H$579,2,0),\"\")","v":""}]
[null,null,null,null,{"$f":"IFERROR(VLOOKUP(D9165,Справка!$G$2:$H$579,2,0),\"\")","v":""}]
[null,null,null,null,{"$f":"IFERROR(VLOOKUP(D9166,Справка!$G$2:$H$579,2,0),\"\")","v":""}]
[null,null,null,null,{"$f":"IFERROR(VLOOKUP(D9167,Справка!$G$2:$H$579,2,0),\"\")","v":""}]
[null,null,null,null,{"$f":"IFERROR(VLOOKUP(D9168,Справка!$G$2:$H$579,2,0),\"\")","v":""}]
[null,null,null,null,{"$f":"IFERROR(VLOOKUP(D9169,Справка!$G$2:$H$579,2,0),\"\")","v":""}]
[null,null,null,null,{"$f":"IFERROR(VLOOKUP(D9170,Справка!$G$2:$H$579,2,0),\"\")","v":""}]
[null,null,null,null,{"$f":"IFERROR(VLOOKUP(D9171,Справка!$G$2:$H$579,2,0),\"\")","v":""}]
[null,null,null,null,{"$f":"IFERROR(VLOOKUP(D9172,Справка!$G$2:$H$579,2,0),\"\")","v":""}]
[null,null,null,null,{"$f":"IFERROR(VLOOKUP(D9173,Справка!$G$2:$H$579,2,0),\"\")","v":""}]
[null,null,null,null,{"$f":"IFERROR(VLOOKUP(D9174,Справка!$G$2:$H$579,2,0),\"\")","v":""}]
[null,null,null,null,{"$f":"IFERROR(VLOOKUP(D9175,Справка!$G$2:$H$579,2,0),\"\")","v":""}]
[null,null,null,null,{"$f":"IFERROR(VLOOKUP(D9176,Справка!$G$2:$H$579,2,0),\"\")","v":""}]
[null,null,null,null,{"$f":"IFERROR(VLOOKUP(D9177,Справка!$G$2:$H$579,2,0),\"\")","v":""}]
[null,null,null,null,{"$f":"IFERROR(VLOOKUP(D9178,Справка!$G$2:$H$579,2,0),\"\")","v":""}]
[null,null,null,null,{"$f":"IFERROR(VLOOKUP(D9179,Справка!$G$2:$H$579,2,0),\"\")","v":""}]
[null,null,null,null,{"$f":"IFERROR(VLOOKUP(D9180,Справка!$G$2:$H$579,2,0),\"\")","v":""}]
[null,null,null,null,{"$f":"IFERROR(VLOOKUP(D9181,Справка!$G$2:$H$579,2,0),\"\")","v":""}]
[null,null,null,null,{"$f":"IFERROR(VLOOKUP(D9182,Справка!$G$2:$H$579,2,0),\"\")","v":""}]
[null,null,null,null,{"$f":"IFERROR(VLOOKUP(D9183,Справка!$G$2:$H$579,2,0),\"\")","v":""}]
[null,null,null,null,{"$f":"IFERROR(VLOOKUP(D9184,Справка!$G$2:$H$579,2,0),\"\")","v":""}]
[null,null,null,null,{"$f":"IFERROR(VLOOKUP(D9185,Справка!$G$2:$H$579,2,0),\"\")","v":""}]
[null,null,null,null,{"$f":"IFERROR(VLOOKUP(D9186,Справка!$G$2:$H$579,2,0),\"\")","v":""}]
[null,null,null,null,{"$f":"IFERROR(VLOOKUP(D9187,Справка!$G$2:$H$579,2,0),\"\")","v":""}]
[null,null,null,null,{"$f":"IFERROR(VLOOKUP(D9188,Справка!$G$2:$H$579,2,0),\"\")","v":""}]
[null,null,null,null,{"$f":"IFERROR(VLOOKUP(D9189,Справка!$G$2:$H$579,2,0),\"\")","v":""}]
[null,null,null,null,{"$f":"IFERROR(VLOOKUP(D9190,Справка!$G$2:$H$579,2,0),\"\")","v":""}]
[null,null,null,null,{"$f":"IFERROR(VLOOKUP(D9191,Справка!$G$2:$H$579,2,0),\"\")","v":""}]
[null,null,null,null,{"$f":"IFERROR(VLOOKUP(D9192,Справка!$G$2:$H$579,2,0),\"\")","v":""}]
[null,null,null,null,{"$f":"IFERROR(VLOOKUP(D9193,Справка!$G$2:$H$579,2,0),\"\")","v":""}]
[null,null,null,null,{"$f":"IFERROR(VLOOKUP(D9194,Справка!$G$2:$H$579,2,0),\"\")","v":""}]
[null,null,null,null,{"$f":"IFERROR(VLOOKUP(D9195,Справка!$G$2:$H$579,2,0),\"\")","v":""}]
[null,null,null,null,{"$f":"IFERROR(VLOOKUP(D9196,Справка!$G$2:$H$579,2,0),\"\")","v":""}]
[null,null,null,null,{"$f":"IFERROR(VLOOKUP(D9197,Справка!$G$2:$H$579,2,0),\"\")","v":""}]
[null,null,null,null,{"$f":"IFERROR(VLOOKUP(D9198,Справка!$G$2:$H$579,2,0),\"\")","v":""}]
[null,null,null,null,{"$f":"IFERROR(VLOOKUP(D9199,Справка!$G$2:$H$579,2,0),\"\")","v":""}]
[null,null,null,null,{"$f":"IFERROR(VLOOKUP(D9200,Справка!$G$2:$H$579,2,0),\"\")","v":""}]
[null,null,null,null,{"$f":"IFERROR(VLOOKUP(D9201,Справка!$G$2:$H$579,2,0),\"\")","v":""}]
[null,null,null,null,{"$f":"IFERROR(VLOOKUP(D9202,Справка!$G$2:$H$579,2,0),\"\")","v":""}]
[null,null,null,null,{"$f":"IFERROR(VLOOKUP(D9203,Справка!$G$2:$H$579,2,0),\"\")","v":""}]
[null,null,null,null,{"$f":"IFERROR(VLOOKUP(D9204,Справка!$G$2:$H$579,2,0),\"\")","v":""}]
[null,null,null,null,{"$f":"IFERROR(VLOOKUP(D9205,Справка!$G$2:$H$579,2,0),\"\")","v":""}]
[null,null,null,null,{"$f":"IFERROR(VLOOKUP(D9206,Справка!$G$2:$H$579,2,0),\"\")","v":""}]
[null,null,null,null,{"$f":"IFERROR(VLOOKUP(D9207,Справка!$G$2:$H$579,2,0),\"\")","v":""}]
[null,null,null,null,{"$f":"IFERROR(VLOOKUP(D9208,Справка!$G$2:$H$579,2,0),\"\")","v":""}]
[null,null,null,null,{"$f":"IFERROR(VLOOKUP(D9209,Справка!$G$2:$H$579,2,0),\"\")","v":""}]
[null,null,null,null,{"$f":"IFERROR(VLOOKUP(D9210,Справка!$G$2:$H$579,2,0),\"\")","v":""}]
[null,null,null,null,{"$f":"IFERROR(VLOOKUP(D9211,Справка!$G$2:$H$579,2,0),\"\")","v":""}]
[null,null,null,null,{"$f":"IFERROR(VLOOKUP(D9212,Справка!$G$2:$H$579,2,0),\"\")","v":""}]
[null,null,null,null,{"$f":"IFERROR(VLOOKUP(D9213,Справка!$G$2:$H$579,2,0),\"\")","v":""}]
[null,null,null,null,{"$f":"IFERROR(VLOOKUP(D9214,Справка!$G$2:$H$579,2,0),\"\")","v":""}]
[null,null,null,null,{"$f":"IFERROR(VLOOKUP(D9215,Справка!$G$2:$H$579,2,0),\"\")","v":""}]
[null,null,null,null,{"$f":"IFERROR(VLOOKUP(D9216,Справка!$G$2:$H$579,2,0),\"\")","v":""}]
[null,null,null,null,{"$f":"IFERROR(VLOOKUP(D9217,Справка!$G$2:$H$579,2,0),\"\")","v":""}]
[null,null,null,null,{"$f":"IFERROR(VLOOKUP(D9218,Справка!$G$2:$H$579,2,0),\"\")","v":""}]
[null,null,null,null,{"$f":"IFERROR(VLOOKUP(D9219,Справка!$G$2:$H$579,2,0),\"\")","v":""}]
[null,null,null,null,{"$f":"IFERROR(VLOOKUP(D9220,Справка!$G$2:$H$579,2,0),\"\")","v":""}]
[null,null,null,null,{"$f":"IFERROR(VLOOKUP(D9221,Справка!$G$2:$H$579,2,0),\"\")","v":""}]
[null,null,null,null,{"$f":"IFERROR(VLOOKUP(D9222,Справка!$G$2:$H$579,2,0),\"\")","v":""}]
[null,null,null,null,{"$f":"IFERROR(VLOOKUP(D9223,Справка!$G$2:$H$579,2,0),\"\")","v":""}]
[null,null,null,null,{"$f":"IFERROR(VLOOKUP(D9224,Справка!$G$2:$H$579,2,0),\"\")","v":""}]
[null,null,null,null,{"$f":"IFERROR(VLOOKUP(D9225,Справка!$G$2:$H$579,2,0),\"\")","v":""}]
[null,null,null,null,{"$f":"IFERROR(VLOOKUP(D9226,Справка!$G$2:$H$579,2,0),\"\")","v":""}]
[null,null,null,null,{"$f":"IFERROR(VLOOKUP(D9227,Справка!$G$2:$H$579,2,0),\"\")","v":""}]
[null,null,null,null,{"$f":"IFERROR(VLOOKUP(D9228,Справка!$G$2:$H$579,2,0),\"\")","v":""}]
[null,null,null,null,{"$f":"IFERROR(VLOOKUP(D9229,Справка!$G$2:$H$579,2,0),\"\")","v":""}]
[null,null,null,null,{"$f":"IFERROR(VLOOKUP(D9230,Справка!$G$2:$H$579,2,0),\"\")","v":""}]
[null,null,null,null,{"$f":"IFERROR(VLOOKUP(D9231,Справка!$G$2:$H$579,2,0),\"\")","v":""}]
[null,null,null,null,{"$f":"IFERROR(VLOOKUP(D9232,Справка!$G$2:$H$579,2,0),\"\")","v":""}]
[null,null,null,null,{"$f":"IFERROR(VLOOKUP(D9233,Справка!$G$2:$H$579,2,0),\"\")","v":""}]
[null,null,null,null,{"$f":"IFERROR(VLOOKUP(D9234,Справка!$G$2:$H$579,2,0),\"\")","v":""}]
[null,null,null,null,{"$f":"IFERROR(VLOOKUP(D9235,Справка!$G$2:$H$579,2,0),\"\")","v":""}]
[null,null,null,null,{"$f":"IFERROR(VLOOKUP(D9236,Справка!$G$2:$H$579,2,0),\"\")","v":""}]
[null,null,null,null,{"$f":"IFERROR(VLOOKUP(D9237,Справка!$G$2:$H$579,2,0),\"\")","v":""}]
[null,null,null,null,{"$f":"IFERROR(VLOOKUP(D9238,Справка!$G$2:$H$579,2,0),\"\")","v":""}]
[null,null,null,null,{"$f":"IFERROR(VLOOKUP(D9239,Справка!$G$2:$H$579,2,0),\"\")","v":""}]
[null,null,null,null,{"$f":"IFERROR(VLOOKUP(D9240,Справка!$G$2:$H$579,2,0),\"\")","v":""}]
[null,null,null,null,{"$f":"IFERROR(VLOOKUP(D9241,Справка!$G$2:$H$579,2,0),\"\")","v":""}]
[null,null,null,null,{"$f":"IFERROR(VLOOKUP(D9242,Справка!$G$2:$H$579,2,0),\"\")","v":""}]
[null,null,null,null,{"$f":"IFERROR(VLOOKUP(D9243,Справка!$G$2:$H$579,2,0),\"\")","v":""}]
[null,null,null,null,{"$f":"IFERROR(VLOOKUP(D9244,Справка!$G$2:$H$579,2,0),\"\")","v":""}]
[null,null,null,null,{"$f":"IFERROR(VLOOKUP(D9245,Справка!$G$2:$H$579,2,0),\"\")","v":""}]
[null,null,null,null,{"$f":"IFERROR(VLOOKUP(D9246,Справка!$G$2:$H$579,2,0),\"\")","v":""}]
[null,null,null,null,{"$f":"IFERROR(VLOOKUP(D9247,Справка!$G$2:$H$579,2,0),\"\")","v":""}]
[null,null,null,null,{"$f":"IFERROR(VLOOKUP(D9248,Справка!$G$2:$H$579,2,0),\"\")","v":""}]
[null,null,null,null,{"$f":"IFERROR(VLOOKUP(D9249,Справка!$G$2:$H$579,2,0),\"\")","v":""}]
[null,null,null,null,{"$f":"IFERROR(VLOOKUP(D9250,Справка!$G$2:$H$579,2,0),\"\")","v":""}]
[null,null,null,null,{"$f":"IFERROR(VLOOKUP(D9251,Справка!$G$2:$H$579,2,0),\"\")","v":""}]
[null,null,null,null,{"$f":"IFERROR(VLOOKUP(D9252,Справка!$G$2:$H$579,2,0),\"\")","v":""}]
[null,null,null,null,{"$f":"IFERROR(VLOOKUP(D9253,Справка!$G$2:$H$579,2,0),\"\")","v":""}]
[null,null,null,null,{"$f":"IFERROR(VLOOKUP(D9254,Справка!$G$2:$H$579,2,0),\"\")","v":""}]
[null,null,null,null,{"$f":"IFERROR(VLOOKUP(D9255,Справка!$G$2:$H$579,2,0),\"\")","v":""}]
[null,null,null,null,{"$f":"IFERROR(VLOOKUP(D9256,Справка!$G$2:$H$579,2,0),\"\")","v":""}]
[null,null,null,null,{"$f":"IFERROR(VLOOKUP(D9257,Справка!$G$2:$H$579,2,0),\"\")","v":""}]
[null,null,null,null,{"$f":"IFERROR(VLOOKUP(D9258,Справка!$G$2:$H$579,2,0),\"\")","v":""}]
[null,null,null,null,{"$f":"IFERROR(VLOOKUP(D9259,Справка!$G$2:$H$579,2,0),\"\")","v":""}]
[null,null,null,null,{"$f":"IFERROR(VLOOKUP(D9260,Справка!$G$2:$H$579,2,0),\"\")","v":""}]
[null,null,null,null,{"$f":"IFERROR(VLOOKUP(D9261,Справка!$G$2:$H$579,2,0),\"\")","v":""}]
[null,null,null,null,{"$f":"IFERROR(VLOOKUP(D9262,Справка!$G$2:$H$579,2,0),\"\")","v":""}]
[null,null,null,null,{"$f":"IFERROR(VLOOKUP(D9263,Справка!$G$2:$H$579,2,0),\"\")","v":""}]
[null,null,null,null,{"$f":"IFERROR(VLOOKUP(D9264,Справка!$G$2:$H$579,2,0),\"\")","v":""}]
[null,null,null,null,{"$f":"IFERROR(VLOOKUP(D9265,Справка!$G$2:$H$579,2,0),\"\")","v":""}]
[null,null,null,null,{"$f":"IFERROR(VLOOKUP(D9266,Справка!$G$2:$H$579,2,0),\"\")","v":""}]
[null,null,null,null,{"$f":"IFERROR(VLOOKUP(D9267,Справка!$G$2:$H$579,2,0),\"\")","v":""}]
[null,null,null,null,{"$f":"IFERROR(VLOOKUP(D9268,Справка!$G$2:$H$579,2,0),\"\")","v":""}]
[null,null,null,null,{"$f":"IFERROR(VLOOKUP(D9269,Справка!$G$2:$H$579,2,0),\"\")","v":""}]
[null,null,null,null,{"$f":"IFERROR(VLOOKUP(D9270,Справка!$G$2:$H$579,2,0),\"\")","v":""}]
[null,null,null,null,{"$f":"IFERROR(VLOOKUP(D9271,Справка!$G$2:$H$579,2,0),\"\")","v":""}]
[null,null,null,null,{"$f":"IFERROR(VLOOKUP(D9272,Справка!$G$2:$H$579,2,0),\"\")","v":""}]
[null,null,null,null,{"$f":"IFERROR(VLOOKUP(D9273,Справка!$G$2:$H$579,2,0),\"\")","v":""}]
[null,null,null,null,{"$f":"IFERROR(VLOOKUP(D9274,Справка!$G$2:$H$579,2,0),\"\")","v":""}]
[null,null,null,null,{"$f":"IFERROR(VLOOKUP(D9275,Справка!$G$2:$H$579,2,0),\"\")","v":""}]
[null,null,null,null,{"$f":"IFERROR(VLOOKUP(D9276,Справка!$G$2:$H$579,2,0),\"\")","v":""}]
[null,null,null,null,{"$f":"IFERROR(VLOOKUP(D9277,Справка!$G$2:$H$579,2,0),\"\")","v":""}]
[null,null,null,null,{"$f":"IFERROR(VLOOKUP(D9278,Справка!$G$2:$H$579,2,0),\"\")","v":""}]
[null,null,null,null,{"$f":"IFERROR(VLOOKUP(D9279,Справка!$G$2:$H$579,2,0),\"\")","v":""}]
[null,null,null,null,{"$f":"IFERROR(VLOOKUP(D9280,Справка!$G$2:$H$579,2,0),\"\")","v":""}]
[null,null,null,null,{"$f":"IFERROR(VLOOKUP(D9281,Справка!$G$2:$H$579,2,0),\"\")","v":""}]
[null,null,null,null,{"$f":"IFERROR(VLOOKUP(D9282,Справка!$G$2:$H$579,2,0),\"\")","v":""}]
[null,null,null,null,{"$f":"IFERROR(VLOOKUP(D9283,Справка!$G$2:$H$579,2,0),\"\")","v":""}]
[null,null,null,null,{"$f":"IFERROR(VLOOKUP(D9284,Справка!$G$2:$H$579,2,0),\"\")","v":""}]
[null,null,null,null,{"$f":"IFERROR(VLOOKUP(D9285,Справка!$G$2:$H$579,2,0),\"\")","v":""}]
[null,null,null,null,{"$f":"IFERROR(VLOOKUP(D9286,Справка!$G$2:$H$579,2,0),\"\")","v":""}]
[null,null,null,null,{"$f":"IFERROR(VLOOKUP(D9287,Справка!$G$2:$H$579,2,0),\"\")","v":""}]
[null,null,null,null,{"$f":"IFERROR(VLOOKUP(D9288,Справка!$G$2:$H$579,2,0),\"\")","v":""}]
[null,null,null,null,{"$f":"IFERROR(VLOOKUP(D9289,Справка!$G$2:$H$579,2,0),\"\")","v":""}]
[null,null,null,null,{"$f":"IFERROR(VLOOKUP(D9290,Справка!$G$2:$H$579,2,0),\"\")","v":""}]
[null,null,null,null,{"$f":"IFERROR(VLOOKUP(D9291,Справка!$G$2:$H$579,2,0),\"\")","v":""}]
[null,null,null,null,{"$f":"IFERROR(VLOOKUP(D9292,Справка!$G$2:$H$579,2,0),\"\")","v":""}]
[null,null,null,null,{"$f":"IFERROR(VLOOKUP(D9293,Справка!$G$2:$H$579,2,0),\"\")","v":""}]
[null,null,null,null,{"$f":"IFERROR(VLOOKUP(D9294,Справка!$G$2:$H$579,2,0),\"\")","v":""}]
[null,null,null,null,{"$f":"IFERROR(VLOOKUP(D9295,Справка!$G$2:$H$579,2,0),\"\")","v":""}]
[null,null,null,null,{"$f":"IFERROR(VLOOKUP(D9296,Справка!$G$2:$H$579,2,0),\"\")","v":""}]
[null,null,null,null,{"$f":"IFERROR(VLOOKUP(D9297,Справка!$G$2:$H$579,2,0),\"\")","v":""}]
[null,null,null,null,{"$f":"IFERROR(VLOOKUP(D9298,Справка!$G$2:$H$579,2,0),\"\")","v":""}]
[null,null,null,null,{"$f":"IFERROR(VLOOKUP(D9299,Справка!$G$2:$H$579,2,0),\"\")","v":""}]
[null,null,null,null,{"$f":"IFERROR(VLOOKUP(D9300,Справка!$G$2:$H$579,2,0),\"\")","v":""}]
[null,null,null,null,{"$f":"IFERROR(VLOOKUP(D9301,Справка!$G$2:$H$579,2,0),\"\")","v":""}]
[null,null,null,null,{"$f":"IFERROR(VLOOKUP(D9302,Справка!$G$2:$H$579,2,0),\"\")","v":""}]
[null,null,null,null,{"$f":"IFERROR(VLOOKUP(D9303,Справка!$G$2:$H$579,2,0),\"\")","v":""}]
[null,null,null,null,{"$f":"IFERROR(VLOOKUP(D9304,Справка!$G$2:$H$579,2,0),\"\")","v":""}]
[null,null,null,null,{"$f":"IFERROR(VLOOKUP(D9305,Справка!$G$2:$H$579,2,0),\"\")","v":""}]
[null,null,null,null,{"$f":"IFERROR(VLOOKUP(D9306,Справка!$G$2:$H$579,2,0),\"\")","v":""}]
[null,null,null,null,{"$f":"IFERROR(VLOOKUP(D9307,Справка!$G$2:$H$579,2,0),\"\")","v":""}]
[null,null,null,null,{"$f":"IFERROR(VLOOKUP(D9308,Справка!$G$2:$H$579,2,0),\"\")","v":""}]
[null,null,null,null,{"$f":"IFERROR(VLOOKUP(D9309,Справка!$G$2:$H$579,2,0),\"\")","v":""}]
[null,null,null,null,{"$f":"IFERROR(VLOOKUP(D9310,Справка!$G$2:$H$579,2,0),\"\")","v":""}]
[null,null,null,null,{"$f":"IFERROR(VLOOKUP(D9311,Справка!$G$2:$H$579,2,0),\"\")","v":""}]
[null,null,null,null,{"$f":"IFERROR(VLOOKUP(D9312,Справка!$G$2:$H$579,2,0),\"\")","v":""}]
[null,null,null,null,{"$f":"IFERROR(VLOOKUP(D9313,Справка!$G$2:$H$579,2,0),\"\")","v":""}]
[null,null,null,null,{"$f":"IFERROR(VLOOKUP(D9314,Справка!$G$2:$H$579,2,0),\"\")","v":""}]
[null,null,null,null,{"$f":"IFERROR(VLOOKUP(D9315,Справка!$G$2:$H$579,2,0),\"\")","v":""}]
[null,null,null,null,{"$f":"IFERROR(VLOOKUP(D9316,Справка!$G$2:$H$579,2,0),\"\")","v":""}]
[null,null,null,null,{"$f":"IFERROR(VLOOKUP(D9317,Справка!$G$2:$H$579,2,0),\"\")","v":""}]
[null,null,null,null,{"$f":"IFERROR(VLOOKUP(D9318,Справка!$G$2:$H$579,2,0),\"\")","v":""}]
[null,null,null,null,{"$f":"IFERROR(VLOOKUP(D9319,Справка!$G$2:$H$579,2,0),\"\")","v":""}]
[null,null,null,null,{"$f":"IFERROR(VLOOKUP(D9320,Справка!$G$2:$H$579,2,0),\"\")","v":""}]
[null,null,null,null,{"$f":"IFERROR(VLOOKUP(D9321,Справка!$G$2:$H$579,2,0),\"\")","v":""}]
[null,null,null,null,{"$f":"IFERROR(VLOOKUP(D9322,Справка!$G$2:$H$579,2,0),\"\")","v":""}]
[null,null,null,null,{"$f":"IFERROR(VLOOKUP(D9323,Справка!$G$2:$H$579,2,0),\"\")","v":""}]
[null,null,null,null,{"$f":"IFERROR(VLOOKUP(D9324,Справка!$G$2:$H$579,2,0),\"\")","v":""}]
[null,null,null,null,{"$f":"IFERROR(VLOOKUP(D9325,Справка!$G$2:$H$579,2,0),\"\")","v":""}]
[null,null,null,null,{"$f":"IFERROR(VLOOKUP(D9326,Справка!$G$2:$H$579,2,0),\"\")","v":""}]
[null,null,null,null,{"$f":"IFERROR(VLOOKUP(D9327,Справка!$G$2:$H$579,2,0),\"\")","v":""}]
[null,null,null,null,{"$f":"IFERROR(VLOOKUP(D9328,Справка!$G$2:$H$579,2,0),\"\")","v":""}]
[null,null,null,null,{"$f":"IFERROR(VLOOKUP(D9329,Справка!$G$2:$H$579,2,0),\"\")","v":""}]
[null,null,null,null,{"$f":"IFERROR(VLOOKUP(D9330,Справка!$G$2:$H$579,2,0),\"\")","v":""}]
[null,null,null,null,{"$f":"IFERROR(VLOOKUP(D9331,Справка!$G$2:$H$579,2,0),\"\")","v":""}]
[null,null,null,null,{"$f":"IFERROR(VLOOKUP(D9332,Справка!$G$2:$H$579,2,0),\"\")","v":""}]
[null,null,null,null,{"$f":"IFERROR(VLOOKUP(D9333,Справка!$G$2:$H$579,2,0),\"\")","v":""}]
[null,null,null,null,{"$f":"IFERROR(VLOOKUP(D9334,Справка!$G$2:$H$579,2,0),\"\")","v":""}]
[null,null,null,null,{"$f":"IFERROR(VLOOKUP(D9335,Справка!$G$2:$H$579,2,0),\"\")","v":""}]
[null,null,null,null,{"$f":"IFERROR(VLOOKUP(D9336,Справка!$G$2:$H$579,2,0),\"\")","v":""}]
[null,null,null,null,{"$f":"IFERROR(VLOOKUP(D9337,Справка!$G$2:$H$579,2,0),\"\")","v":""}]
[null,null,null,null,{"$f":"IFERROR(VLOOKUP(D9338,Справка!$G$2:$H$579,2,0),\"\")","v":""}]
[null,null,null,null,{"$f":"IFERROR(VLOOKUP(D9339,Справка!$G$2:$H$579,2,0),\"\")","v":""}]
[null,null,null,null,{"$f":"IFERROR(VLOOKUP(D9340,Справка!$G$2:$H$579,2,0),\"\")","v":""}]
[null,null,null,null,{"$f":"IFERROR(VLOOKUP(D9341,Справка!$G$2:$H$579,2,0),\"\")","v":""}]
[null,null,null,null,{"$f":"IFERROR(VLOOKUP(D9342,Справка!$G$2:$H$579,2,0),\"\")","v":""}]
[null,null,null,null,{"$f":"IFERROR(VLOOKUP(D9343,Справка!$G$2:$H$579,2,0),\"\")","v":""}]
[null,null,null,null,{"$f":"IFERROR(VLOOKUP(D9344,Справка!$G$2:$H$579,2,0),\"\")","v":""}]
[null,null,null,null,{"$f":"IFERROR(VLOOKUP(D9345,Справка!$G$2:$H$579,2,0),\"\")","v":""}]
[null,null,null,null,{"$f":"IFERROR(VLOOKUP(D9346,Справка!$G$2:$H$579,2,0),\"\")","v":""}]
[null,null,null,null,{"$f":"IFERROR(VLOOKUP(D9347,Справка!$G$2:$H$579,2,0),\"\")","v":""}]
[null,null,null,null,{"$f":"IFERROR(VLOOKUP(D9348,Справка!$G$2:$H$579,2,0),\"\")","v":""}]
[null,null,null,null,{"$f":"IFERROR(VLOOKUP(D9349,Справка!$G$2:$H$579,2,0),\"\")","v":""}]
[null,null,null,null,{"$f":"IFERROR(VLOOKUP(D9350,Справка!$G$2:$H$579,2,0),\"\")","v":""}]
[null,null,null,null,{"$f":"IFERROR(VLOOKUP(D9351,Справка!$G$2:$H$579,2,0),\"\")","v":""}]
[null,null,null,null,{"$f":"IFERROR(VLOOKUP(D9352,Справка!$G$2:$H$579,2,0),\"\")","v":""}]
[null,null,null,null,{"$f":"IFERROR(VLOOKUP(D9353,Справка!$G$2:$H$579,2,0),\"\")","v":""}]
[null,null,null,null,{"$f":"IFERROR(VLOOKUP(D9354,Справка!$G$2:$H$579,2,0),\"\")","v":""}]
[null,null,null,null,{"$f":"IFERROR(VLOOKUP(D9355,Справка!$G$2:$H$579,2,0),\"\")","v":""}]
[null,null,null,null,{"$f":"IFERROR(VLOOKUP(D9356,Справка!$G$2:$H$579,2,0),\"\")","v":""}]
[null,null,null,null,{"$f":"IFERROR(VLOOKUP(D9357,Справка!$G$2:$H$579,2,0),\"\")","v":""}]
[null,null,null,null,{"$f":"IFERROR(VLOOKUP(D9358,Справка!$G$2:$H$579,2,0),\"\")","v":""}]
[null,null,null,null,{"$f":"IFERROR(VLOOKUP(D9359,Справка!$G$2:$H$579,2,0),\"\")","v":""}]
[null,null,null,null,{"$f":"IFERROR(VLOOKUP(D9360,Справка!$G$2:$H$579,2,0),\"\")","v":""}]
[null,null,null,null,{"$f":"IFERROR(VLOOKUP(D9361,Справка!$G$2:$H$579,2,0),\"\")","v":""}]
[null,null,null,null,{"$f":"IFERROR(VLOOKUP(D9362,Справка!$G$2:$H$579,2,0),\"\")","v":""}]
[null,null,null,null,{"$f":"IFERROR(VLOOKUP(D9363,Справка!$G$2:$H$579,2,0),\"\")","v":""}]
[null,null,null,null,{"$f":"IFERROR(VLOOKUP(D9364,Справка!$G$2:$H$579,2,0),\"\")","v":""}]
[null,null,null,null,{"$f":"IFERROR(VLOOKUP(D9365,Справка!$G$2:$H$579,2,0),\"\")","v":""}]
[null,null,null,null,{"$f":"IFERROR(VLOOKUP(D9366,Справка!$G$2:$H$579,2,0),\"\")","v":""}]
[null,null,null,null,{"$f":"IFERROR(VLOOKUP(D9367,Справка!$G$2:$H$579,2,0),\"\")","v":""}]
[null,null,null,null,{"$f":"IFERROR(VLOOKUP(D9368,Справка!$G$2:$H$579,2,0),\"\")","v":""}]
[null,null,null,null,{"$f":"IFERROR(VLOOKUP(D9369,Справка!$G$2:$H$579,2,0),\"\")","v":""}]
[null,null,null,null,{"$f":"IFERROR(VLOOKUP(D9370,Справка!$G$2:$H$579,2,0),\"\")","v":""}]
[null,null,null,null,{"$f":"IFERROR(VLOOKUP(D9371,Справка!$G$2:$H$579,2,0),\"\")","v":""}]
[null,null,null,null,{"$f":"IFERROR(VLOOKUP(D9372,Справка!$G$2:$H$579,2,0),\"\")","v":""}]
[null,null,null,null,{"$f":"IFERROR(VLOOKUP(D9373,Справка!$G$2:$H$579,2,0),\"\")","v":""}]
[null,null,null,null,{"$f":"IFERROR(VLOOKUP(D9374,Справка!$G$2:$H$579,2,0),\"\")","v":""}]
[null,null,null,null,{"$f":"IFERROR(VLOOKUP(D9375,Справка!$G$2:$H$579,2,0),\"\")","v":""}]
[null,null,null,null,{"$f":"IFERROR(VLOOKUP(D9376,Справка!$G$2:$H$579,2,0),\"\")","v":""}]
[null,null,null,null,{"$f":"IFERROR(VLOOKUP(D9377,Справка!$G$2:$H$579,2,0),\"\")","v":""}]
[null,null,null,null,{"$f":"IFERROR(VLOOKUP(D9378,Справка!$G$2:$H$579,2,0),\"\")","v":""}]
[null,null,null,null,{"$f":"IFERROR(VLOOKUP(D9379,Справка!$G$2:$H$579,2,0),\"\")","v":""}]
[null,null,null,null,{"$f":"IFERROR(VLOOKUP(D9380,Справка!$G$2:$H$579,2,0),\"\")","v":""}]
[null,null,null,null,{"$f":"IFERROR(VLOOKUP(D9381,Справка!$G$2:$H$579,2,0),\"\")","v":""}]
[null,null,null,null,{"$f":"IFERROR(VLOOKUP(D9382,Справка!$G$2:$H$579,2,0),\"\")","v":""}]
[null,null,null,null,{"$f":"IFERROR(VLOOKUP(D9383,Справка!$G$2:$H$579,2,0),\"\")","v":""}]
[null,null,null,null,{"$f":"IFERROR(VLOOKUP(D9384,Справка!$G$2:$H$579,2,0),\"\")","v":""}]
[null,null,null,null,{"$f":"IFERROR(VLOOKUP(D9385,Справка!$G$2:$H$579,2,0),\"\")","v":""}]
[null,null,null,null,{"$f":"IFERROR(VLOOKUP(D9386,Справка!$G$2:$H$579,2,0),\"\")","v":""}]
[null,null,null,null,{"$f":"IFERROR(VLOOKUP(D9387,Справка!$G$2:$H$579,2,0),\"\")","v":""}]
[null,null,null,null,{"$f":"IFERROR(VLOOKUP(D9388,Справка!$G$2:$H$579,2,0),\"\")","v":""}]
[null,null,null,null,{"$f":"IFERROR(VLOOKUP(D9389,Справка!$G$2:$H$579,2,0),\"\")","v":""}]
[null,null,null,null,{"$f":"IFERROR(VLOOKUP(D9390,Справка!$G$2:$H$579,2,0),\"\")","v":""}]
[null,null,null,null,{"$f":"IFERROR(VLOOKUP(D9391,Справка!$G$2:$H$579,2,0),\"\")","v":""}]
[null,null,null,null,{"$f":"IFERROR(VLOOKUP(D9392,Справка!$G$2:$H$579,2,0),\"\")","v":""}]
[null,null,null,null,{"$f":"IFERROR(VLOOKUP(D9393,Справка!$G$2:$H$579,2,0),\"\")","v":""}]
[null,null,null,null,{"$f":"IFERROR(VLOOKUP(D9394,Справка!$G$2:$H$579,2,0),\"\")","v":""}]
[null,null,null,null,{"$f":"IFERROR(VLOOKUP(D9395,Справка!$G$2:$H$579,2,0),\"\")","v":""}]
[null,null,null,null,{"$f":"IFERROR(VLOOKUP(D9396,Справка!$G$2:$H$579,2,0),\"\")","v":""}]
[null,null,null,null,{"$f":"IFERROR(VLOOKUP(D9397,Справка!$G$2:$H$579,2,0),\"\")","v":""}]
[null,null,null,null,{"$f":"IFERROR(VLOOKUP(D9398,Справка!$G$2:$H$579,2,0),\"\")","v":""}]
[null,null,null,null,{"$f":"IFERROR(VLOOKUP(D9399,Справка!$G$2:$H$579,2,0),\"\")","v":""}]
[null,null,null,null,{"$f":"IFERROR(VLOOKUP(D9400,Справка!$G$2:$H$579,2,0),\"\")","v":""}]
[null,null,null,null,{"$f":"IFERROR(VLOOKUP(D9401,Справка!$G$2:$H$579,2,0),\"\")","v":""}]
[null,null,null,null,{"$f":"IFERROR(VLOOKUP(D9402,Справка!$G$2:$H$579,2,0),\"\")","v":""}]
[null,null,null,null,{"$f":"IFERROR(VLOOKUP(D9403,Справка!$G$2:$H$579,2,0),\"\")","v":""}]
[null,null,null,null,{"$f":"IFERROR(VLOOKUP(D9404,Справка!$G$2:$H$579,2,0),\"\")","v":""}]
[null,null,null,null,{"$f":"IFERROR(VLOOKUP(D9405,Справка!$G$2:$H$579,2,0),\"\")","v":""}]
[null,null,null,null,{"$f":"IFERROR(VLOOKUP(D9406,Справка!$G$2:$H$579,2,0),\"\")","v":""}]
[null,null,null,null,{"$f":"IFERROR(VLOOKUP(D9407,Справка!$G$2:$H$579,2,0),\"\")","v":""}]
[null,null,null,null,{"$f":"IFERROR(VLOOKUP(D9408,Справка!$G$2:$H$579,2,0),\"\")","v":""}]
[null,null,null,null,{"$f":"IFERROR(VLOOKUP(D9409,Справка!$G$2:$H$579,2,0),\"\")","v":""}]
[null,null,null,null,{"$f":"IFERROR(VLOOKUP(D9410,Справка!$G$2:$H$579,2,0),\"\")","v":""}]
[null,null,null,null,{"$f":"IFERROR(VLOOKUP(D9411,Справка!$G$2:$H$579,2,0),\"\")","v":""}]
[null,null,null,null,{"$f":"IFERROR(VLOOKUP(D9412,Справка!$G$2:$H$579,2,0),\"\")","v":""}]
[null,null,null,null,{"$f":"IFERROR(VLOOKUP(D9413,Справка!$G$2:$H$579,2,0),\"\")","v":""}]
[null,null,null,null,{"$f":"IFERROR(VLOOKUP(D9414,Справка!$G$2:$H$579,2,0),\"\")","v":""}]
[null,null,null,null,{"$f":"IFERROR(VLOOKUP(D9415,Справка!$G$2:$H$579,2,0),\"\")","v":""}]
[null,null,null,null,{"$f":"IFERROR(VLOOKUP(D9416,Справка!$G$2:$H$579,2,0),\"\")","v":""}]
[null,null,null,null,{"$f":"IFERROR(VLOOKUP(D9417,Справка!$G$2:$H$579,2,0),\"\")","v":""}]
[null,null,null,null,{"$f":"IFERROR(VLOOKUP(D9418,Справка!$G$2:$H$579,2,0),\"\")","v":""}]
[null,null,null,null,{"$f":"IFERROR(VLOOKUP(D9419,Справка!$G$2:$H$579,2,0),\"\")","v":""}]
[null,null,null,null,{"$f":"IFERROR(VLOOKUP(D9420,Справка!$G$2:$H$579,2,0),\"\")","v":""}]
[null,null,null,null,{"$f":"IFERROR(VLOOKUP(D9421,Справка!$G$2:$H$579,2,0),\"\")","v":""}]
[null,null,null,null,{"$f":"IFERROR(VLOOKUP(D9422,Справка!$G$2:$H$579,2,0),\"\")","v":""}]
[null,null,null,null,{"$f":"IFERROR(VLOOKUP(D9423,Справка!$G$2:$H$579,2,0),\"\")","v":""}]
[null,null,null,null,{"$f":"IFERROR(VLOOKUP(D9424,Справка!$G$2:$H$579,2,0),\"\")","v":""}]
[null,null,null,null,{"$f":"IFERROR(VLOOKUP(D9425,Справка!$G$2:$H$579,2,0),\"\")","v":""}]
[null,null,null,null,{"$f":"IFERROR(VLOOKUP(D9426,Справка!$G$2:$H$579,2,0),\"\")","v":""}]
[null,null,null,null,{"$f":"IFERROR(VLOOKUP(D9427,Справка!$G$2:$H$579,2,0),\"\")","v":""}]
[null,null,null,null,{"$f":"IFERROR(VLOOKUP(D9428,Справка!$G$2:$H$579,2,0),\"\")","v":""}]
[null,null,null,null,{"$f":"IFERROR(VLOOKUP(D9429,Справка!$G$2:$H$579,2,0),\"\")","v":""}]
[null,null,null,null,{"$f":"IFERROR(VLOOKUP(D9430,Справка!$G$2:$H$579,2,0),\"\")","v":""}]
[null,null,null,null,{"$f":"IFERROR(VLOOKUP(D9431,Справка!$G$2:$H$579,2,0),\"\")","v":""}]
[null,null,null,null,{"$f":"IFERROR(VLOOKUP(D9432,Справка!$G$2:$H$579,2,0),\"\")","v":""}]
[null,null,null,null,{"$f":"IFERROR(VLOOKUP(D9433,Справка!$G$2:$H$579,2,0),\"\")","v":""}]
[null,null,null,null,{"$f":"IFERROR(VLOOKUP(D9434,Справка!$G$2:$H$579,2,0),\"\")","v":""}]
[null,null,null,null,{"$f":"IFERROR(VLOOKUP(D9435,Справка!$G$2:$H$579,2,0),\"\")","v":""}]
[null,null,null,null,{"$f":"IFERROR(VLOOKUP(D9436,Справка!$G$2:$H$579,2,0),\"\")","v":""}]
[null,null,null,null,{"$f":"IFERROR(VLOOKUP(D9437,Справка!$G$2:$H$579,2,0),\"\")","v":""}]
[null,null,null,null,{"$f":"IFERROR(VLOOKUP(D9438,Справка!$G$2:$H$579,2,0),\"\")","v":""}]
[null,null,null,null,{"$f":"IFERROR(VLOOKUP(D9439,Справка!$G$2:$H$579,2,0),\"\")","v":""}]
[null,null,null,null,{"$f":"IFERROR(VLOOKUP(D9440,Справка!$G$2:$H$579,2,0),\"\")","v":""}]
[null,null,null,null,{"$f":"IFERROR(VLOOKUP(D9441,Справка!$G$2:$H$579,2,0),\"\")","v":""}]
[null,null,null,null,{"$f":"IFERROR(VLOOKUP(D9442,Справка!$G$2:$H$579,2,0),\"\")","v":""}]
[null,null,null,null,{"$f":"IFERROR(VLOOKUP(D9443,Справка!$G$2:$H$579,2,0),\"\")","v":""}]
[null,null,null,null,{"$f":"IFERROR(VLOOKUP(D9444,Справка!$G$2:$H$579,2,0),\"\")","v":""}]
[null,null,null,null,{"$f":"IFERROR(VLOOKUP(D9445,Справка!$G$2:$H$579,2,0),\"\")","v":""}]
[null,null,null,null,{"$f":"IFERROR(VLOOKUP(D9446,Справка!$G$2:$H$579,2,0),\"\")","v":""}]
[null,null,null,null,{"$f":"IFERROR(VLOOKUP(D9447,Справка!$G$2:$H$579,2,0),\"\")","v":""}]
[null,null,null,null,{"$f":"IFERROR(VLOOKUP(D9448,Справка!$G$2:$H$579,2,0),\"\")","v":""}]
[null,null,null,null,{"$f":"IFERROR(VLOOKUP(D9449,Справка!$G$2:$H$579,2,0),\"\")","v":""}]
[null,null,null,null,{"$f":"IFERROR(VLOOKUP(D9450,Справка!$G$2:$H$579,2,0),\"\")","v":""}]
[null,null,null,null,{"$f":"IFERROR(VLOOKUP(D9451,Справка!$G$2:$H$579,2,0),\"\")","v":""}]
[null,null,null,null,{"$f":"IFERROR(VLOOKUP(D9452,Справка!$G$2:$H$579,2,0),\"\")","v":""}]
[null,null,null,null,{"$f":"IFERROR(VLOOKUP(D9453,Справка!$G$2:$H$579,2,0),\"\")","v":""}]
[null,null,null,null,{"$f":"IFERROR(VLOOKUP(D9454,Справка!$G$2:$H$579,2,0),\"\")","v":""}]
[null,null,null,null,{"$f":"IFERROR(VLOOKUP(D9455,Справка!$G$2:$H$579,2,0),\"\")","v":""}]
[null,null,null,null,{"$f":"IFERROR(VLOOKUP(D9456,Справка!$G$2:$H$579,2,0),\"\")","v":""}]
[null,null,null,null,{"$f":"IFERROR(VLOOKUP(D9457,Справка!$G$2:$H$579,2,0),\"\")","v":""}]
[null,null,null,null,{"$f":"IFERROR(VLOOKUP(D9458,Справка!$G$2:$H$579,2,0),\"\")","v":""}]
[null,null,null,null,{"$f":"IFERROR(VLOOKUP(D9459,Справка!$G$2:$H$579,2,0),\"\")","v":""}]
[null,null,null,null,{"$f":"IFERROR(VLOOKUP(D9460,Справка!$G$2:$H$579,2,0),\"\")","v":""}]
[null,null,null,null,{"$f":"IFERROR(VLOOKUP(D9461,Справка!$G$2:$H$579,2,0),\"\")","v":""}]
[null,null,null,null,{"$f":"IFERROR(VLOOKUP(D9462,Справка!$G$2:$H$579,2,0),\"\")","v":""}]
[null,null,null,null,{"$f":"IFERROR(VLOOKUP(D9463,Справка!$G$2:$H$579,2,0),\"\")","v":""}]
[null,null,null,null,{"$f":"IFERROR(VLOOKUP(D9464,Справка!$G$2:$H$579,2,0),\"\")","v":""}]
[null,null,null,null,{"$f":"IFERROR(VLOOKUP(D9465,Справка!$G$2:$H$579,2,0),\"\")","v":""}]
[null,null,null,null,{"$f":"IFERROR(VLOOKUP(D9466,Справка!$G$2:$H$579,2,0),\"\")","v":""}]
[null,null,null,null,{"$f":"IFERROR(VLOOKUP(D9467,Справка!$G$2:$H$579,2,0),\"\")","v":""}]
[null,null,null,null,{"$f":"IFERROR(VLOOKUP(D9468,Справка!$G$2:$H$579,2,0),\"\")","v":""}]
[null,null,null,null,{"$f":"IFERROR(VLOOKUP(D9469,Справка!$G$2:$H$579,2,0),\"\")","v":""}]
[null,null,null,null,{"$f":"IFERROR(VLOOKUP(D9470,Справка!$G$2:$H$579,2,0),\"\")","v":""}]
[null,null,null,null,{"$f":"IFERROR(VLOOKUP(D9471,Справка!$G$2:$H$579,2,0),\"\")","v":""}]
[null,null,null,null,{"$f":"IFERROR(VLOOKUP(D9472,Справка!$G$2:$H$579,2,0),\"\")","v":""}]
[null,null,null,null,{"$f":"IFERROR(VLOOKUP(D9473,Справка!$G$2:$H$579,2,0),\"\")","v":""}]
[null,null,null,null,{"$f":"IFERROR(VLOOKUP(D9474,Справка!$G$2:$H$579,2,0),\"\")","v":""}]
[null,null,null,null,{"$f":"IFERROR(VLOOKUP(D9475,Справка!$G$2:$H$579,2,0),\"\")","v":""}]
[null,null,null,null,{"$f":"IFERROR(VLOOKUP(D9476,Справка!$G$2:$H$579,2,0),\"\")","v":""}]
[null,null,null,null,{"$f":"IFERROR(VLOOKUP(D9477,Справка!$G$2:$H$579,2,0),\"\")","v":""}]
[null,null,null,null,{"$f":"IFERROR(VLOOKUP(D9478,Справка!$G$2:$H$579,2,0),\"\")","v":""}]
[null,null,null,null,{"$f":"IFERROR(VLOOKUP(D9479,Справка!$G$2:$H$579,2,0),\"\")","v":""}]
[null,null,null,null,{"$f":"IFERROR(VLOOKUP(D9480,Справка!$G$2:$H$579,2,0),\"\")","v":""}]
[null,null,null,null,{"$f":"IFERROR(VLOOKUP(D9481,Справка!$G$2:$H$579,2,0),\"\")","v":""}]
[null,null,null,null,{"$f":"IFERROR(VLOOKUP(D9482,Справка!$G$2:$H$579,2,0),\"\")","v":""}]
[null,null,null,null,{"$f":"IFERROR(VLOOKUP(D9483,Справка!$G$2:$H$579,2,0),\"\")","v":""}]
[null,null,null,null,{"$f":"IFERROR(VLOOKUP(D9484,Справка!$G$2:$H$579,2,0),\"\")","v":""}]
[null,null,null,null,{"$f":"IFERROR(VLOOKUP(D9485,Справка!$G$2:$H$579,2,0),\"\")","v":""}]
[null,null,null,null,{"$f":"IFERROR(VLOOKUP(D9486,Справка!$G$2:$H$579,2,0),\"\")","v":""}]
[null,null,null,null,{"$f":"IFERROR(VLOOKUP(D9487,Справка!$G$2:$H$579,2,0),\"\")","v":""}]
[null,null,null,null,{"$f":"IFERROR(VLOOKUP(D9488,Справка!$G$2:$H$579,2,0),\"\")","v":""}]
[null,null,null,null,{"$f":"IFERROR(VLOOKUP(D9489,Справка!$G$2:$H$579,2,0),\"\")","v":""}]
[null,null,null,null,{"$f":"IFERROR(VLOOKUP(D9490,Справка!$G$2:$H$579,2,0),\"\")","v":""}]
[null,null,null,null,{"$f":"IFERROR(VLOOKUP(D9491,Справка!$G$2:$H$579,2,0),\"\")","v":""}]
[null,null,null,null,{"$f":"IFERROR(VLOOKUP(D9492,Справка!$G$2:$H$579,2,0),\"\")","v":""}]
[null,null,null,null,{"$f":"IFERROR(VLOOKUP(D9493,Справка!$G$2:$H$579,2,0),\"\")","v":""}]
[null,null,null,null,{"$f":"IFERROR(VLOOKUP(D9494,Справка!$G$2:$H$579,2,0),\"\")","v":""}]
[null,null,null,null,{"$f":"IFERROR(VLOOKUP(D9495,Справка!$G$2:$H$579,2,0),\"\")","v":""}]
[null,null,null,null,{"$f":"IFERROR(VLOOKUP(D9496,Справка!$G$2:$H$579,2,0),\"\")","v":""}]
[null,null,null,null,{"$f":"IFERROR(VLOOKUP(D9497,Справка!$G$2:$H$579,2,0),\"\")","v":""}]
[null,null,null,null,{"$f":"IFERROR(VLOOKUP(D9498,Справка!$G$2:$H$579,2,0),\"\")","v":""}]
[null,null,null,null,{"$f":"IFERROR(VLOOKUP(D9499,Справка!$G$2:$H$579,2,0),\"\")","v":""}]
[null,null,null,null,{"$f":"IFERROR(VLOOKUP(D9500,Справка!$G$2:$H$579,2,0),\"\")","v":""}]
[null,null,null,null,{"$f":"IFERROR(VLOOKUP(D9501,Справка!$G$2:$H$579,2,0),\"\")","v":""}]
[null,null,null,null,{"$f":"IFERROR(VLOOKUP(D9502,Справка!$G$2:$H$579,2,0),\"\")","v":""}]
[null,null,null,null,{"$f":"IFERROR(VLOOKUP(D9503,Справка!$G$2:$H$579,2,0),\"\")","v":""}]
[null,null,null,null,{"$f":"IFERROR(VLOOKUP(D9504,Справка!$G$2:$H$579,2,0),\"\")","v":""}]
[null,null,null,null,{"$f":"IFERROR(VLOOKUP(D9505,Справка!$G$2:$H$579,2,0),\"\")","v":""}]
[null,null,null,null,{"$f":"IFERROR(VLOOKUP(D9506,Справка!$G$2:$H$579,2,0),\"\")","v":""}]
[null,null,null,null,{"$f":"IFERROR(VLOOKUP(D9507,Справка!$G$2:$H$579,2,0),\"\")","v":""}]
[null,null,null,null,{"$f":"IFERROR(VLOOKUP(D9508,Справка!$G$2:$H$579,2,0),\"\")","v":""}]
[null,null,null,null,{"$f":"IFERROR(VLOOKUP(D9509,Справка!$G$2:$H$579,2,0),\"\")","v":""}]
[null,null,null,null,{"$f":"IFERROR(VLOOKUP(D9510,Справка!$G$2:$H$579,2,0),\"\")","v":""}]
[null,null,null,null,{"$f":"IFERROR(VLOOKUP(D9511,Справка!$G$2:$H$579,2,0),\"\")","v":""}]
[null,null,null,null,{"$f":"IFERROR(VLOOKUP(D9512,Справка!$G$2:$H$579,2,0),\"\")","v":""}]
[null,null,null,null,{"$f":"IFERROR(VLOOKUP(D9513,Справка!$G$2:$H$579,2,0),\"\")","v":""}]
[null,null,null,null,{"$f":"IFERROR(VLOOKUP(D9514,Справка!$G$2:$H$579,2,0),\"\")","v":""}]
[null,null,null,null,{"$f":"IFERROR(VLOOKUP(D9515,Справка!$G$2:$H$579,2,0),\"\")","v":""}]
[null,null,null,null,{"$f":"IFERROR(VLOOKUP(D9516,Справка!$G$2:$H$579,2,0),\"\")","v":""}]
[null,null,null,null,{"$f":"IFERROR(VLOOKUP(D9517,Справка!$G$2:$H$579,2,0),\"\")","v":""}]
[null,null,null,null,{"$f":"IFERROR(VLOOKUP(D9518,Справка!$G$2:$H$579,2,0),\"\")","v":""}]
[null,null,null,null,{"$f":"IFERROR(VLOOKUP(D9519,Справка!$G$2:$H$579,2,0),\"\")","v":""}]
[null,null,null,null,{"$f":"IFERROR(VLOOKUP(D9520,Справка!$G$2:$H$579,2,0),\"\")","v":""}]
[null,null,null,null,{"$f":"IFERROR(VLOOKUP(D9521,Справка!$G$2:$H$579,2,0),\"\")","v":""}]
[null,null,null,null,{"$f":"IFERROR(VLOOKUP(D9522,Справка!$G$2:$H$579,2,0),\"\")","v":""}]
[null,null,null,null,{"$f":"IFERROR(VLOOKUP(D9523,Справка!$G$2:$H$579,2,0),\"\")","v":""}]
[null,null,null,null,{"$f":"IFERROR(VLOOKUP(D9524,Справка!$G$2:$H$579,2,0),\"\")","v":""}]
[null,null,null,null,{"$f":"IFERROR(VLOOKUP(D9525,Справка!$G$2:$H$579,2,0),\"\")","v":""}]
[null,null,null,null,{"$f":"IFERROR(VLOOKUP(D9526,Справка!$G$2:$H$579,2,0),\"\")","v":""}]
[null,null,null,null,{"$f":"IFERROR(VLOOKUP(D9527,Справка!$G$2:$H$579,2,0),\"\")","v":""}]
[null,null,null,null,{"$f":"IFERROR(VLOOKUP(D9528,Справка!$G$2:$H$579,2,0),\"\")","v":""}]
[null,null,null,null,{"$f":"IFERROR(VLOOKUP(D9529,Справка!$G$2:$H$579,2,0),\"\")","v":""}]
[null,null,null,null,{"$f":"IFERROR(VLOOKUP(D9530,Справка!$G$2:$H$579,2,0),\"\")","v":""}]
[null,null,null,null,{"$f":"IFERROR(VLOOKUP(D9531,Справка!$G$2:$H$579,2,0),\"\")","v":""}]
[null,null,null,null,{"$f":"IFERROR(VLOOKUP(D9532,Справка!$G$2:$H$579,2,0),\"\")","v":""}]
[null,null,null,null,{"$f":"IFERROR(VLOOKUP(D9533,Справка!$G$2:$H$579,2,0),\"\")","v":""}]
[null,null,null,null,{"$f":"IFERROR(VLOOKUP(D9534,Справка!$G$2:$H$579,2,0),\"\")","v":""}]
[null,null,null,null,{"$f":"IFERROR(VLOOKUP(D9535,Справка!$G$2:$H$579,2,0),\"\")","v":""}]
[null,null,null,null,{"$f":"IFERROR(VLOOKUP(D9536,Справка!$G$2:$H$579,2,0),\"\")","v":""}]
[null,null,null,null,{"$f":"IFERROR(VLOOKUP(D9537,Справка!$G$2:$H$579,2,0),\"\")","v":""}]
[null,null,null,null,{"$f":"IFERROR(VLOOKUP(D9538,Справка!$G$2:$H$579,2,0),\"\")","v":""}]
[null,null,null,null,{"$f":"IFERROR(VLOOKUP(D9539,Справка!$G$2:$H$579,2,0),\"\")","v":""}]
[null,null,null,null,{"$f":"IFERROR(VLOOKUP(D9540,Справка!$G$2:$H$579,2,0),\"\")","v":""}]
[null,null,null,null,{"$f":"IFERROR(VLOOKUP(D9541,Справка!$G$2:$H$579,2,0),\"\")","v":""}]
[null,null,null,null,{"$f":"IFERROR(VLOOKUP(D9542,Справка!$G$2:$H$579,2,0),\"\")","v":""}]
[null,null,null,null,{"$f":"IFERROR(VLOOKUP(D9543,Справка!$G$2:$H$579,2,0),\"\")","v":""}]
[null,null,null,null,{"$f":"IFERROR(VLOOKUP(D9544,Справка!$G$2:$H$579,2,0),\"\")","v":""}]
[null,null,null,null,{"$f":"IFERROR(VLOOKUP(D9545,Справка!$G$2:$H$579,2,0),\"\")","v":""}]
[null,null,null,null,{"$f":"IFERROR(VLOOKUP(D9546,Справка!$G$2:$H$579,2,0),\"\")","v":""}]
[null,null,null,null,{"$f":"IFERROR(VLOOKUP(D9547,Справка!$G$2:$H$579,2,0),\"\")","v":""}]
[null,null,null,null,{"$f":"IFERROR(VLOOKUP(D9548,Справка!$G$2:$H$579,2,0),\"\")","v":""}]
[null,null,null,null,{"$f":"IFERROR(VLOOKUP(D9549,Справка!$G$2:$H$579,2,0),\"\")","v":""}]
[null,null,null,null,{"$f":"IFERROR(VLOOKUP(D9550,Справка!$G$2:$H$579,2,0),\"\")","v":""}]
[null,null,null,null,{"$f":"IFERROR(VLOOKUP(D9551,Справка!$G$2:$H$579,2,0),\"\")","v":""}]
[null,null,null,null,{"$f":"IFERROR(VLOOKUP(D9552,Справка!$G$2:$H$579,2,0),\"\")","v":""}]
[null,null,null,null,{"$f":"IFERROR(VLOOKUP(D9553,Справка!$G$2:$H$579,2,0),\"\")","v":""}]
[null,null,null,null,{"$f":"IFERROR(VLOOKUP(D9554,Справка!$G$2:$H$579,2,0),\"\")","v":""}]
[null,null,null,null,{"$f":"IFERROR(VLOOKUP(D9555,Справка!$G$2:$H$579,2,0),\"\")","v":""}]
[null,null,null,null,{"$f":"IFERROR(VLOOKUP(D9556,Справка!$G$2:$H$579,2,0),\"\")","v":""}]
[null,null,null,null,{"$f":"IFERROR(VLOOKUP(D9557,Справка!$G$2:$H$579,2,0),\"\")","v":""}]
[null,null,null,null,{"$f":"IFERROR(VLOOKUP(D9558,Справка!$G$2:$H$579,2,0),\"\")","v":""}]
[null,null,null,null,{"$f":"IFERROR(VLOOKUP(D9559,Справка!$G$2:$H$579,2,0),\"\")","v":""}]
[null,null,null,null,{"$f":"IFERROR(VLOOKUP(D9560,Справка!$G$2:$H$579,2,0),\"\")","v":""}]
[null,null,null,null,{"$f":"IFERROR(VLOOKUP(D9561,Справка!$G$2:$H$579,2,0),\"\")","v":""}]
[null,null,null,null,{"$f":"IFERROR(VLOOKUP(D9562,Справка!$G$2:$H$579,2,0),\"\")","v":""}]
[null,null,null,null,{"$f":"IFERROR(VLOOKUP(D9563,Справка!$G$2:$H$579,2,0),\"\")","v":""}]
[null,null,null,null,{"$f":"IFERROR(VLOOKUP(D9564,Справка!$G$2:$H$579,2,0),\"\")","v":""}]
[null,null,null,null,{"$f":"IFERROR(VLOOKUP(D9565,Справка!$G$2:$H$579,2,0),\"\")","v":""}]
[null,null,null,null,{"$f":"IFERROR(VLOOKUP(D9566,Справка!$G$2:$H$579,2,0),\"\")","v":""}]
[null,null,null,null,{"$f":"IFERROR(VLOOKUP(D9567,Справка!$G$2:$H$579,2,0),\"\")","v":""}]
[null,null,null,null,{"$f":"IFERROR(VLOOKUP(D9568,Справка!$G$2:$H$579,2,0),\"\")","v":""}]
[null,null,null,null,{"$f":"IFERROR(VLOOKUP(D9569,Справка!$G$2:$H$579,2,0),\"\")","v":""}]
[null,null,null,null,{"$f":"IFERROR(VLOOKUP(D9570,Справка!$G$2:$H$579,2,0),\"\")","v":""}]
[null,null,null,null,{"$f":"IFERROR(VLOOKUP(D9571,Справка!$G$2:$H$579,2,0),\"\")","v":""}]
[null,null,null,null,{"$f":"IFERROR(VLOOKUP(D9572,Справка!$G$2:$H$579,2,0),\"\")","v":""}]
[null,null,null,null,{"$f":"IFERROR(VLOOKUP(D9573,Справка!$G$2:$H$579,2,0),\"\")","v":""}]
[null,null,null,null,{"$f":"IFERROR(VLOOKUP(D9574,Справка!$G$2:$H$579,2,0),\"\")","v":""}]
[null,null,null,null,{"$f":"IFERROR(VLOOKUP(D9575,Справка!$G$2:$H$579,2,0),\"\")","v":""}]
[null,null,null,null,{"$f":"IFERROR(VLOOKUP(D9576,Справка!$G$2:$H$579,2,0),\"\")","v":""}]
[null,null,null,null,{"$f":"IFERROR(VLOOKUP(D9577,Справка!$G$2:$H$579,2,0),\"\")","v":""}]
[null,null,null,null,{"$f":"IFERROR(VLOOKUP(D9578,Справка!$G$2:$H$579,2,0),\"\")","v":""}]
[null,null,null,null,{"$f":"IFERROR(VLOOKUP(D9579,Справка!$G$2:$H$579,2,0),\"\")","v":""}]
[null,null,null,null,{"$f":"IFERROR(VLOOKUP(D9580,Справка!$G$2:$H$579,2,0),\"\")","v":""}]
[null,null,null,null,{"$f":"IFERROR(VLOOKUP(D9581,Справка!$G$2:$H$579,2,0),\"\")","v":""}]
[null,null,null,null,{"$f":"IFERROR(VLOOKUP(D9582,Справка!$G$2:$H$579,2,0),\"\")","v":""}]
[null,null,null,null,{"$f":"IFERROR(VLOOKUP(D9583,Справка!$G$2:$H$579,2,0),\"\")","v":""}]
[null,null,null,null,{"$f":"IFERROR(VLOOKUP(D9584,Справка!$G$2:$H$579,2,0),\"\")","v":""}]
[null,null,null,null,{"$f":"IFERROR(VLOOKUP(D9585,Справка!$G$2:$H$579,2,0),\"\")","v":""}]
[null,null,null,null,{"$f":"IFERROR(VLOOKUP(D9586,Справка!$G$2:$H$579,2,0),\"\")","v":""}]
[null,null,null,null,{"$f":"IFERROR(VLOOKUP(D9587,Справка!$G$2:$H$579,2,0),\"\")","v":""}]
[null,null,null,null,{"$f":"IFERROR(VLOOKUP(D9588,Справка!$G$2:$H$579,2,0),\"\")","v":""}]
[null,null,null,null,{"$f":"IFERROR(VLOOKUP(D9589,Справка!$G$2:$H$579,2,0),\"\")","v":""}]
[null,null,null,null,{"$f":"IFERROR(VLOOKUP(D9590,Справка!$G$2:$H$579,2,0),\"\")","v":""}]
[null,null,null,null,{"$f":"IFERROR(VLOOKUP(D9591,Справка!$G$2:$H$579,2,0),\"\")","v":""}]
[null,null,null,null,{"$f":"IFERROR(VLOOKUP(D9592,Справка!$G$2:$H$579,2,0),\"\")","v":""}]
[null,null,null,null,{"$f":"IFERROR(VLOOKUP(D9593,Справка!$G$2:$H$579,2,0),\"\")","v":""}]
[null,null,null,null,{"$f":"IFERROR(VLOOKUP(D9594,Справка!$G$2:$H$579,2,0),\"\")","v":""}]
[null,null,null,null,{"$f":"IFERROR(VLOOKUP(D9595,Справка!$G$2:$H$579,2,0),\"\")","v":""}]
[null,null,null,null,{"$f":"IFERROR(VLOOKUP(D9596,Справка!$G$2:$H$579,2,0),\"\")","v":""}]
[null,null,null,null,{"$f":"IFERROR(VLOOKUP(D9597,Справка!$G$2:$H$579,2,0),\"\")","v":""}]
[null,null,null,null,{"$f":"IFERROR(VLOOKUP(D9598,Справка!$G$2:$H$579,2,0),\"\")","v":""}]
[null,null,null,null,{"$f":"IFERROR(VLOOKUP(D9599,Справка!$G$2:$H$579,2,0),\"\")","v":""}]
[null,null,null,null,{"$f":"IFERROR(VLOOKUP(D9600,Справка!$G$2:$H$579,2,0),\"\")","v":""}]
[null,null,null,null,{"$f":"IFERROR(VLOOKUP(D9601,Справка!$G$2:$H$579,2,0),\"\")","v":""}]
[null,null,null,null,{"$f":"IFERROR(VLOOKUP(D9602,Справка!$G$2:$H$579,2,0),\"\")","v":""}]
[null,null,null,null,{"$f":"IFERROR(VLOOKUP(D9603,Справка!$G$2:$H$579,2,0),\"\")","v":""}]
[null,null,null,null,{"$f":"IFERROR(VLOOKUP(D9604,Справка!$G$2:$H$579,2,0),\"\")","v":""}]
[null,null,null,null,{"$f":"IFERROR(VLOOKUP(D9605,Справка!$G$2:$H$579,2,0),\"\")","v":""}]
[null,null,null,null,{"$f":"IFERROR(VLOOKUP(D9606,Справка!$G$2:$H$579,2,0),\"\")","v":""}]
[null,null,null,null,{"$f":"IFERROR(VLOOKUP(D9607,Справка!$G$2:$H$579,2,0),\"\")","v":""}]
[null,null,null,null,{"$f":"IFERROR(VLOOKUP(D9608,Справка!$G$2:$H$579,2,0),\"\")","v":""}]
[null,null,null,null,{"$f":"IFERROR(VLOOKUP(D9609,Справка!$G$2:$H$579,2,0),\"\")","v":""}]
[null,null,null,null,{"$f":"IFERROR(VLOOKUP(D9610,Справка!$G$2:$H$579,2,0),\"\")","v":""}]
[null,null,null,null,{"$f":"IFERROR(VLOOKUP(D9611,Справка!$G$2:$H$579,2,0),\"\")","v":""}]
[null,null,null,null,{"$f":"IFERROR(VLOOKUP(D9612,Справка!$G$2:$H$579,2,0),\"\")","v":""}]
[null,null,null,null,{"$f":"IFERROR(VLOOKUP(D9613,Справка!$G$2:$H$579,2,0),\"\")","v":""}]
[null,null,null,null,{"$f":"IFERROR(VLOOKUP(D9614,Справка!$G$2:$H$579,2,0),\"\")","v":""}]
[null,null,null,null,{"$f":"IFERROR(VLOOKUP(D9615,Справка!$G$2:$H$579,2,0),\"\")","v":""}]
[null,null,null,null,{"$f":"IFERROR(VLOOKUP(D9616,Справка!$G$2:$H$579,2,0),\"\")","v":""}]
[null,null,null,null,{"$f":"IFERROR(VLOOKUP(D9617,Справка!$G$2:$H$579,2,0),\"\")","v":""}]
[null,null,null,null,{"$f":"IFERROR(VLOOKUP(D9618,Справка!$G$2:$H$579,2,0),\"\")","v":""}]
[null,null,null,null,{"$f":"IFERROR(VLOOKUP(D9619,Справка!$G$2:$H$579,2,0),\"\")","v":""}]
[null,null,null,null,{"$f":"IFERROR(VLOOKUP(D9620,Справка!$G$2:$H$579,2,0),\"\")","v":""}]
[null,null,null,null,{"$f":"IFERROR(VLOOKUP(D9621,Справка!$G$2:$H$579,2,0),\"\")","v":""}]
[null,null,null,null,{"$f":"IFERROR(VLOOKUP(D9622,Справка!$G$2:$H$579,2,0),\"\")","v":""}]
[null,null,null,null,{"$f":"IFERROR(VLOOKUP(D9623,Справка!$G$2:$H$579,2,0),\"\")","v":""}]
[null,null,null,null,{"$f":"IFERROR(VLOOKUP(D9624,Справка!$G$2:$H$579,2,0),\"\")","v":""}]
[null,null,null,null,{"$f":"IFERROR(VLOOKUP(D9625,Справка!$G$2:$H$579,2,0),\"\")","v":""}]
[null,null,null,null,{"$f":"IFERROR(VLOOKUP(D9626,Справка!$G$2:$H$579,2,0),\"\")","v":""}]
[null,null,null,null,{"$f":"IFERROR(VLOOKUP(D9627,Справка!$G$2:$H$579,2,0),\"\")","v":""}]
[null,null,null,null,{"$f":"IFERROR(VLOOKUP(D9628,Справка!$G$2:$H$579,2,0),\"\")","v":""}]
[null,null,null,null,{"$f":"IFERROR(VLOOKUP(D9629,Справка!$G$2:$H$579,2,0),\"\")","v":""}]
[null,null,null,null,{"$f":"IFERROR(VLOOKUP(D9630,Справка!$G$2:$H$579,2,0),\"\")","v":""}]
[null,null,null,null,{"$f":"IFERROR(VLOOKUP(D9631,Справка!$G$2:$H$579,2,0),\"\")","v":""}]
[null,null,null,null,{"$f":"IFERROR(VLOOKUP(D9632,Справка!$G$2:$H$579,2,0),\"\")","v":""}]
[null,null,null,null,{"$f":"IFERROR(VLOOKUP(D9633,Справка!$G$2:$H$579,2,0),\"\")","v":""}]
[null,null,null,null,{"$f":"IFERROR(VLOOKUP(D9634,Справка!$G$2:$H$579,2,0),\"\")","v":""}]
[null,null,null,null,{"$f":"IFERROR(VLOOKUP(D9635,Справка!$G$2:$H$579,2,0),\"\")","v":""}]
[null,null,null,null,{"$f":"IFERROR(VLOOKUP(D9636,Справка!$G$2:$H$579,2,0),\"\")","v":""}]
[null,null,null,null,{"$f":"IFERROR(VLOOKUP(D9637,Справка!$G$2:$H$579,2,0),\"\")","v":""}]
[null,null,null,null,{"$f":"IFERROR(VLOOKUP(D9638,Справка!$G$2:$H$579,2,0),\"\")","v":""}]
[null,null,null,null,{"$f":"IFERROR(VLOOKUP(D9639,Справка!$G$2:$H$579,2,0),\"\")","v":""}]
[null,null,null,null,{"$f":"IFERROR(VLOOKUP(D9640,Справка!$G$2:$H$579,2,0),\"\")","v":""}]
[null,null,null,null,{"$f":"IFERROR(VLOOKUP(D9641,Справка!$G$2:$H$579,2,0),\"\")","v":""}]
[null,null,null,null,{"$f":"IFERROR(VLOOKUP(D9642,Справка!$G$2:$H$579,2,0),\"\")","v":""}]
[null,null,null,null,{"$f":"IFERROR(VLOOKUP(D9643,Справка!$G$2:$H$579,2,0),\"\")","v":""}]
[null,null,null,null,{"$f":"IFERROR(VLOOKUP(D9644,Справка!$G$2:$H$579,2,0),\"\")","v":""}]
[null,null,null,null,{"$f":"IFERROR(VLOOKUP(D9645,Справка!$G$2:$H$579,2,0),\"\")","v":""}]
[null,null,null,null,{"$f":"IFERROR(VLOOKUP(D9646,Справка!$G$2:$H$579,2,0),\"\")","v":""}]
[null,null,null,null,{"$f":"IFERROR(VLOOKUP(D9647,Справка!$G$2:$H$579,2,0),\"\")","v":""}]
[null,null,null,null,{"$f":"IFERROR(VLOOKUP(D9648,Справка!$G$2:$H$579,2,0),\"\")","v":""}]
[null,null,null,null,{"$f":"IFERROR(VLOOKUP(D9649,Справка!$G$2:$H$579,2,0),\"\")","v":""}]
[null,null,null,null,{"$f":"IFERROR(VLOOKUP(D9650,Справка!$G$2:$H$579,2,0),\"\")","v":""}]
[null,null,null,null,{"$f":"IFERROR(VLOOKUP(D9651,Справка!$G$2:$H$579,2,0),\"\")","v":""}]
[null,null,null,null,{"$f":"IFERROR(VLOOKUP(D9652,Справка!$G$2:$H$579,2,0),\"\")","v":""}]
[null,null,null,null,{"$f":"IFERROR(VLOOKUP(D9653,Справка!$G$2:$H$579,2,0),\"\")","v":""}]
[null,null,null,null,{"$f":"IFERROR(VLOOKUP(D9654,Справка!$G$2:$H$579,2,0),\"\")","v":""}]
[null,null,null,null,{"$f":"IFERROR(VLOOKUP(D9655,Справка!$G$2:$H$579,2,0),\"\")","v":""}]
[null,null,null,null,{"$f":"IFERROR(VLOOKUP(D9656,Справка!$G$2:$H$579,2,0),\"\")","v":""}]
[null,null,null,null,{"$f":"IFERROR(VLOOKUP(D9657,Справка!$G$2:$H$579,2,0),\"\")","v":""}]
[null,null,null,null,{"$f":"IFERROR(VLOOKUP(D9658,Справка!$G$2:$H$579,2,0),\"\")","v":""}]
[null,null,null,null,{"$f":"IFERROR(VLOOKUP(D9659,Справка!$G$2:$H$579,2,0),\"\")","v":""}]
[null,null,null,null,{"$f":"IFERROR(VLOOKUP(D9660,Справка!$G$2:$H$579,2,0),\"\")","v":""}]
[null,null,null,null,{"$f":"IFERROR(VLOOKUP(D9661,Справка!$G$2:$H$579,2,0),\"\")","v":""}]
[null,null,null,null,{"$f":"IFERROR(VLOOKUP(D9662,Справка!$G$2:$H$579,2,0),\"\")","v":""}]
[null,null,null,null,{"$f":"IFERROR(VLOOKUP(D9663,Справка!$G$2:$H$579,2,0),\"\")","v":""}]
[null,null,null,null,{"$f":"IFERROR(VLOOKUP(D9664,Справка!$G$2:$H$579,2,0),\"\")","v":""}]
[null,null,null,null,{"$f":"IFERROR(VLOOKUP(D9665,Справка!$G$2:$H$579,2,0),\"\")","v":""}]
[null,null,null,null,{"$f":"IFERROR(VLOOKUP(D9666,Справка!$G$2:$H$579,2,0),\"\")","v":""}]
[null,null,null,null,{"$f":"IFERROR(VLOOKUP(D9667,Справка!$G$2:$H$579,2,0),\"\")","v":""}]
[null,null,null,null,{"$f":"IFERROR(VLOOKUP(D9668,Справка!$G$2:$H$579,2,0),\"\")","v":""}]
[null,null,null,null,{"$f":"IFERROR(VLOOKUP(D9669,Справка!$G$2:$H$579,2,0),\"\")","v":""}]
[null,null,null,null,{"$f":"IFERROR(VLOOKUP(D9670,Справка!$G$2:$H$579,2,0),\"\")","v":""}]
[null,null,null,null,{"$f":"IFERROR(VLOOKUP(D9671,Справка!$G$2:$H$579,2,0),\"\")","v":""}]
[null,null,null,null,{"$f":"IFERROR(VLOOKUP(D9672,Справка!$G$2:$H$579,2,0),\"\")","v":""}]
[null,null,null,null,{"$f":"IFERROR(VLOOKUP(D9673,Справка!$G$2:$H$579,2,0),\"\")","v":""}]
[null,null,null,null,{"$f":"IFERROR(VLOOKUP(D9674,Справка!$G$2:$H$579,2,0),\"\")","v":""}]
[null,null,null,null,{"$f":"IFERROR(VLOOKUP(D9675,Справка!$G$2:$H$579,2,0),\"\")","v":""}]
[null,null,null,null,{"$f":"IFERROR(VLOOKUP(D9676,Справка!$G$2:$H$579,2,0),\"\")","v":""}]
[null,null,null,null,{"$f":"IFERROR(VLOOKUP(D9677,Справка!$G$2:$H$579,2,0),\"\")","v":""}]
[null,null,null,null,{"$f":"IFERROR(VLOOKUP(D9678,Справка!$G$2:$H$579,2,0),\"\")","v":""}]
[null,null,null,null,{"$f":"IFERROR(VLOOKUP(D9679,Справка!$G$2:$H$579,2,0),\"\")","v":""}]
[null,null,null,null,{"$f":"IFERROR(VLOOKUP(D9680,Справка!$G$2:$H$579,2,0),\"\")","v":""}]
[null,null,null,null,{"$f":"IFERROR(VLOOKUP(D9681,Справка!$G$2:$H$579,2,0),\"\")","v":""}]
[null,null,null,null,{"$f":"IFERROR(VLOOKUP(D9682,Справка!$G$2:$H$579,2,0),\"\")","v":""}]
[null,null,null,null,{"$f":"IFERROR(VLOOKUP(D9683,Справка!$G$2:$H$579,2,0),\"\")","v":""}]
[null,null,null,null,{"$f":"IFERROR(VLOOKUP(D9684,Справка!$G$2:$H$579,2,0),\"\")","v":""}]
[null,null,null,null,{"$f":"IFERROR(VLOOKUP(D9685,Справка!$G$2:$H$579,2,0),\"\")","v":""}]
[null,null,null,null,{"$f":"IFERROR(VLOOKUP(D9686,Справка!$G$2:$H$579,2,0),\"\")","v":""}]
[null,null,null,null,{"$f":"IFERROR(VLOOKUP(D9687,Справка!$G$2:$H$579,2,0),\"\")","v":""}]
[null,null,null,null,{"$f":"IFERROR(VLOOKUP(D9688,Справка!$G$2:$H$579,2,0),\"\")","v":""}]
[null,null,null,null,{"$f":"IFERROR(VLOOKUP(D9689,Справка!$G$2:$H$579,2,0),\"\")","v":""}]
[null,null,null,null,{"$f":"IFERROR(VLOOKUP(D9690,Справка!$G$2:$H$579,2,0),\"\")","v":""}]
[null,null,null,null,{"$f":"IFERROR(VLOOKUP(D9691,Справка!$G$2:$H$579,2,0),\"\")","v":""}]
[null,null,null,null,{"$f":"IFERROR(VLOOKUP(D9692,Справка!$G$2:$H$579,2,0),\"\")","v":""}]
[null,null,null,null,{"$f":"IFERROR(VLOOKUP(D9693,Справка!$G$2:$H$579,2,0),\"\")","v":""}]
[null,null,null,null,{"$f":"IFERROR(VLOOKUP(D9694,Справка!$G$2:$H$579,2,0),\"\")","v":""}]
[null,null,null,null,{"$f":"IFERROR(VLOOKUP(D9695,Справка!$G$2:$H$579,2,0),\"\")","v":""}]
[null,null,null,null,{"$f":"IFERROR(VLOOKUP(D9696,Справка!$G$2:$H$579,2,0),\"\")","v":""}]
[null,null,null,null,{"$f":"IFERROR(VLOOKUP(D9697,Справка!$G$2:$H$579,2,0),\"\")","v":""}]
[null,null,null,null,{"$f":"IFERROR(VLOOKUP(D9698,Справка!$G$2:$H$579,2,0),\"\")","v":""}]
[null,null,null,null,{"$f":"IFERROR(VLOOKUP(D9699,Справка!$G$2:$H$579,2,0),\"\")","v":""}]
[null,null,null,null,{"$f":"IFERROR(VLOOKUP(D9700,Справка!$G$2:$H$579,2,0),\"\")","v":""}]
[null,null,null,null,{"$f":"IFERROR(VLOOKUP(D9701,Справка!$G$2:$H$579,2,0),\"\")","v":""}]
[null,null,null,null,{"$f":"IFERROR(VLOOKUP(D9702,Справка!$G$2:$H$579,2,0),\"\")","v":""}]
[null,null,null,null,{"$f":"IFERROR(VLOOKUP(D9703,Справка!$G$2:$H$579,2,0),\"\")","v":""}]
[null,null,null,null,{"$f":"IFERROR(VLOOKUP(D9704,Справка!$G$2:$H$579,2,0),\"\")","v":""}]
[null,null,null,null,{"$f":"IFERROR(VLOOKUP(D9705,Справка!$G$2:$H$579,2,0),\"\")","v":""}]
[null,null,null,null,{"$f":"IFERROR(VLOOKUP(D9706,Справка!$G$2:$H$579,2,0),\"\")","v":""}]
[null,null,null,null,{"$f":"IFERROR(VLOOKUP(D9707,Справка!$G$2:$H$579,2,0),\"\")","v":""}]
[null,null,null,null,{"$f":"IFERROR(VLOOKUP(D9708,Справка!$G$2:$H$579,2,0),\"\")","v":""}]
[null,null,null,null,{"$f":"IFERROR(VLOOKUP(D9709,Справка!$G$2:$H$579,2,0),\"\")","v":""}]
[null,null,null,null,{"$f":"IFERROR(VLOOKUP(D9710,Справка!$G$2:$H$579,2,0),\"\")","v":""}]
[null,null,null,null,{"$f":"IFERROR(VLOOKUP(D9711,Справка!$G$2:$H$579,2,0),\"\")","v":""}]
[null,null,null,null,{"$f":"IFERROR(VLOOKUP(D9712,Справка!$G$2:$H$579,2,0),\"\")","v":""}]
[null,null,null,null,{"$f":"IFERROR(VLOOKUP(D9713,Справка!$G$2:$H$579,2,0),\"\")","v":""}]
[null,null,null,null,{"$f":"IFERROR(VLOOKUP(D9714,Справка!$G$2:$H$579,2,0),\"\")","v":""}]
[null,null,null,null,{"$f":"IFERROR(VLOOKUP(D9715,Справка!$G$2:$H$579,2,0),\"\")","v":""}]
[null,null,null,null,{"$f":"IFERROR(VLOOKUP(D9716,Справка!$G$2:$H$579,2,0),\"\")","v":""}]
[null,null,null,null,{"$f":"IFERROR(VLOOKUP(D9717,Справка!$G$2:$H$579,2,0),\"\")","v":""}]
[null,null,null,null,{"$f":"IFERROR(VLOOKUP(D9718,Справка!$G$2:$H$579,2,0),\"\")","v":""}]
[null,null,null,null,{"$f":"IFERROR(VLOOKUP(D9719,Справка!$G$2:$H$579,2,0),\"\")","v":""}]
[null,null,null,null,{"$f":"IFERROR(VLOOKUP(D9720,Справка!$G$2:$H$579,2,0),\"\")","v":""}]
[null,null,null,null,{"$f":"IFERROR(VLOOKUP(D9721,Справка!$G$2:$H$579,2,0),\"\")","v":""}]
[null,null,null,null,{"$f":"IFERROR(VLOOKUP(D9722,Справка!$G$2:$H$579,2,0),\"\")","v":""}]
[null,null,null,null,{"$f":"IFERROR(VLOOKUP(D9723,Справка!$G$2:$H$579,2,0),\"\")","v":""}]
[null,null,null,null,{"$f":"IFERROR(VLOOKUP(D9724,Справка!$G$2:$H$579,2,0),\"\")","v":""}]
[null,null,null,null,{"$f":"IFERROR(VLOOKUP(D9725,Справка!$G$2:$H$579,2,0),\"\")","v":""}]
[null,null,null,null,{"$f":"IFERROR(VLOOKUP(D9726,Справка!$G$2:$H$579,2,0),\"\")","v":""}]
[null,null,null,null,{"$f":"IFERROR(VLOOKUP(D9727,Справка!$G$2:$H$579,2,0),\"\")","v":""}]
[null,null,null,null,{"$f":"IFERROR(VLOOKUP(D9728,Справка!$G$2:$H$579,2,0),\"\")","v":""}]
[null,null,null,null,{"$f":"IFERROR(VLOOKUP(D9729,Справка!$G$2:$H$579,2,0),\"\")","v":""}]
[null,null,null,null,{"$f":"IFERROR(VLOOKUP(D9730,Справка!$G$2:$H$579,2,0),\"\")","v":""}]
[null,null,null,null,{"$f":"IFERROR(VLOOKUP(D9731,Справка!$G$2:$H$579,2,0),\"\")","v":""}]
[null,null,null,null,{"$f":"IFERROR(VLOOKUP(D9732,Справка!$G$2:$H$579,2,0),\"\")","v":""}]
[null,null,null,null,{"$f":"IFERROR(VLOOKUP(D9733,Справка!$G$2:$H$579,2,0),\"\")","v":""}]
[null,null,null,null,{"$f":"IFERROR(VLOOKUP(D9734,Справка!$G$2:$H$579,2,0),\"\")","v":""}]
[null,null,null,null,{"$f":"IFERROR(VLOOKUP(D9735,Справка!$G$2:$H$579,2,0),\"\")","v":""}]
[null,null,null,null,{"$f":"IFERROR(VLOOKUP(D9736,Справка!$G$2:$H$579,2,0),\"\")","v":""}]
[null,null,null,null,{"$f":"IFERROR(VLOOKUP(D9737,Справка!$G$2:$H$579,2,0),\"\")","v":""}]
[null,null,null,null,{"$f":"IFERROR(VLOOKUP(D9738,Справка!$G$2:$H$579,2,0),\"\")","v":""}]
[null,null,null,null,{"$f":"IFERROR(VLOOKUP(D9739,Справка!$G$2:$H$579,2,0),\"\")","v":""}]
[null,null,null,null,{"$f":"IFERROR(VLOOKUP(D9740,Справка!$G$2:$H$579,2,0),\"\")","v":""}]
[null,null,null,null,{"$f":"IFERROR(VLOOKUP(D9741,Справка!$G$2:$H$579,2,0),\"\")","v":""}]
[null,null,null,null,{"$f":"IFERROR(VLOOKUP(D9742,Справка!$G$2:$H$579,2,0),\"\")","v":""}]
[null,null,null,null,{"$f":"IFERROR(VLOOKUP(D9743,Справка!$G$2:$H$579,2,0),\"\")","v":""}]
[null,null,null,null,{"$f":"IFERROR(VLOOKUP(D9744,Справка!$G$2:$H$579,2,0),\"\")","v":""}]
[null,null,null,null,{"$f":"IFERROR(VLOOKUP(D9745,Справка!$G$2:$H$579,2,0),\"\")","v":""}]
[null,null,null,null,{"$f":"IFERROR(VLOOKUP(D9746,Справка!$G$2:$H$579,2,0),\"\")","v":""}]
[null,null,null,null,{"$f":"IFERROR(VLOOKUP(D9747,Справка!$G$2:$H$579,2,0),\"\")","v":""}]
[null,null,null,null,{"$f":"IFERROR(VLOOKUP(D9748,Справка!$G$2:$H$579,2,0),\"\")","v":""}]
[null,null,null,null,{"$f":"IFERROR(VLOOKUP(D9749,Справка!$G$2:$H$579,2,0),\"\")","v":""}]
[null,null,null,null,{"$f":"IFERROR(VLOOKUP(D9750,Справка!$G$2:$H$579,2,0),\"\")","v":""}]
[null,null,null,null,{"$f":"IFERROR(VLOOKUP(D9751,Справка!$G$2:$H$579,2,0),\"\")","v":""}]
[null,null,null,null,{"$f":"IFERROR(VLOOKUP(D9752,Справка!$G$2:$H$579,2,0),\"\")","v":""}]
[null,null,null,null,{"$f":"IFERROR(VLOOKUP(D9753,Справка!$G$2:$H$579,2,0),\"\")","v":""}]
[null,null,null,null,{"$f":"IFERROR(VLOOKUP(D9754,Справка!$G$2:$H$579,2,0),\"\")","v":""}]
[null,null,null,null,{"$f":"IFERROR(VLOOKUP(D9755,Справка!$G$2:$H$579,2,0),\"\")","v":""}]
[null,null,null,null,{"$f":"IFERROR(VLOOKUP(D9756,Справка!$G$2:$H$579,2,0),\"\")","v":""}]
[null,null,null,null,{"$f":"IFERROR(VLOOKUP(D9757,Справка!$G$2:$H$579,2,0),\"\")","v":""}]
[null,null,null,null,{"$f":"IFERROR(VLOOKUP(D9758,Справка!$G$2:$H$579,2,0),\"\")","v":""}]
[null,null,null,null,{"$f":"IFERROR(VLOOKUP(D9759,Справка!$G$2:$H$579,2,0),\"\")","v":""}]
[null,null,null,null,{"$f":"IFERROR(VLOOKUP(D9760,Справка!$G$2:$H$579,2,0),\"\")","v":""}]
[null,null,null,null,{"$f":"IFERROR(VLOOKUP(D9761,Справка!$G$2:$H$579,2,0),\"\")","v":""}]
[null,null,null,null,{"$f":"IFERROR(VLOOKUP(D9762,Справка!$G$2:$H$579,2,0),\"\")","v":""}]
[null,null,null,null,{"$f":"IFERROR(VLOOKUP(D9763,Справка!$G$2:$H$579,2,0),\"\")","v":""}]
[null,null,null,null,{"$f":"IFERROR(VLOOKUP(D9764,Справка!$G$2:$H$579,2,0),\"\")","v":""}]
[null,null,null,null,{"$f":"IFERROR(VLOOKUP(D9765,Справка!$G$2:$H$579,2,0),\"\")","v":""}]
[null,null,null,null,{"$f":"IFERROR(VLOOKUP(D9766,Справка!$G$2:$H$579,2,0),\"\")","v":""}]
[null,null,null,null,{"$f":"IFERROR(VLOOKUP(D9767,Справка!$G$2:$H$579,2,0),\"\")","v":""}]
[null,null,null,null,{"$f":"IFERROR(VLOOKUP(D9768,Справка!$G$2:$H$579,2,0),\"\")","v":""}]
[null,null,null,null,{"$f":"IFERROR(VLOOKUP(D9769,Справка!$G$2:$H$579,2,0),\"\")","v":""}]
[null,null,null,null,{"$f":"IFERROR(VLOOKUP(D9770,Справка!$G$2:$H$579,2,0),\"\")","v":""}]
[null,null,null,null,{"$f":"IFERROR(VLOOKUP(D9771,Справка!$G$2:$H$579,2,0),\"\")","v":""}]
[null,null,null,null,{"$f":"IFERROR(VLOOKUP(D9772,Справка!$G$2:$H$579,2,0),\"\")","v":""}]
[null,null,null,null,{"$f":"IFERROR(VLOOKUP(D9773,Справка!$G$2:$H$579,2,0),\"\")","v":""}]
[null,null,null,null,{"$f":"IFERROR(VLOOKUP(D9774,Справка!$G$2:$H$579,2,0),\"\")","v":""}]
[null,null,null,null,{"$f":"IFERROR(VLOOKUP(D9775,Справка!$G$2:$H$579,2,0),\"\")","v":""}]
[null,null,null,null,{"$f":"IFERROR(VLOOKUP(D9776,Справка!$G$2:$H$579,2,0),\"\")","v":""}]
[null,null,null,null,{"$f":"IFERROR(VLOOKUP(D9777,Справка!$G$2:$H$579,2,0),\"\")","v":""}]
[null,null,null,null,{"$f":"IFERROR(VLOOKUP(D9778,Справка!$G$2:$H$579,2,0),\"\")","v":""}]
[null,null,null,null,{"$f":"IFERROR(VLOOKUP(D9779,Справка!$G$2:$H$579,2,0),\"\")","v":""}]
[null,null,null,null,{"$f":"IFERROR(VLOOKUP(D9780,Справка!$G$2:$H$579,2,0),\"\")","v":""}]
[null,null,null,null,{"$f":"IFERROR(VLOOKUP(D9781,Справка!$G$2:$H$579,2,0),\"\")","v":""}]
[null,null,null,null,{"$f":"IFERROR(VLOOKUP(D9782,Справка!$G$2:$H$579,2,0),\"\")","v":""}]
[null,null,null,null,{"$f":"IFERROR(VLOOKUP(D9783,Справка!$G$2:$H$579,2,0),\"\")","v":""}]
[null,null,null,null,{"$f":"IFERROR(VLOOKUP(D9784,Справка!$G$2:$H$579,2,0),\"\")","v":""}]
[null,null,null,null,{"$f":"IFERROR(VLOOKUP(D9785,Справка!$G$2:$H$579,2,0),\"\")","v":""}]
[null,null,null,null,{"$f":"IFERROR(VLOOKUP(D9786,Справка!$G$2:$H$579,2,0),\"\")","v":""}]
[null,null,null,null,{"$f":"IFERROR(VLOOKUP(D9787,Справка!$G$2:$H$579,2,0),\"\")","v":""}]
[null,null,null,null,{"$f":"IFERROR(VLOOKUP(D9788,Справка!$G$2:$H$579,2,0),\"\")","v":""}]
[null,null,null,null,{"$f":"IFERROR(VLOOKUP(D9789,Справка!$G$2:$H$579,2,0),\"\")","v":""}]
[null,null,null,null,{"$f":"IFERROR(VLOOKUP(D9790,Справка!$G$2:$H$579,2,0),\"\")","v":""}]
[null,null,null,null,{"$f":"IFERROR(VLOOKUP(D9791,Справка!$G$2:$H$579,2,0),\"\")","v":""}]
[null,null,null,null,{"$f":"IFERROR(VLOOKUP(D9792,Справка!$G$2:$H$579,2,0),\"\")","v":""}]
[null,null,null,null,{"$f":"IFERROR(VLOOKUP(D9793,Справка!$G$2:$H$579,2,0),\"\")","v":""}]
[null,null,null,null,{"$f":"IFERROR(VLOOKUP(D9794,Справка!$G$2:$H$579,2,0),\"\")","v":""}]
[null,null,null,null,{"$f":"IFERROR(VLOOKUP(D9795,Справка!$G$2:$H$579,2,0),\"\")","v":""}]
[null,null,null,null,{"$f":"IFERROR(VLOOKUP(D9796,Справка!$G$2:$H$579,2,0),\"\")","v":""}]
[null,null,null,null,{"$f":"IFERROR(VLOOKUP(D9797,Справка!$G$2:$H$579,2,0),\"\")","v":""}]
[null,null,null,null,{"$f":"IFERROR(VLOOKUP(D9798,Справка!$G$2:$H$579,2,0),\"\")","v":""}]
[null,null,null,null,{"$f":"IFERROR(VLOOKUP(D9799,Справка!$G$2:$H$579,2,0),\"\")","v":""}]
[null,null,null,null,{"$f":"IFERROR(VLOOKUP(D9800,Справка!$G$2:$H$579,2,0),\"\")","v":""}]
[null,null,null,null,{"$f":"IFERROR(VLOOKUP(D9801,Справка!$G$2:$H$579,2,0),\"\")","v":""}]
[null,null,null,null,{"$f":"IFERROR(VLOOKUP(D9802,Справка!$G$2:$H$579,2,0),\"\")","v":""}]
[null,null,null,null,{"$f":"IFERROR(VLOOKUP(D9803,Справка!$G$2:$H$579,2,0),\"\")","v":""}]
[null,null,null,null,{"$f":"IFERROR(VLOOKUP(D9804,Справка!$G$2:$H$579,2,0),\"\")","v":""}]
[null,null,null,null,{"$f":"IFERROR(VLOOKUP(D9805,Справка!$G$2:$H$579,2,0),\"\")","v":""}]
[null,null,null,null,{"$f":"IFERROR(VLOOKUP(D9806,Справка!$G$2:$H$579,2,0),\"\")","v":""}]
[null,null,null,null,{"$f":"IFERROR(VLOOKUP(D9807,Справка!$G$2:$H$579,2,0),\"\")","v":""}]
[null,null,null,null,{"$f":"IFERROR(VLOOKUP(D9808,Справка!$G$2:$H$579,2,0),\"\")","v":""}]
[null,null,null,null,{"$f":"IFERROR(VLOOKUP(D9809,Справка!$G$2:$H$579,2,0),\"\")","v":""}]
[null,null,null,null,{"$f":"IFERROR(VLOOKUP(D9810,Справка!$G$2:$H$579,2,0),\"\")","v":""}]
[null,null,null,null,{"$f":"IFERROR(VLOOKUP(D9811,Справка!$G$2:$H$579,2,0),\"\")","v":""}]
[null,null,null,null,{"$f":"IFERROR(VLOOKUP(D9812,Справка!$G$2:$H$579,2,0),\"\")","v":""}]
[null,null,null,null,{"$f":"IFERROR(VLOOKUP(D9813,Справка!$G$2:$H$579,2,0),\"\")","v":""}]
[null,null,null,null,{"$f":"IFERROR(VLOOKUP(D9814,Справка!$G$2:$H$579,2,0),\"\")","v":""}]
[null,null,null,null,{"$f":"IFERROR(VLOOKUP(D9815,Справка!$G$2:$H$579,2,0),\"\")","v":""}]
[null,null,null,null,{"$f":"IFERROR(VLOOKUP(D9816,Справка!$G$2:$H$579,2,0),\"\")","v":""}]
[null,null,null,null,{"$f":"IFERROR(VLOOKUP(D9817,Справка!$G$2:$H$579,2,0),\"\")","v":""}]
[null,null,null,null,{"$f":"IFERROR(VLOOKUP(D9818,Справка!$G$2:$H$579,2,0),\"\")","v":""}]
[null,null,null,null,{"$f":"IFERROR(VLOOKUP(D9819,Справка!$G$2:$H$579,2,0),\"\")","v":""}]
[null,null,null,null,{"$f":"IFERROR(VLOOKUP(D9820,Справка!$G$2:$H$579,2,0),\"\")","v":""}]
[null,null,null,null,{"$f":"IFERROR(VLOOKUP(D9821,Справка!$G$2:$H$579,2,0),\"\")","v":""}]
[null,null,null,null,{"$f":"IFERROR(VLOOKUP(D9822,Справка!$G$2:$H$579,2,0),\"\")","v":""}]
[null,null,null,null,{"$f":"IFERROR(VLOOKUP(D9823,Справка!$G$2:$H$579,2,0),\"\")","v":""}]
[null,null,null,null,{"$f":"IFERROR(VLOOKUP(D9824,Справка!$G$2:$H$579,2,0),\"\")","v":""}]
[null,null,null,null,{"$f":"IFERROR(VLOOKUP(D9825,Справка!$G$2:$H$579,2,0),\"\")","v":""}]
[null,null,null,null,{"$f":"IFERROR(VLOOKUP(D9826,Справка!$G$2:$H$579,2,0),\"\")","v":""}]
[null,null,null,null,{"$f":"IFERROR(VLOOKUP(D9827,Справка!$G$2:$H$579,2,0),\"\")","v":""}]
[null,null,null,null,{"$f":"IFERROR(VLOOKUP(D9828,Справка!$G$2:$H$579,2,0),\"\")","v":""}]
[null,null,null,null,{"$f":"IFERROR(VLOOKUP(D9829,Справка!$G$2:$H$579,2,0),\"\")","v":""}]
[null,null,null,null,{"$f":"IFERROR(VLOOKUP(D9830,Справка!$G$2:$H$579,2,0),\"\")","v":""}]
[null,null,null,null,{"$f":"IFERROR(VLOOKUP(D9831,Справка!$G$2:$H$579,2,0),\"\")","v":""}]
[null,null,null,null,{"$f":"IFERROR(VLOOKUP(D9832,Справка!$G$2:$H$579,2,0),\"\")","v":""}]
[null,null,null,null,{"$f":"IFERROR(VLOOKUP(D9833,Справка!$G$2:$H$579,2,0),\"\")","v":""}]
[null,null,null,null,{"$f":"IFERROR(VLOOKUP(D9834,Справка!$G$2:$H$579,2,0),\"\")","v":""}]
[null,null,null,null,{"$f":"IFERROR(VLOOKUP(D9835,Справка!$G$2:$H$579,2,0),\"\")","v":""}]
[null,null,null,null,{"$f":"IFERROR(VLOOKUP(D9836,Справка!$G$2:$H$579,2,0),\"\")","v":""}]
[null,null,null,null,{"$f":"IFERROR(VLOOKUP(D9837,Справка!$G$2:$H$579,2,0),\"\")","v":""}]
[null,null,null,null,{"$f":"IFERROR(VLOOKUP(D9838,Справка!$G$2:$H$579,2,0),\"\")","v":""}]
[null,null,null,null,{"$f":"IFERROR(VLOOKUP(D9839,Справка!$G$2:$H$579,2,0),\"\")","v":""}]
[null,null,null,null,{"$f":"IFERROR(VLOOKUP(D9840,Справка!$G$2:$H$579,2,0),\"\")","v":""}]
[null,null,null,null,{"$f":"IFERROR(VLOOKUP(D9841,Справка!$G$2:$H$579,2,0),\"\")","v":""}]
[null,null,null,null,{"$f":"IFERROR(VLOOKUP(D9842,Справка!$G$2:$H$579,2,0),\"\")","v":""}]
[null,null,null,null,{"$f":"IFERROR(VLOOKUP(D9843,Справка!$G$2:$H$579,2,0),\"\")","v":""}]
[null,null,null,null,{"$f":"IFERROR(VLOOKUP(D9844,Справка!$G$2:$H$579,2,0),\"\")","v":""}]
[null,null,null,null,{"$f":"IFERROR(VLOOKUP(D9845,Справка!$G$2:$H$579,2,0),\"\")","v":""}]
[null,null,null,null,{"$f":"IFERROR(VLOOKUP(D9846,Справка!$G$2:$H$579,2,0),\"\")","v":""}]
[null,null,null,null,{"$f":"IFERROR(VLOOKUP(D9847,Справка!$G$2:$H$579,2,0),\"\")","v":""}]
[null,null,null,null,{"$f":"IFERROR(VLOOKUP(D9848,Справка!$G$2:$H$579,2,0),\"\")","v":""}]
[null,null,null,null,{"$f":"IFERROR(VLOOKUP(D9849,Справка!$G$2:$H$579,2,0),\"\")","v":""}]
[null,null,null,null,{"$f":"IFERROR(VLOOKUP(D9850,Справка!$G$2:$H$579,2,0),\"\")","v":""}]
[null,null,null,null,{"$f":"IFERROR(VLOOKUP(D9851,Справка!$G$2:$H$579,2,0),\"\")","v":""}]
[null,null,null,null,{"$f":"IFERROR(VLOOKUP(D9852,Справка!$G$2:$H$579,2,0),\"\")","v":""}]
[null,null,null,null,{"$f":"IFERROR(VLOOKUP(D9853,Справка!$G$2:$H$579,2,0),\"\")","v":""}]
[null,null,null,null,{"$f":"IFERROR(VLOOKUP(D9854,Справка!$G$2:$H$579,2,0),\"\")","v":""}]
[null,null,null,null,{"$f":"IFERROR(VLOOKUP(D9855,Справка!$G$2:$H$579,2,0),\"\")","v":""}]
[null,null,null,null,{"$f":"IFERROR(VLOOKUP(D9856,Справка!$G$2:$H$579,2,0),\"\")","v":""}]
[null,null,null,null,{"$f":"IFERROR(VLOOKUP(D9857,Справка!$G$2:$H$579,2,0),\"\")","v":""}]
[null,null,null,null,{"$f":"IFERROR(VLOOKUP(D9858,Справка!$G$2:$H$579,2,0),\"\")","v":""}]
[null,null,null,null,{"$f":"IFERROR(VLOOKUP(D9859,Справка!$G$2:$H$579,2,0),\"\")","v":""}]
[null,null,null,null,{"$f":"IFERROR(VLOOKUP(D9860,Справка!$G$2:$H$579,2,0),\"\")","v":""}]
[null,null,null,null,{"$f":"IFERROR(VLOOKUP(D9861,Справка!$G$2:$H$579,2,0),\"\")","v":""}]
[null,null,null,null,{"$f":"IFERROR(VLOOKUP(D9862,Справка!$G$2:$H$579,2,0),\"\")","v":""}]
[null,null,null,null,{"$f":"IFERROR(VLOOKUP(D9863,Справка!$G$2:$H$579,2,0),\"\")","v":""}]
[null,null,null,null,{"$f":"IFERROR(VLOOKUP(D9864,Справка!$G$2:$H$579,2,0),\"\")","v":""}]
[null,null,null,null,{"$f":"IFERROR(VLOOKUP(D9865,Справка!$G$2:$H$579,2,0),\"\")","v":""}]
[null,null,null,null,{"$f":"IFERROR(VLOOKUP(D9866,Справка!$G$2:$H$579,2,0),\"\")","v":""}]
[null,null,null,null,{"$f":"IFERROR(VLOOKUP(D9867,Справка!$G$2:$H$579,2,0),\"\")","v":""}]
[null,null,null,null,{"$f":"IFERROR(VLOOKUP(D9868,Справка!$G$2:$H$579,2,0),\"\")","v":""}]
[null,null,null,null,{"$f":"IFERROR(VLOOKUP(D9869,Справка!$G$2:$H$579,2,0),\"\")","v":""}]
[null,null,null,null,{"$f":"IFERROR(VLOOKUP(D9870,Справка!$G$2:$H$579,2,0),\"\")","v":""}]
[null,null,null,null,{"$f":"IFERROR(VLOOKUP(D9871,Справка!$G$2:$H$579,2,0),\"\")","v":""}]
[null,null,null,null,{"$f":"IFERROR(VLOOKUP(D9872,Справка!$G$2:$H$579,2,0),\"\")","v":""}]
[null,null,null,null,{"$f":"IFERROR(VLOOKUP(D9873,Справка!$G$2:$H$579,2,0),\"\")","v":""}]
[null,null,null,null,{"$f":"IFERROR(VLOOKUP(D9874,Справка!$G$2:$H$579,2,0),\"\")","v":""}]
[null,null,null,null,{"$f":"IFERROR(VLOOKUP(D9875,Справка!$G$2:$H$579,2,0),\"\")","v":""}]
[null,null,null,null,{"$f":"IFERROR(VLOOKUP(D9876,Справка!$G$2:$H$579,2,0),\"\")","v":""}]
[null,null,null,null,{"$f":"IFERROR(VLOOKUP(D9877,Справка!$G$2:$H$579,2,0),\"\")","v":""}]
[null,null,null,null,{"$f":"IFERROR(VLOOKUP(D9878,Справка!$G$2:$H$579,2,0),\"\")","v":""}]
[null,null,null,null,{"$f":"IFERROR(VLOOKUP(D9879,Справка!$G$2:$H$579,2,0),\"\")","v":""}]
[null,null,null,null,{"$f":"IFERROR(VLOOKUP(D9880,Справка!$G$2:$H$579,2,0),\"\")","v":""}]
[null,null,null,null,{"$f":"IFERROR(VLOOKUP(D9881,Справка!$G$2:$H$579,2,0),\"\")","v":""}]
[null,null,null,null,{"$f":"IFERROR(VLOOKUP(D9882,Справка!$G$2:$H$579,2,0),\"\")","v":""}]
[null,null,null,null,{"$f":"IFERROR(VLOOKUP(D9883,Справка!$G$2:$H$579,2,0),\"\")","v":""}]
[null,null,null,null,{"$f":"IFERROR(VLOOKUP(D9884,Справка!$G$2:$H$579,2,0),\"\")","v":""}]
[null,null,null,null,{"$f":"IFERROR(VLOOKUP(D9885,Справка!$G$2:$H$579,2,0),\"\")","v":""}]
[null,null,null,null,{"$f":"IFERROR(VLOOKUP(D9886,Справка!$G$2:$H$579,2,0),\"\")","v":""}]
[null,null,null,null,{"$f":"IFERROR(VLOOKUP(D9887,Справка!$G$2:$H$579,2,0),\"\")","v":""}]
[null,null,null,null,{"$f":"IFERROR(VLOOKUP(D9888,Справка!$G$2:$H$579,2,0),\"\")","v":""}]
[null,null,null,null,{"$f":"IFERROR(VLOOKUP(D9889,Справка!$G$2:$H$579,2,0),\"\")","v":""}]
[null,null,null,null,{"$f":"IFERROR(VLOOKUP(D9890,Справка!$G$2:$H$579,2,0),\"\")","v":""}]
[null,null,null,null,{"$f":"IFERROR(VLOOKUP(D9891,Справка!$G$2:$H$579,2,0),\"\")","v":""}]
[null,null,null,null,{"$f":"IFERROR(VLOOKUP(D9892,Справка!$G$2:$H$579,2,0),\"\")","v":""}]
[null,null,null,null,{"$f":"IFERROR(VLOOKUP(D9893,Справка!$G$2:$H$579,2,0),\"\")","v":""}]
[null,null,null,null,{"$f":"IFERROR(VLOOKUP(D9894,Справка!$G$2:$H$579,2,0),\"\")","v":""}]
[null,null,null,null,{"$f":"IFERROR(VLOOKUP(D9895,Справка!$G$2:$H$579,2,0),\"\")","v":""}]
[null,null,null,null,{"$f":"IFERROR(VLOOKUP(D9896,Справка!$G$2:$H$579,2,0),\"\")","v":""}]
[null,null,null,null,{"$f":"IFERROR(VLOOKUP(D9897,Справка!$G$2:$H$579,2,0),\"\")","v":""}]
[null,null,null,null,{"$f":"IFERROR(VLOOKUP(D9898,Справка!$G$2:$H$579,2,0),\"\")","v":""}]
[null,null,null,null,{"$f":"IFERROR(VLOOKUP(D9899,Справка!$G$2:$H$579,2,0),\"\")","v":""}]
[null,null,null,null,{"$f":"IFERROR(VLOOKUP(D9900,Справка!$G$2:$H$579,2,0),\"\")","v":""}]
[null,null,null,null,{"$f":"IFERROR(VLOOKUP(D9901,Справка!$G$2:$H$579,2,0),\"\")","v":""}]
[null,null,null,null,{"$f":"IFERROR(VLOOKUP(D9902,Справка!$G$2:$H$579,2,0),\"\")","v":""}]
[null,null,null,null,{"$f":"IFERROR(VLOOKUP(D9903,Справка!$G$2:$H$579,2,0),\"\")","v":""}]
[null,null,null,null,{"$f":"IFERROR(VLOOKUP(D9904,Справка!$G$2:$H$579,2,0),\"\")","v":""}]
[null,null,null,null,{"$f":"IFERROR(VLOOKUP(D9905,Справка!$G$2:$H$579,2,0),\"\")","v":""}]
[null,null,null,null,{"$f":"IFERROR(VLOOKUP(D9906,Справка!$G$2:$H$579,2,0),\"\")","v":""}]
[null,null,null,null,{"$f":"IFERROR(VLOOKUP(D9907,Справка!$G$2:$H$579,2,0),\"\")","v":""}]
[null,null,null,null,{"$f":"IFERROR(VLOOKUP(D9908,Справка!$G$2:$H$579,2,0),\"\")","v":""}]
[null,null,null,null,{"$f":"IFERROR(VLOOKUP(D9909,Справка!$G$2:$H$579,2,0),\"\")","v":""}]
[null,null,null,null,{"$f":"IFERROR(VLOOKUP(D9910,Справка!$G$2:$H$579,2,0),\"\")","v":""}]
[null,null,null,null,{"$f":"IFERROR(VLOOKUP(D9911,Справка!$G$2:$H$579,2,0),\"\")","v":""}]
[null,null,null,null,{"$f":"IFERROR(VLOOKUP(D9912,Справка!$G$2:$H$579,2,0),\"\")","v":""}]
[null,null,null,null,{"$f":"IFERROR(VLOOKUP(D9913,Справка!$G$2:$H$579,2,0),\"\")","v":""}]
[null,null,null,null,{"$f":"IFERROR(VLOOKUP(D9914,Справка!$G$2:$H$579,2,0),\"\")","v":""}]
[null,null,null,null,{"$f":"IFERROR(VLOOKUP(D9915,Справка!$G$2:$H$579,2,0),\"\")","v":""}]
[null,null,null,null,{"$f":"IFERROR(VLOOKUP(D9916,Справка!$G$2:$H$579,2,0),\"\")","v":""}]
[null,null,null,null,{"$f":"IFERROR(VLOOKUP(D9917,Справка!$G$2:$H$579,2,0),\"\")","v":""}]
[null,null,null,null,{"$f":"IFERROR(VLOOKUP(D9918,Справка!$G$2:$H$579,2,0),\"\")","v":""}]
[null,null,null,null,{"$f":"IFERROR(VLOOKUP(D9919,Справка!$G$2:$H$579,2,0),\"\")","v":""}]
[null,null,null,null,{"$f":"IFERROR(VLOOKUP(D9920,Справка!$G$2:$H$579,2,0),\"\")","v":""}]
[null,null,null,null,{"$f":"IFERROR(VLOOKUP(D9921,Справка!$G$2:$H$579,2,0),\"\")","v":""}]
[null,null,null,null,{"$f":"IFERROR(VLOOKUP(D9922,Справка!$G$2:$H$579,2,0),\"\")","v":""}]
[null,null,null,null,{"$f":"IFERROR(VLOOKUP(D9923,Справка!$G$2:$H$579,2,0),\"\")","v":""}]
[null,null,null,null,{"$f":"IFERROR(VLOOKUP(D9924,Справка!$G$2:$H$579,2,0),\"\")","v":""}]
[null,null,null,null,{"$f":"IFERROR(VLOOKUP(D9925,Справка!$G$2:$H$579,2,0),\"\")","v":""}]
[null,null,null,null,{"$f":"IFERROR(VLOOKUP(D9926,Справка!$G$2:$H$579,2,0),\"\")","v":""}]
[null,null,null,null,{"$f":"IFERROR(VLOOKUP(D9927,Справка!$G$2:$H$579,2,0),\"\")","v":""}]
[null,null,null,null,{"$f":"IFERROR(VLOOKUP(D9928,Справка!$G$2:$H$579,2,0),\"\")","v":""}]
[null,null,null,null,{"$f":"IFERROR(VLOOKUP(D9929,Справка!$G$2:$H$579,2,0),\"\")","v":""}]
[null,null,null,null,{"$f":"IFERROR(VLOOKUP(D9930,Справка!$G$2:$H$579,2,0),\"\")","v":""}]
[null,null,null,null,{"$f":"IFERROR(VLOOKUP(D9931,Справка!$G$2:$H$579,2,0),\"\")","v":""}]
[null,null,null,null,{"$f":"IFERROR(VLOOKUP(D9932,Справка!$G$2:$H$579,2,0),\"\")","v":""}]
[null,null,null,null,{"$f":"IFERROR(VLOOKUP(D9933,Справка!$G$2:$H$579,2,0),\"\")","v":""}]
[null,null,null,null,{"$f":"IFERROR(VLOOKUP(D9934,Справка!$G$2:$H$579,2,0),\"\")","v":""}]
[null,null,null,null,{"$f":"IFERROR(VLOOKUP(D9935,Справка!$G$2:$H$579,2,0),\"\")","v":""}]
[null,null,null,null,{"$f":"IFERROR(VLOOKUP(D9936,Справка!$G$2:$H$579,2,0),\"\")","v":""}]
[null,null,null,null,{"$f":"IFERROR(VLOOKUP(D9937,Справка!$G$2:$H$579,2,0),\"\")","v":""}]
[null,null,null,null,{"$f":"IFERROR(VLOOKUP(D9938,Справка!$G$2:$H$579,2,0),\"\")","v":""}]
[null,null,null,null,{"$f":"IFERROR(VLOOKUP(D9939,Справка!$G$2:$H$579,2,0),\"\")","v":""}]
[null,null,null,null,{"$f":"IFERROR(VLOOKUP(D9940,Справка!$G$2:$H$579,2,0),\"\")","v":""}]
[null,null,null,null,{"$f":"IFERROR(VLOOKUP(D9941,Справка!$G$2:$H$579,2,0),\"\")","v":""}]
[null,null,null,null,{"$f":"IFERROR(VLOOKUP(D9942,Справка!$G$2:$H$579,2,0),\"\")","v":""}]
[null,null,null,null,{"$f":"IFERROR(VLOOKUP(D9943,Справка!$G$2:$H$579,2,0),\"\")","v":""}]
[null,null,null,null,{"$f":"IFERROR(VLOOKUP(D9944,Справка!$G$2:$H$579,2,0),\"\")","v":""}]
[null,null,null,null,{"$f":"IFERROR(VLOOKUP(D9945,Справка!$G$2:$H$579,2,0),\"\")","v":""}]
[null,null,null,null,{"$f":"IFERROR(VLOOKUP(D9946,Справка!$G$2:$H$579,2,0),\"\")","v":""}]
[null,null,null,null,{"$f":"IFERROR(VLOOKUP(D9947,Справка!$G$2:$H$579,2,0),\"\")","v":""}]
[null,null,null,null,{"$f":"IFERROR(VLOOKUP(D9948,Справка!$G$2:$H$579,2,0),\"\")","v":""}]
[null,null,null,null,{"$f":"IFERROR(VLOOKUP(D9949,Справка!$G$2:$H$579,2,0),\"\")","v":""}]
[null,null,null,null,{"$f":"IFERROR(VLOOKUP(D9950,Справка!$G$2:$H$579,2,0),\"\")","v":""}]
[null,null,null,null,{"$f":"IFERROR(VLOOKUP(D9951,Справка!$G$2:$H$579,2,0),\"\")","v":""}]
[null,null,null,null,{"$f":"IFERROR(VLOOKUP(D9952,Справка!$G$2:$H$579,2,0),\"\")","v":""}]
[null,null,null,null,{"$f":"IFERROR(VLOOKUP(D9953,Справка!$G$2:$H$579,2,0),\"\")","v":""}]
[null,null,null,null,{"$f":"IFERROR(VLOOKUP(D9954,Справка!$G$2:$H$579,2,0),\"\")","v":""}]
[null,null,null,null,{"$f":"IFERROR(VLOOKUP(D9955,Справка!$G$2:$H$579,2,0),\"\")","v":""}]
[null,null,null,null,{"$f":"IFERROR(VLOOKUP(D9956,Справка!$G$2:$H$579,2,0),\"\")","v":""}]
[null,null,null,null,{"$f":"IFERROR(VLOOKUP(D9957,Справка!$G$2:$H$579,2,0),\"\")","v":""}]
[null,null,null,null,{"$f":"IFERROR(VLOOKUP(D9958,Справка!$G$2:$H$579,2,0),\"\")","v":""}]
[null,null,null,null,{"$f":"IFERROR(VLOOKUP(D9959,Справка!$G$2:$H$579,2,0),\"\")","v":""}]
[null,null,null,null,{"$f":"IFERROR(VLOOKUP(D9960,Справка!$G$2:$H$579,2,0),\"\")","v":""}]
[null,null,null,null,{"$f":"IFERROR(VLOOKUP(D9961,Справка!$G$2:$H$579,2,0),\"\")","v":""}]
[null,null,null,null,{"$f":"IFERROR(VLOOKUP(D9962,Справка!$G$2:$H$579,2,0),\"\")","v":""}]
[null,null,null,null,{"$f":"IFERROR(VLOOKUP(D9963,Справка!$G$2:$H$579,2,0),\"\")","v":""}]
[null,null,null,null,{"$f":"IFERROR(VLOOKUP(D9964,Справка!$G$2:$H$579,2,0),\"\")","v":""}]
[null,null,null,null,{"$f":"IFERROR(VLOOKUP(D9965,Справка!$G$2:$H$579,2,0),\"\")","v":""}]
[null,null,null,null,{"$f":"IFERROR(VLOOKUP(D9966,Справка!$G$2:$H$579,2,0),\"\")","v":""}]
[null,null,null,null,{"$f":"IFERROR(VLOOKUP(D9967,Справка!$G$2:$H$579,2,0),\"\")","v":""}]
[null,null,null,null,{"$f":"IFERROR(VLOOKUP(D9968,Справка!$G$2:$H$579,2,0),\"\")","v":""}]
[null,null,null,null,{"$f":"IFERROR(VLOOKUP(D9969,Справка!$G$2:$H$579,2,0),\"\")","v":""}]
[null,null,null,null,{"$f":"IFERROR(VLOOKUP(D9970,Справка!$G$2:$H$579,2,0),\"\")","v":""}]
[null,null,null,null,{"$f":"IFERROR(VLOOKUP(D9971,Справка!$G$2:$H$579,2,0),\"\")","v":""}]
[null,null,null,null,{"$f":"IFERROR(VLOOKUP(D9972,Справка!$G$2:$H$579,2,0),\"\")","v":""}]
[null,null,null,null,{"$f":"IFERROR(VLOOKUP(D9973,Справка!$G$2:$H$579,2,0),\"\")","v":""}]
[null,null,null,null,{"$f":"IFERROR(VLOOKUP(D9974,Справка!$G$2:$H$579,2,0),\"\")","v":""}]
[null,null,null,null,{"$f":"IFERROR(VLOOKUP(D9975,Справка!$G$2:$H$579,2,0),\"\")","v":""}]
[null,null,null,null,{"$f":"IFERROR(VLOOKUP(D9976,Справка!$G$2:$H$579,2,0),\"\")","v":""}]
[null,null,null,null,{"$f":"IFERROR(VLOOKUP(D9977,Справка!$G$2:$H$579,2,0),\"\")","v":""}]
[null,null,null,null,{"$f":"IFERROR(VLOOKUP(D9978,Справка!$G$2:$H$579,2,0),\"\")","v":""}]
[null,null,null,null,{"$f":"IFERROR(VLOOKUP(D9979,Справка!$G$2:$H$579,2,0),\"\")","v":""}]
[null,null,null,null,{"$f":"IFERROR(VLOOKUP(D9980,Справка!$G$2:$H$579,2,0),\"\")","v":""}]
[null,null,null,null,{"$f":"IFERROR(VLOOKUP(D9981,Справка!$G$2:$H$579,2,0),\"\")","v":""}]
[null,null,null,null,{"$f":"IFERROR(VLOOKUP(D9982,Справка!$G$2:$H$579,2,0),\"\")","v":""}]
[null,null,null,null,{"$f":"IFERROR(VLOOKUP(D9983,Справка!$G$2:$H$579,2,0),\"\")","v":""}]
[null,null,null,null,{"$f":"IFERROR(VLOOKUP(D9984,Справка!$G$2:$H$579,2,0),\"\")","v":""}]
[null,null,null,null,{"$f":"IFERROR(VLOOKUP(D9985,Справка!$G$2:$H$579,2,0),\"\")","v":""}]
[null,null,null,null,{"$f":"IFERROR(VLOOKUP(D9986,Справка!$G$2:$H$579,2,0),\"\")","v":""}]
[null,null,null,null,{"$f":"IFERROR(VLOOKUP(D9987,Справка!$G$2:$H$579,2,0),\"\")","v":""}]
[null,null,null,null,{"$f":"IFERROR(VLOOKUP(D9988,Справка!$G$2:$H$579,2,0),\"\")","v":""}]
[null,null,null,null,{"$f":"IFERROR(VLOOKUP(D9989,Справка!$G$2:$H$579,2,0),\"\")","v":""}]
[null,null,null,null,{"$f":"IFERROR(VLOOKUP(D9990,Справка!$G$2:$H$579,2,0),\"\")","v":""}]
[null,null,null,null,{"$f":"IFERROR(VLOOKUP(D9991,Справка!$G$2:$H$579,2,0),\"\")","v":""}]
[null,null,null,null,{"$f":"IFERROR(VLOOKUP(D9992,Справка!$G$2:$H$579,2,0),\"\")","v":""}]
[null,null,null,null,{"$f":"IFERROR(VLOOKUP(D9993,Справка!$G$2:$H$579,2,0),\"\")","v":""}]
[null,null,null,null,{"$f":"IFERROR(VLOOKUP(D9994,Справка!$G$2:$H$579,2,0),\"\")","v":""}]
[null,null,null,null,{"$f":"IFERROR(VLOOKUP(D9995,Справка!$G$2:$H$579,2,0),\"\")","v":""}]
[null,null,null,null,{"$f":"IFERROR(VLOOKUP(D9996,Справка!$G$2:$H$579,2,0),\"\")","v":""}]
[null,null,null,null,{"$f":"IFERROR(VLOOKUP(D9997,Справка!$G$2:$H$579,2,0),\"\")","v":""}]
[null,null,null,null,{"$f":"IFERROR(VLOOKUP(D9998,Справка!$G$2:$H$579,2,0),\"\")","v":""}]
[null,null,null,null,{"$f":"IFERROR(VLOOKUP(D9999,Справка!$G$2:$H$579,2,0),\"\")","v":""}]
[null,null,null,null,{"$f":"IFERROR(VLOOKUP(D10000,Справка!$G$2:$H$579,2,0),\"\")","v":""}]
[null,null,null,null,{"$f":"IFERROR(VLOOKUP(D10001,Справка!$G$2:$H$579,2,0),\"\")","v":""}]
[null,null,null,null,{"$f":"IFERROR(VLOOKUP(D10002,Справка!$G$2:$H$579,2,0),\"\")","v":""}]
[null,null,null,null,{"$f":"IFERROR(VLOOKUP(D10003,Справка!$G$2:$H$579,2,0),\"\")","v":""}]
[null,null,null,null,{"$f":"IFERROR(VLOOKUP(D10004,Справка!$G$2:$H$579,2,0),\"\")","v":""}]
[null,null,null,null,{"$f":"IFERROR(VLOOKUP(D10005,Справка!$G$2:$H$579,2,0),\"\")","v":""}]
[null,null,null,null,{"$f":"IFERROR(VLOOKUP(D10006,Справка!$G$2:$H$579,2,0),\"\")","v":""}]
[null,null,null,null,{"$f":"IFERROR(VLOOKUP(D10007,Справка!$G$2:$H$579,2,0),\"\")","v":""}]
[null,null,null,null,{"$f":"IFERROR(VLOOKUP(D10008,Справка!$G$2:$H$579,2,0),\"\")","v":""}]
[null,null,null,null,{"$f":"IFERROR(VLOOKUP(D10009,Справка!$G$2:$H$579,2,0),\"\")","v":""}]
[null,null,null,null,{"$f":"IFERROR(VLOOKUP(D10010,Справка!$G$2:$H$579,2,0),\"\")","v":""}]
[null,null,null,null,{"$f":"IFERROR(VLOOKUP(D10011,Справка!$G$2:$H$579,2,0),\"\")","v":""}]
[null,null,null,null,{"$f":"IFERROR(VLOOKUP(D10012,Справка!$G$2:$H$579,2,0),\"\")","v":""}]
[null,null,null,null,{"$f":"IFERROR(VLOOKUP(D10013,Справка!$G$2:$H$579,2,0),\"\")","v":""}]
[null,null,null,null,{"$f":"IFERROR(VLOOKUP(D10014,Справка!$G$2:$H$579,2,0),\"\")","v":""}]
[null,null,null,null,{"$f":"IFERROR(VLOOKUP(D10015,Справка!$G$2:$H$579,2,0),\"\")","v":""}]
[null,null,null,null,{"$f":"IFERROR(VLOOKUP(D10016,Справка!$G$2:$H$579,2,0),\"\")","v":""}]
[null,null,null,null,{"$f":"IFERROR(VLOOKUP(D10017,Справка!$G$2:$H$579,2,0),\"\")","v":""}]
[null,null,null,null,{"$f":"IFERROR(VLOOKUP(D10018,Справка!$G$2:$H$579,2,0),\"\")","v":""}]
[null,null,null,null,{"$f":"IFERROR(VLOOKUP(D10019,Справка!$G$2:$H$579,2,0),\"\")","v":""}]
[null,null,null,null,{"$f":"IFERROR(VLOOKUP(D10020,Справка!$G$2:$H$579,2,0),\"\")","v":""}]
[null,null,null,null,{"$f":"IFERROR(VLOOKUP(D10021,Справка!$G$2:$H$579,2,0),\"\")","v":""}]
[null,null,null,null,{"$f":"IFERROR(VLOOKUP(D10022,Справка!$G$2:$H$579,2,0),\"\")","v":""}]
[null,null,null,null,{"$f":"IFERROR(VLOOKUP(D10023,Справка!$G$2:$H$579,2,0),\"\")","v":""}]
[null,null,null,null,{"$f":"IFERROR(VLOOKUP(D10024,Справка!$G$2:$H$579,2,0),\"\")","v":""}]
[null,null,null,null,{"$f":"IFERROR(VLOOKUP(D10025,Справка!$G$2:$H$579,2,0),\"\")","v":""}]
[null,null,null,null,{"$f":"IFERROR(VLOOKUP(D10026,Справка!$G$2:$H$579,2,0),\"\")","v":""}]
[null,null,null,null,{"$f":"IFERROR(VLOOKUP(D10027,Справка!$G$2:$H$579,2,0),\"\")","v":""}]
[null,null,null,null,{"$f":"IFERROR(VLOOKUP(D10028,Справка!$G$2:$H$579,2,0),\"\")","v":""}]
[null,null,null,null,{"$f":"IFERROR(VLOOKUP(D10029,Справка!$G$2:$H$579,2,0),\"\")","v":""}]
[null,null,null,null,{"$f":"IFERROR(VLOOKUP(D10030,Справка!$G$2:$H$579,2,0),\"\")","v":""}]
[null,null,null,null,{"$f":"IFERROR(VLOOKUP(D10031,Справка!$G$2:$H$579,2,0),\"\")","v":""}]
[null,null,null,null,{"$f":"IFERROR(VLOOKUP(D10032,Справка!$G$2:$H$579,2,0),\"\")","v":""}]
[null,null,null,null,{"$f":"IFERROR(VLOOKUP(D10033,Справка!$G$2:$H$579,2,0),\"\")","v":""}]
[null,null,null,null,{"$f":"IFERROR(VLOOKUP(D10034,Справка!$G$2:$H$579,2,0),\"\")","v":""}]
[null,null,null,null,{"$f":"IFERROR(VLOOKUP(D10035,Справка!$G$2:$H$579,2,0),\"\")","v":""}]
[null,null,null,null,{"$f":"IFERROR(VLOOKUP(D10036,Справка!$G$2:$H$579,2,0),\"\")","v":""}]
[null,null,null,null,{"$f":"IFERROR(VLOOKUP(D10037,Справка!$G$2:$H$579,2,0),\"\")","v":""}]
[null,null,null,null,{"$f":"IFERROR(VLOOKUP(D10038,Справка!$G$2:$H$579,2,0),\"\")","v":""}]
[null,null,null,null,{"$f":"IFERROR(VLOOKUP(D10039,Справка!$G$2:$H$579,2,0),\"\")","v":""}]
[null,null,null,null,{"$f":"IFERROR(VLOOKUP(D10040,Справка!$G$2:$H$579,2,0),\"\")","v":""}]
[null,null,null,null,{"$f":"IFERROR(VLOOKUP(D10041,Справка!$G$2:$H$579,2,0),\"\")","v":""}]
[null,null,null,null,{"$f":"IFERROR(VLOOKUP(D10042,Справка!$G$2:$H$579,2,0),\"\")","v":""}]
[null,null,null,null,{"$f":"IFERROR(VLOOKUP(D10043,Справка!$G$2:$H$579,2,0),\"\")","v":""}]
[null,null,null,null,{"$f":"IFERROR(VLOOKUP(D10044,Справка!$G$2:$H$579,2,0),\"\")","v":""}]
[null,null,null,null,{"$f":"IFERROR(VLOOKUP(D10045,Справка!$G$2:$H$579,2,0),\"\")","v":""}]
[null,null,null,null,{"$f":"IFERROR(VLOOKUP(D10046,Справка!$G$2:$H$579,2,0),\"\")","v":""}]
[null,null,null,null,{"$f":"IFERROR(VLOOKUP(D10047,Справка!$G$2:$H$579,2,0),\"\")","v":""}]
[null,null,null,null,{"$f":"IFERROR(VLOOKUP(D10048,Справка!$G$2:$H$579,2,0),\"\")","v":""}]
[null,null,null,null,{"$f":"IFERROR(VLOOKUP(D10049,Справка!$G$2:$H$579,2,0),\"\")","v":""}]
[null,null,null,null,{"$f":"IFERROR(VLOOKUP(D10050,Справка!$G$2:$H$579,2,0),\"\")","v":""}]
[null,null,null,null,{"$f":"IFERROR(VLOOKUP(D10051,Справка!$G$2:$H$579,2,0),\"\")","v":""}]
[null,null,null,null,{"$f":"IFERROR(VLOOKUP(D10052,Справка!$G$2:$H$579,2,0),\"\")","v":""}]
[null,null,null,null,{"$f":"IFERROR(VLOOKUP(D10053,Справка!$G$2:$H$579,2,0),\"\")","v":""}]
[null,null,null,null,{"$f":"IFERROR(VLOOKUP(D10054,Справка!$G$2:$H$579,2,0),\"\")","v":""}]
[null,null,null,null,{"$f":"IFERROR(VLOOKUP(D10055,Справка!$G$2:$H$579,2,0),\"\")","v":""}]
[null,null,null,null,{"$f":"IFERROR(VLOOKUP(D10056,Справка!$G$2:$H$579,2,0),\"\")","v":""}]
[null,null,null,null,{"$f":"IFERROR(VLOOKUP(D10057,Справка!$G$2:$H$579,2,0),\"\")","v":""}]
[null,null,null,null,{"$f":"IFERROR(VLOOKUP(D10058,Справка!$G$2:$H$579,2,0),\"\")","v":""}]
[null,null,null,null,{"$f":"IFERROR(VLOOKUP(D10059,Справка!$G$2:$H$579,2,0),\"\")","v":""}]
[null,null,null,null,{"$f":"IFERROR(VLOOKUP(D10060,Справка!$G$2:$H$579,2,0),\"\")","v":""}]
[null,null,null,null,{"$f":"IFERROR(VLOOKUP(D10061,Справка!$G$2:$H$579,2,0),\"\")","v":""}]
[null,null,null,null,{"$f":"IFERROR(VLOOKUP(D10062,Справка!$G$2:$H$579,2,0),\"\")","v":""}]
[null,null,null,null,{"$f":"IFERROR(VLOOKUP(D10063,Справка!$G$2:$H$579,2,0),\"\")","v":""}]
[null,null,null,null,{"$f":"IFERROR(VLOOKUP(D10064,Справка!$G$2:$H$579,2,0),\"\")","v":""}]
[null,null,null,null,{"$f":"IFERROR(VLOOKUP(D10065,Справка!$G$2:$H$579,2,0),\"\")","v":""}]
[null,null,null,null,{"$f":"IFERROR(VLOOKUP(D10066,Справка!$G$2:$H$579,2,0),\"\")","v":""}]
[null,null,null,null,{"$f":"IFERROR(VLOOKUP(D10067,Справка!$G$2:$H$579,2,0),\"\")","v":""}]
[null,null,null,null,{"$f":"IFERROR(VLOOKUP(D10068,Справка!$G$2:$H$579,2,0),\"\")","v":""}]
[null,null,null,null,{"$f":"IFERROR(VLOOKUP(D10069,Справка!$G$2:$H$579,2,0),\"\")","v":""}]
[null,null,null,null,{"$f":"IFERROR(VLOOKUP(D10070,Справка!$G$2:$H$579,2,0),\"\")","v":""}]
[null,null,null,null,{"$f":"IFERROR(VLOOKUP(D10071,Справка!$G$2:$H$579,2,0),\"\")","v":""}]
[null,null,null,null,{"$f":"IFERROR(VLOOKUP(D10072,Справка!$G$2:$H$579,2,0),\"\")","v":""}]
[null,null,null,null,{"$f":"IFERROR(VLOOKUP(D10073,Справка!$G$2:$H$579,2,0),\"\")","v":""}]
[null,null,null,null,{"$f":"IFERROR(VLOOKUP(D10074,Справка!$G$2:$H$579,2,0),\"\")","v":""}]
[null,null,null,null,{"$f":"IFERROR(VLOOKUP(D10075,Справка!$G$2:$H$579,2,0),\"\")","v":""}]
[null,null,null,null,{"$f":"IFERROR(VLOOKUP(D10076,Справка!$G$2:$H$579,2,0),\"\")","v":""}]
[null,null,null,null,{"$f":"IFERROR(VLOOKUP(D10077,Справка!$G$2:$H$579,2,0),\"\")","v":""}]
[null,null,null,null,{"$f":"IFERROR(VLOOKUP(D10078,Справка!$G$2:$H$579,2,0),\"\")","v":""}]
[null,null,null,null,{"$f":"IFERROR(VLOOKUP(D10079,Справка!$G$2:$H$579,2,0),\"\")","v":""}]
[null,null,null,null,{"$f":"IFERROR(VLOOKUP(D10080,Справка!$G$2:$H$579,2,0),\"\")","v":""}]
[null,null,null,null,{"$f":"IFERROR(VLOOKUP(D10081,Справка!$G$2:$H$579,2,0),\"\")","v":""}]
[null,null,null,null,{"$f":"IFERROR(VLOOKUP(D10082,Справка!$G$2:$H$579,2,0),\"\")","v":""}]
[null,null,null,null,{"$f":"IFERROR(VLOOKUP(D10083,Справка!$G$2:$H$579,2,0),\"\")","v":""}]
[null,null,null,null,{"$f":"IFERROR(VLOOKUP(D10084,Справка!$G$2:$H$579,2,0),\"\")","v":""}]
[null,null,null,null,{"$f":"IFERROR(VLOOKUP(D10085,Справка!$G$2:$H$579,2,0),\"\")","v":""}]
[null,null,null,null,{"$f":"IFERROR(VLOOKUP(D10086,Справка!$G$2:$H$579,2,0),\"\")","v":""}]
[null,null,null,null,{"$f":"IFERROR(VLOOKUP(D10087,Справка!$G$2:$H$579,2,0),\"\")","v":""}]
[null,null,null,null,{"$f":"IFERROR(VLOOKUP(D10088,Справка!$G$2:$H$579,2,0),\"\")","v":""}]
[null,null,null,null,{"$f":"IFERROR(VLOOKUP(D10089,Справка!$G$2:$H$579,2,0),\"\")","v":""}]
[null,null,null,null,{"$f":"IFERROR(VLOOKUP(D10090,Справка!$G$2:$H$579,2,0),\"\")","v":""}]
[null,null,null,null,{"$f":"IFERROR(VLOOKUP(D10091,Справка!$G$2:$H$579,2,0),\"\")","v":""}]
[null,null,null,null,{"$f":"IFERROR(VLOOKUP(D10092,Справка!$G$2:$H$579,2,0),\"\")","v":""}]
[null,null,null,null,{"$f":"IFERROR(VLOOKUP(D10093,Справка!$G$2:$H$579,2,0),\"\")","v":""}]
[null,null,null,null,{"$f":"IFERROR(VLOOKUP(D10094,Справка!$G$2:$H$579,2,0),\"\")","v":""}]
[null,null,null,null,{"$f":"IFERROR(VLOOKUP(D10095,Справка!$G$2:$H$579,2,0),\"\")","v":""}]
[null,null,null,null,{"$f":"IFERROR(VLOOKUP(D10096,Справка!$G$2:$H$579,2,0),\"\")","v":""}]
[null,null,null,null,{"$f":"IFERROR(VLOOKUP(D10097,Справка!$G$2:$H$579,2,0),\"\")","v":""}]
[null,null,null,null,{"$f":"IFERROR(VLOOKUP(D10098,Справка!$G$2:$H$579,2,0),\"\")","v":""}]
[null,null,null,null,{"$f":"IFERROR(VLOOKUP(D10099,Справка!$G$2:$H$579,2,0),\"\")","v":""}]
[null,null,null,null,{"$f":"IFERROR(VLOOKUP(D10100,Справка!$G$2:$H$579,2,0),\"\")","v":""}]
[null,null,null,null,{"$f":"IFERROR(VLOOKUP(D10101,Справка!$G$2:$H$579,2,0),\"\")","v":""}]
[null,null,null,null,{"$f":"IFERROR(VLOOKUP(D10102,Справка!$G$2:$H$579,2,0),\"\")","v":""}]
[null,null,null,null,{"$f":"IFERROR(VLOOKUP(D10103,Справка!$G$2:$H$579,2,0),\"\")","v":""}]
[null,null,null,null,{"$f":"IFERROR(VLOOKUP(D10104,Справка!$G$2:$H$579,2,0),\"\")","v":""}]
[null,null,null,null,{"$f":"IFERROR(VLOOKUP(D10105,Справка!$G$2:$H$579,2,0),\"\")","v":""}]
[null,null,null,null,{"$f":"IFERROR(VLOOKUP(D10106,Справка!$G$2:$H$579,2,0),\"\")","v":""}]
[null,null,null,null,{"$f":"IFERROR(VLOOKUP(D10107,Справка!$G$2:$H$579,2,0),\"\")","v":""}]
[null,null,null,null,{"$f":"IFERROR(VLOOKUP(D10108,Справка!$G$2:$H$579,2,0),\"\")","v":""}]
[null,null,null,null,{"$f":"IFERROR(VLOOKUP(D10109,Справка!$G$2:$H$579,2,0),\"\")","v":""}]
[null,null,null,null,{"$f":"IFERROR(VLOOKUP(D10110,Справка!$G$2:$H$579,2,0),\"\")","v":""}]
[null,null,null,null,{"$f":"IFERROR(VLOOKUP(D10111,Справка!$G$2:$H$579,2,0),\"\")","v":""}]
[null,null,null,null,{"$f":"IFERROR(VLOOKUP(D10112,Справка!$G$2:$H$579,2,0),\"\")","v":""}]
[null,null,null,null,{"$f":"IFERROR(VLOOKUP(D10113,Справка!$G$2:$H$579,2,0),\"\")","v":""}]
[null,null,null,null,{"$f":"IFERROR(VLOOKUP(D10114,Справка!$G$2:$H$579,2,0),\"\")","v":""}]
[null,null,null,null,{"$f":"IFERROR(VLOOKUP(D10115,Справка!$G$2:$H$579,2,0),\"\")","v":""}]
[null,null,null,null,{"$f":"IFERROR(VLOOKUP(D10116,Справка!$G$2:$H$579,2,0),\"\")","v":""}]
[null,null,null,null,{"$f":"IFERROR(VLOOKUP(D10117,Справка!$G$2:$H$579,2,0),\"\")","v":""}]
[null,null,null,null,{"$f":"IFERROR(VLOOKUP(D10118,Справка!$G$2:$H$579,2,0),\"\")","v":""}]
[null,null,null,null,{"$f":"IFERROR(VLOOKUP(D10119,Справка!$G$2:$H$579,2,0),\"\")","v":""}]
[null,null,null,null,{"$f":"IFERROR(VLOOKUP(D10120,Справка!$G$2:$H$579,2,0),\"\")","v":""}]
[null,null,null,null,{"$f":"IFERROR(VLOOKUP(D10121,Справка!$G$2:$H$579,2,0),\"\")","v":""}]
[null,null,null,null,{"$f":"IFERROR(VLOOKUP(D10122,Справка!$G$2:$H$579,2,0),\"\")","v":""}]
[null,null,null,null,{"$f":"IFERROR(VLOOKUP(D10123,Справка!$G$2:$H$579,2,0),\"\")","v":""}]
[null,null,null,null,{"$f":"IFERROR(VLOOKUP(D10124,Справка!$G$2:$H$579,2,0),\"\")","v":""}]
[null,null,null,null,{"$f":"IFERROR(VLOOKUP(D10125,Справка!$G$2:$H$579,2,0),\"\")","v":""}]
[null,null,null,null,{"$f":"IFERROR(VLOOKUP(D10126,Справка!$G$2:$H$579,2,0),\"\")","v":""}]
[null,null,null,null,{"$f":"IFERROR(VLOOKUP(D10127,Справка!$G$2:$H$579,2,0),\"\")","v":""}]
[null,null,null,null,{"$f":"IFERROR(VLOOKUP(D10128,Справка!$G$2:$H$579,2,0),\"\")","v":""}]
[null,null,null,null,{"$f":"IFERROR(VLOOKUP(D10129,Справка!$G$2:$H$579,2,0),\"\")","v":""}]
[null,null,null,null,{"$f":"IFERROR(VLOOKUP(D10130,Справка!$G$2:$H$579,2,0),\"\")","v":""}]
[null,null,null,null,{"$f":"IFERROR(VLOOKUP(D10131,Справка!$G$2:$H$579,2,0),\"\")","v":""}]
[null,null,null,null,{"$f":"IFERROR(VLOOKUP(D10132,Справка!$G$2:$H$579,2,0),\"\")","v":""}]
[null,null,null,null,{"$f":"IFERROR(VLOOKUP(D10133,Справка!$G$2:$H$579,2,0),\"\")","v":""}]
[null,null,null,null,{"$f":"IFERROR(VLOOKUP(D10134,Справка!$G$2:$H$579,2,0),\"\")","v":""}]
[null,null,null,null,{"$f":"IFERROR(VLOOKUP(D10135,Справка!$G$2:$H$579,2,0),\"\")","v":""}]
[null,null,null,null,{"$f":"IFERROR(VLOOKUP(D10136,Справка!$G$2:$H$579,2,0),\"\")","v":""}]
[null,null,null,null,{"$f":"IFERROR(VLOOKUP(D10137,Справка!$G$2:$H$579,2,0),\"\")","v":""}]
[null,null,null,null,{"$f":"IFERROR(VLOOKUP(D10138,Справка!$G$2:$H$579,2,0),\"\")","v":""}]
[null,null,null,null,{"$f":"IFERROR(VLOOKUP(D10139,Справка!$G$2:$H$579,2,0),\"\")","v":""}]
[null,null,null,null,{"$f":"IFERROR(VLOOKUP(D10140,Справка!$G$2:$H$579,2,0),\"\")","v":""}]
[null,null,null,null,{"$f":"IFERROR(VLOOKUP(D10141,Справка!$G$2:$H$579,2,0),\"\")","v":""}]
[null,null,null,null,{"$f":"IFERROR(VLOOKUP(D10142,Справка!$G$2:$H$579,2,0),\"\")","v":""}]
[null,null,null,null,{"$f":"IFERROR(VLOOKUP(D10143,Справка!$G$2:$H$579,2,0),\"\")","v":""}]
[null,null,null,null,{"$f":"IFERROR(VLOOKUP(D10144,Справка!$G$2:$H$579,2,0),\"\")","v":""}]
[null,null,null,null,{"$f":"IFERROR(VLOOKUP(D10145,Справка!$G$2:$H$579,2,0),\"\")","v":""}]
[null,null,null,null,{"$f":"IFERROR(VLOOKUP(D10146,Справка!$G$2:$H$579,2,0),\"\")","v":""}]
[null,null,null,null,{"$f":"IFERROR(VLOOKUP(D10147,Справка!$G$2:$H$579,2,0),\"\")","v":""}]
[null,null,null,null,{"$f":"IFERROR(VLOOKUP(D10148,Справка!$G$2:$H$579,2,0),\"\")","v":""}]
[null,null,null,null,{"$f":"IFERROR(VLOOKUP(D10149,Справка!$G$2:$H$579,2,0),\"\")","v":""}]
[null,null,null,null,{"$f":"IFERROR(VLOOKUP(D10150,Справка!$G$2:$H$579,2,0),\"\")","v":""}]
[null,null,null,null,{"$f":"IFERROR(VLOOKUP(D10151,Справка!$G$2:$H$579,2,0),\"\")","v":""}]
[null,null,null,null,{"$f":"IFERROR(VLOOKUP(D10152,Справка!$G$2:$H$579,2,0),\"\")","v":""}]
[null,null,null,null,{"$f":"IFERROR(VLOOKUP(D10153,Справка!$G$2:$H$579,2,0),\"\")","v":""}]
[null,null,null,null,{"$f":"IFERROR(VLOOKUP(D10154,Справка!$G$2:$H$579,2,0),\"\")","v":""}]
[null,null,null,null,{"$f":"IFERROR(VLOOKUP(D10155,Справка!$G$2:$H$579,2,0),\"\")","v":""}]
[null,null,null,null,{"$f":"IFERROR(VLOOKUP(D10156,Справка!$G$2:$H$579,2,0),\"\")","v":""}]
[null,null,null,null,{"$f":"IFERROR(VLOOKUP(D10157,Справка!$G$2:$H$579,2,0),\"\")","v":""}]
[null,null,null,null,{"$f":"IFERROR(VLOOKUP(D10158,Справка!$G$2:$H$579,2,0),\"\")","v":""}]
[null,null,null,null,{"$f":"IFERROR(VLOOKUP(D10159,Справка!$G$2:$H$579,2,0),\"\")","v":""}]
[null,null,null,null,{"$f":"IFERROR(VLOOKUP(D10160,Справка!$G$2:$H$579,2,0),\"\")","v":""}]
[null,null,null,null,{"$f":"IFERROR(VLOOKUP(D10161,Справка!$G$2:$H$579,2,0),\"\")","v":""}]
[null,null,null,null,{"$f":"IFERROR(VLOOKUP(D10162,Справка!$G$2:$H$579,2,0),\"\")","v":""}]
[null,null,null,null,{"$f":"IFERROR(VLOOKUP(D10163,Справка!$G$2:$H$579,2,0),\"\")","v":""}]
[null,null,null,null,{"$f":"IFERROR(VLOOKUP(D10164,Справка!$G$2:$H$579,2,0),\"\")","v":""}]
[null,null,null,null,{"$f":"IFERROR(VLOOKUP(D10165,Справка!$G$2:$H$579,2,0),\"\")","v":""}]
[null,null,null,null,{"$f":"IFERROR(VLOOKUP(D10166,Справка!$G$2:$H$579,2,0),\"\")","v":""}]
[null,null,null,null,{"$f":"IFERROR(VLOOKUP(D10167,Справка!$G$2:$H$579,2,0),\"\")","v":""}]
[null,null,null,null,{"$f":"IFERROR(VLOOKUP(D10168,Справка!$G$2:$H$579,2,0),\"\")","v":""}]
[null,null,null,null,{"$f":"IFERROR(VLOOKUP(D10169,Справка!$G$2:$H$579,2,0),\"\")","v":""}]
[null,null,null,null,{"$f":"IFERROR(VLOOKUP(D10170,Справка!$G$2:$H$579,2,0),\"\")","v":""}]
[null,null,null,null,{"$f":"IFERROR(VLOOKUP(D10171,Справка!$G$2:$H$579,2,0),\"\")","v":""}]
[null,null,null,null,{"$f":"IFERROR(VLOOKUP(D10172,Справка!$G$2:$H$579,2,0),\"\")","v":""}]
[null,null,null,null,{"$f":"IFERROR(VLOOKUP(D10173,Справка!$G$2:$H$579,2,0),\"\")","v":""}]
[null,null,null,null,{"$f":"IFERROR(VLOOKUP(D10174,Справка!$G$2:$H$579,2,0),\"\")","v":""}]
[null,null,null,null,{"$f":"IFERROR(VLOOKUP(D10175,Справка!$G$2:$H$579,2,0),\"\")","v":""}]
[null,null,null,null,{"$f":"IFERROR(VLOOKUP(D10176,Справка!$G$2:$H$579,2,0),\"\")","v":""}]
[null,null,null,null,{"$f":"IFERROR(VLOOKUP(D10177,Справка!$G$2:$H$579,2,0),\"\")","v":""}]
[null,null,null,null,{"$f":"IFERROR(VLOOKUP(D10178,Справка!$G$2:$H$579,2,0),\"\")","v":""}]
[null,null,null,null,{"$f":"IFERROR(VLOOKUP(D10179,Справка!$G$2:$H$579,2,0),\"\")","v":""}]
[null,null,null,null,{"$f":"IFERROR(VLOOKUP(D10180,Справка!$G$2:$H$579,2,0),\"\")","v":""}]
[null,null,null,null,{"$f":"IFERROR(VLOOKUP(D10181,Справка!$G$2:$H$579,2,0),\"\")","v":""}]
[null,null,null,null,{"$f":"IFERROR(VLOOKUP(D10182,Справка!$G$2:$H$579,2,0),\"\")","v":""}]
[null,null,null,null,{"$f":"IFERROR(VLOOKUP(D10183,Справка!$G$2:$H$579,2,0),\"\")","v":""}]
[null,null,null,null,{"$f":"IFERROR(VLOOKUP(D10184,Справка!$G$2:$H$579,2,0),\"\")","v":""}]
[null,null,null,null,{"$f":"IFERROR(VLOOKUP(D10185,Справка!$G$2:$H$579,2,0),\"\")","v":""}]
[null,null,null,null,{"$f":"IFERROR(VLOOKUP(D10186,Справка!$G$2:$H$579,2,0),\"\")","v":""}]
[null,null,null,null,{"$f":"IFERROR(VLOOKUP(D10187,Справка!$G$2:$H$579,2,0),\"\")","v":""}]
[null,null,null,null,{"$f":"IFERROR(VLOOKUP(D10188,Справка!$G$2:$H$579,2,0),\"\")","v":""}]
[null,null,null,null,{"$f":"IFERROR(VLOOKUP(D10189,Справка!$G$2:$H$579,2,0),\"\")","v":""}]
[null,null,null,null,{"$f":"IFERROR(VLOOKUP(D10190,Справка!$G$2:$H$579,2,0),\"\")","v":""}]
[null,null,null,null,{"$f":"IFERROR(VLOOKUP(D10191,Справка!$G$2:$H$579,2,0),\"\")","v":""}]
[null,null,null,null,{"$f":"IFERROR(VLOOKUP(D10192,Справка!$G$2:$H$579,2,0),\"\")","v":""}]
[null,null,null,null,{"$f":"IFERROR(VLOOKUP(D10193,Справка!$G$2:$H$579,2,0),\"\")","v":""}]
[null,null,null,null,{"$f":"IFERROR(VLOOKUP(D10194,Справка!$G$2:$H$579,2,0),\"\")","v":""}]
[null,null,null,null,{"$f":"IFERROR(VLOOKUP(D10195,Справка!$G$2:$H$579,2,0),\"\")","v":""}]
[null,null,null,null,{"$f":"IFERROR(VLOOKUP(D10196,Справка!$G$2:$H$579,2,0),\"\")","v":""}]
[null,null,null,null,{"$f":"IFERROR(VLOOKUP(D10197,Справка!$G$2:$H$579,2,0),\"\")","v":""}]
[null,null,null,null,{"$f":"IFERROR(VLOOKUP(D10198,Справка!$G$2:$H$579,2,0),\"\")","v":""}]
[null,null,null,null,{"$f":"IFERROR(VLOOKUP(D10199,Справка!$G$2:$H$579,2,0),\"\")","v":""}]
[null,null,null,null,{"$f":"IFERROR(VLOOKUP(D10200,Справка!$G$2:$H$579,2,0),\"\")","v":""}]
[null,null,null,null,{"$f":"IFERROR(VLOOKUP(D10201,Справка!$G$2:$H$579,2,0),\"\")","v":""}]
[null,null,null,null,{"$f":"IFERROR(VLOOKUP(D10202,Справка!$G$2:$H$579,2,0),\"\")","v":""}]
[null,null,null,null,{"$f":"IFERROR(VLOOKUP(D10203,Справка!$G$2:$H$579,2,0),\"\")","v":""}]
[null,null,null,null,{"$f":"IFERROR(VLOOKUP(D10204,Справка!$G$2:$H$579,2,0),\"\")","v":""}]
[null,null,null,null,{"$f":"IFERROR(VLOOKUP(D10205,Справка!$G$2:$H$579,2,0),\"\")","v":""}]
[null,null,null,null,{"$f":"IFERROR(VLOOKUP(D10206,Справка!$G$2:$H$579,2,0),\"\")","v":""}]
[null,null,null,null,{"$f":"IFERROR(VLOOKUP(D10207,Справка!$G$2:$H$579,2,0),\"\")","v":""}]
[null,null,null,null,{"$f":"IFERROR(VLOOKUP(D10208,Справка!$G$2:$H$579,2,0),\"\")","v":""}]
[null,null,null,null,{"$f":"IFERROR(VLOOKUP(D10209,Справка!$G$2:$H$579,2,0),\"\")","v":""}]
[null,null,null,null,{"$f":"IFERROR(VLOOKUP(D10210,Справка!$G$2:$H$579,2,0),\"\")","v":""}]
[null,null,null,null,{"$f":"IFERROR(VLOOKUP(D10211,Справка!$G$2:$H$579,2,0),\"\")","v":""}]
[null,null,null,null,{"$f":"IFERROR(VLOOKUP(D10212,Справка!$G$2:$H$579,2,0),\"\")","v":""}]
[null,null,null,null,{"$f":"IFERROR(VLOOKUP(D10213,Справка!$G$2:$H$579,2,0),\"\")","v":""}]
[null,null,null,null,{"$f":"IFERROR(VLOOKUP(D10214,Справка!$G$2:$H$579,2,0),\"\")","v":""}]
[null,null,null,null,{"$f":"IFERROR(VLOOKUP(D10215,Справка!$G$2:$H$579,2,0),\"\")","v":""}]
[null,null,null,null,{"$f":"IFERROR(VLOOKUP(D10216,Справка!$G$2:$H$579,2,0),\"\")","v":""}]
[null,null,null,null,{"$f":"IFERROR(VLOOKUP(D10217,Справка!$G$2:$H$579,2,0),\"\")","v":""}]
[null,null,null,null,{"$f":"IFERROR(VLOOKUP(D10218,Справка!$G$2:$H$579,2,0),\"\")","v":""}]
[null,null,null,null,{"$f":"IFERROR(VLOOKUP(D10219,Справка!$G$2:$H$579,2,0),\"\")","v":""}]
[null,null,null,null,{"$f":"IFERROR(VLOOKUP(D10220,Справка!$G$2:$H$579,2,0),\"\")","v":""}]
[null,null,null,null,{"$f":"IFERROR(VLOOKUP(D10221,Справка!$G$2:$H$579,2,0),\"\")","v":""}]
[null,null,null,null,{"$f":"IFERROR(VLOOKUP(D10222,Справка!$G$2:$H$579,2,0),\"\")","v":""}]
[null,null,null,null,{"$f":"IFERROR(VLOOKUP(D10223,Справка!$G$2:$H$579,2,0),\"\")","v":""}]
[null,null,null,null,{"$f":"IFERROR(VLOOKUP(D10224,Справка!$G$2:$H$579,2,0),\"\")","v":""}]
[null,null,null,null,{"$f":"IFERROR(VLOOKUP(D10225,Справка!$G$2:$H$579,2,0),\"\")","v":""}]
[null,null,null,null,{"$f":"IFERROR(VLOOKUP(D10226,Справка!$G$2:$H$579,2,0),\"\")","v":""}]
[null,null,null,null,{"$f":"IFERROR(VLOOKUP(D10227,Справка!$G$2:$H$579,2,0),\"\")","v":""}]
[null,null,null,null,{"$f":"IFERROR(VLOOKUP(D10228,Справка!$G$2:$H$579,2,0),\"\")","v":""}]
[null,null,null,null,{"$f":"IFERROR(VLOOKUP(D10229,Справка!$G$2:$H$579,2,0),\"\")","v":""}]
[null,null,null,null,{"$f":"IFERROR(VLOOKUP(D10230,Справка!$G$2:$H$579,2,0),\"\")","v":""}]
[null,null,null,null,{"$f":"IFERROR(VLOOKUP(D10231,Справка!$G$2:$H$579,2,0),\"\")","v":""}]
[null,null,null,null,{"$f":"IFERROR(VLOOKUP(D10232,Справка!$G$2:$H$579,2,0),\"\")","v":""}]
[null,null,null,null,{"$f":"IFERROR(VLOOKUP(D10233,Справка!$G$2:$H$579,2,0),\"\")","v":""}]
[null,null,null,null,{"$f":"IFERROR(VLOOKUP(D10234,Справка!$G$2:$H$579,2,0),\"\")","v":""}]
[null,null,null,null,{"$f":"IFERROR(VLOOKUP(D10235,Справка!$G$2:$H$579,2,0),\"\")","v":""}]
[null,null,null,null,{"$f":"IFERROR(VLOOKUP(D10236,Справка!$G$2:$H$579,2,0),\"\")","v":""}]
[null,null,null,null,{"$f":"IFERROR(VLOOKUP(D10237,Справка!$G$2:$H$579,2,0),\"\")","v":""}]
[null,null,null,null,{"$f":"IFERROR(VLOOKUP(D10238,Справка!$G$2:$H$579,2,0),\"\")","v":""}]
[null,null,null,null,{"$f":"IFERROR(VLOOKUP(D10239,Справка!$G$2:$H$579,2,0),\"\")","v":""}]
[null,null,null,null,{"$f":"IFERROR(VLOOKUP(D10240,Справка!$G$2:$H$579,2,0),\"\")","v":""}]
[null,null,null,null,{"$f":"IFERROR(VLOOKUP(D10241,Справка!$G$2:$H$579,2,0),\"\")","v":""}]
[null,null,null,null,{"$f":"IFERROR(VLOOKUP(D10242,Справка!$G$2:$H$579,2,0),\"\")","v":""}]
[null,null,null,null,{"$f":"IFERROR(VLOOKUP(D10243,Справка!$G$2:$H$579,2,0),\"\")","v":""}]
[null,null,null,null,{"$f":"IFERROR(VLOOKUP(D10244,Справка!$G$2:$H$579,2,0),\"\")","v":""}]
[null,null,null,null,{"$f":"IFERROR(VLOOKUP(D10245,Справка!$G$2:$H$579,2,0),\"\")","v":""}]
[null,null,null,null,{"$f":"IFERROR(VLOOKUP(D10246,Справка!$G$2:$H$579,2,0),\"\")","v":""}]
[null,null,null,null,{"$f":"IFERROR(VLOOKUP(D10247,Справка!$G$2:$H$579,2,0),\"\")","v":""}]
[null,null,null,null,{"$f":"IFERROR(VLOOKUP(D10248,Справка!$G$2:$H$579,2,0),\"\")","v":""}]
[null,null,null,null,{"$f":"IFERROR(VLOOKUP(D10249,Справка!$G$2:$H$579,2,0),\"\")","v":""}]
[null,null,null,null,{"$f":"IFERROR(VLOOKUP(D10250,Справка!$G$2:$H$579,2,0),\"\")","v":""}]
[null,null,null,null,{"$f":"IFERROR(VLOOKUP(D10251,Справка!$G$2:$H$579,2,0),\"\")","v":""}]
[null,null,null,null,{"$f":"IFERROR(VLOOKUP(D10252,Справка!$G$2:$H$579,2,0),\"\")","v":""}]
[null,null,null,null,{"$f":"IFERROR(VLOOKUP(D10253,Справка!$G$2:$H$579,2,0),\"\")","v":""}]
[null,null,null,null,{"$f":"IFERROR(VLOOKUP(D10254,Справка!$G$2:$H$579,2,0),\"\")","v":""}]
[null,null,null,null,{"$f":"IFERROR(VLOOKUP(D10255,Справка!$G$2:$H$579,2,0),\"\")","v":""}]
[null,null,null,null,{"$f":"IFERROR(VLOOKUP(D10256,Справка!$G$2:$H$579,2,0),\"\")","v":""}]
[null,null,null,null,{"$f":"IFERROR(VLOOKUP(D10257,Справка!$G$2:$H$579,2,0),\"\")","v":""}]
[null,null,null,null,{"$f":"IFERROR(VLOOKUP(D10258,Справка!$G$2:$H$579,2,0),\"\")","v":""}]
[null,null,null,null,{"$f":"IFERROR(VLOOKUP(D10259,Справка!$G$2:$H$579,2,0),\"\")","v":""}]
[null,null,null,null,{"$f":"IFERROR(VLOOKUP(D10260,Справка!$G$2:$H$579,2,0),\"\")","v":""}]
[null,null,null,null,{"$f":"IFERROR(VLOOKUP(D10261,Справка!$G$2:$H$579,2,0),\"\")","v":""}]
[null,null,null,null,{"$f":"IFERROR(VLOOKUP(D10262,Справка!$G$2:$H$579,2,0),\"\")","v":""}]
[null,null,null,null,{"$f":"IFERROR(VLOOKUP(D10263,Справка!$G$2:$H$579,2,0),\"\")","v":""}]
[null,null,null,null,{"$f":"IFERROR(VLOOKUP(D10264,Справка!$G$2:$H$579,2,0),\"\")","v":""}]
[null,null,null,null,{"$f":"IFERROR(VLOOKUP(D10265,Справка!$G$2:$H$579,2,0),\"\")","v":""}]
[null,null,null,null,{"$f":"IFERROR(VLOOKUP(D10266,Справка!$G$2:$H$579,2,0),\"\")","v":""}]
[null,null,null,null,{"$f":"IFERROR(VLOOKUP(D10267,Справка!$G$2:$H$579,2,0),\"\")","v":""}]
[null,null,null,null,{"$f":"IFERROR(VLOOKUP(D10268,Справка!$G$2:$H$579,2,0),\"\")","v":""}]
[null,null,null,null,{"$f":"IFERROR(VLOOKUP(D10269,Справка!$G$2:$H$579,2,0),\"\")","v":""}]
[null,null,null,null,{"$f":"IFERROR(VLOOKUP(D10270,Справка!$G$2:$H$579,2,0),\"\")","v":""}]
[null,null,null,null,{"$f":"IFERROR(VLOOKUP(D10271,Справка!$G$2:$H$579,2,0),\"\")","v":""}]
[null,null,null,null,{"$f":"IFERROR(VLOOKUP(D10272,Справка!$G$2:$H$579,2,0),\"\")","v":""}]
[null,null,null,null,{"$f":"IFERROR(VLOOKUP(D10273,Справка!$G$2:$H$579,2,0),\"\")","v":""}]
[null,null,null,null,{"$f":"IFERROR(VLOOKUP(D10274,Справка!$G$2:$H$579,2,0),\"\")","v":""}]
[null,null,null,null,{"$f":"IFERROR(VLOOKUP(D10275,Справка!$G$2:$H$579,2,0),\"\")","v":""}]
[null,null,null,null,{"$f":"IFERROR(VLOOKUP(D10276,Справка!$G$2:$H$579,2,0),\"\")","v":""}]
[null,null,null,null,{"$f":"IFERROR(VLOOKUP(D10277,Справка!$G$2:$H$579,2,0),\"\")","v":""}]
[null,null,null,null,{"$f":"IFERROR(VLOOKUP(D10278,Справка!$G$2:$H$579,2,0),\"\")","v":""}]
[null,null,null,null,{"$f":"IFERROR(VLOOKUP(D10279,Справка!$G$2:$H$579,2,0),\"\")","v":""}]
[null,null,null,null,{"$f":"IFERROR(VLOOKUP(D10280,Справка!$G$2:$H$579,2,0),\"\")","v":""}]
[null,null,null,null,{"$f":"IFERROR(VLOOKUP(D10281,Справка!$G$2:$H$579,2,0),\"\")","v":""}]
[null,null,null,null,{"$f":"IFERROR(VLOOKUP(D10282,Справка!$G$2:$H$579,2,0),\"\")","v":""}]
[null,null,null,null,{"$f":"IFERROR(VLOOKUP(D10283,Справка!$G$2:$H$579,2,0),\"\")","v":""}]
[null,null,null,null,{"$f":"IFERROR(VLOOKUP(D10284,Справка!$G$2:$H$579,2,0),\"\")","v":""}]
[null,null,null,null,{"$f":"IFERROR(VLOOKUP(D10285,Справка!$G$2:$H$579,2,0),\"\")","v":""}]
[null,null,null,null,{"$f":"IFERROR(VLOOKUP(D10286,Справка!$G$2:$H$579,2,0),\"\")","v":""}]
[null,null,null,null,{"$f":"IFERROR(VLOOKUP(D10287,Справка!$G$2:$H$579,2,0),\"\")","v":""}]
[null,null,null,null,{"$f":"IFERROR(VLOOKUP(D10288,Справка!$G$2:$H$579,2,0),\"\")","v":""}]
[null,null,null,null,{"$f":"IFERROR(VLOOKUP(D10289,Справка!$G$2:$H$579,2,0),\"\")","v":""}]
[null,null,null,null,{"$f":"IFERROR(VLOOKUP(D10290,Справка!$G$2:$H$579,2,0),\"\")","v":""}]
[null,null,null,null,{"$f":"IFERROR(VLOOKUP(D10291,Справка!$G$2:$H$579,2,0),\"\")","v":""}]
[null,null,null,null,{"$f":"IFERROR(VLOOKUP(D10292,Справка!$G$2:$H$579,2,0),\"\")","v":""}]
[null,null,null,null,{"$f":"IFERROR(VLOOKUP(D10293,Справка!$G$2:$H$579,2,0),\"\")","v":""}]
[null,null,null,null,{"$f":"IFERROR(VLOOKUP(D10294,Справка!$G$2:$H$579,2,0),\"\")","v":""}]
[null,null,null,null,{"$f":"IFERROR(VLOOKUP(D10295,Справка!$G$2:$H$579,2,0),\"\")","v":""}]
[null,null,null,null,{"$f":"IFERROR(VLOOKUP(D10296,Справка!$G$2:$H$579,2,0),\"\")","v":""}]
[null,null,null,null,{"$f":"IFERROR(VLOOKUP(D10297,Справка!$G$2:$H$579,2,0),\"\")","v":""}]
[null,null,null,null,{"$f":"IFERROR(VLOOKUP(D10298,Справка!$G$2:$H$579,2,0),\"\")","v":""}]
[null,null,null,null,{"$f":"IFERROR(VLOOKUP(D10299,Справка!$G$2:$H$579,2,0),\"\")","v":""}]
[null,null,null,null,{"$f":"IFERROR(VLOOKUP(D10300,Справка!$G$2:$H$579,2,0),\"\")","v":""}]
[null,null,null,null,{"$f":"IFERROR(VLOOKUP(D10301,Справка!$G$2:$H$579,2,0),\"\")","v":""}]
[null,null,null,null,{"$f":"IFERROR(VLOOKUP(D10302,Справка!$G$2:$H$579,2,0),\"\")","v":""}]
[null,null,null,null,{"$f":"IFERROR(VLOOKUP(D10303,Справка!$G$2:$H$579,2,0),\"\")","v":""}]
[null,null,null,null,{"$f":"IFERROR(VLOOKUP(D10304,Справка!$G$2:$H$579,2,0),\"\")","v":""}]
[null,null,null,null,{"$f":"IFERROR(VLOOKUP(D10305,Справка!$G$2:$H$579,2,0),\"\")","v":""}]
[null,null,null,null,{"$f":"IFERROR(VLOOKUP(D10306,Справка!$G$2:$H$579,2,0),\"\")","v":""}]
[null,null,null,null,{"$f":"IFERROR(VLOOKUP(D10307,Справка!$G$2:$H$579,2,0),\"\")","v":""}]
[null,null,null,null,{"$f":"IFERROR(VLOOKUP(D10308,Справка!$G$2:$H$579,2,0),\"\")","v":""}]
[null,null,null,null,{"$f":"IFERROR(VLOOKUP(D10309,Справка!$G$2:$H$579,2,0),\"\")","v":""}]
[null,null,null,null,{"$f":"IFERROR(VLOOKUP(D10310,Справка!$G$2:$H$579,2,0),\"\")","v":""}]
[null,null,null,null,{"$f":"IFERROR(VLOOKUP(D10311,Справка!$G$2:$H$579,2,0),\"\")","v":""}]
[null,null,null,null,{"$f":"IFERROR(VLOOKUP(D10312,Справка!$G$2:$H$579,2,0),\"\")","v":""}]
[null,null,null,null,{"$f":"IFERROR(VLOOKUP(D10313,Справка!$G$2:$H$579,2,0),\"\")","v":""}]
[null,null,null,null,{"$f":"IFERROR(VLOOKUP(D10314,Справка!$G$2:$H$579,2,0),\"\")","v":""}]
[null,null,null,null,{"$f":"IFERROR(VLOOKUP(D10315,Справка!$G$2:$H$579,2,0),\"\")","v":""}]
[null,null,null,null,{"$f":"IFERROR(VLOOKUP(D10316,Справка!$G$2:$H$579,2,0),\"\")","v":""}]
[null,null,null,null,{"$f":"IFERROR(VLOOKUP(D10317,Справка!$G$2:$H$579,2,0),\"\")","v":""}]
[null,null,null,null,{"$f":"IFERROR(VLOOKUP(D10318,Справка!$G$2:$H$579,2,0),\"\")","v":""}]
[null,null,null,null,{"$f":"IFERROR(VLOOKUP(D10319,Справка!$G$2:$H$579,2,0),\"\")","v":""}]
[null,null,null,null,{"$f":"IFERROR(VLOOKUP(D10320,Справка!$G$2:$H$579,2,0),\"\")","v":""}]
[null,null,null,null,{"$f":"IFERROR(VLOOKUP(D10321,Справка!$G$2:$H$579,2,0),\"\")","v":""}]
[null,null,null,null,{"$f":"IFERROR(VLOOKUP(D10322,Справка!$G$2:$H$579,2,0),\"\")","v":""}]
[null,null,null,null,{"$f":"IFERROR(VLOOKUP(D10323,Справка!$G$2:$H$579,2,0),\"\")","v":""}]
[null,null,null,null,{"$f":"IFERROR(VLOOKUP(D10324,Справка!$G$2:$H$579,2,0),\"\")","v":""}]
[null,null,null,null,{"$f":"IFERROR(VLOOKUP(D10325,Справка!$G$2:$H$579,2,0),\"\")","v":""}]
[null,null,null,null,{"$f":"IFERROR(VLOOKUP(D10326,Справка!$G$2:$H$579,2,0),\"\")","v":""}]
[null,null,null,null,{"$f":"IFERROR(VLOOKUP(D10327,Справка!$G$2:$H$579,2,0),\"\")","v":""}]
[null,null,null,null,{"$f":"IFERROR(VLOOKUP(D10328,Справка!$G$2:$H$579,2,0),\"\")","v":""}]
[null,null,null,null,{"$f":"IFERROR(VLOOKUP(D10329,Справка!$G$2:$H$579,2,0),\"\")","v":""}]
[null,null,null,null,{"$f":"IFERROR(VLOOKUP(D10330,Справка!$G$2:$H$579,2,0),\"\")","v":""}]
[null,null,null,null,{"$f":"IFERROR(VLOOKUP(D10331,Справка!$G$2:$H$579,2,0),\"\")","v":""}]
[null,null,null,null,{"$f":"IFERROR(VLOOKUP(D10332,Справка!$G$2:$H$579,2,0),\"\")","v":""}]
[null,null,null,null,{"$f":"IFERROR(VLOOKUP(D10333,Справка!$G$2:$H$579,2,0),\"\")","v":""}]
[null,null,null,null,{"$f":"IFERROR(VLOOKUP(D10334,Справка!$G$2:$H$579,2,0),\"\")","v":""}]
[null,null,null,null,{"$f":"IFERROR(VLOOKUP(D10335,Справка!$G$2:$H$579,2,0),\"\")","v":""}]
[null,null,null,null,{"$f":"IFERROR(VLOOKUP(D10336,Справка!$G$2:$H$579,2,0),\"\")","v":""}]
[null,null,null,null,{"$f":"IFERROR(VLOOKUP(D10337,Справка!$G$2:$H$579,2,0),\"\")","v":""}]
[null,null,null,null,{"$f":"IFERROR(VLOOKUP(D10338,Справка!$G$2:$H$579,2,0),\"\")","v":""}]
[null,null,null,null,{"$f":"IFERROR(VLOOKUP(D10339,Справка!$G$2:$H$579,2,0),\"\")","v":""}]
[null,null,null,null,{"$f":"IFERROR(VLOOKUP(D10340,Справка!$G$2:$H$579,2,0),\"\")","v":""}]
[null,null,null,null,{"$f":"IFERROR(VLOOKUP(D10341,Справка!$G$2:$H$579,2,0),\"\")","v":""}]
[null,null,null,null,{"$f":"IFERROR(VLOOKUP(D10342,Справка!$G$2:$H$579,2,0),\"\")","v":""}]
[null,null,null,null,{"$f":"IFERROR(VLOOKUP(D10343,Справка!$G$2:$H$579,2,0),\"\")","v":""}]
[null,null,null,null,{"$f":"IFERROR(VLOOKUP(D10344,Справка!$G$2:$H$579,2,0),\"\")","v":""}]
[null,null,null,null,{"$f":"IFERROR(VLOOKUP(D10345,Справка!$G$2:$H$579,2,0),\"\")","v":""}]
[null,null,null,null,{"$f":"IFERROR(VLOOKUP(D10346,Справка!$G$2:$H$579,2,0),\"\")","v":""}]
[null,null,null,null,{"$f":"IFERROR(VLOOKUP(D10347,Справка!$G$2:$H$579,2,0),\"\")","v":""}]
[null,null,null,null,{"$f":"IFERROR(VLOOKUP(D10348,Справка!$G$2:$H$579,2,0),\"\")","v":""}]
[null,null,null,null,{"$f":"IFERROR(VLOOKUP(D10349,Справка!$G$2:$H$579,2,0),\"\")","v":""}]
[null,null,null,null,{"$f":"IFERROR(VLOOKUP(D10350,Справка!$G$2:$H$579,2,0),\"\")","v":""}]
[null,null,null,null,{"$f":"IFERROR(VLOOKUP(D10351,Справка!$G$2:$H$579,2,0),\"\")","v":""}]
[null,null,null,null,{"$f":"IFERROR(VLOOKUP(D10352,Справка!$G$2:$H$579,2,0),\"\")","v":""}]
[null,null,null,null,{"$f":"IFERROR(VLOOKUP(D10353,Справка!$G$2:$H$579,2,0),\"\")","v":""}]
[null,null,null,null,{"$f":"IFERROR(VLOOKUP(D10354,Справка!$G$2:$H$579,2,0),\"\")","v":""}]
[null,null,null,null,{"$f":"IFERROR(VLOOKUP(D10355,Справка!$G$2:$H$579,2,0),\"\")","v":""}]
[null,null,null,null,{"$f":"IFERROR(VLOOKUP(D10356,Справка!$G$2:$H$579,2,0),\"\")","v":""}]
[null,null,null,null,{"$f":"IFERROR(VLOOKUP(D10357,Справка!$G$2:$H$579,2,0),\"\")","v":""}]
[null,null,null,null,{"$f":"IFERROR(VLOOKUP(D10358,Справка!$G$2:$H$579,2,0),\"\")","v":""}]
[null,null,null,null,{"$f":"IFERROR(VLOOKUP(D10359,Справка!$G$2:$H$579,2,0),\"\")","v":""}]
[null,null,null,null,{"$f":"IFERROR(VLOOKUP(D10360,Справка!$G$2:$H$579,2,0),\"\")","v":""}]
[null,null,null,null,{"$f":"IFERROR(VLOOKUP(D10361,Справка!$G$2:$H$579,2,0),\"\")","v":""}]
[null,null,null,null,{"$f":"IFERROR(VLOOKUP(D10362,Справка!$G$2:$H$579,2,0),\"\")","v":""}]
[null,null,null,null,{"$f":"IFERROR(VLOOKUP(D10363,Справка!$G$2:$H$579,2,0),\"\")","v":""}]
[null,null,null,null,{"$f":"IFERROR(VLOOKUP(D10364,Справка!$G$2:$H$579,2,0),\"\")","v":""}]
[null,null,null,null,{"$f":"IFERROR(VLOOKUP(D10365,Справка!$G$2:$H$579,2,0),\"\")","v":""}]
[null,null,null,null,{"$f":"IFERROR(VLOOKUP(D10366,Справка!$G$2:$H$579,2,0),\"\")","v":""}]
[null,null,null,null,{"$f":"IFERROR(VLOOKUP(D10367,Справка!$G$2:$H$579,2,0),\"\")","v":""}]
[null,null,null,null,{"$f":"IFERROR(VLOOKUP(D10368,Справка!$G$2:$H$579,2,0),\"\")","v":""}]
[null,null,null,null,{"$f":"IFERROR(VLOOKUP(D10369,Справка!$G$2:$H$579,2,0),\"\")","v":""}]
[null,null,null,null,{"$f":"IFERROR(VLOOKUP(D10370,Справка!$G$2:$H$579,2,0),\"\")","v":""}]
[null,null,null,null,{"$f":"IFERROR(VLOOKUP(D10371,Справка!$G$2:$H$579,2,0),\"\")","v":""}]
[null,null,null,null,{"$f":"IFERROR(VLOOKUP(D10372,Справка!$G$2:$H$579,2,0),\"\")","v":""}]
[null,null,null,null,{"$f":"IFERROR(VLOOKUP(D10373,Справка!$G$2:$H$579,2,0),\"\")","v":""}]
[null,null,null,null,{"$f":"IFERROR(VLOOKUP(D10374,Справка!$G$2:$H$579,2,0),\"\")","v":""}]
[null,null,null,null,{"$f":"IFERROR(VLOOKUP(D10375,Справка!$G$2:$H$579,2,0),\"\")","v":""}]
[null,null,null,null,{"$f":"IFERROR(VLOOKUP(D10376,Справка!$G$2:$H$579,2,0),\"\")","v":""}]
[null,null,null,null,{"$f":"IFERROR(VLOOKUP(D10377,Справка!$G$2:$H$579,2,0),\"\")","v":""}]
[null,null,null,null,{"$f":"IFERROR(VLOOKUP(D10378,Справка!$G$2:$H$579,2,0),\"\")","v":""}]
[null,null,null,null,{"$f":"IFERROR(VLOOKUP(D10379,Справка!$G$2:$H$579,2,0),\"\")","v":""}]
[null,null,null,null,{"$f":"IFERROR(VLOOKUP(D10380,Справка!$G$2:$H$579,2,0),\"\")","v":""}]
[null,null,null,null,{"$f":"IFERROR(VLOOKUP(D10381,Справка!$G$2:$H$579,2,0),\"\")","v":""}]
[null,null,null,null,{"$f":"IFERROR(VLOOKUP(D10382,Справка!$G$2:$H$579,2,0),\"\")","v":""}]
[null,null,null,null,{"$f":"IFERROR(VLOOKUP(D10383,Справка!$G$2:$H$579,2,0),\"\")","v":""}]
[null,null,null,null,{"$f":"IFERROR(VLOOKUP(D10384,Справка!$G$2:$H$579,2,0),\"\")","v":""}]
[null,null,null,null,{"$f":"IFERROR(VLOOKUP(D10385,Справка!$G$2:$H$579,2,0),\"\")","v":""}]
[null,null,null,null,{"$f":"IFERROR(VLOOKUP(D10386,Справка!$G$2:$H$579,2,0),\"\")","v":""}]
[null,null,null,null,{"$f":"IFERROR(VLOOKUP(D10387,Справка!$G$2:$H$579,2,0),\"\")","v":""}]
[null,null,null,null,{"$f":"IFERROR(VLOOKUP(D10388,Справка!$G$2:$H$579,2,0),\"\")","v":""}]
[null,null,null,null,{"$f":"IFERROR(VLOOKUP(D10389,Справка!$G$2:$H$579,2,0),\"\")","v":""}]
[null,null,null,null,{"$f":"IFERROR(VLOOKUP(D10390,Справка!$G$2:$H$579,2,0),\"\")","v":""}]
[null,null,null,null,{"$f":"IFERROR(VLOOKUP(D10391,Справка!$G$2:$H$579,2,0),\"\")","v":""}]
[null,null,null,null,{"$f":"IFERROR(VLOOKUP(D10392,Справка!$G$2:$H$579,2,0),\"\")","v":""}]
[null,null,null,null,{"$f":"IFERROR(VLOOKUP(D10393,Справка!$G$2:$H$579,2,0),\"\")","v":""}]
[null,null,null,null,{"$f":"IFERROR(VLOOKUP(D10394,Справка!$G$2:$H$579,2,0),\"\")","v":""}]
[null,null,null,null,{"$f":"IFERROR(VLOOKUP(D10395,Справка!$G$2:$H$579,2,0),\"\")","v":""}]
[null,null,null,null,{"$f":"IFERROR(VLOOKUP(D10396,Справка!$G$2:$H$579,2,0),\"\")","v":""}]
[null,null,null,null,{"$f":"IFERROR(VLOOKUP(D10397,Справка!$G$2:$H$579,2,0),\"\")","v":""}]
[null,null,null,null,{"$f":"IFERROR(VLOOKUP(D10398,Справка!$G$2:$H$579,2,0),\"\")","v":""}]
[null,null,null,null,{"$f":"IFERROR(VLOOKUP(D10399,Справка!$G$2:$H$579,2,0),\"\")","v":""}]
[null,null,null,null,{"$f":"IFERROR(VLOOKUP(D10400,Справка!$G$2:$H$579,2,0),\"\")","v":""}]
[null,null,null,null,{"$f":"IFERROR(VLOOKUP(D10401,Справка!$G$2:$H$579,2,0),\"\")","v":""}]
[null,null,null,null,{"$f":"IFERROR(VLOOKUP(D10402,Справка!$G$2:$H$579,2,0),\"\")","v":""}]
[null,null,null,null,{"$f":"IFERROR(VLOOKUP(D10403,Справка!$G$2:$H$579,2,0),\"\")","v":""}]
[null,null,null,null,{"$f":"IFERROR(VLOOKUP(D10404,Справка!$G$2:$H$579,2,0),\"\")","v":""}]
[null,null,null,null,{"$f":"IFERROR(VLOOKUP(D10405,Справка!$G$2:$H$579,2,0),\"\")","v":""}]
[null,null,null,null,{"$f":"IFERROR(VLOOKUP(D10406,Справка!$G$2:$H$579,2,0),\"\")","v":""}]
[null,null,null,null,{"$f":"IFERROR(VLOOKUP(D10407,Справка!$G$2:$H$579,2,0),\"\")","v":""}]
[null,null,null,null,{"$f":"IFERROR(VLOOKUP(D10408,Справка!$G$2:$H$579,2,0),\"\")","v":""}]
[null,null,null,null,{"$f":"IFERROR(VLOOKUP(D10409,Справка!$G$2:$H$579,2,0),\"\")","v":""}]
[null,null,null,null,{"$f":"IFERROR(VLOOKUP(D10410,Справка!$G$2:$H$579,2,0),\"\")","v":""}]
[null,null,null,null,{"$f":"IFERROR(VLOOKUP(D10411,Справка!$G$2:$H$579,2,0),\"\")","v":""}]
[null,null,null,null,{"$f":"IFERROR(VLOOKUP(D10412,Справка!$G$2:$H$579,2,0),\"\")","v":""}]
[null,null,null,null,{"$f":"IFERROR(VLOOKUP(D10413,Справка!$G$2:$H$579,2,0),\"\")","v":""}]
[null,null,null,null,{"$f":"IFERROR(VLOOKUP(D10414,Справка!$G$2:$H$579,2,0),\"\")","v":""}]
[null,null,null,null,{"$f":"IFERROR(VLOOKUP(D10415,Справка!$G$2:$H$579,2,0),\"\")","v":""}]
[null,null,null,null,{"$f":"IFERROR(VLOOKUP(D10416,Справка!$G$2:$H$579,2,0),\"\")","v":""}]
[null,null,null,null,{"$f":"IFERROR(VLOOKUP(D10417,Справка!$G$2:$H$579,2,0),\"\")","v":""}]
[null,null,null,null,{"$f":"IFERROR(VLOOKUP(D10418,Справка!$G$2:$H$579,2,0),\"\")","v":""}]
[null,null,null,null,{"$f":"IFERROR(VLOOKUP(D10419,Справка!$G$2:$H$579,2,0),\"\")","v":""}]
[null,null,null,null,{"$f":"IFERROR(VLOOKUP(D10420,Справка!$G$2:$H$579,2,0),\"\")","v":""}]
[null,null,null,null,{"$f":"IFERROR(VLOOKUP(D10421,Справка!$G$2:$H$579,2,0),\"\")","v":""}]
[null,null,null,null,{"$f":"IFERROR(VLOOKUP(D10422,Справка!$G$2:$H$579,2,0),\"\")","v":""}]
[null,null,null,null,{"$f":"IFERROR(VLOOKUP(D10423,Справка!$G$2:$H$579,2,0),\"\")","v":""}]
[null,null,null,null,{"$f":"IFERROR(VLOOKUP(D10424,Справка!$G$2:$H$579,2,0),\"\")","v":""}]
[null,null,null,null,{"$f":"IFERROR(VLOOKUP(D10425,Справка!$G$2:$H$579,2,0),\"\")","v":""}]
[null,null,null,null,{"$f":"IFERROR(VLOOKUP(D10426,Справка!$G$2:$H$579,2,0),\"\")","v":""}]
[null,null,null,null,{"$f":"IFERROR(VLOOKUP(D10427,Справка!$G$2:$H$579,2,0),\"\")","v":""}]
[null,null,null,null,{"$f":"IFERROR(VLOOKUP(D10428,Справка!$G$2:$H$579,2,0),\"\")","v":""}]
[null,null,null,null,{"$f":"IFERROR(VLOOKUP(D10429,Справка!$G$2:$H$579,2,0),\"\")","v":""}]
[null,null,null,null,{"$f":"IFERROR(VLOOKUP(D10430,Справка!$G$2:$H$579,2,0),\"\")","v":""}]
[null,null,null,null,{"$f":"IFERROR(VLOOKUP(D10431,Справка!$G$2:$H$579,2,0),\"\")","v":""}]
[null,null,null,null,{"$f":"IFERROR(VLOOKUP(D10432,Справка!$G$2:$H$579,2,0),\"\")","v":""}]
[null,null,null,null,{"$f":"IFERROR(VLOOKUP(D10433,Справка!$G$2:$H$579,2,0),\"\")","v":""}]
[null,null,null,null,{"$f":"IFERROR(VLOOKUP(D10434,Справка!$G$2:$H$579,2,0),\"\")","v":""}]
[null,null,null,null,{"$f":"IFERROR(VLOOKUP(D10435,Справка!$G$2:$H$579,2,0),\"\")","v":""}]
[null,null,null,null,{"$f":"IFERROR(VLOOKUP(D10436,Справка!$G$2:$H$579,2,0),\"\")","v":""}]
[null,null,null,null,{"$f":"IFERROR(VLOOKUP(D10437,Справка!$G$2:$H$579,2,0),\"\")","v":""}]
[null,null,null,null,{"$f":"IFERROR(VLOOKUP(D10438,Справка!$G$2:$H$579,2,0),\"\")","v":""}]
[null,null,null,null,{"$f":"IFERROR(VLOOKUP(D10439,Справка!$G$2:$H$579,2,0),\"\")","v":""}]
[null,null,null,null,{"$f":"IFERROR(VLOOKUP(D10440,Справка!$G$2:$H$579,2,0),\"\")","v":""}]
[null,null,null,null,{"$f":"IFERROR(VLOOKUP(D10441,Справка!$G$2:$H$579,2,0),\"\")","v":""}]
[null,null,null,null,{"$f":"IFERROR(VLOOKUP(D10442,Справка!$G$2:$H$579,2,0),\"\")","v":""}]
[null,null,null,null,{"$f":"IFERROR(VLOOKUP(D10443,Справка!$G$2:$H$579,2,0),\"\")","v":""}]
[null,null,null,null,{"$f":"IFERROR(VLOOKUP(D10444,Справка!$G$2:$H$579,2,0),\"\")","v":""}]
[null,null,null,null,{"$f":"IFERROR(VLOOKUP(D10445,Справка!$G$2:$H$579,2,0),\"\")","v":""}]
[null,null,null,null,{"$f":"IFERROR(VLOOKUP(D10446,Справка!$G$2:$H$579,2,0),\"\")","v":""}]
[null,null,null,null,{"$f":"IFERROR(VLOOKUP(D10447,Справка!$G$2:$H$579,2,0),\"\")","v":""}]
[null,null,null,null,{"$f":"IFERROR(VLOOKUP(D10448,Справка!$G$2:$H$579,2,0),\"\")","v":""}]
[null,null,null,null,{"$f":"IFERROR(VLOOKUP(D10449,Справка!$G$2:$H$579,2,0),\"\")","v":""}]
[null,null,null,null,{"$f":"IFERROR(VLOOKUP(D10450,Справка!$G$2:$H$579,2,0),\"\")","v":""}]
[null,null,null,null,{"$f":"IFERROR(VLOOKUP(D10451,Справка!$G$2:$H$579,2,0),\"\")","v":""}]
[null,null,null,null,{"$f":"IFERROR(VLOOKUP(D10452,Справка!$G$2:$H$579,2,0),\"\")","v":""}]
[null,null,null,null,{"$f":"IFERROR(VLOOKUP(D10453,Справка!$G$2:$H$579,2,0),\"\")","v":""}]
[null,null,null,null,{"$f":"IFERROR(VLOOKUP(D10454,Справка!$G$2:$H$579,2,0),\"\")","v":""}]
[null,null,null,null,{"$f":"IFERROR(VLOOKUP(D10455,Справка!$G$2:$H$579,2,0),\"\")","v":""}]
[null,null,null,null,{"$f":"IFERROR(VLOOKUP(D10456,Справка!$G$2:$H$579,2,0),\"\")","v":""}]
[null,null,null,null,{"$f":"IFERROR(VLOOKUP(D10457,Справка!$G$2:$H$579,2,0),\"\")","v":""}]
[null,null,null,null,{"$f":"IFERROR(VLOOKUP(D10458,Справка!$G$2:$H$579,2,0),\"\")","v":""}]
[null,null,null,null,{"$f":"IFERROR(VLOOKUP(D10459,Справка!$G$2:$H$579,2,0),\"\")","v":""}]
[null,null,null,null,{"$f":"IFERROR(VLOOKUP(D10460,Справка!$G$2:$H$579,2,0),\"\")","v":""}]
[null,null,null,null,{"$f":"IFERROR(VLOOKUP(D10461,Справка!$G$2:$H$579,2,0),\"\")","v":""}]
[null,null,null,null,{"$f":"IFERROR(VLOOKUP(D10462,Справка!$G$2:$H$579,2,0),\"\")","v":""}]
[null,null,null,null,{"$f":"IFERROR(VLOOKUP(D10463,Справка!$G$2:$H$579,2,0),\"\")","v":""}]
[null,null,null,null,{"$f":"IFERROR(VLOOKUP(D10464,Справка!$G$2:$H$579,2,0),\"\")","v":""}]
[null,null,null,null,{"$f":"IFERROR(VLOOKUP(D10465,Справка!$G$2:$H$579,2,0),\"\")","v":""}]
[null,null,null,null,{"$f":"IFERROR(VLOOKUP(D10466,Справка!$G$2:$H$579,2,0),\"\")","v":""}]
[null,null,null,null,{"$f":"IFERROR(VLOOKUP(D10467,Справка!$G$2:$H$579,2,0),\"\")","v":""}]
[null,null,null,null,{"$f":"IFERROR(VLOOKUP(D10468,Справка!$G$2:$H$579,2,0),\"\")","v":""}]
[null,null,null,null,{"$f":"IFERROR(VLOOKUP(D10469,Справка!$G$2:$H$579,2,0),\"\")","v":""}]
[null,null,null,null,{"$f":"IFERROR(VLOOKUP(D10470,Справка!$G$2:$H$579,2,0),\"\")","v":""}]
[null,null,null,null,{"$f":"IFERROR(VLOOKUP(D10471,Справка!$G$2:$H$579,2,0),\"\")","v":""}]
[null,null,null,null,{"$f":"IFERROR(VLOOKUP(D10472,Справка!$G$2:$H$579,2,0),\"\")","v":""}]
[null,null,null,null,{"$f":"IFERROR(VLOOKUP(D10473,Справка!$G$2:$H$579,2,0),\"\")","v":""}]
[null,null,null,null,{"$f":"IFERROR(VLOOKUP(D10474,Справка!$G$2:$H$579,2,0),\"\")","v":""}]
[null,null,null,null,{"$f":"IFERROR(VLOOKUP(D10475,Справка!$G$2:$H$579,2,0),\"\")","v":""}]
[null,null,null,null,{"$f":"IFERROR(VLOOKUP(D10476,Справка!$G$2:$H$579,2,0),\"\")","v":""}]
[null,null,null,null,{"$f":"IFERROR(VLOOKUP(D10477,Справка!$G$2:$H$579,2,0),\"\")","v":""}]
[null,null,null,null,{"$f":"IFERROR(VLOOKUP(D10478,Справка!$G$2:$H$579,2,0),\"\")","v":""}]
[null,null,null,null,{"$f":"IFERROR(VLOOKUP(D10479,Справка!$G$2:$H$579,2,0),\"\")","v":""}]
[null,null,null,null,{"$f":"IFERROR(VLOOKUP(D10480,Справка!$G$2:$H$579,2,0),\"\")","v":""}]
[null,null,null,null,{"$f":"IFERROR(VLOOKUP(D10481,Справка!$G$2:$H$579,2,0),\"\")","v":""}]
[null,null,null,null,{"$f":"IFERROR(VLOOKUP(D10482,Справка!$G$2:$H$579,2,0),\"\")","v":""}]
[null,null,null,null,{"$f":"IFERROR(VLOOKUP(D10483,Справка!$G$2:$H$579,2,0),\"\")","v":""}]
[null,null,null,null,{"$f":"IFERROR(VLOOKUP(D10484,Справка!$G$2:$H$579,2,0),\"\")","v":""}]
[null,null,null,null,{"$f":"IFERROR(VLOOKUP(D10485,Справка!$G$2:$H$579,2,0),\"\")","v":""}]
[null,null,null,null,{"$f":"IFERROR(VLOOKUP(D10486,Справка!$G$2:$H$579,2,0),\"\")","v":""}]
[null,null,null,null,{"$f":"IFERROR(VLOOKUP(D10487,Справка!$G$2:$H$579,2,0),\"\")","v":""}]
[null,null,null,null,{"$f":"IFERROR(VLOOKUP(D10488,Справка!$G$2:$H$579,2,0),\"\")","v":""}]
[null,null,null,null,{"$f":"IFERROR(VLOOKUP(D10489,Справка!$G$2:$H$579,2,0),\"\")","v":""}]
[null,null,null,null,{"$f":"IFERROR(VLOOKUP(D10490,Справка!$G$2:$H$579,2,0),\"\")","v":""}]
[null,null,null,null,{"$f":"IFERROR(VLOOKUP(D10491,Справка!$G$2:$H$579,2,0),\"\")","v":""}]
[null,null,null,null,{"$f":"IFERROR(VLOOKUP(D10492,Справка!$G$2:$H$579,2,0),\"\")","v":""}]
[null,null,null,null,{"$f":"IFERROR(VLOOKUP(D10493,Справка!$G$2:$H$579,2,0),\"\")","v":""}]
[null,null,null,null,{"$f":"IFERROR(VLOOKUP(D10494,Справка!$G$2:$H$579,2,0),\"\")","v":""}]
[null,null,null,null,{"$f":"IFERROR(VLOOKUP(D10495,Справка!$G$2:$H$579,2,0),\"\")","v":""}]
[null,null,null,null,{"$f":"IFERROR(VLOOKUP(D10496,Справка!$G$2:$H$579,2,0),\"\")","v":""}]
[null,null,null,null,{"$f":"IFERROR(VLOOKUP(D10497,Справка!$G$2:$H$579,2,0),\"\")","v":""}]
[null,null,null,null,{"$f":"IFERROR(VLOOKUP(D10498,Справка!$G$2:$H$579,2,0),\"\")","v":""}]
[null,null,null,null,{"$f":"IFERROR(VLOOKUP(D10499,Справка!$G$2:$H$579,2,0),\"\")","v":""}]
[null,null,null,null,{"$f":"IFERROR(VLOOKUP(D10500,Справка!$G$2:$H$579,2,0),\"\")","v":""}]
[null,null,null,null,{"$f":"IFERROR(VLOOKUP(D10501,Справка!$G$2:$H$579,2,0),\"\")","v":""}]
[null,null,null,null,{"$f":"IFERROR(VLOOKUP(D10502,Справка!$G$2:$H$579,2,0),\"\")","v":""}]
[null,null,null,null,{"$f":"IFERROR(VLOOKUP(D10503,Справка!$G$2:$H$579,2,0),\"\")","v":""}]
[null,null,null,null,{"$f":"IFERROR(VLOOKUP(D10504,Справка!$G$2:$H$579,2,0),\"\")","v":""}]
[null,null,null,null,{"$f":"IFERROR(VLOOKUP(D10505,Справка!$G$2:$H$579,2,0),\"\")","v":""}]
[null,null,null,null,{"$f":"IFERROR(VLOOKUP(D10506,Справка!$G$2:$H$579,2,0),\"\")","v":""}]
[null,null,null,null,{"$f":"IFERROR(VLOOKUP(D10507,Справка!$G$2:$H$579,2,0),\"\")","v":""}]
[null,null,null,null,{"$f":"IFERROR(VLOOKUP(D10508,Справка!$G$2:$H$579,2,0),\"\")","v":""}]
[null,null,null,null,{"$f":"IFERROR(VLOOKUP(D10509,Справка!$G$2:$H$579,2,0),\"\")","v":""}]
[null,null,null,null,{"$f":"IFERROR(VLOOKUP(D10510,Справка!$G$2:$H$579,2,0),\"\")","v":""}]
[null,null,null,null,{"$f":"IFERROR(VLOOKUP(D10511,Справка!$G$2:$H$579,2,0),\"\")","v":""}]
[null,null,null,null,{"$f":"IFERROR(VLOOKUP(D10512,Справка!$G$2:$H$579,2,0),\"\")","v":""}]
[null,null,null,null,{"$f":"IFERROR(VLOOKUP(D10513,Справка!$G$2:$H$579,2,0),\"\")","v":""}]
[null,null,null,null,{"$f":"IFERROR(VLOOKUP(D10514,Справка!$G$2:$H$579,2,0),\"\")","v":""}]
[null,null,null,null,{"$f":"IFERROR(VLOOKUP(D10515,Справка!$G$2:$H$579,2,0),\"\")","v":""}]
[null,null,null,null,{"$f":"IFERROR(VLOOKUP(D10516,Справка!$G$2:$H$579,2,0),\"\")","v":""}]
[null,null,null,null,{"$f":"IFERROR(VLOOKUP(D10517,Справка!$G$2:$H$579,2,0),\"\")","v":""}]
[null,null,null,null,{"$f":"IFERROR(VLOOKUP(D10518,Справка!$G$2:$H$579,2,0),\"\")","v":""}]
[null,null,null,null,{"$f":"IFERROR(VLOOKUP(D10519,Справка!$G$2:$H$579,2,0),\"\")","v":""}]
[null,null,null,null,{"$f":"IFERROR(VLOOKUP(D10520,Справка!$G$2:$H$579,2,0),\"\")","v":""}]
[null,null,null,null,{"$f":"IFERROR(VLOOKUP(D10521,Справка!$G$2:$H$579,2,0),\"\")","v":""}]
[null,null,null,null,{"$f":"IFERROR(VLOOKUP(D10522,Справка!$G$2:$H$579,2,0),\"\")","v":""}]
[null,null,null,null,{"$f":"IFERROR(VLOOKUP(D10523,Справка!$G$2:$H$579,2,0),\"\")","v":""}]
[null,null,null,null,{"$f":"IFERROR(VLOOKUP(D10524,Справка!$G$2:$H$579,2,0),\"\")","v":""}]
[null,null,null,null,{"$f":"IFERROR(VLOOKUP(D10525,Справка!$G$2:$H$579,2,0),\"\")","v":""}]
[null,null,null,null,{"$f":"IFERROR(VLOOKUP(D10526,Справка!$G$2:$H$579,2,0),\"\")","v":""}]
[null,null,null,null,{"$f":"IFERROR(VLOOKUP(D10527,Справка!$G$2:$H$579,2,0),\"\")","v":""}]
[null,null,null,null,{"$f":"IFERROR(VLOOKUP(D10528,Справка!$G$2:$H$579,2,0),\"\")","v":""}]
[null,null,null,null,{"$f":"IFERROR(VLOOKUP(D10529,Справка!$G$2:$H$579,2,0),\"\")","v":""}]
[null,null,null,null,{"$f":"IFERROR(VLOOKUP(D10530,Справка!$G$2:$H$579,2,0),\"\")","v":""}]
[null,null,null,null,{"$f":"IFERROR(VLOOKUP(D10531,Справка!$G$2:$H$579,2,0),\"\")","v":""}]
[null,null,null,null,{"$f":"IFERROR(VLOOKUP(D10532,Справка!$G$2:$H$579,2,0),\"\")","v":""}]
[null,null,null,null,{"$f":"IFERROR(VLOOKUP(D10533,Справка!$G$2:$H$579,2,0),\"\")","v":""}]
[null,null,null,null,{"$f":"IFERROR(VLOOKUP(D10534,Справка!$G$2:$H$579,2,0),\"\")","v":""}]
[null,null,null,null,{"$f":"IFERROR(VLOOKUP(D10535,Справка!$G$2:$H$579,2,0),\"\")","v":""}]
[null,null,null,null,{"$f":"IFERROR(VLOOKUP(D10536,Справка!$G$2:$H$579,2,0),\"\")","v":""}]
[null,null,null,null,{"$f":"IFERROR(VLOOKUP(D10537,Справка!$G$2:$H$579,2,0),\"\")","v":""}]
[null,null,null,null,{"$f":"IFERROR(VLOOKUP(D10538,Справка!$G$2:$H$579,2,0),\"\")","v":""}]
[null,null,null,null,{"$f":"IFERROR(VLOOKUP(D10539,Справка!$G$2:$H$579,2,0),\"\")","v":""}]
[null,null,null,null,{"$f":"IFERROR(VLOOKUP(D10540,Справка!$G$2:$H$579,2,0),\"\")","v":""}]
[null,null,null,null,{"$f":"IFERROR(VLOOKUP(D10541,Справка!$G$2:$H$579,2,0),\"\")","v":""}]
[null,null,null,null,{"$f":"IFERROR(VLOOKUP(D10542,Справка!$G$2:$H$579,2,0),\"\")","v":""}]
[null,null,null,null,{"$f":"IFERROR(VLOOKUP(D10543,Справка!$G$2:$H$579,2,0),\"\")","v":""}]
[null,null,null,null,{"$f":"IFERROR(VLOOKUP(D10544,Справка!$G$2:$H$579,2,0),\"\")","v":""}]
[null,null,null,null,{"$f":"IFERROR(VLOOKUP(D10545,Справка!$G$2:$H$579,2,0),\"\")","v":""}]
[null,null,null,null,{"$f":"IFERROR(VLOOKUP(D10546,Справка!$G$2:$H$579,2,0),\"\")","v":""}]
[null,null,null,null,{"$f":"IFERROR(VLOOKUP(D10547,Справка!$G$2:$H$579,2,0),\"\")","v":""}]
[null,null,null,null,{"$f":"IFERROR(VLOOKUP(D10548,Справка!$G$2:$H$579,2,0),\"\")","v":""}]
[null,null,null,null,{"$f":"IFERROR(VLOOKUP(D10549,Справка!$G$2:$H$579,2,0),\"\")","v":""}]
[null,null,null,null,{"$f":"IFERROR(VLOOKUP(D10550,Справка!$G$2:$H$579,2,0),\"\")","v":""}]
[null,null,null,null,{"$f":"IFERROR(VLOOKUP(D10551,Справка!$G$2:$H$579,2,0),\"\")","v":""}]
[null,null,null,null,{"$f":"IFERROR(VLOOKUP(D10552,Справка!$G$2:$H$579,2,0),\"\")","v":""}]
[null,null,null,null,{"$f":"IFERROR(VLOOKUP(D10553,Справка!$G$2:$H$579,2,0),\"\")","v":""}]
[null,null,null,null,{"$f":"IFERROR(VLOOKUP(D10554,Справка!$G$2:$H$579,2,0),\"\")","v":""}]
[null,null,null,null,{"$f":"IFERROR(VLOOKUP(D10555,Справка!$G$2:$H$579,2,0),\"\")","v":""}]
[null,null,null,null,{"$f":"IFERROR(VLOOKUP(D10556,Справка!$G$2:$H$579,2,0),\"\")","v":""}]
[null,null,null,null,{"$f":"IFERROR(VLOOKUP(D10557,Справка!$G$2:$H$579,2,0),\"\")","v":""}]
[null,null,null,null,{"$f":"IFERROR(VLOOKUP(D10558,Справка!$G$2:$H$579,2,0),\"\")","v":""}]
[null,null,null,null,{"$f":"IFERROR(VLOOKUP(D10559,Справка!$G$2:$H$579,2,0),\"\")","v":""}]
[null,null,null,null,{"$f":"IFERROR(VLOOKUP(D10560,Справка!$G$2:$H$579,2,0),\"\")","v":""}]
[null,null,null,null,{"$f":"IFERROR(VLOOKUP(D10561,Справка!$G$2:$H$579,2,0),\"\")","v":""}]
[null,null,null,null,{"$f":"IFERROR(VLOOKUP(D10562,Справка!$G$2:$H$579,2,0),\"\")","v":""}]
[null,null,null,null,{"$f":"IFERROR(VLOOKUP(D10563,Справка!$G$2:$H$579,2,0),\"\")","v":""}]
[null,null,null,null,{"$f":"IFERROR(VLOOKUP(D10564,Справка!$G$2:$H$579,2,0),\"\")","v":""}]
[null,null,null,null,{"$f":"IFERROR(VLOOKUP(D10565,Справка!$G$2:$H$579,2,0),\"\")","v":""}]
[null,null,null,null,{"$f":"IFERROR(VLOOKUP(D10566,Справка!$G$2:$H$579,2,0),\"\")","v":""}]
[null,null,null,null,{"$f":"IFERROR(VLOOKUP(D10567,Справка!$G$2:$H$579,2,0),\"\")","v":""}]
[null,null,null,null,{"$f":"IFERROR(VLOOKUP(D10568,Справка!$G$2:$H$579,2,0),\"\")","v":""}]
[null,null,null,null,{"$f":"IFERROR(VLOOKUP(D10569,Справка!$G$2:$H$579,2,0),\"\")","v":""}]
[null,null,null,null,{"$f":"IFERROR(VLOOKUP(D10570,Справка!$G$2:$H$579,2,0),\"\")","v":""}]
[null,null,null,null,{"$f":"IFERROR(VLOOKUP(D10571,Справка!$G$2:$H$579,2,0),\"\")","v":""}]
[null,null,null,null,{"$f":"IFERROR(VLOOKUP(D10572,Справка!$G$2:$H$579,2,0),\"\")","v":""}]
[null,null,null,null,{"$f":"IFERROR(VLOOKUP(D10573,Справка!$G$2:$H$579,2,0),\"\")","v":""}]
[null,null,null,null,{"$f":"IFERROR(VLOOKUP(D10574,Справка!$G$2:$H$579,2,0),\"\")","v":""}]
[null,null,null,null,{"$f":"IFERROR(VLOOKUP(D10575,Справка!$G$2:$H$579,2,0),\"\")","v":""}]
[null,null,null,null,{"$f":"IFERROR(VLOOKUP(D10576,Справка!$G$2:$H$579,2,0),\"\")","v":""}]
[null,null,null,null,{"$f":"IFERROR(VLOOKUP(D10577,Справка!$G$2:$H$579,2,0),\"\")","v":""}]
[null,null,null,null,{"$f":"IFERROR(VLOOKUP(D10578,Справка!$G$2:$H$579,2,0),\"\")","v":""}]
[null,null,null,null,{"$f":"IFERROR(VLOOKUP(D10579,Справка!$G$2:$H$579,2,0),\"\")","v":""}]
[null,null,null,null,{"$f":"IFERROR(VLOOKUP(D10580,Справка!$G$2:$H$579,2,0),\"\")","v":""}]
[null,null,null,null,{"$f":"IFERROR(VLOOKUP(D10581,Справка!$G$2:$H$579,2,0),\"\")","v":""}]
[null,null,null,null,{"$f":"IFERROR(VLOOKUP(D10582,Справка!$G$2:$H$579,2,0),\"\")","v":""}]
[null,null,null,null,{"$f":"IFERROR(VLOOKUP(D10583,Справка!$G$2:$H$579,2,0),\"\")","v":""}]
[null,null,null,null,{"$f":"IFERROR(VLOOKUP(D10584,Справка!$G$2:$H$579,2,0),\"\")","v":""}]
[null,null,null,null,{"$f":"IFERROR(VLOOKUP(D10585,Справка!$G$2:$H$579,2,0),\"\")","v":""}]
[null,null,null,null,{"$f":"IFERROR(VLOOKUP(D10586,Справка!$G$2:$H$579,2,0),\"\")","v":""}]
[null,null,null,null,{"$f":"IFERROR(VLOOKUP(D10587,Справка!$G$2:$H$579,2,0),\"\")","v":""}]
[null,null,null,null,{"$f":"IFERROR(VLOOKUP(D10588,Справка!$G$2:$H$579,2,0),\"\")","v":""}]
[null,null,null,null,{"$f":"IFERROR(VLOOKUP(D10589,Справка!$G$2:$H$579,2,0),\"\")","v":""}]
[null,null,null,null,{"$f":"IFERROR(VLOOKUP(D10590,Справка!$G$2:$H$579,2,0),\"\")","v":""}]
[null,null,null,null,{"$f":"IFERROR(VLOOKUP(D10591,Справка!$G$2:$H$579,2,0),\"\")","v":""}]
[null,null,null,null,{"$f":"IFERROR(VLOOKUP(D10592,Справка!$G$2:$H$579,2,0),\"\")","v":""}]
[null,null,null,null,{"$f":"IFERROR(VLOOKUP(D10593,Справка!$G$2:$H$579,2,0),\"\")","v":""}]
[null,null,null,null,{"$f":"IFERROR(VLOOKUP(D10594,Справка!$G$2:$H$579,2,0),\"\")","v":""}]
[null,null,null,null,{"$f":"IFERROR(VLOOKUP(D10595,Справка!$G$2:$H$579,2,0),\"\")","v":""}]
[null,null,null,null,{"$f":"IFERROR(VLOOKUP(D10596,Справка!$G$2:$H$579,2,0),\"\")","v":""}]
[null,null,null,null,{"$f":"IFERROR(VLOOKUP(D10597,Справка!$G$2:$H$579,2,0),\"\")","v":""}]
[null,null,null,null,{"$f":"IFERROR(VLOOKUP(D10598,Справка!$G$2:$H$579,2,0),\"\")","v":""}]
[null,null,null,null,{"$f":"IFERROR(VLOOKUP(D10599,Справка!$G$2:$H$579,2,0),\"\")","v":""}]
[null,null,null,null,{"$f":"IFERROR(VLOOKUP(D10600,Справка!$G$2:$H$579,2,0),\"\")","v":""}]
[null,null,null,null,{"$f":"IFERROR(VLOOKUP(D10601,Справка!$G$2:$H$579,2,0),\"\")","v":""}]
[null,null,null,null,{"$f":"IFERROR(VLOOKUP(D10602,Справка!$G$2:$H$579,2,0),\"\")","v":""}]
[null,null,null,null,{"$f":"IFERROR(VLOOKUP(D10603,Справка!$G$2:$H$579,2,0),\"\")","v":""}]
[null,null,null,null,{"$f":"IFERROR(VLOOKUP(D10604,Справка!$G$2:$H$579,2,0),\"\")","v":""}]
[null,null,null,null,{"$f":"IFERROR(VLOOKUP(D10605,Справка!$G$2:$H$579,2,0),\"\")","v":""}]
[null,null,null,null,{"$f":"IFERROR(VLOOKUP(D10606,Справка!$G$2:$H$579,2,0),\"\")","v":""}]
[null,null,null,null,{"$f":"IFERROR(VLOOKUP(D10607,Справка!$G$2:$H$579,2,0),\"\")","v":""}]
[null,null,null,null,{"$f":"IFERROR(VLOOKUP(D10608,Справка!$G$2:$H$579,2,0),\"\")","v":""}]
[null,null,null,null,{"$f":"IFERROR(VLOOKUP(D10609,Справка!$G$2:$H$579,2,0),\"\")","v":""}]
[null,null,null,null,{"$f":"IFERROR(VLOOKUP(D10610,Справка!$G$2:$H$579,2,0),\"\")","v":""}]
[null,null,null,null,{"$f":"IFERROR(VLOOKUP(D10611,Справка!$G$2:$H$579,2,0),\"\")","v":""}]
[null,null,null,null,{"$f":"IFERROR(VLOOKUP(D10612,Справка!$G$2:$H$579,2,0),\"\")","v":""}]
[null,null,null,null,{"$f":"IFERROR(VLOOKUP(D10613,Справка!$G$2:$H$579,2,0),\"\")","v":""}]
[null,null,null,null,{"$f":"IFERROR(VLOOKUP(D10614,Справка!$G$2:$H$579,2,0),\"\")","v":""}]
[null,null,null,null,{"$f":"IFERROR(VLOOKUP(D10615,Справка!$G$2:$H$579,2,0),\"\")","v":""}]
[null,null,null,null,{"$f":"IFERROR(VLOOKUP(D10616,Справка!$G$2:$H$579,2,0),\"\")","v":""}]
[null,null,null,null,{"$f":"IFERROR(VLOOKUP(D10617,Справка!$G$2:$H$579,2,0),\"\")","v":""}]
[null,null,null,null,{"$f":"IFERROR(VLOOKUP(D10618,Справка!$G$2:$H$579,2,0),\"\")","v":""}]
[null,null,null,null,{"$f":"IFERROR(VLOOKUP(D10619,Справка!$G$2:$H$579,2,0),\"\")","v":""}]
[null,null,null,null,{"$f":"IFERROR(VLOOKUP(D10620,Справка!$G$2:$H$579,2,0),\"\")","v":""}]
[null,null,null,null,{"$f":"IFERROR(VLOOKUP(D10621,Справка!$G$2:$H$579,2,0),\"\")","v":""}]
[null,null,null,null,{"$f":"IFERROR(VLOOKUP(D10622,Справка!$G$2:$H$579,2,0),\"\")","v":""}]
[null,null,null,null,{"$f":"IFERROR(VLOOKUP(D10623,Справка!$G$2:$H$579,2,0),\"\")","v":""}]
[null,null,null,null,{"$f":"IFERROR(VLOOKUP(D10624,Справка!$G$2:$H$579,2,0),\"\")","v":""}]
[null,null,null,null,{"$f":"IFERROR(VLOOKUP(D10625,Справка!$G$2:$H$579,2,0),\"\")","v":""}]
[null,null,null,null,{"$f":"IFERROR(VLOOKUP(D10626,Справка!$G$2:$H$579,2,0),\"\")","v":""}]
[null,null,null,null,{"$f":"IFERROR(VLOOKUP(D10627,Справка!$G$2:$H$579,2,0),\"\")","v":""}]
[null,null,null,null,{"$f":"IFERROR(VLOOKUP(D10628,Справка!$G$2:$H$579,2,0),\"\")","v":""}]
[null,null,null,null,{"$f":"IFERROR(VLOOKUP(D10629,Справка!$G$2:$H$579,2,0),\"\")","v":""}]
[null,null,null,null,{"$f":"IFERROR(VLOOKUP(D10630,Справка!$G$2:$H$579,2,0),\"\")","v":""}]
[null,null,null,null,{"$f":"IFERROR(VLOOKUP(D10631,Справка!$G$2:$H$579,2,0),\"\")","v":""}]
[null,null,null,null,{"$f":"IFERROR(VLOOKUP(D10632,Справка!$G$2:$H$579,2,0),\"\")","v":""}]
[null,null,null,null,{"$f":"IFERROR(VLOOKUP(D10633,Справка!$G$2:$H$579,2,0),\"\")","v":""}]
[null,null,null,null,{"$f":"IFERROR(VLOOKUP(D10634,Справка!$G$2:$H$579,2,0),\"\")","v":""}]
[null,null,null,null,{"$f":"IFERROR(VLOOKUP(D10635,Справка!$G$2:$H$579,2,0),\"\")","v":""}]
[null,null,null,null,{"$f":"IFERROR(VLOOKUP(D10636,Справка!$G$2:$H$579,2,0),\"\")","v":""}]
[null,null,null,null,{"$f":"IFERROR(VLOOKUP(D10637,Справка!$G$2:$H$579,2,0),\"\")","v":""}]
[null,null,null,null,{"$f":"IFERROR(VLOOKUP(D10638,Справка!$G$2:$H$579,2,0),\"\")","v":""}]
[null,null,null,null,{"$f":"IFERROR(VLOOKUP(D10639,Справка!$G$2:$H$579,2,0),\"\")","v":""}]
[null,null,null,null,{"$f":"IFERROR(VLOOKUP(D10640,Справка!$G$2:$H$579,2,0),\"\")","v":""}]
[null,null,null,null,{"$f":"IFERROR(VLOOKUP(D10641,Справка!$G$2:$H$579,2,0),\"\")","v":""}]
[null,null,null,null,{"$f":"IFERROR(VLOOKUP(D10642,Справка!$G$2:$H$579,2,0),\"\")","v":""}]
[null,null,null,null,{"$f":"IFERROR(VLOOKUP(D10643,Справка!$G$2:$H$579,2,0),\"\")","v":""}]
[null,null,null,null,{"$f":"IFERROR(VLOOKUP(D10644,Справка!$G$2:$H$579,2,0),\"\")","v":""}]
[null,null,null,null,{"$f":"IFERROR(VLOOKUP(D10645,Справка!$G$2:$H$579,2,0),\"\")","v":""}]
[null,null,null,null,{"$f":"IFERROR(VLOOKUP(D10646,Справка!$G$2:$H$579,2,0),\"\")","v":""}]
[null,null,null,null,{"$f":"IFERROR(VLOOKUP(D10647,Справка!$G$2:$H$579,2,0),\"\")","v":""}]
[null,null,null,null,{"$f":"IFERROR(VLOOKUP(D10648,Справка!$G$2:$H$579,2,0),\"\")","v":""}]
[null,null,null,null,{"$f":"IFERROR(VLOOKUP(D10649,Справка!$G$2:$H$579,2,0),\"\")","v":""}]
[null,null,null,null,{"$f":"IFERROR(VLOOKUP(D10650,Справка!$G$2:$H$579,2,0),\"\")","v":""}]
[null,null,null,null,{"$f":"IFERROR(VLOOKUP(D10651,Справка!$G$2:$H$579,2,0),\"\")","v":""}]
[null,null,null,null,{"$f":"IFERROR(VLOOKUP(D10652,Справка!$G$2:$H$579,2,0),\"\")","v":""}]
[null,null,null,null,{"$f":"IFERROR(VLOOKUP(D10653,Справка!$G$2:$H$579,2,0),\"\")","v":""}]
[null,null,null,null,{"$f":"IFERROR(VLOOKUP(D10654,Справка!$G$2:$H$579,2,0),\"\")","v":""}]
[null,null,null,null,{"$f":"IFERROR(VLOOKUP(D10655,Справка!$G$2:$H$579,2,0),\"\")","v":""}]
[null,null,null,null,{"$f":"IFERROR(VLOOKUP(D10656,Справка!$G$2:$H$579,2,0),\"\")","v":""}]
[null,null,null,null,{"$f":"IFERROR(VLOOKUP(D10657,Справка!$G$2:$H$579,2,0),\"\")","v":""}]
[null,null,null,null,{"$f":"IFERROR(VLOOKUP(D10658,Справка!$G$2:$H$579,2,0),\"\")","v":""}]
[null,null,null,null,{"$f":"IFERROR(VLOOKUP(D10659,Справка!$G$2:$H$579,2,0),\"\")","v":""}]
[null,null,null,null,{"$f":"IFERROR(VLOOKUP(D10660,Справка!$G$2:$H$579,2,0),\"\")","v":""}]
[null,null,null,null,{"$f":"IFERROR(VLOOKUP(D10661,Справка!$G$2:$H$579,2,0),\"\")","v":""}]
[null,null,null,null,{"$f":"IFERROR(VLOOKUP(D10662,Справка!$G$2:$H$579,2,0),\"\")","v":""}]
[null,null,null,null,{"$f":"IFERROR(VLOOKUP(D10663,Справка!$G$2:$H$579,2,0),\"\")","v":""}]
[null,null,null,null,{"$f":"IFERROR(VLOOKUP(D10664,Справка!$G$2:$H$579,2,0),\"\")","v":""}]
[null,null,null,null,{"$f":"IFERROR(VLOOKUP(D10665,Справка!$G$2:$H$579,2,0),\"\")","v":""}]
[null,null,null,null,{"$f":"IFERROR(VLOOKUP(D10666,Справка!$G$2:$H$579,2,0),\"\")","v":""}]
[null,null,null,null,{"$f":"IFERROR(VLOOKUP(D10667,Справка!$G$2:$H$579,2,0),\"\")","v":""}]
[null,null,null,null,{"$f":"IFERROR(VLOOKUP(D10668,Справка!$G$2:$H$579,2,0),\"\")","v":""}]
[null,null,null,null,{"$f":"IFERROR(VLOOKUP(D10669,Справка!$G$2:$H$579,2,0),\"\")","v":""}]
[null,null,null,null,{"$f":"IFERROR(VLOOKUP(D10670,Справка!$G$2:$H$579,2,0),\"\")","v":""}]
[null,null,null,null,{"$f":"IFERROR(VLOOKUP(D10671,Справка!$G$2:$H$579,2,0),\"\")","v":""}]
[null,null,null,null,{"$f":"IFERROR(VLOOKUP(D10672,Справка!$G$2:$H$579,2,0),\"\")","v":""}]
[null,null,null,null,{"$f":"IFERROR(VLOOKUP(D10673,Справка!$G$2:$H$579,2,0),\"\")","v":""}]
[null,null,null,null,{"$f":"IFERROR(VLOOKUP(D10674,Справка!$G$2:$H$579,2,0),\"\")","v":""}]
[null,null,null,null,{"$f":"IFERROR(VLOOKUP(D10675,Справка!$G$2:$H$579,2,0),\"\")","v":""}]
[null,null,null,null,{"$f":"IFERROR(VLOOKUP(D10676,Справка!$G$2:$H$579,2,0),\"\")","v":""}]
[null,null,null,null,{"$f":"IFERROR(VLOOKUP(D10677,Справка!$G$2:$H$579,2,0),\"\")","v":""}]
[null,null,null,null,{"$f":"IFERROR(VLOOKUP(D10678,Справка!$G$2:$H$579,2,0),\"\")","v":""}]
[null,null,null,null,{"$f":"IFERROR(VLOOKUP(D10679,Справка!$G$2:$H$579,2,0),\"\")","v":""}]
[null,null,null,null,{"$f":"IFERROR(VLOOKUP(D10680,Справка!$G$2:$H$579,2,0),\"\")","v":""}]
[null,null,null,null,{"$f":"IFERROR(VLOOKUP(D10681,Справка!$G$2:$H$579,2,0),\"\")","v":""}]
[null,null,null,null,{"$f":"IFERROR(VLOOKUP(D10682,Справка!$G$2:$H$579,2,0),\"\")","v":""}]
[null,null,null,null,{"$f":"IFERROR(VLOOKUP(D10683,Справка!$G$2:$H$579,2,0),\"\")","v":""}]
[null,null,null,null,{"$f":"IFERROR(VLOOKUP(D10684,Справка!$G$2:$H$579,2,0),\"\")","v":""}]
[null,null,null,null,{"$f":"IFERROR(VLOOKUP(D10685,Справка!$G$2:$H$579,2,0),\"\")","v":""}]
[null,null,null,null,{"$f":"IFERROR(VLOOKUP(D10686,Справка!$G$2:$H$579,2,0),\"\")","v":""}]
[null,null,null,null,{"$f":"IFERROR(VLOOKUP(D10687,Справка!$G$2:$H$579,2,0),\"\")","v":""}]
[null,null,null,null,{"$f":"IFERROR(VLOOKUP(D10688,Справка!$G$2:$H$579,2,0),\"\")","v":""}]
[null,null,null,null,{"$f":"IFERROR(VLOOKUP(D10689,Справка!$G$2:$H$579,2,0),\"\")","v":""}]
[null,null,null,null,{"$f":"IFERROR(VLOOKUP(D10690,Справка!$G$2:$H$579,2,0),\"\")","v":""}]
[null,null,null,null,{"$f":"IFERROR(VLOOKUP(D10691,Справка!$G$2:$H$579,2,0),\"\")","v":""}]
[null,null,null,null,{"$f":"IFERROR(VLOOKUP(D10692,Справка!$G$2:$H$579,2,0),\"\")","v":""}]
[null,null,null,null,{"$f":"IFERROR(VLOOKUP(D10693,Справка!$G$2:$H$579,2,0),\"\")","v":""}]
[null,null,null,null,{"$f":"IFERROR(VLOOKUP(D10694,Справка!$G$2:$H$579,2,0),\"\")","v":""}]
[null,null,null,null,{"$f":"IFERROR(VLOOKUP(D10695,Справка!$G$2:$H$579,2,0),\"\")","v":""}]
[null,null,null,null,{"$f":"IFERROR(VLOOKUP(D10696,Справка!$G$2:$H$579,2,0),\"\")","v":""}]
[null,null,null,null,{"$f":"IFERROR(VLOOKUP(D10697,Справка!$G$2:$H$579,2,0),\"\")","v":""}]
[null,null,null,null,{"$f":"IFERROR(VLOOKUP(D10698,Справка!$G$2:$H$579,2,0),\"\")","v":""}]
[null,null,null,null,{"$f":"IFERROR(VLOOKUP(D10699,Справка!$G$2:$H$579,2,0),\"\")","v":""}]
[null,null,null,null,{"$f":"IFERROR(VLOOKUP(D10700,Справка!$G$2:$H$579,2,0),\"\")","v":""}]
[null,null,null,null,{"$f":"IFERROR(VLOOKUP(D10701,Справка!$G$2:$H$579,2,0),\"\")","v":""}]
[null,null,null,null,{"$f":"IFERROR(VLOOKUP(D10702,Справка!$G$2:$H$579,2,0),\"\")","v":""}]
[null,null,null,null,{"$f":"IFERROR(VLOOKUP(D10703,Справка!$G$2:$H$579,2,0),\"\")","v":""}]
[null,null,null,null,{"$f":"IFERROR(VLOOKUP(D10704,Справка!$G$2:$H$579,2,0),\"\")","v":""}]
[null,null,null,null,{"$f":"IFERROR(VLOOKUP(D10705,Справка!$G$2:$H$579,2,0),\"\")","v":""}]
[null,null,null,null,{"$f":"IFERROR(VLOOKUP(D10706,Справка!$G$2:$H$579,2,0),\"\")","v":""}]
[null,null,null,null,{"$f":"IFERROR(VLOOKUP(D10707,Справка!$G$2:$H$579,2,0),\"\")","v":""}]
[null,null,null,null,{"$f":"IFERROR(VLOOKUP(D10708,Справка!$G$2:$H$579,2,0),\"\")","v":""}]
[null,null,null,null,{"$f":"IFERROR(VLOOKUP(D10709,Справка!$G$2:$H$579,2,0),\"\")","v":""}]
[null,null,null,null,{"$f":"IFERROR(VLOOKUP(D10710,Справка!$G$2:$H$579,2,0),\"\")","v":""}]
[null,null,null,null,{"$f":"IFERROR(VLOOKUP(D10711,Справка!$G$2:$H$579,2,0),\"\")","v":""}]
[null,null,null,null,{"$f":"IFERROR(VLOOKUP(D10712,Справка!$G$2:$H$579,2,0),\"\")","v":""}]
[null,null,null,null,{"$f":"IFERROR(VLOOKUP(D10713,Справка!$G$2:$H$579,2,0),\"\")","v":""}]
[null,null,null,null,{"$f":"IFERROR(VLOOKUP(D10714,Справка!$G$2:$H$579,2,0),\"\")","v":""}]
[null,null,null,null,{"$f":"IFERROR(VLOOKUP(D10715,Справка!$G$2:$H$579,2,0),\"\")","v":""}]
[null,null,null,null,{"$f":"IFERROR(VLOOKUP(D10716,Справка!$G$2:$H$579,2,0),\"\")","v":""}]
[null,null,null,null,{"$f":"IFERROR(VLOOKUP(D10717,Справка!$G$2:$H$579,2,0),\"\")","v":""}]
[null,null,null,null,{"$f":"IFERROR(VLOOKUP(D10718,Справка!$G$2:$H$579,2,0),\"\")","v":""}]
[null,null,null,null,{"$f":"IFERROR(VLOOKUP(D10719,Справка!$G$2:$H$579,2,0),\"\")","v":""}]
[null,null,null,null,{"$f":"IFERROR(VLOOKUP(D10720,Справка!$G$2:$H$579,2,0),\"\")","v":""}]
[null,null,null,null,{"$f":"IFERROR(VLOOKUP(D10721,Справка!$G$2:$H$579,2,0),\"\")","v":""}]
[null,null,null,null,{"$f":"IFERROR(VLOOKUP(D10722,Справка!$G$2:$H$579,2,0),\"\")","v":""}]
[null,null,null,null,{"$f":"IFERROR(VLOOKUP(D10723,Справка!$G$2:$H$579,2,0),\"\")","v":""}]
[null,null,null,null,{"$f":"IFERROR(VLOOKUP(D10724,Справка!$G$2:$H$579,2,0),\"\")","v":""}]
[null,null,null,null,{"$f":"IFERROR(VLOOKUP(D10725,Справка!$G$2:$H$579,2,0),\"\")","v":""}]
[null,null,null,null,{"$f":"IFERROR(VLOOKUP(D10726,Справка!$G$2:$H$579,2,0),\"\")","v":""}]
[null,null,null,null,{"$f":"IFERROR(VLOOKUP(D10727,Справка!$G$2:$H$579,2,0),\"\")","v":""}]
[null,null,null,null,{"$f":"IFERROR(VLOOKUP(D10728,Справка!$G$2:$H$579,2,0),\"\")","v":""}]
[null,null,null,null,{"$f":"IFERROR(VLOOKUP(D10729,Справка!$G$2:$H$579,2,0),\"\")","v":""}]
[null,null,null,null,{"$f":"IFERROR(VLOOKUP(D10730,Справка!$G$2:$H$579,2,0),\"\")","v":""}]
[null,null,null,null,{"$f":"IFERROR(VLOOKUP(D10731,Справка!$G$2:$H$579,2,0),\"\")","v":""}]
[null,null,null,null,{"$f":"IFERROR(VLOOKUP(D10732,Справка!$G$2:$H$579,2,0),\"\")","v":""}]
[null,null,null,null,{"$f":"IFERROR(VLOOKUP(D10733,Справка!$G$2:$H$579,2,0),\"\")","v":""}]
[null,null,null,null,{"$f":"IFERROR(VLOOKUP(D10734,Справка!$G$2:$H$579,2,0),\"\")","v":""}]
[null,null,null,null,{"$f":"IFERROR(VLOOKUP(D10735,Справка!$G$2:$H$579,2,0),\"\")","v":""}]
[null,null,null,null,{"$f":"IFERROR(VLOOKUP(D10736,Справка!$G$2:$H$579,2,0),\"\")","v":""}]
[null,null,null,null,{"$f":"IFERROR(VLOOKUP(D10737,Справка!$G$2:$H$579,2,0),\"\")","v":""}]
[null,null,null,null,{"$f":"IFERROR(VLOOKUP(D10738,Справка!$G$2:$H$579,2,0),\"\")","v":""}]
[null,null,null,null,{"$f":"IFERROR(VLOOKUP(D10739,Справка!$G$2:$H$579,2,0),\"\")","v":""}]
[null,null,null,null,{"$f":"IFERROR(VLOOKUP(D10740,Справка!$G$2:$H$579,2,0),\"\")","v":""}]
[null,null,null,null,{"$f":"IFERROR(VLOOKUP(D10741,Справка!$G$2:$H$579,2,0),\"\")","v":""}]
[null,null,null,null,{"$f":"IFERROR(VLOOKUP(D10742,Справка!$G$2:$H$579,2,0),\"\")","v":""}]
[null,null,null,null,{"$f":"IFERROR(VLOOKUP(D10743,Справка!$G$2:$H$579,2,0),\"\")","v":""}]
[null,null,null,null,{"$f":"IFERROR(VLOOKUP(D10744,Справка!$G$2:$H$579,2,0),\"\")","v":""}]
[null,null,null,null,{"$f":"IFERROR(VLOOKUP(D10745,Справка!$G$2:$H$579,2,0),\"\")","v":""}]
[null,null,null,null,{"$f":"IFERROR(VLOOKUP(D10746,Справка!$G$2:$H$579,2,0),\"\")","v":""}]
[null,null,null,null,{"$f":"IFERROR(VLOOKUP(D10747,Справка!$G$2:$H$579,2,0),\"\")","v":""}]
[null,null,null,null,{"$f":"IFERROR(VLOOKUP(D10748,Справка!$G$2:$H$579,2,0),\"\")","v":""}]
[null,null,null,null,{"$f":"IFERROR(VLOOKUP(D10749,Справка!$G$2:$H$579,2,0),\"\")","v":""}]
[null,null,null,null,{"$f":"IFERROR(VLOOKUP(D10750,Справка!$G$2:$H$579,2,0),\"\")","v":""}]
[null,null,null,null,{"$f":"IFERROR(VLOOKUP(D10751,Справка!$G$2:$H$579,2,0),\"\")","v":""}]
[null,null,null,null,{"$f":"IFERROR(VLOOKUP(D10752,Справка!$G$2:$H$579,2,0),\"\")","v":""}]
[null,null,null,null,{"$f":"IFERROR(VLOOKUP(D10753,Справка!$G$2:$H$579,2,0),\"\")","v":""}]
[null,null,null,null,{"$f":"IFERROR(VLOOKUP(D10754,Справка!$G$2:$H$579,2,0),\"\")","v":""}]
[null,null,null,null,{"$f":"IFERROR(VLOOKUP(D10755,Справка!$G$2:$H$579,2,0),\"\")","v":""}]
[null,null,null,null,{"$f":"IFERROR(VLOOKUP(D10756,Справка!$G$2:$H$579,2,0),\"\")","v":""}]
[null,null,null,null,{"$f":"IFERROR(VLOOKUP(D10757,Справка!$G$2:$H$579,2,0),\"\")","v":""}]
[null,null,null,null,{"$f":"IFERROR(VLOOKUP(D10758,Справка!$G$2:$H$579,2,0),\"\")","v":""}]
[null,null,null,null,{"$f":"IFERROR(VLOOKUP(D10759,Справка!$G$2:$H$579,2,0),\"\")","v":""}]
[null,null,null,null,{"$f":"IFERROR(VLOOKUP(D10760,Справка!$G$2:$H$579,2,0),\"\")","v":""}]
[null,null,null,null,{"$f":"IFERROR(VLOOKUP(D10761,Справка!$G$2:$H$579,2,0),\"\")","v":""}]
[null,null,null,null,{"$f":"IFERROR(VLOOKUP(D10762,Справка!$G$2:$H$579,2,0),\"\")","v":""}]
[null,null,null,null,{"$f":"IFERROR(VLOOKUP(D10763,Справка!$G$2:$H$579,2,0),\"\")","v":""}]
[null,null,null,null,{"$f":"IFERROR(VLOOKUP(D10764,Справка!$G$2:$H$579,2,0),\"\")","v":""}]
[null,null,null,null,{"$f":"IFERROR(VLOOKUP(D10765,Справка!$G$2:$H$579,2,0),\"\")","v":""}]
[null,null,null,null,{"$f":"IFERROR(VLOOKUP(D10766,Справка!$G$2:$H$579,2,0),\"\")","v":""}]
[null,null,null,null,{"$f":"IFERROR(VLOOKUP(D10767,Справка!$G$2:$H$579,2,0),\"\")","v":""}]
[null,null,null,null,{"$f":"IFERROR(VLOOKUP(D10768,Справка!$G$2:$H$579,2,0),\"\")","v":""}]
[null,null,null,null,{"$f":"IFERROR(VLOOKUP(D10769,Справка!$G$2:$H$579,2,0),\"\")","v":""}]
[null,null,null,null,{"$f":"IFERROR(VLOOKUP(D10770,Справка!$G$2:$H$579,2,0),\"\")","v":""}]
[null,null,null,null,{"$f":"IFERROR(VLOOKUP(D10771,Справка!$G$2:$H$579,2,0),\"\")","v":""}]
[null,null,null,null,{"$f":"IFERROR(VLOOKUP(D10772,Справка!$G$2:$H$579,2,0),\"\")","v":""}]
[null,null,null,null,{"$f":"IFERROR(VLOOKUP(D10773,Справка!$G$2:$H$579,2,0),\"\")","v":""}]
[null,null,null,null,{"$f":"IFERROR(VLOOKUP(D10774,Справка!$G$2:$H$579,2,0),\"\")","v":""}]
[null,null,null,null,{"$f":"IFERROR(VLOOKUP(D10775,Справка!$G$2:$H$579,2,0),\"\")","v":""}]
[null,null,null,null,{"$f":"IFERROR(VLOOKUP(D10776,Справка!$G$2:$H$579,2,0),\"\")","v":""}]
[null,null,null,null,{"$f":"IFERROR(VLOOKUP(D10777,Справка!$G$2:$H$579,2,0),\"\")","v":""}]
[null,null,null,null,{"$f":"IFERROR(VLOOKUP(D10778,Справка!$G$2:$H$579,2,0),\"\")","v":""}]
[null,null,null,null,{"$f":"IFERROR(VLOOKUP(D10779,Справка!$G$2:$H$579,2,0),\"\")","v":""}]
[null,null,null,null,{"$f":"IFERROR(VLOOKUP(D10780,Справка!$G$2:$H$579,2,0),\"\")","v":""}]
[null,null,null,null,{"$f":"IFERROR(VLOOKUP(D10781,Справка!$G$2:$H$579,2,0),\"\")","v":""}]
[null,null,null,null,{"$f":"IFERROR(VLOOKUP(D10782,Справка!$G$2:$H$579,2,0),\"\")","v":""}]
[null,null,null,null,{"$f":"IFERROR(VLOOKUP(D10783,Справка!$G$2:$H$579,2,0),\"\")","v":""}]
[null,null,null,null,{"$f":"IFERROR(VLOOKUP(D10784,Справка!$G$2:$H$579,2,0),\"\")","v":""}]
[null,null,null,null,{"$f":"IFERROR(VLOOKUP(D10785,Справка!$G$2:$H$579,2,0),\"\")","v":""}]
[null,null,null,null,{"$f":"IFERROR(VLOOKUP(D10786,Справка!$G$2:$H$579,2,0),\"\")","v":""}]
[null,null,null,null,{"$f":"IFERROR(VLOOKUP(D10787,Справка!$G$2:$H$579,2,0),\"\")","v":""}]
[null,null,null,null,{"$f":"IFERROR(VLOOKUP(D10788,Справка!$G$2:$H$579,2,0),\"\")","v":""}]
[null,null,null,null,{"$f":"IFERROR(VLOOKUP(D10789,Справка!$G$2:$H$579,2,0),\"\")","v":""}]
[null,null,null,null,{"$f":"IFERROR(VLOOKUP(D10790,Справка!$G$2:$H$579,2,0),\"\")","v":""}]
[null,null,null,null,{"$f":"IFERROR(VLOOKUP(D10791,Справка!$G$2:$H$579,2,0),\"\")","v":""}]
[null,null,null,null,{"$f":"IFERROR(VLOOKUP(D10792,Справка!$G$2:$H$579,2,0),\"\")","v":""}]
[null,null,null,null,{"$f":"IFERROR(VLOOKUP(D10793,Справка!$G$2:$H$579,2,0),\"\")","v":""}]
[null,null,null,null,{"$f":"IFERROR(VLOOKUP(D10794,Справка!$G$2:$H$579,2,0),\"\")","v":""}]
[null,null,null,null,{"$f":"IFERROR(VLOOKUP(D10795,Справка!$G$2:$H$579,2,0),\"\")","v":""}]
[null,null,null,null,{"$f":"IFERROR(VLOOKUP(D10796,Справка!$G$2:$H$579,2,0),\"\")","v":""}]
[null,null,null,null,{"$f":"IFERROR(VLOOKUP(D10797,Справка!$G$2:$H$579,2,0),\"\")","v":""}]
[null,null,null,null,{"$f":"IFERROR(VLOOKUP(D10798,Справка!$G$2:$H$579,2,0),\"\")","v":""}]
[null,null,null,null,{"$f":"IFERROR(VLOOKUP(D10799,Справка!$G$2:$H$579,2,0),\"\")","v":""}]
[null,null,null,null,{"$f":"IFERROR(VLOOKUP(D10800,Справка!$G$2:$H$579,2,0),\"\")","v":""}]
[null,null,null,null,{"$f":"IFERROR(VLOOKUP(D10801,Справка!$G$2:$H$579,2,0),\"\")","v":""}]
[null,null,null,null,{"$f":"IFERROR(VLOOKUP(D10802,Справка!$G$2:$H$579,2,0),\"\")","v":""}]
[null,null,null,null,{"$f":"IFERROR(VLOOKUP(D10803,Справка!$G$2:$H$579,2,0),\"\")","v":""}]
[null,null,null,null,{"$f":"IFERROR(VLOOKUP(D10804,Справка!$G$2:$H$579,2,0),\"\")","v":""}]
[null,null,null,null,{"$f":"IFERROR(VLOOKUP(D10805,Справка!$G$2:$H$579,2,0),\"\")","v":""}]
[null,null,null,null,{"$f":"IFERROR(VLOOKUP(D10806,Справка!$G$2:$H$579,2,0),\"\")","v":""}]
[null,null,null,null,{"$f":"IFERROR(VLOOKUP(D10807,Справка!$G$2:$H$579,2,0),\"\")","v":""}]
[null,null,null,null,{"$f":"IFERROR(VLOOKUP(D10808,Справка!$G$2:$H$579,2,0),\"\")","v":""}]
[null,null,null,null,{"$f":"IFERROR(VLOOKUP(D10809,Справка!$G$2:$H$579,2,0),\"\")","v":""}]
[null,null,null,null,{"$f":"IFERROR(VLOOKUP(D10810,Справка!$G$2:$H$579,2,0),\"\")","v":""}]
[null,null,null,null,{"$f":"IFERROR(VLOOKUP(D10811,Справка!$G$2:$H$579,2,0),\"\")","v":""}]
[null,null,null,null,{"$f":"IFERROR(VLOOKUP(D10812,Справка!$G$2:$H$579,2,0),\"\")","v":""}]
[null,null,null,null,{"$f":"IFERROR(VLOOKUP(D10813,Справка!$G$2:$H$579,2,0),\"\")","v":""}]
[null,null,null,null,{"$f":"IFERROR(VLOOKUP(D10814,Справка!$G$2:$H$579,2,0),\"\")","v":""}]
[null,null,null,null,{"$f":"IFERROR(VLOOKUP(D10815,Справка!$G$2:$H$579,2,0),\"\")","v":""}]
[null,null,null,null,{"$f":"IFERROR(VLOOKUP(D10816,Справка!$G$2:$H$579,2,0),\"\")","v":""}]
[null,null,null,null,{"$f":"IFERROR(VLOOKUP(D10817,Справка!$G$2:$H$579,2,0),\"\")","v":""}]
[null,null,null,null,{"$f":"IFERROR(VLOOKUP(D10818,Справка!$G$2:$H$579,2,0),\"\")","v":""}]
[null,null,null,null,{"$f":"IFERROR(VLOOKUP(D10819,Справка!$G$2:$H$579,2,0),\"\")","v":""}]
[null,null,null,null,{"$f":"IFERROR(VLOOKUP(D10820,Справка!$G$2:$H$579,2,0),\"\")","v":""}]
[null,null,null,null,{"$f":"IFERROR(VLOOKUP(D10821,Справка!$G$2:$H$579,2,0),\"\")","v":""}]
[null,null,null,null,{"$f":"IFERROR(VLOOKUP(D10822,Справка!$G$2:$H$579,2,0),\"\")","v":""}]
[null,null,null,null,{"$f":"IFERROR(VLOOKUP(D10823,Справка!$G$2:$H$579,2,0),\"\")","v":""}]
[null,null,null,null,{"$f":"IFERROR(VLOOKUP(D10824,Справка!$G$2:$H$579,2,0),\"\")","v":""}]
[null,null,null,null,{"$f":"IFERROR(VLOOKUP(D10825,Справка!$G$2:$H$579,2,0),\"\")","v":""}]
[null,null,null,null,{"$f":"IFERROR(VLOOKUP(D10826,Справка!$G$2:$H$579,2,0),\"\")","v":""}]
[null,null,null,null,{"$f":"IFERROR(VLOOKUP(D10827,Справка!$G$2:$H$579,2,0),\"\")","v":""}]
[null,null,null,null,{"$f":"IFERROR(VLOOKUP(D10828,Справка!$G$2:$H$579,2,0),\"\")","v":""}]
[null,null,null,null,{"$f":"IFERROR(VLOOKUP(D10829,Справка!$G$2:$H$579,2,0),\"\")","v":""}]
[null,null,null,null,{"$f":"IFERROR(VLOOKUP(D10830,Справка!$G$2:$H$579,2,0),\"\")","v":""}]
[null,null,null,null,{"$f":"IFERROR(VLOOKUP(D10831,Справка!$G$2:$H$579,2,0),\"\")","v":""}]
[null,null,null,null,{"$f":"IFERROR(VLOOKUP(D10832,Справка!$G$2:$H$579,2,0),\"\")","v":""}]
[null,null,null,null,{"$f":"IFERROR(VLOOKUP(D10833,Справка!$G$2:$H$579,2,0),\"\")","v":""}]
[null,null,null,null,{"$f":"IFERROR(VLOOKUP(D10834,Справка!$G$2:$H$579,2,0),\"\")","v":""}]
[null,null,null,null,{"$f":"IFERROR(VLOOKUP(D10835,Справка!$G$2:$H$579,2,0),\"\")","v":""}]
[null,null,null,null,{"$f":"IFERROR(VLOOKUP(D10836,Справка!$G$2:$H$579,2,0),\"\")","v":""}]
[null,null,null,null,{"$f":"IFERROR(VLOOKUP(D10837,Справка!$G$2:$H$579,2,0),\"\")","v":""}]
[null,null,null,null,{"$f":"IFERROR(VLOOKUP(D10838,Справка!$G$2:$H$579,2,0),\"\")","v":""}]
[null,null,null,null,{"$f":"IFERROR(VLOOKUP(D10839,Справка!$G$2:$H$579,2,0),\"\")","v":""}]
[null,null,null,null,{"$f":"IFERROR(VLOOKUP(D10840,Справка!$G$2:$H$579,2,0),\"\")","v":""}]
[null,null,null,null,{"$f":"IFERROR(VLOOKUP(D10841,Справка!$G$2:$H$579,2,0),\"\")","v":""}]
[null,null,null,null,{"$f":"IFERROR(VLOOKUP(D10842,Справка!$G$2:$H$579,2,0),\"\")","v":""}]
[null,null,null,null,{"$f":"IFERROR(VLOOKUP(D10843,Справка!$G$2:$H$579,2,0),\"\")","v":""}]
[null,null,null,null,{"$f":"IFERROR(VLOOKUP(D10844,Справка!$G$2:$H$579,2,0),\"\")","v":""}]
[null,null,null,null,{"$f":"IFERROR(VLOOKUP(D10845,Справка!$G$2:$H$579,2,0),\"\")","v":""}]
[null,null,null,null,{"$f":"IFERROR(VLOOKUP(D10846,Справка!$G$2:$H$579,2,0),\"\")","v":""}]
[null,null,null,null,{"$f":"IFERROR(VLOOKUP(D10847,Справка!$G$2:$H$579,2,0),\"\")","v":""}]
[null,null,null,null,{"$f":"IFERROR(VLOOKUP(D10848,Справка!$G$2:$H$579,2,0),\"\")","v":""}]
[null,null,null,null,{"$f":"IFERROR(VLOOKUP(D10849,Справка!$G$2:$H$579,2,0),\"\")","v":""}]
[null,null,null,null,{"$f":"IFERROR(VLOOKUP(D10850,Справка!$G$2:$H$579,2,0),\"\")","v":""}]
[null,null,null,null,{"$f":"IFERROR(VLOOKUP(D10851,Справка!$G$2:$H$579,2,0),\"\")","v":""}]
[null,null,null,null,{"$f":"IFERROR(VLOOKUP(D10852,Справка!$G$2:$H$579,2,0),\"\")","v":""}]
[null,null,null,null,{"$f":"IFERROR(VLOOKUP(D10853,Справка!$G$2:$H$579,2,0),\"\")","v":""}]
[null,null,null,null,{"$f":"IFERROR(VLOOKUP(D10854,Справка!$G$2:$H$579,2,0),\"\")","v":""}]
[null,null,null,null,{"$f":"IFERROR(VLOOKUP(D10855,Справка!$G$2:$H$579,2,0),\"\")","v":""}]
[null,null,null,null,{"$f":"IFERROR(VLOOKUP(D10856,Справка!$G$2:$H$579,2,0),\"\")","v":""}]
[null,null,null,null,{"$f":"IFERROR(VLOOKUP(D10857,Справка!$G$2:$H$579,2,0),\"\")","v":""}]
[null,null,null,null,{"$f":"IFERROR(VLOOKUP(D10858,Справка!$G$2:$H$579,2,0),\"\")","v":""}]
[null,null,null,null,{"$f":"IFERROR(VLOOKUP(D10859,Справка!$G$2:$H$579,2,0),\"\")","v":""}]
[null,null,null,null,{"$f":"IFERROR(VLOOKUP(D10860,Справка!$G$2:$H$579,2,0),\"\")","v":""}]
[null,null,null,null,{"$f":"IFERROR(VLOOKUP(D10861,Справка!$G$2:$H$579,2,0),\"\")","v":""}]
[null,null,null,null,{"$f":"IFERROR(VLOOKUP(D10862,Справка!$G$2:$H$579,2,0),\"\")","v":""}]
[null,null,null,null,{"$f":"IFERROR(VLOOKUP(D10863,Справка!$G$2:$H$579,2,0),\"\")","v":""}]
[null,null,null,null,{"$f":"IFERROR(VLOOKUP(D10864,Справка!$G$2:$H$579,2,0),\"\")","v":""}]
[null,null,null,null,{"$f":"IFERROR(VLOOKUP(D10865,Справка!$G$2:$H$579,2,0),\"\")","v":""}]
[null,null,null,null,{"$f":"IFERROR(VLOOKUP(D10866,Справка!$G$2:$H$579,2,0),\"\")","v":""}]
[null,null,null,null,{"$f":"IFERROR(VLOOKUP(D10867,Справка!$G$2:$H$579,2,0),\"\")","v":""}]
[null,null,null,null,{"$f":"IFERROR(VLOOKUP(D10868,Справка!$G$2:$H$579,2,0),\"\")","v":""}]
[null,null,null,null,{"$f":"IFERROR(VLOOKUP(D10869,Справка!$G$2:$H$579,2,0),\"\")","v":""}]
[null,null,null,null,{"$f":"IFERROR(VLOOKUP(D10870,Справка!$G$2:$H$579,2,0),\"\")","v":""}]
[null,null,null,null,{"$f":"IFERROR(VLOOKUP(D10871,Справка!$G$2:$H$579,2,0),\"\")","v":""}]
[null,null,null,null,{"$f":"IFERROR(VLOOKUP(D10872,Справка!$G$2:$H$579,2,0),\"\")","v":""}]
[null,null,null,null,{"$f":"IFERROR(VLOOKUP(D10873,Справка!$G$2:$H$579,2,0),\"\")","v":""}]
[null,null,null,null,{"$f":"IFERROR(VLOOKUP(D10874,Справка!$G$2:$H$579,2,0),\"\")","v":""}]
[null,null,null,null,{"$f":"IFERROR(VLOOKUP(D10875,Справка!$G$2:$H$579,2,0),\"\")","v":""}]
[null,null,null,null,{"$f":"IFERROR(VLOOKUP(D10876,Справка!$G$2:$H$579,2,0),\"\")","v":""}]
[null,null,null,null,{"$f":"IFERROR(VLOOKUP(D10877,Справка!$G$2:$H$579,2,0),\"\")","v":""}]
[null,null,null,null,{"$f":"IFERROR(VLOOKUP(D10878,Справка!$G$2:$H$579,2,0),\"\")","v":""}]
[null,null,null,null,{"$f":"IFERROR(VLOOKUP(D10879,Справка!$G$2:$H$579,2,0),\"\")","v":""}]
[null,null,null,null,{"$f":"IFERROR(VLOOKUP(D10880,Справка!$G$2:$H$579,2,0),\"\")","v":""}]
[null,null,null,null,{"$f":"IFERROR(VLOOKUP(D10881,Справка!$G$2:$H$579,2,0),\"\")","v":""}]
[null,null,null,null,{"$f":"IFERROR(VLOOKUP(D10882,Справка!$G$2:$H$579,2,0),\"\")","v":""}]
[null,null,null,null,{"$f":"IFERROR(VLOOKUP(D10883,Справка!$G$2:$H$579,2,0),\"\")","v":""}]
[null,null,null,null,{"$f":"IFERROR(VLOOKUP(D10884,Справка!$G$2:$H$579,2,0),\"\")","v":""}]
[null,null,null,null,{"$f":"IFERROR(VLOOKUP(D10885,Справка!$G$2:$H$579,2,0),\"\")","v":""}]
[null,null,null,null,{"$f":"IFERROR(VLOOKUP(D10886,Справка!$G$2:$H$579,2,0),\"\")","v":""}]
[null,null,null,null,{"$f":"IFERROR(VLOOKUP(D10887,Справка!$G$2:$H$579,2,0),\"\")","v":""}]
[null,null,null,null,{"$f":"IFERROR(VLOOKUP(D10888,Справка!$G$2:$H$579,2,0),\"\")","v":""}]
[null,null,null,null,{"$f":"IFERROR(VLOOKUP(D10889,Справка!$G$2:$H$579,2,0),\"\")","v":""}]
[null,null,null,null,{"$f":"IFERROR(VLOOKUP(D10890,Справка!$G$2:$H$579,2,0),\"\")","v":""}]
[null,null,null,null,{"$f":"IFERROR(VLOOKUP(D10891,Справка!$G$2:$H$579,2,0),\"\")","v":""}]
[null,null,null,null,{"$f":"IFERROR(VLOOKUP(D10892,Справка!$G$2:$H$579,2,0),\"\")","v":""}]
[null,null,null,null,{"$f":"IFERROR(VLOOKUP(D10893,Справка!$G$2:$H$579,2,0),\"\")","v":""}]
[null,null,null,null,{"$f":"IFERROR(VLOOKUP(D10894,Справка!$G$2:$H$579,2,0),\"\")","v":""}]
[null,null,null,null,{"$f":"IFERROR(VLOOKUP(D10895,Справка!$G$2:$H$579,2,0),\"\")","v":""}]
[null,null,null,null,{"$f":"IFERROR(VLOOKUP(D10896,Справка!$G$2:$H$579,2,0),\"\")","v":""}]
[null,null,null,null,{"$f":"IFERROR(VLOOKUP(D10897,Справка!$G$2:$H$579,2,0),\"\")","v":""}]
[null,null,null,null,{"$f":"IFERROR(VLOOKUP(D10898,Справка!$G$2:$H$579,2,0),\"\")","v":""}]
[null,null,null,null,{"$f":"IFERROR(VLOOKUP(D10899,Справка!$G$2:$H$579,2,0),\"\")","v":""}]
[null,null,null,null,{"$f":"IFERROR(VLOOKUP(D10900,Справка!$G$2:$H$579,2,0),\"\")","v":""}]
[null,null,null,null,{"$f":"IFERROR(VLOOKUP(D10901,Справка!$G$2:$H$579,2,0),\"\")","v":""}]
[null,null,null,null,{"$f":"IFERROR(VLOOKUP(D10902,Справка!$G$2:$H$579,2,0),\"\")","v":""}]
[null,null,null,null,{"$f":"IFERROR(VLOOKUP(D10903,Справка!$G$2:$H$579,2,0),\"\")","v":""}]
[null,null,null,null,{"$f":"IFERROR(VLOOKUP(D10904,Справка!$G$2:$H$579,2,0),\"\")","v":""}]
[null,null,null,null,{"$f":"IFERROR(VLOOKUP(D10905,Справка!$G$2:$H$579,2,0),\"\")","v":""}]
[null,null,null,null,{"$f":"IFERROR(VLOOKUP(D10906,Справка!$G$2:$H$579,2,0),\"\")","v":""}]
[null,null,null,null,{"$f":"IFERROR(VLOOKUP(D10907,Справка!$G$2:$H$579,2,0),\"\")","v":""}]
[null,null,null,null,{"$f":"IFERROR(VLOOKUP(D10908,Справка!$G$2:$H$579,2,0),\"\")","v":""}]
[null,null,null,null,{"$f":"IFERROR(VLOOKUP(D10909,Справка!$G$2:$H$579,2,0),\"\")","v":""}]
[null,null,null,null,{"$f":"IFERROR(VLOOKUP(D10910,Справка!$G$2:$H$579,2,0),\"\")","v":""}]
[null,null,null,null,{"$f":"IFERROR(VLOOKUP(D10911,Справка!$G$2:$H$579,2,0),\"\")","v":""}]
[null,null,null,null,{"$f":"IFERROR(VLOOKUP(D10912,Справка!$G$2:$H$579,2,0),\"\")","v":""}]
[null,null,null,null,{"$f":"IFERROR(VLOOKUP(D10913,Справка!$G$2:$H$579,2,0),\"\")","v":""}]
[null,null,null,null,{"$f":"IFERROR(VLOOKUP(D10914,Справка!$G$2:$H$579,2,0),\"\")","v":""}]
[null,null,null,null,{"$f":"IFERROR(VLOOKUP(D10915,Справка!$G$2:$H$579,2,0),\"\")","v":""}]
[null,null,null,null,{"$f":"IFERROR(VLOOKUP(D10916,Справка!$G$2:$H$579,2,0),\"\")","v":""}]
[null,null,null,null,{"$f":"IFERROR(VLOOKUP(D10917,Справка!$G$2:$H$579,2,0),\"\")","v":""}]
[null,null,null,null,{"$f":"IFERROR(VLOOKUP(D10918,Справка!$G$2:$H$579,2,0),\"\")","v":""}]
[null,null,null,null,{"$f":"IFERROR(VLOOKUP(D10919,Справка!$G$2:$H$579,2,0),\"\")","v":""}]
[null,null,null,null,{"$f":"IFERROR(VLOOKUP(D10920,Справка!$G$2:$H$579,2,0),\"\")","v":""}]
[null,null,null,null,{"$f":"IFERROR(VLOOKUP(D10921,Справка!$G$2:$H$579,2,0),\"\")","v":""}]
[null,null,null,null,{"$f":"IFERROR(VLOOKUP(D10922,Справка!$G$2:$H$579,2,0),\"\")","v":""}]
[null,null,null,null,{"$f":"IFERROR(VLOOKUP(D10923,Справка!$G$2:$H$579,2,0),\"\")","v":""}]
[null,null,null,null,{"$f":"IFERROR(VLOOKUP(D10924,Справка!$G$2:$H$579,2,0),\"\")","v":""}]
[null,null,null,null,{"$f":"IFERROR(VLOOKUP(D10925,Справка!$G$2:$H$579,2,0),\"\")","v":""}]
[null,null,null,null,{"$f":"IFERROR(VLOOKUP(D10926,Справка!$G$2:$H$579,2,0),\"\")","v":""}]
[null,null,null,null,{"$f":"IFERROR(VLOOKUP(D10927,Справка!$G$2:$H$579,2,0),\"\")","v":""}]
[null,null,null,null,{"$f":"IFERROR(VLOOKUP(D10928,Справка!$G$2:$H$579,2,0),\"\")","v":""}]
[null,null,null,null,{"$f":"IFERROR(VLOOKUP(D10929,Справка!$G$2:$H$579,2,0),\"\")","v":""}]
[null,null,null,null,{"$f":"IFERROR(VLOOKUP(D10930,Справка!$G$2:$H$579,2,0),\"\")","v":""}]
[null,null,null,null,{"$f":"IFERROR(VLOOKUP(D10931,Справка!$G$2:$H$579,2,0),\"\")","v":""}]
[null,null,null,null,{"$f":"IFERROR(VLOOKUP(D10932,Справка!$G$2:$H$579,2,0),\"\")","v":""}]
[null,null,null,null,{"$f":"IFERROR(VLOOKUP(D10933,Справка!$G$2:$H$579,2,0),\"\")","v":""}]
[null,null,null,null,{"$f":"IFERROR(VLOOKUP(D10934,Справка!$G$2:$H$579,2,0),\"\")","v":""}]
[null,null,null,null,{"$f":"IFERROR(VLOOKUP(D10935,Справка!$G$2:$H$579,2,0),\"\")","v":""}]
[null,null,null,null,{"$f":"IFERROR(VLOOKUP(D10936,Справка!$G$2:$H$579,2,0),\"\")","v":""}]
[null,null,null,null,{"$f":"IFERROR(VLOOKUP(D10937,Справка!$G$2:$H$579,2,0),\"\")","v":""}]
[null,null,null,null,{"$f":"IFERROR(VLOOKUP(D10938,Справка!$G$2:$H$579,2,0),\"\")","v":""}]
[null,null,null,null,{"$f":"IFERROR(VLOOKUP(D10939,Справка!$G$2:$H$579,2,0),\"\")","v":""}]
[null,null,null,null,{"$f":"IFERROR(VLOOKUP(D10940,Справка!$G$2:$H$579,2,0),\"\")","v":""}]
[null,null,null,null,{"$f":"IFERROR(VLOOKUP(D10941,Справка!$G$2:$H$579,2,0),\"\")","v":""}]
[null,null,null,null,{"$f":"IFERROR(VLOOKUP(D10942,Справка!$G$2:$H$579,2,0),\"\")","v":""}]
[null,null,null,null,{"$f":"IFERROR(VLOOKUP(D10943,Справка!$G$2:$H$579,2,0),\"\")","v":""}]
[null,null,null,null,{"$f":"IFERROR(VLOOKUP(D10944,Справка!$G$2:$H$579,2,0),\"\")","v":""}]
[null,null,null,null,{"$f":"IFERROR(VLOOKUP(D10945,Справка!$G$2:$H$579,2,0),\"\")","v":""}]
[null,null,null,null,{"$f":"IFERROR(VLOOKUP(D10946,Справка!$G$2:$H$579,2,0),\"\")","v":""}]
[null,null,null,null,{"$f":"IFERROR(VLOOKUP(D10947,Справка!$G$2:$H$579,2,0),\"\")","v":""}]
[null,null,null,null,{"$f":"IFERROR(VLOOKUP(D10948,Справка!$G$2:$H$579,2,0),\"\")","v":""}]
[null,null,null,null,{"$f":"IFERROR(VLOOKUP(D10949,Справка!$G$2:$H$579,2,0),\"\")","v":""}]
[null,null,null,null,{"$f":"IFERROR(VLOOKUP(D10950,Справка!$G$2:$H$579,2,0),\"\")","v":""}]
[null,null,null,null,{"$f":"IFERROR(VLOOKUP(D10951,Справка!$G$2:$H$579,2,0),\"\")","v":""}]
[null,null,null,null,{"$f":"IFERROR(VLOOKUP(D10952,Справка!$G$2:$H$579,2,0),\"\")","v":""}]
[null,null,null,null,{"$f":"IFERROR(VLOOKUP(D10953,Справка!$G$2:$H$579,2,0),\"\")","v":""}]
[null,null,null,null,{"$f":"IFERROR(VLOOKUP(D10954,Справка!$G$2:$H$579,2,0),\"\")","v":""}]
[null,null,null,null,{"$f":"IFERROR(VLOOKUP(D10955,Справка!$G$2:$H$579,2,0),\"\")","v":""}]
[null,null,null,null,{"$f":"IFERROR(VLOOKUP(D10956,Справка!$G$2:$H$579,2,0),\"\")","v":""}]
[null,null,null,null,{"$f":"IFERROR(VLOOKUP(D10957,Справка!$G$2:$H$579,2,0),\"\")","v":""}]
[null,null,null,null,{"$f":"IFERROR(VLOOKUP(D10958,Справка!$G$2:$H$579,2,0),\"\")","v":""}]
[null,null,null,null,{"$f":"IFERROR(VLOOKUP(D10959,Справка!$G$2:$H$579,2,0),\"\")","v":""}]
[null,null,null,null,{"$f":"IFERROR(VLOOKUP(D10960,Справка!$G$2:$H$579,2,0),\"\")","v":""}]
[null,null,null,null,{"$f":"IFERROR(VLOOKUP(D10961,Справка!$G$2:$H$579,2,0),\"\")","v":""}]
[null,null,null,null,{"$f":"IFERROR(VLOOKUP(D10962,Справка!$G$2:$H$579,2,0),\"\")","v":""}]
[null,null,null,null,{"$f":"IFERROR(VLOOKUP(D10963,Справка!$G$2:$H$579,2,0),\"\")","v":""}]
[null,null,null,null,{"$f":"IFERROR(VLOOKUP(D10964,Справка!$G$2:$H$579,2,0),\"\")","v":""}]
[null,null,null,null,{"$f":"IFERROR(VLOOKUP(D10965,Справка!$G$2:$H$579,2,0),\"\")","v":""}]
[null,null,null,null,{"$f":"IFERROR(VLOOKUP(D10966,Справка!$G$2:$H$579,2,0),\"\")","v":""}]
[null,null,null,null,{"$f":"IFERROR(VLOOKUP(D10967,Справка!$G$2:$H$579,2,0),\"\")","v":""}]
[null,null,null,null,{"$f":"IFERROR(VLOOKUP(D10968,Справка!$G$2:$H$579,2,0),\"\")","v":""}]
[null,null,null,null,{"$f":"IFERROR(VLOOKUP(D10969,Справка!$G$2:$H$579,2,0),\"\")","v":""}]
[null,null,null,null,{"$f":"IFERROR(VLOOKUP(D10970,Справка!$G$2:$H$579,2,0),\"\")","v":""}]
[null,null,null,null,{"$f":"IFERROR(VLOOKUP(D10971,Справка!$G$2:$H$579,2,0),\"\")","v":""}]
[null,null,null,null,{"$f":"IFERROR(VLOOKUP(D10972,Справка!$G$2:$H$579,2,0),\"\")","v":""}]
[null,null,null,null,{"$f":"IFERROR(VLOOKUP(D10973,Справка!$G$2:$H$579,2,0),\"\")","v":""}]
[null,null,null,null,{"$f":"IFERROR(VLOOKUP(D10974,Справка!$G$2:$H$579,2,0),\"\")","v":""}]
[null,null,null,null,{"$f":"IFERROR(VLOOKUP(D10975,Справка!$G$2:$H$579,2,0),\"\")","v":""}]
[null,null,null,null,{"$f":"IFERROR(VLOOKUP(D10976,Справка!$G$2:$H$579,2,0),\"\")","v":""}]
[null,null,null,null,{"$f":"IFERROR(VLOOKUP(D10977,Справка!$G$2:$H$579,2,0),\"\")","v":""}]
[null,null,null,null,{"$f":"IFERROR(VLOOKUP(D10978,Справка!$G$2:$H$579,2,0),\"\")","v":""}]
[null,null,null,null,{"$f":"IFERROR(VLOOKUP(D10979,Справка!$G$2:$H$579,2,0),\"\")","v":""}]
[null,null,null,null,{"$f":"IFERROR(VLOOKUP(D10980,Справка!$G$2:$H$579,2,0),\"\")","v":""}]
[null,null,null,null,{"$f":"IFERROR(VLOOKUP(D10981,Справка!$G$2:$H$579,2,0),\"\")","v":""}]
[null,null,null,null,{"$f":"IFERROR(VLOOKUP(D10982,Справка!$G$2:$H$579,2,0),\"\")","v":""}]
[null,null,null,null,{"$f":"IFERROR(VLOOKUP(D10983,Справка!$G$2:$H$579,2,0),\"\")","v":""}]
[null,null,null,null,{"$f":"IFERROR(VLOOKUP(D10984,Справка!$G$2:$H$579,2,0),\"\")","v":""}]
[null,null,null,null,{"$f":"IFERROR(VLOOKUP(D10985,Справка!$G$2:$H$579,2,0),\"\")","v":""}]
[null,null,null,null,{"$f":"IFERROR(VLOOKUP(D10986,Справка!$G$2:$H$579,2,0),\"\")","v":""}]
[null,null,null,null,{"$f":"IFERROR(VLOOKUP(D10987,Справка!$G$2:$H$579,2,0),\"\")","v":""}]
[null,null,null,null,{"$f":"IFERROR(VLOOKUP(D10988,Справка!$G$2:$H$579,2,0),\"\")","v":""}]
[null,null,null,null,{"$f":"IFERROR(VLOOKUP(D10989,Справка!$G$2:$H$579,2,0),\"\")","v":""}]
[null,null,null,null,{"$f":"IFERROR(VLOOKUP(D10990,Справка!$G$2:$H$579,2,0),\"\")","v":""}]
[null,null,null,null,{"$f":"IFERROR(VLOOKUP(D10991,Справка!$G$2:$H$579,2,0),\"\")","v":""}]
[null,null,null,null,{"$f":"IFERROR(VLOOKUP(D10992,Справка!$G$2:$H$579,2,0),\"\")","v":""}]
[null,null,null,null,{"$f":"IFERROR(VLOOKUP(D10993,Справка!$G$2:$H$579,2,0),\"\")","v":""}]
[null,null,null,null,{"$f":"IFERROR(VLOOKUP(D10994,Справка!$G$2:$H$579,2,0),\"\")","v":""}]
[null,null,null,null,{"$f":"IFERROR(VLOOKUP(D10995,Справка!$G$2:$H$579,2,0),\"\")","v":""}]
[null,null,null,null,{"$f":"IFERROR(VLOOKUP(D10996,Справка!$G$2:$H$579,2,0),\"\")","v":""}]
[null,null,null,null,{"$f":"IFERROR(VLOOKUP(D10997,Справка!$G$2:$H$579,2,0),\"\")","v":""}]
[null,null,null,null,{"$f":"IFERROR(VLOOKUP(D10998,Справка!$G$2:$H$579,2,0),\"\")","v":""}]
[null,null,null,null,{"$f":"IFERROR(VLOOKUP(D10999,Справка!$G$2:$H$579,2,0),\"\")","v":""}]
[null,null,null,null,{"$f":"IFERROR(VLOOKUP(D11000,Справка!$G$2:$H$579,2,0),\"\")","v":""}]
[null,null,null,null,{"$f":"IFERROR(VLOOKUP(D11001,Справка!$G$2:$H$579,2,0),\"\")","v":""}]
[null,null,null,null,{"$f":"IFERROR(VLOOKUP(D11002,Справка!$G$2:$H$579,2,0),\"\")","v":""}]
[null,null,null,null,{"$f":"IFERROR(VLOOKUP(D11003,Справка!$G$2:$H$579,2,0),\"\")","v":""}]
[null,null,null,null,{"$f":"IFERROR(VLOOKUP(D11004,Справка!$G$2:$H$579,2,0),\"\")","v":""}]
[null,null,null,null,{"$f":"IFERROR(VLOOKUP(D11005,Справка!$G$2:$H$579,2,0),\"\")","v":""}]
[null,null,null,null,{"$f":"IFERROR(VLOOKUP(D11006,Справка!$G$2:$H$579,2,0),\"\")","v":""}]
[null,null,null,null,{"$f":"IFERROR(VLOOKUP(D11007,Справка!$G$2:$H$579,2,0),\"\")","v":""}]
[null,null,null,null,{"$f":"IFERROR(VLOOKUP(D11008,Справка!$G$2:$H$579,2,0),\"\")","v":""}]
[null,null,null,null,{"$f":"IFERROR(VLOOKUP(D11009,Справка!$G$2:$H$579,2,0),\"\")","v":""}]
[null,null,null,null,{"$f":"IFERROR(VLOOKUP(D11010,Справка!$G$2:$H$579,2,0),\"\")","v":""}]
[null,null,null,null,{"$f":"IFERROR(VLOOKUP(D11011,Справка!$G$2:$H$579,2,0),\"\")","v":""}]
[null,null,null,null,{"$f":"IFERROR(VLOOKUP(D11012,Справка!$G$2:$H$579,2,0),\"\")","v":""}]
[null,null,null,null,{"$f":"IFERROR(VLOOKUP(D11013,Справка!$G$2:$H$579,2,0),\"\")","v":""}]
[null,null,null,null,{"$f":"IFERROR(VLOOKUP(D11014,Справка!$G$2:$H$579,2,0),\"\")","v":""}]
[null,null,null,null,{"$f":"IFERROR(VLOOKUP(D11015,Справка!$G$2:$H$579,2,0),\"\")","v":""}]
[null,null,null,null,{"$f":"IFERROR(VLOOKUP(D11016,Справка!$G$2:$H$579,2,0),\"\")","v":""}]
[null,null,null,null,{"$f":"IFERROR(VLOOKUP(D11017,Справка!$G$2:$H$579,2,0),\"\")","v":""}]
[null,null,null,null,{"$f":"IFERROR(VLOOKUP(D11018,Справка!$G$2:$H$579,2,0),\"\")","v":""}]
[null,null,null,null,{"$f":"IFERROR(VLOOKUP(D11019,Справка!$G$2:$H$579,2,0),\"\")","v":""}]
[null,null,null,null,{"$f":"IFERROR(VLOOKUP(D11020,Справка!$G$2:$H$579,2,0),\"\")","v":""}]
[null,null,null,null,{"$f":"IFERROR(VLOOKUP(D11021,Справка!$G$2:$H$579,2,0),\"\")","v":""}]
[null,null,null,null,{"$f":"IFERROR(VLOOKUP(D11022,Справка!$G$2:$H$579,2,0),\"\")","v":""}]
[null,null,null,null,{"$f":"IFERROR(VLOOKUP(D11023,Справка!$G$2:$H$579,2,0),\"\")","v":""}]
[null,null,null,null,{"$f":"IFERROR(VLOOKUP(D11024,Справка!$G$2:$H$579,2,0),\"\")","v":""}]
[null,null,null,null,{"$f":"IFERROR(VLOOKUP(D11025,Справка!$G$2:$H$579,2,0),\"\")","v":""}]
[null,null,null,null,{"$f":"IFERROR(VLOOKUP(D11026,Справка!$G$2:$H$579,2,0),\"\")","v":""}]
[null,null,null,null,{"$f":"IFERROR(VLOOKUP(D11027,Справка!$G$2:$H$579,2,0),\"\")","v":""}]
[null,null,null,null,{"$f":"IFERROR(VLOOKUP(D11028,Справка!$G$2:$H$579,2,0),\"\")","v":""}]
[null,null,null,null,{"$f":"IFERROR(VLOOKUP(D11029,Справка!$G$2:$H$579,2,0),\"\")","v":""}]
[null,null,null,null,{"$f":"IFERROR(VLOOKUP(D11030,Справка!$G$2:$H$579,2,0),\"\")","v":""}]
[null,null,null,null,{"$f":"IFERROR(VLOOKUP(D11031,Справка!$G$2:$H$579,2,0),\"\")","v":""}]
[null,null,null,null,{"$f":"IFERROR(VLOOKUP(D11032,Справка!$G$2:$H$579,2,0),\"\")","v":""}]
[null,null,null,null,{"$f":"IFERROR(VLOOKUP(D11033,Справка!$G$2:$H$579,2,0),\"\")","v":""}]
[null,null,null,null,{"$f":"IFERROR(VLOOKUP(D11034,Справка!$G$2:$H$579,2,0),\"\")","v":""}]
[null,null,null,null,{"$f":"IFERROR(VLOOKUP(D11035,Справка!$G$2:$H$579,2,0),\"\")","v":""}]
[null,null,null,null,{"$f":"IFERROR(VLOOKUP(D11036,Справка!$G$2:$H$579,2,0),\"\")","v":""}]
[null,null,null,null,{"$f":"IFERROR(VLOOKUP(D11037,Справка!$G$2:$H$579,2,0),\"\")","v":""}]
[null,null,null,null,{"$f":"IFERROR(VLOOKUP(D11038,Справка!$G$2:$H$579,2,0),\"\")","v":""}]
[null,null,null,null,{"$f":"IFERROR(VLOOKUP(D11039,Справка!$G$2:$H$579,2,0),\"\")","v":""}]
[null,null,null,null,{"$f":"IFERROR(VLOOKUP(D11040,Справка!$G$2:$H$579,2,0),\"\")","v":""}]
[null,null,null,null,{"$f":"IFERROR(VLOOKUP(D11041,Справка!$G$2:$H$579,2,0),\"\")","v":""}]
[null,null,null,null,{"$f":"IFERROR(VLOOKUP(D11042,Справка!$G$2:$H$579,2,0),\"\")","v":""}]
[null,null,null,null,{"$f":"IFERROR(VLOOKUP(D11043,Справка!$G$2:$H$579,2,0),\"\")","v":""}]
[null,null,null,null,{"$f":"IFERROR(VLOOKUP(D11044,Справка!$G$2:$H$579,2,0),\"\")","v":""}]
[null,null,null,null,{"$f":"IFERROR(VLOOKUP(D11045,Справка!$G$2:$H$579,2,0),\"\")","v":""}]
[null,null,null,null,{"$f":"IFERROR(VLOOKUP(D11046,Справка!$G$2:$H$579,2,0),\"\")","v":""}]
[null,null,null,null,{"$f":"IFERROR(VLOOKUP(D11047,Справка!$G$2:$H$579,2,0),\"\")","v":""}]
[null,null,null,null,{"$f":"IFERROR(VLOOKUP(D11048,Справка!$G$2:$H$579,2,0),\"\")","v":""}]
[null,null,null,null,{"$f":"IFERROR(VLOOKUP(D11049,Справка!$G$2:$H$579,2,0),\"\")","v":""}]
[null,null,null,null,{"$f":"IFERROR(VLOOKUP(D11050,Справка!$G$2:$H$579,2,0),\"\")","v":""}]
[null,null,null,null,{"$f":"IFERROR(VLOOKUP(D11051,Справка!$G$2:$H$579,2,0),\"\")","v":""}]
[null,null,null,null,{"$f":"IFERROR(VLOOKUP(D11052,Справка!$G$2:$H$579,2,0),\"\")","v":""}]
[null,null,null,null,{"$f":"IFERROR(VLOOKUP(D11053,Справка!$G$2:$H$579,2,0),\"\")","v":""}]
[null,null,null,null,{"$f":"IFERROR(VLOOKUP(D11054,Справка!$G$2:$H$579,2,0),\"\")","v":""}]
[null,null,null,null,{"$f":"IFERROR(VLOOKUP(D11055,Справка!$G$2:$H$579,2,0),\"\")","v":""}]
[null,null,null,null,{"$f":"IFERROR(VLOOKUP(D11056,Справка!$G$2:$H$579,2,0),\"\")","v":""}]
[null,null,null,null,{"$f":"IFERROR(VLOOKUP(D11057,Справка!$G$2:$H$579,2,0),\"\")","v":""}]
[null,null,null,null,{"$f":"IFERROR(VLOOKUP(D11058,Справка!$G$2:$H$579,2,0),\"\")","v":""}]
[null,null,null,null,{"$f":"IFERROR(VLOOKUP(D11059,Справка!$G$2:$H$579,2,0),\"\")","v":""}]
[null,null,null,null,{"$f":"IFERROR(VLOOKUP(D11060,Справка!$G$2:$H$579,2,0),\"\")","v":""}]
[null,null,null,null,{"$f":"IFERROR(VLOOKUP(D11061,Справка!$G$2:$H$579,2,0),\"\")","v":""}]
[null,null,null,null,{"$f":"IFERROR(VLOOKUP(D11062,Справка!$G$2:$H$579,2,0),\"\")","v":""}]
[null,null,null,null,{"$f":"IFERROR(VLOOKUP(D11063,Справка!$G$2:$H$579,2,0),\"\")","v":""}]
[null,null,null,null,{"$f":"IFERROR(VLOOKUP(D11064,Справка!$G$2:$H$579,2,0),\"\")","v":""}]
[null,null,null,null,{"$f":"IFERROR(VLOOKUP(D11065,Справка!$G$2:$H$579,2,0),\"\")","v":""}]
[null,null,null,null,{"$f":"IFERROR(VLOOKUP(D11066,Справка!$G$2:$H$579,2,0),\"\")","v":""}]
[null,null,null,null,{"$f":"IFERROR(VLOOKUP(D11067,Справка!$G$2:$H$579,2,0),\"\")","v":""}]
[null,null,null,null,{"$f":"IFERROR(VLOOKUP(D11068,Справка!$G$2:$H$579,2,0),\"\")","v":""}]
[null,null,null,null,{"$f":"IFERROR(VLOOKUP(D11069,Справка!$G$2:$H$579,2,0),\"\")","v":""}]
[null,null,null,null,{"$f":"IFERROR(VLOOKUP(D11070,Справка!$G$2:$H$579,2,0),\"\")","v":""}]
[null,null,null,null,{"$f":"IFERROR(VLOOKUP(D11071,Справка!$G$2:$H$579,2,0),\"\")","v":""}]
[null,null,null,null,{"$f":"IFERROR(VLOOKUP(D11072,Справка!$G$2:$H$579,2,0),\"\")","v":""}]
[null,null,null,null,{"$f":"IFERROR(VLOOKUP(D11073,Справка!$G$2:$H$579,2,0),\"\")","v":""}]
[null,null,null,null,{"$f":"IFERROR(VLOOKUP(D11074,Справка!$G$2:$H$579,2,0),\"\")","v":""}]
[null,null,null,null,{"$f":"IFERROR(VLOOKUP(D11075,Справка!$G$2:$H$579,2,0),\"\")","v":""}]
[null,null,null,null,{"$f":"IFERROR(VLOOKUP(D11076,Справка!$G$2:$H$579,2,0),\"\")","v":""}]
[null,null,null,null,{"$f":"IFERROR(VLOOKUP(D11077,Справка!$G$2:$H$579,2,0),\"\")","v":""}]
[null,null,null,null,{"$f":"IFERROR(VLOOKUP(D11078,Справка!$G$2:$H$579,2,0),\"\")","v":""}]
[null,null,null,null,{"$f":"IFERROR(VLOOKUP(D11079,Справка!$G$2:$H$579,2,0),\"\")","v":""}]
[null,null,null,null,{"$f":"IFERROR(VLOOKUP(D11080,Справка!$G$2:$H$579,2,0),\"\")","v":""}]
[null,null,null,null,{"$f":"IFERROR(VLOOKUP(D11081,Справка!$G$2:$H$579,2,0),\"\")","v":""}]
[null,null,null,null,{"$f":"IFERROR(VLOOKUP(D11082,Справка!$G$2:$H$579,2,0),\"\")","v":""}]
[null,null,null,null,{"$f":"IFERROR(VLOOKUP(D11083,Справка!$G$2:$H$579,2,0),\"\")","v":""}]
[null,null,null,null,{"$f":"IFERROR(VLOOKUP(D11084,Справка!$G$2:$H$579,2,0),\"\")","v":""}]
[null,null,null,null,{"$f":"IFERROR(VLOOKUP(D11085,Справка!$G$2:$H$579,2,0),\"\")","v":""}]
[null,null,null,null,{"$f":"IFERROR(VLOOKUP(D11086,Справка!$G$2:$H$579,2,0),\"\")","v":""}]
[null,null,null,null,{"$f":"IFERROR(VLOOKUP(D11087,Справка!$G$2:$H$579,2,0),\"\")","v":""}]
[null,null,null,null,{"$f":"IFERROR(VLOOKUP(D11088,Справка!$G$2:$H$579,2,0),\"\")","v":""}]
[null,null,null,null,{"$f":"IFERROR(VLOOKUP(D11089,Справка!$G$2:$H$579,2,0),\"\")","v":""}]
[null,null,null,null,{"$f":"IFERROR(VLOOKUP(D11090,Справка!$G$2:$H$579,2,0),\"\")","v":""}]
[null,null,null,null,{"$f":"IFERROR(VLOOKUP(D11091,Справка!$G$2:$H$579,2,0),\"\")","v":""}]
[null,null,null,null,{"$f":"IFERROR(VLOOKUP(D11092,Справка!$G$2:$H$579,2,0),\"\")","v":""}]
[null,null,null,null,{"$f":"IFERROR(VLOOKUP(D11093,Справка!$G$2:$H$579,2,0),\"\")","v":""}]
[null,null,null,null,{"$f":"IFERROR(VLOOKUP(D11094,Справка!$G$2:$H$579,2,0),\"\")","v":""}]
[null,null,null,null,{"$f":"IFERROR(VLOOKUP(D11095,Справка!$G$2:$H$579,2,0),\"\")","v":""}]
[null,null,null,null,{"$f":"IFERROR(VLOOKUP(D11096,Справка!$G$2:$H$579,2,0),\"\")","v":""}]
[null,null,null,null,{"$f":"IFERROR(VLOOKUP(D11097,Справка!$G$2:$H$579,2,0),\"\")","v":""}]
[null,null,null,null,{"$f":"IFERROR(VLOOKUP(D11098,Справка!$G$2:$H$579,2,0),\"\")","v":""}]
[null,null,null,null,{"$f":"IFERROR(VLOOKUP(D11099,Справка!$G$2:$H$579,2,0),\"\")","v":""}]
[null,null,null,null,{"$f":"IFERROR(VLOOKUP(D11100,Справка!$G$2:$H$579,2,0),\"\")","v":""}]
[null,null,null,null,{"$f":"IFERROR(VLOOKUP(D11101,Справка!$G$2:$H$579,2,0),\"\")","v":""}]
[null,null,null,null,{"$f":"IFERROR(VLOOKUP(D11102,Справка!$G$2:$H$579,2,0),\"\")","v":""}]
[null,null,null,null,{"$f":"IFERROR(VLOOKUP(D11103,Справка!$G$2:$H$579,2,0),\"\")","v":""}]
[null,null,null,null,{"$f":"IFERROR(VLOOKUP(D11104,Справка!$G$2:$H$579,2,0),\"\")","v":""}]
[null,null,null,null,{"$f":"IFERROR(VLOOKUP(D11105,Справка!$G$2:$H$579,2,0),\"\")","v":""}]
[null,null,null,null,{"$f":"IFERROR(VLOOKUP(D11106,Справка!$G$2:$H$579,2,0),\"\")","v":""}]
[null,null,null,null,{"$f":"IFERROR(VLOOKUP(D11107,Справка!$G$2:$H$579,2,0),\"\")","v":""}]
[null,null,null,null,{"$f":"IFERROR(VLOOKUP(D11108,Справка!$G$2:$H$579,2,0),\"\")","v":""}]
[null,null,null,null,{"$f":"IFERROR(VLOOKUP(D11109,Справка!$G$2:$H$579,2,0),\"\")","v":""}]
[null,null,null,null,{"$f":"IFERROR(VLOOKUP(D11110,Справка!$G$2:$H$579,2,0),\"\")","v":""}]
[null,null,null,null,{"$f":"IFERROR(VLOOKUP(D11111,Справка!$G$2:$H$579,2,0),\"\")","v":""}]
[null,null,null,null,{"$f":"IFERROR(VLOOKUP(D11112,Справка!$G$2:$H$579,2,0),\"\")","v":""}]
[null,null,null,null,{"$f":"IFERROR(VLOOKUP(D11113,Справка!$G$2:$H$579,2,0),\"\")","v":""}]
[null,null,null,null,{"$f":"IFERROR(VLOOKUP(D11114,Справка!$G$2:$H$579,2,0),\"\")","v":""}]
[null,null,null,null,{"$f":"IFERROR(VLOOKUP(D11115,Справка!$G$2:$H$579,2,0),\"\")","v":""}]
[null,null,null,null,{"$f":"IFERROR(VLOOKUP(D11116,Справка!$G$2:$H$579,2,0),\"\")","v":""}]
[null,null,null,null,{"$f":"IFERROR(VLOOKUP(D11117,Справка!$G$2:$H$579,2,0),\"\")","v":""}]
[null,null,null,null,{"$f":"IFERROR(VLOOKUP(D11118,Справка!$G$2:$H$579,2,0),\"\")","v":""}]
[null,null,null,null,{"$f":"IFERROR(VLOOKUP(D11119,Справка!$G$2:$H$579,2,0),\"\")","v":""}]
[null,null,null,null,{"$f":"IFERROR(VLOOKUP(D11120,Справка!$G$2:$H$579,2,0),\"\")","v":""}]
[null,null,null,null,{"$f":"IFERROR(VLOOKUP(D11121,Справка!$G$2:$H$579,2,0),\"\")","v":""}]
[null,null,null,null,{"$f":"IFERROR(VLOOKUP(D11122,Справка!$G$2:$H$579,2,0),\"\")","v":""}]
[null,null,null,null,{"$f":"IFERROR(VLOOKUP(D11123,Справка!$G$2:$H$579,2,0),\"\")","v":""}]
[null,null,null,null,{"$f":"IFERROR(VLOOKUP(D11124,Справка!$G$2:$H$579,2,0),\"\")","v":""}]
[null,null,null,null,{"$f":"IFERROR(VLOOKUP(D11125,Справка!$G$2:$H$579,2,0),\"\")","v":""}]
[null,null,null,null,{"$f":"IFERROR(VLOOKUP(D11126,Справка!$G$2:$H$579,2,0),\"\")","v":""}]
[null,null,null,null,{"$f":"IFERROR(VLOOKUP(D11127,Справка!$G$2:$H$579,2,0),\"\")","v":""}]
[null,null,null,null,{"$f":"IFERROR(VLOOKUP(D11128,Справка!$G$2:$H$579,2,0),\"\")","v":""}]
[null,null,null,null,{"$f":"IFERROR(VLOOKUP(D11129,Справка!$G$2:$H$579,2,0),\"\")","v":""}]
[null,null,null,null,{"$f":"IFERROR(VLOOKUP(D11130,Справка!$G$2:$H$579,2,0),\"\")","v":""}]
[null,null,null,null,{"$f":"IFERROR(VLOOKUP(D11131,Справка!$G$2:$H$579,2,0),\"\")","v":""}]
[null,null,null,null,{"$f":"IFERROR(VLOOKUP(D11132,Справка!$G$2:$H$579,2,0),\"\")","v":""}]
[null,null,null,null,{"$f":"IFERROR(VLOOKUP(D11133,Справка!$G$2:$H$579,2,0),\"\")","v":""}]
[null,null,null,null,{"$f":"IFERROR(VLOOKUP(D11134,Справка!$G$2:$H$579,2,0),\"\")","v":""}]
[null,null,null,null,{"$f":"IFERROR(VLOOKUP(D11135,Справка!$G$2:$H$579,2,0),\"\")","v":""}]
[null,null,null,null,{"$f":"IFERROR(VLOOKUP(D11136,Справка!$G$2:$H$579,2,0),\"\")","v":""}]
[null,null,null,null,{"$f":"IFERROR(VLOOKUP(D11137,Справка!$G$2:$H$579,2,0),\"\")","v":""}]
[null,null,null,null,{"$f":"IFERROR(VLOOKUP(D11138,Справка!$G$2:$H$579,2,0),\"\")","v":""}]
[null,null,null,null,{"$f":"IFERROR(VLOOKUP(D11139,Справка!$G$2:$H$579,2,0),\"\")","v":""}]
[null,null,null,null,{"$f":"IFERROR(VLOOKUP(D11140,Справка!$G$2:$H$579,2,0),\"\")","v":""}]
[null,null,null,null,{"$f":"IFERROR(VLOOKUP(D11141,Справка!$G$2:$H$579,2,0),\"\")","v":""}]
[null,null,null,null,{"$f":"IFERROR(VLOOKUP(D11142,Справка!$G$2:$H$579,2,0),\"\")","v":""}]
[null,null,null,null,{"$f":"IFERROR(VLOOKUP(D11143,Справка!$G$2:$H$579,2,0),\"\")","v":""}]
[null,null,null,null,{"$f":"IFERROR(VLOOKUP(D11144,Справка!$G$2:$H$579,2,0),\"\")","v":""}]
[null,null,null,null,{"$f":"IFERROR(VLOOKUP(D11145,Справка!$G$2:$H$579,2,0),\"\")","v":""}]
[null,null,null,null,{"$f":"IFERROR(VLOOKUP(D11146,Справка!$G$2:$H$579,2,0),\"\")","v":""}]
[null,null,null,null,{"$f":"IFERROR(VLOOKUP(D11147,Справка!$G$2:$H$579,2,0),\"\")","v":""}]
[null,null,null,null,{"$f":"IFERROR(VLOOKUP(D11148,Справка!$G$2:$H$579,2,0),\"\")","v":""}]
[null,null,null,null,{"$f":"IFERROR(VLOOKUP(D11149,Справка!$G$2:$H$579,2,0),\"\")","v":""}]
[null,null,null,null,{"$f":"IFERROR(VLOOKUP(D11150,Справка!$G$2:$H$579,2,0),\"\")","v":""}]
[null,null,null,null,{"$f":"IFERROR(VLOOKUP(D11151,Справка!$G$2:$H$579,2,0),\"\")","v":""}]
[null,null,null,null,{"$f":"IFERROR(VLOOKUP(D11152,Справка!$G$2:$H$579,2,0),\"\")","v":""}]
[null,null,null,null,{"$f":"IFERROR(VLOOKUP(D11153,Справка!$G$2:$H$579,2,0),\"\")","v":""}]
[null,null,null,null,{"$f":"IFERROR(VLOOKUP(D11154,Справка!$G$2:$H$579,2,0),\"\")","v":""}]
[null,null,null,null,{"$f":"IFERROR(VLOOKUP(D11155,Справка!$G$2:$H$579,2,0),\"\")","v":""}]
[null,null,null,null,{"$f":"IFERROR(VLOOKUP(D11156,Справка!$G$2:$H$579,2,0),\"\")","v":""}]
[null,null,null,null,{"$f":"IFERROR(VLOOKUP(D11157,Справка!$G$2:$H$579,2,0),\"\")","v":""}]
[null,null,null,null,{"$f":"IFERROR(VLOOKUP(D11158,Справка!$G$2:$H$579,2,0),\"\")","v":""}]
[null,null,null,null,{"$f":"IFERROR(VLOOKUP(D11159,Справка!$G$2:$H$579,2,0),\"\")","v":""}]
[null,null,null,null,{"$f":"IFERROR(VLOOKUP(D11160,Справка!$G$2:$H$579,2,0),\"\")","v":""}]
[null,null,null,null,{"$f":"IFERROR(VLOOKUP(D11161,Справка!$G$2:$H$579,2,0),\"\")","v":""}]
[null,null,null,null,{"$f":"IFERROR(VLOOKUP(D11162,Справка!$G$2:$H$579,2,0),\"\")","v":""}]
[null,null,null,null,{"$f":"IFERROR(VLOOKUP(D11163,Справка!$G$2:$H$579,2,0),\"\")","v":""}]
[null,null,null,null,{"$f":"IFERROR(VLOOKUP(D11164,Справка!$G$2:$H$579,2,0),\"\")","v":""}]
[null,null,null,null,{"$f":"IFERROR(VLOOKUP(D11165,Справка!$G$2:$H$579,2,0),\"\")","v":""}]
[null,null,null,null,{"$f":"IFERROR(VLOOKUP(D11166,Справка!$G$2:$H$579,2,0),\"\")","v":""}]
[null,null,null,null,{"$f":"IFERROR(VLOOKUP(D11167,Справка!$G$2:$H$579,2,0),\"\")","v":""}]
[null,null,null,null,{"$f":"IFERROR(VLOOKUP(D11168,Справка!$G$2:$H$579,2,0),\"\")","v":""}]
[null,null,null,null,{"$f":"IFERROR(VLOOKUP(D11169,Справка!$G$2:$H$579,2,0),\"\")","v":""}]
[null,null,null,null,{"$f":"IFERROR(VLOOKUP(D11170,Справка!$G$2:$H$579,2,0),\"\")","v":""}]
[null,null,null,null,{"$f":"IFERROR(VLOOKUP(D11171,Справка!$G$2:$H$579,2,0),\"\")","v":""}]
[null,null,null,null,{"$f":"IFERROR(VLOOKUP(D11172,Справка!$G$2:$H$579,2,0),\"\")","v":""}]
[null,null,null,null,{"$f":"IFERROR(VLOOKUP(D11173,Справка!$G$2:$H$579,2,0),\"\")","v":""}]
[null,null,null,null,{"$f":"IFERROR(VLOOKUP(D11174,Справка!$G$2:$H$579,2,0),\"\")","v":""}]
[null,null,null,null,{"$f":"IFERROR(VLOOKUP(D11175,Справка!$G$2:$H$579,2,0),\"\")","v":""}]
[null,null,null,null,{"$f":"IFERROR(VLOOKUP(D11176,Справка!$G$2:$H$579,2,0),\"\")","v":""}]
[null,null,null,null,{"$f":"IFERROR(VLOOKUP(D11177,Справка!$G$2:$H$579,2,0),\"\")","v":""}]
[null,null,null,null,{"$f":"IFERROR(VLOOKUP(D11178,Справка!$G$2:$H$579,2,0),\"\")","v":""}]
[null,null,null,null,{"$f":"IFERROR(VLOOKUP(D11179,Справка!$G$2:$H$579,2,0),\"\")","v":""}]
[null,null,null,null,{"$f":"IFERROR(VLOOKUP(D11180,Справка!$G$2:$H$579,2,0),\"\")","v":""}]
[null,null,null,null,{"$f":"IFERROR(VLOOKUP(D11181,Справка!$G$2:$H$579,2,0),\"\")","v":""}]
[null,null,null,null,{"$f":"IFERROR(VLOOKUP(D11182,Справка!$G$2:$H$579,2,0),\"\")","v":""}]
[null,null,null,null,{"$f":"IFERROR(VLOOKUP(D11183,Справка!$G$2:$H$579,2,0),\"\")","v":""}]
[null,null,null,null,{"$f":"IFERROR(VLOOKUP(D11184,Справка!$G$2:$H$579,2,0),\"\")","v":""}]
[null,null,null,null,{"$f":"IFERROR(VLOOKUP(D11185,Справка!$G$2:$H$579,2,0),\"\")","v":""}]
[null,null,null,null,{"$f":"IFERROR(VLOOKUP(D11186,Справка!$G$2:$H$579,2,0),\"\")","v":""}]
[null,null,null,null,{"$f":"IFERROR(VLOOKUP(D11187,Справка!$G$2:$H$579,2,0),\"\")","v":""}]
[null,null,null,null,{"$f":"IFERROR(VLOOKUP(D11188,Справка!$G$2:$H$579,2,0),\"\")","v":""}]
[null,null,null,null,{"$f":"IFERROR(VLOOKUP(D11189,Справка!$G$2:$H$579,2,0),\"\")","v":""}]
[null,null,null,null,{"$f":"IFERROR(VLOOKUP(D11190,Справка!$G$2:$H$579,2,0),\"\")","v":""}]
[null,null,null,null,{"$f":"IFERROR(VLOOKUP(D11191,Справка!$G$2:$H$579,2,0),\"\")","v":""}]
[null,null,null,null,{"$f":"IFERROR(VLOOKUP(D11192,Справка!$G$2:$H$579,2,0),\"\")","v":""}]
[null,null,null,null,{"$f":"IFERROR(VLOOKUP(D11193,Справка!$G$2:$H$579,2,0),\"\")","v":""}]
[null,null,null,null,{"$f":"IFERROR(VLOOKUP(D11194,Справка!$G$2:$H$579,2,0),\"\")","v":""}]
[null,null,null,null,{"$f":"IFERROR(VLOOKUP(D11195,Справка!$G$2:$H$579,2,0),\"\")","v":""}]
[null,null,null,null,{"$f":"IFERROR(VLOOKUP(D11196,Справка!$G$2:$H$579,2,0),\"\")","v":""}]
[null,null,null,null,{"$f":"IFERROR(VLOOKUP(D11197,Справка!$G$2:$H$579,2,0),\"\")","v":""}]
[null,null,null,null,{"$f":"IFERROR(VLOOKUP(D11198,Справка!$G$2:$H$579,2,0),\"\")","v":""}]
[null,null,null,null,{"$f":"IFERROR(VLOOKUP(D11199,Справка!$G$2:$H$579,2,0),\"\")","v":""}]
[null,null,null,null,{"$f":"IFERROR(VLOOKUP(D11200,Справка!$G$2:$H$579,2,0),\"\")","v":""}]
[null,null,null,null,{"$f":"IFERROR(VLOOKUP(D11201,Справка!$G$2:$H$579,2,0),\"\")","v":""}]
[null,null,null,null,{"$f":"IFERROR(VLOOKUP(D11202,Справка!$G$2:$H$579,2,0),\"\")","v":""}]
[null,null,null,null,{"$f":"IFERROR(VLOOKUP(D11203,Справка!$G$2:$H$579,2,0),\"\")","v":""}]
[null,null,null,null,{"$f":"IFERROR(VLOOKUP(D11204,Справка!$G$2:$H$579,2,0),\"\")","v":""}]
[null,null,null,null,{"$f":"IFERROR(VLOOKUP(D11205,Справка!$G$2:$H$579,2,0),\"\")","v":""}]
[null,null,null,null,{"$f":"IFERROR(VLOOKUP(D11206,Справка!$G$2:$H$579,2,0),\"\")","v":""}]
[null,null,null,null,{"$f":"IFERROR(VLOOKUP(D11207,Справка!$G$2:$H$579,2,0),\"\")","v":""}]
[null,null,null,null,{"$f":"IFERROR(VLOOKUP(D11208,Справка!$G$2:$H$579,2,0),\"\")","v":""}]
[null,null,null,null,{"$f":"IFERROR(VLOOKUP(D11209,Справка!$G$2:$H$579,2,0),\"\")","v":""}]
[null,null,null,null,{"$f":"IFERROR(VLOOKUP(D11210,Справка!$G$2:$H$579,2,0),\"\")","v":""}]
[null,null,null,null,{"$f":"IFERROR(VLOOKUP(D11211,Справка!$G$2:$H$579,2,0),\"\")","v":""}]
[null,null,null,null,{"$f":"IFERROR(VLOOKUP(D11212,Справка!$G$2:$H$579,2,0),\"\")","v":""}]
[null,null,null,null,{"$f":"IFERROR(VLOOKUP(D11213,Справка!$G$2:$H$579,2,0),\"\")","v":""}]
[null,null,null,null,{"$f":"IFERROR(VLOOKUP(D11214,Справка!$G$2:$H$579,2,0),\"\")","v":""}]
[null,null,null,null,{"$f":"IFERROR(VLOOKUP(D11215,Справка!$G$2:$H$579,2,0),\"\")","v":""}]
[null,null,null,null,{"$f":"IFERROR(VLOOKUP(D11216,Справка!$G$2:$H$579,2,0),\"\")","v":""}]
[null,null,null,null,{"$f":"IFERROR(VLOOKUP(D11217,Справка!$G$2:$H$579,2,0),\"\")","v":""}]
[null,null,null,null,{"$f":"IFERROR(VLOOKUP(D11218,Справка!$G$2:$H$579,2,0),\"\")","v":""}]
[null,null,null,null,{"$f":"IFERROR(VLOOKUP(D11219,Справка!$G$2:$H$579,2,0),\"\")","v":""}]
[null,null,null,null,{"$f":"IFERROR(VLOOKUP(D11220,Справка!$G$2:$H$579,2,0),\"\")","v":""}]
[null,null,null,null,{"$f":"IFERROR(VLOOKUP(D11221,Справка!$G$2:$H$579,2,0),\"\")","v":""}]
[null,null,null,null,{"$f":"IFERROR(VLOOKUP(D11222,Справка!$G$2:$H$579,2,0),\"\")","v":""}]
[null,null,null,null,{"$f":"IFERROR(VLOOKUP(D11223,Справка!$G$2:$H$579,2,0),\"\")","v":""}]
[null,null,null,null,{"$f":"IFERROR(VLOOKUP(D11224,Справка!$G$2:$H$579,2,0),\"\")","v":""}]
[null,null,null,null,{"$f":"IFERROR(VLOOKUP(D11225,Справка!$G$2:$H$579,2,0),\"\")","v":""}]
[null,null,null,null,{"$f":"IFERROR(VLOOKUP(D11226,Справка!$G$2:$H$579,2,0),\"\")","v":""}]
[null,null,null,null,{"$f":"IFERROR(VLOOKUP(D11227,Справка!$G$2:$H$579,2,0),\"\")","v":""}]
[null,null,null,null,{"$f":"IFERROR(VLOOKUP(D11228,Справка!$G$2:$H$579,2,0),\"\")","v":""}]
[null,null,null,null,{"$f":"IFERROR(VLOOKUP(D11229,Справка!$G$2:$H$579,2,0),\"\")","v":""}]
[null,null,null,null,{"$f":"IFERROR(VLOOKUP(D11230,Справка!$G$2:$H$579,2,0),\"\")","v":""}]
[null,null,null,null,{"$f":"IFERROR(VLOOKUP(D11231,Справка!$G$2:$H$579,2,0),\"\")","v":""}]
[null,null,null,null,{"$f":"IFERROR(VLOOKUP(D11232,Справка!$G$2:$H$579,2,0),\"\")","v":""}]
[null,null,null,null,{"$f":"IFERROR(VLOOKUP(D11233,Справка!$G$2:$H$579,2,0),\"\")","v":""}]
[null,null,null,null,{"$f":"IFERROR(VLOOKUP(D11234,Справка!$G$2:$H$579,2,0),\"\")","v":""}]
[null,null,null,null,{"$f":"IFERROR(VLOOKUP(D11235,Справка!$G$2:$H$579,2,0),\"\")","v":""}]
[null,null,null,null,{"$f":"IFERROR(VLOOKUP(D11236,Справка!$G$2:$H$579,2,0),\"\")","v":""}]
[null,null,null,null,{"$f":"IFERROR(VLOOKUP(D11237,Справка!$G$2:$H$579,2,0),\"\")","v":""}]
[null,null,null,null,{"$f":"IFERROR(VLOOKUP(D11238,Справка!$G$2:$H$579,2,0),\"\")","v":""}]
[null,null,null,null,{"$f":"IFERROR(VLOOKUP(D11239,Справка!$G$2:$H$579,2,0),\"\")","v":""}]
[null,null,null,null,{"$f":"IFERROR(VLOOKUP(D11240,Справка!$G$2:$H$579,2,0),\"\")","v":""}]
[null,null,null,null,{"$f":"IFERROR(VLOOKUP(D11241,Справка!$G$2:$H$579,2,0),\"\")","v":""}]
[null,null,null,null,{"$f":"IFERROR(VLOOKUP(D11242,Справка!$G$2:$H$579,2,0),\"\")","v":""}]
[null,null,null,null,{"$f":"IFERROR(VLOOKUP(D11243,Справка!$G$2:$H$579,2,0),\"\")","v":""}]
[null,null,null,null,{"$f":"IFERROR(VLOOKUP(D11244,Справка!$G$2:$H$579,2,0),\"\")","v":""}]
[null,null,null,null,{"$f":"IFERROR(VLOOKUP(D11245,Справка!$G$2:$H$579,2,0),\"\")","v":""}]
[null,null,null,null,{"$f":"IFERROR(VLOOKUP(D11246,Справка!$G$2:$H$579,2,0),\"\")","v":""}]
[null,null,null,null,{"$f":"IFERROR(VLOOKUP(D11247,Справка!$G$2:$H$579,2,0),\"\")","v":""}]
[null,null,null,null,{"$f":"IFERROR(VLOOKUP(D11248,Справка!$G$2:$H$579,2,0),\"\")","v":""}]
[null,null,null,null,{"$f":"IFERROR(VLOOKUP(D11249,Справка!$G$2:$H$579,2,0),\"\")","v":""}]
[null,null,null,null,{"$f":"IFERROR(VLOOKUP(D11250,Справка!$G$2:$H$579,2,0),\"\")","v":""}]
[null,null,null,null,{"$f":"IFERROR(VLOOKUP(D11251,Справка!$G$2:$H$579,2,0),\"\")","v":""}]
[null,null,null,null,{"$f":"IFERROR(VLOOKUP(D11252,Справка!$G$2:$H$579,2,0),\"\")","v":""}]
[null,null,null,null,{"$f":"IFERROR(VLOOKUP(D11253,Справка!$G$2:$H$579,2,0),\"\")","v":""}]
[null,null,null,null,{"$f":"IFERROR(VLOOKUP(D11254,Справка!$G$2:$H$579,2,0),\"\")","v":""}]
[null,null,null,null,{"$f":"IFERROR(VLOOKUP(D11255,Справка!$G$2:$H$579,2,0),\"\")","v":""}]
[null,null,null,null,{"$f":"IFERROR(VLOOKUP(D11256,Справка!$G$2:$H$579,2,0),\"\")","v":""}]
[null,null,null,null,{"$f":"IFERROR(VLOOKUP(D11257,Справка!$G$2:$H$579,2,0),\"\")","v":""}]
[null,null,null,null,{"$f":"IFERROR(VLOOKUP(D11258,Справка!$G$2:$H$579,2,0),\"\")","v":""}]
[null,null,null,null,{"$f":"IFERROR(VLOOKUP(D11259,Справка!$G$2:$H$579,2,0),\"\")","v":""}]
[null,null,null,null,{"$f":"IFERROR(VLOOKUP(D11260,Справка!$G$2:$H$579,2,0),\"\")","v":""}]
[null,null,null,null,{"$f":"IFERROR(VLOOKUP(D11261,Справка!$G$2:$H$579,2,0),\"\")","v":""}]
[null,null,null,null,{"$f":"IFERROR(VLOOKUP(D11262,Справка!$G$2:$H$579,2,0),\"\")","v":""}]
[null,null,null,null,{"$f":"IFERROR(VLOOKUP(D11263,Справка!$G$2:$H$579,2,0),\"\")","v":""}]
[null,null,null,null,{"$f":"IFERROR(VLOOKUP(D11264,Справка!$G$2:$H$579,2,0),\"\")","v":""}]
[null,null,null,null,{"$f":"IFERROR(VLOOKUP(D11265,Справка!$G$2:$H$579,2,0),\"\")","v":""}]
[null,null,null,null,{"$f":"IFERROR(VLOOKUP(D11266,Справка!$G$2:$H$579,2,0),\"\")","v":""}]
[null,null,null,null,{"$f":"IFERROR(VLOOKUP(D11267,Справка!$G$2:$H$579,2,0),\"\")","v":""}]
[null,null,null,null,{"$f":"IFERROR(VLOOKUP(D11268,Справка!$G$2:$H$579,2,0),\"\")","v":""}]
[null,null,null,null,{"$f":"IFERROR(VLOOKUP(D11269,Справка!$G$2:$H$579,2,0),\"\")","v":""}]
[null,null,null,null,{"$f":"IFERROR(VLOOKUP(D11270,Справка!$G$2:$H$579,2,0),\"\")","v":""}]
[null,null,null,null,{"$f":"IFERROR(VLOOKUP(D11271,Справка!$G$2:$H$579,2,0),\"\")","v":""}]
[null,null,null,null,{"$f":"IFERROR(VLOOKUP(D11272,Справка!$G$2:$H$579,2,0),\"\")","v":""}]
[null,null,null,null,{"$f":"IFERROR(VLOOKUP(D11273,Справка!$G$2:$H$579,2,0),\"\")","v":""}]
[null,null,null,null,{"$f":"IFERROR(VLOOKUP(D11274,Справка!$G$2:$H$579,2,0),\"\")","v":""}]
[null,null,null,null,{"$f":"IFERROR(VLOOKUP(D11275,Справка!$G$2:$H$579,2,0),\"\")","v":""}]
[null,null,null,null,{"$f":"IFERROR(VLOOKUP(D11276,Справка!$G$2:$H$579,2,0),\"\")","v":""}]
[null,null,null,null,{"$f":"IFERROR(VLOOKUP(D11277,Справка!$G$2:$H$579,2,0),\"\")","v":""}]
[null,null,null,null,{"$f":"IFERROR(VLOOKUP(D11278,Справка!$G$2:$H$579,2,0),\"\")","v":""}]
[null,null,null,null,{"$f":"IFERROR(VLOOKUP(D11279,Справка!$G$2:$H$579,2,0),\"\")","v":""}]
[null,null,null,null,{"$f":"IFERROR(VLOOKUP(D11280,Справка!$G$2:$H$579,2,0),\"\")","v":""}]
[null,null,null,null,{"$f":"IFERROR(VLOOKUP(D11281,Справка!$G$2:$H$579,2,0),\"\")","v":""}]
[null,null,null,null,{"$f":"IFERROR(VLOOKUP(D11282,Справка!$G$2:$H$579,2,0),\"\")","v":""}]
[null,null,null,null,{"$f":"IFERROR(VLOOKUP(D11283,Справка!$G$2:$H$579,2,0),\"\")","v":""}]
[null,null,null,null,{"$f":"IFERROR(VLOOKUP(D11284,Справка!$G$2:$H$579,2,0),\"\")","v":""}]
[null,null,null,null,{"$f":"IFERROR(VLOOKUP(D11285,Справка!$G$2:$H$579,2,0),\"\")","v":""}]
[null,null,null,null,{"$f":"IFERROR(VLOOKUP(D11286,Справка!$G$2:$H$579,2,0),\"\")","v":""}]
[null,null,null,null,{"$f":"IFERROR(VLOOKUP(D11287,Справка!$G$2:$H$579,2,0),\"\")","v":""}]
[null,null,null,null,{"$f":"IFERROR(VLOOKUP(D11288,Справка!$G$2:$H$579,2,0),\"\")","v":""}]
[null,null,null,null,{"$f":"IFERROR(VLOOKUP(D11289,Справка!$G$2:$H$579,2,0),\"\")","v":""}]
[null,null,null,null,{"$f":"IFERROR(VLOOKUP(D11290,Справка!$G$2:$H$579,2,0),\"\")","v":""}]
[null,null,null,null,{"$f":"IFERROR(VLOOKUP(D11291,Справка!$G$2:$H$579,2,0),\"\")","v":""}]
[null,null,null,null,{"$f":"IFERROR(VLOOKUP(D11292,Справка!$G$2:$H$579,2,0),\"\")","v":""}]
[null,null,null,null,{"$f":"IFERROR(VLOOKUP(D11293,Справка!$G$2:$H$579,2,0),\"\")","v":""}]
[null,null,null,null,{"$f":"IFERROR(VLOOKUP(D11294,Справка!$G$2:$H$579,2,0),\"\")","v":""}]
[null,null,null,null,{"$f":"IFERROR(VLOOKUP(D11295,Справка!$G$2:$H$579,2,0),\"\")","v":""}]
[null,null,null,null,{"$f":"IFERROR(VLOOKUP(D11296,Справка!$G$2:$H$579,2,0),\"\")","v":""}]
[null,null,null,null,{"$f":"IFERROR(VLOOKUP(D11297,Справка!$G$2:$H$579,2,0),\"\")","v":""}]
[null,null,null,null,{"$f":"IFERROR(VLOOKUP(D11298,Справка!$G$2:$H$579,2,0),\"\")","v":""}]
[null,null,null,null,{"$f":"IFERROR(VLOOKUP(D11299,Справка!$G$2:$H$579,2,0),\"\")","v":""}]
[null,null,null,null,{"$f":"IFERROR(VLOOKUP(D11300,Справка!$G$2:$H$579,2,0),\"\")","v":""}]
[null,null,null,null,{"$f":"IFERROR(VLOOKUP(D11301,Справка!$G$2:$H$579,2,0),\"\")","v":""}]
[null,null,null,null,{"$f":"IFERROR(VLOOKUP(D11302,Справка!$G$2:$H$579,2,0),\"\")","v":""}]
[null,null,null,null,{"$f":"IFERROR(VLOOKUP(D11303,Справка!$G$2:$H$579,2,0),\"\")","v":""}]
[null,null,null,null,{"$f":"IFERROR(VLOOKUP(D11304,Справка!$G$2:$H$579,2,0),\"\")","v":""}]
[null,null,null,null,{"$f":"IFERROR(VLOOKUP(D11305,Справка!$G$2:$H$579,2,0),\"\")","v":""}]
[null,null,null,null,{"$f":"IFERROR(VLOOKUP(D11306,Справка!$G$2:$H$579,2,0),\"\")","v":""}]
[null,null,null,null,{"$f":"IFERROR(VLOOKUP(D11307,Справка!$G$2:$H$579,2,0),\"\")","v":""}]
[null,null,null,null,{"$f":"IFERROR(VLOOKUP(D11308,Справка!$G$2:$H$579,2,0),\"\")","v":""}]
[null,null,null,null,{"$f":"IFERROR(VLOOKUP(D11309,Справка!$G$2:$H$579,2,0),\"\")","v":""}]
[null,null,null,null,{"$f":"IFERROR(VLOOKUP(D11310,Справка!$G$2:$H$579,2,0),\"\")","v":""}]
[null,null,null,null,{"$f":"IFERROR(VLOOKUP(D11311,Справка!$G$2:$H$579,2,0),\"\")","v":""}]
[null,null,null,null,{"$f":"IFERROR(VLOOKUP(D11312,Справка!$G$2:$H$579,2,0),\"\")","v":""}]
[null,null,null,null,{"$f":"IFERROR(VLOOKUP(D11313,Справка!$G$2:$H$579,2,0),\"\")","v":""}]
[null,null,null,null,{"$f":"IFERROR(VLOOKUP(D11314,Справка!$G$2:$H$579,2,0),\"\")","v":""}]
[null,null,null,null,{"$f":"IFERROR(VLOOKUP(D11315,Справка!$G$2:$H$579,2,0),\"\")","v":""}]
[null,null,null,null,{"$f":"IFERROR(VLOOKUP(D11316,Справка!$G$2:$H$579,2,0),\"\")","v":""}]
[null,null,null,null,{"$f":"IFERROR(VLOOKUP(D11317,Справка!$G$2:$H$579,2,0),\"\")","v":""}]
[null,null,null,null,{"$f":"IFERROR(VLOOKUP(D11318,Справка!$G$2:$H$579,2,0),\"\")","v":""}]
[null,null,null,null,{"$f":"IFERROR(VLOOKUP(D11319,Справка!$G$2:$H$579,2,0),\"\")","v":""}]
[null,null,null,null,{"$f":"IFERROR(VLOOKUP(D11320,Справка!$G$2:$H$579,2,0),\"\")","v":""}]
[null,null,null,null,{"$f":"IFERROR(VLOOKUP(D11321,Справка!$G$2:$H$579,2,0),\"\")","v":""}]
[null,null,null,null,{"$f":"IFERROR(VLOOKUP(D11322,Справка!$G$2:$H$579,2,0),\"\")","v":""}]
[null,null,null,null,{"$f":"IFERROR(VLOOKUP(D11323,Справка!$G$2:$H$579,2,0),\"\")","v":""}]
[null,null,null,null,{"$f":"IFERROR(VLOOKUP(D11324,Справка!$G$2:$H$579,2,0),\"\")","v":""}]
[null,null,null,null,{"$f":"IFERROR(VLOOKUP(D11325,Справка!$G$2:$H$579,2,0),\"\")","v":""}]
[null,null,null,null,{"$f":"IFERROR(VLOOKUP(D11326,Справка!$G$2:$H$579,2,0),\"\")","v":""}]
[null,null,null,null,{"$f":"IFERROR(VLOOKUP(D11327,Справка!$G$2:$H$579,2,0),\"\")","v":""}]
[null,null,null,null,{"$f":"IFERROR(VLOOKUP(D11328,Справка!$G$2:$H$579,2,0),\"\")","v":""}]
[null,null,null,null,{"$f":"IFERROR(VLOOKUP(D11329,Справка!$G$2:$H$579,2,0),\"\")","v":""}]
[null,null,null,null,{"$f":"IFERROR(VLOOKUP(D11330,Справка!$G$2:$H$579,2,0),\"\")","v":""}]
[null,null,null,null,{"$f":"IFERROR(VLOOKUP(D11331,Справка!$G$2:$H$579,2,0),\"\")","v":""}]
[null,null,null,null,{"$f":"IFERROR(VLOOKUP(D11332,Справка!$G$2:$H$579,2,0),\"\")","v":""}]
[null,null,null,null,{"$f":"IFERROR(VLOOKUP(D11333,Справка!$G$2:$H$579,2,0),\"\")","v":""}]
[null,null,null,null,{"$f":"IFERROR(VLOOKUP(D11334,Справка!$G$2:$H$579,2,0),\"\")","v":""}]
[null,null,null,null,{"$f":"IFERROR(VLOOKUP(D11335,Справка!$G$2:$H$579,2,0),\"\")","v":""}]
[null,null,null,null,{"$f":"IFERROR(VLOOKUP(D11336,Справка!$G$2:$H$579,2,0),\"\")","v":""}]
[null,null,null,null,{"$f":"IFERROR(VLOOKUP(D11337,Справка!$G$2:$H$579,2,0),\"\")","v":""}]
[null,null,null,null,{"$f":"IFERROR(VLOOKUP(D11338,Справка!$G$2:$H$579,2,0),\"\")","v":""}]
[null,null,null,null,{"$f":"IFERROR(VLOOKUP(D11339,Справка!$G$2:$H$579,2,0),\"\")","v":""}]
[null,null,null,null,{"$f":"IFERROR(VLOOKUP(D11340,Справка!$G$2:$H$579,2,0),\"\")","v":""}]
[null,null,null,null,{"$f":"IFERROR(VLOOKUP(D11341,Справка!$G$2:$H$579,2,0),\"\")","v":""}]
[null,null,null,null,{"$f":"IFERROR(VLOOKUP(D11342,Справка!$G$2:$H$579,2,0),\"\")","v":""}]
[null,null,null,null,{"$f":"IFERROR(VLOOKUP(D11343,Справка!$G$2:$H$579,2,0),\"\")","v":""}]
[null,null,null,null,{"$f":"IFERROR(VLOOKUP(D11344,Справка!$G$2:$H$579,2,0),\"\")","v":""}]
[null,null,null,null,{"$f":"IFERROR(VLOOKUP(D11345,Справка!$G$2:$H$579,2,0),\"\")","v":""}]
[null,null,null,null,{"$f":"IFERROR(VLOOKUP(D11346,Справка!$G$2:$H$579,2,0),\"\")","v":""}]
[null,null,null,null,{"$f":"IFERROR(VLOOKUP(D11347,Справка!$G$2:$H$579,2,0),\"\")","v":""}]
[null,null,null,null,{"$f":"IFERROR(VLOOKUP(D11348,Справка!$G$2:$H$579,2,0),\"\")","v":""}]
[null,null,null,null,{"$f":"IFERROR(VLOOKUP(D11349,Справка!$G$2:$H$579,2,0),\"\")","v":""}]
[null,null,null,null,{"$f":"IFERROR(VLOOKUP(D11350,Справка!$G$2:$H$579,2,0),\"\")","v":""}]
[null,null,null,null,{"$f":"IFERROR(VLOOKUP(D11351,Справка!$G$2:$H$579,2,0),\"\")","v":""}]
[null,null,null,null,{"$f":"IFERROR(VLOOKUP(D11352,Справка!$G$2:$H$579,2,0),\"\")","v":""}]
[null,null,null,null,{"$f":"IFERROR(VLOOKUP(D11353,Справка!$G$2:$H$579,2,0),\"\")","v":""}]
[null,null,null,null,{"$f":"IFERROR(VLOOKUP(D11354,Справка!$G$2:$H$579,2,0),\"\")","v":""}]
[null,null,null,null,{"$f":"IFERROR(VLOOKUP(D11355,Справка!$G$2:$H$579,2,0),\"\")","v":""}]
[null,null,null,null,{"$f":"IFERROR(VLOOKUP(D11356,Справка!$G$2:$H$579,2,0),\"\")","v":""}]
[null,null,null,null,{"$f":"IFERROR(VLOOKUP(D11357,Справка!$G$2:$H$579,2,0),\"\")","v":""}]
[null,null,null,null,{"$f":"IFERROR(VLOOKUP(D11358,Справка!$G$2:$H$579,2,0),\"\")","v":""}]
[null,null,null,null,{"$f":"IFERROR(VLOOKUP(D11359,Справка!$G$2:$H$579,2,0),\"\")","v":""}]
[null,null,null,null,{"$f":"IFERROR(VLOOKUP(D11360,Справка!$G$2:$H$579,2,0),\"\")","v":""}]
[null,null,null,null,{"$f":"IFERROR(VLOOKUP(D11361,Справка!$G$2:$H$579,2,0),\"\")","v":""}]
[null,null,null,null,{"$f":"IFERROR(VLOOKUP(D11362,Справка!$G$2:$H$579,2,0),\"\")","v":""}]
[null,null,null,null,{"$f":"IFERROR(VLOOKUP(D11363,Справка!$G$2:$H$579,2,0),\"\")","v":""}]
[null,null,null,null,{"$f":"IFERROR(VLOOKUP(D11364,Справка!$G$2:$H$579,2,0),\"\")","v":""}]
[null,null,null,null,{"$f":"IFERROR(VLOOKUP(D11365,Справка!$G$2:$H$579,2,0),\"\")","v":""}]
[null,null,null,null,{"$f":"IFERROR(VLOOKUP(D11366,Справка!$G$2:$H$579,2,0),\"\")","v":""}]
[null,null,null,null,{"$f":"IFERROR(VLOOKUP(D11367,Справка!$G$2:$H$579,2,0),\"\")","v":""}]
[null,null,null,null,{"$f":"IFERROR(VLOOKUP(D11368,Справка!$G$2:$H$579,2,0),\"\")","v":""}]
[null,null,null,null,{"$f":"IFERROR(VLOOKUP(D11369,Справка!$G$2:$H$579,2,0),\"\")","v":""}]
[null,null,null,null,{"$f":"IFERROR(VLOOKUP(D11370,Справка!$G$2:$H$579,2,0),\"\")","v":""}]
[null,null,null,null,{"$f":"IFERROR(VLOOKUP(D11371,Справка!$G$2:$H$579,2,0),\"\")","v":""}]
[null,null,null,null,{"$f":"IFERROR(VLOOKUP(D11372,Справка!$G$2:$H$579,2,0),\"\")","v":""}]
[null,null,null,null,{"$f":"IFERROR(VLOOKUP(D11373,Справка!$G$2:$H$579,2,0),\"\")","v":""}]
[null,null,null,null,{"$f":"IFERROR(VLOOKUP(D11374,Справка!$G$2:$H$579,2,0),\"\")","v":""}]
[null,null,null,null,{"$f":"IFERROR(VLOOKUP(D11375,Справка!$G$2:$H$579,2,0),\"\")","v":""}]
[null,null,null,null,{"$f":"IFERROR(VLOOKUP(D11376,Справка!$G$2:$H$579,2,0),\"\")","v":""}]
[null,null,null,null,{"$f":"IFERROR(VLOOKUP(D11377,Справка!$G$2:$H$579,2,0),\"\")","v":""}]
[null,null,null,null,{"$f":"IFERROR(VLOOKUP(D11378,Справка!$G$2:$H$579,2,0),\"\")","v":""}]
[null,null,null,null,{"$f":"IFERROR(VLOOKUP(D11379,Справка!$G$2:$H$579,2,0),\"\")","v":""}]
[null,null,null,null,{"$f":"IFERROR(VLOOKUP(D11380,Справка!$G$2:$H$579,2,0),\"\")","v":""}]
[null,null,null,null,{"$f":"IFERROR(VLOOKUP(D11381,Справка!$G$2:$H$579,2,0),\"\")","v":""}]
[null,null,null,null,{"$f":"IFERROR(VLOOKUP(D11382,Справка!$G$2:$H$579,2,0),\"\")","v":""}]
[null,null,null,null,{"$f":"IFERROR(VLOOKUP(D11383,Справка!$G$2:$H$579,2,0),\"\")","v":""}]
[null,null,null,null,{"$f":"IFERROR(VLOOKUP(D11384,Справка!$G$2:$H$579,2,0),\"\")","v":""}]
[null,null,null,null,{"$f":"IFERROR(VLOOKUP(D11385,Справка!$G$2:$H$579,2,0),\"\")","v":""}]
[null,null,null,null,{"$f":"IFERROR(VLOOKUP(D11386,Справка!$G$2:$H$579,2,0),\"\")","v":""}]
[null,null,null,null,{"$f":"IFERROR(VLOOKUP(D11387,Справка!$G$2:$H$579,2,0),\"\")","v":""}]
[null,null,null,null,{"$f":"IFERROR(VLOOKUP(D11388,Справка!$G$2:$H$579,2,0),\"\")","v":""}]
[null,null,null,null,{"$f":"IFERROR(VLOOKUP(D11389,Справка!$G$2:$H$579,2,0),\"\")","v":""}]
[null,null,null,null,{"$f":"IFERROR(VLOOKUP(D11390,Справка!$G$2:$H$579,2,0),\"\")","v":""}]
[null,null,null,null,{"$f":"IFERROR(VLOOKUP(D11391,Справка!$G$2:$H$579,2,0),\"\")","v":""}]
[null,null,null,null,{"$f":"IFERROR(VLOOKUP(D11392,Справка!$G$2:$H$579,2,0),\"\")","v":""}]
[null,null,null,null,{"$f":"IFERROR(VLOOKUP(D11393,Справка!$G$2:$H$579,2,0),\"\")","v":""}]
[null,null,null,null,{"$f":"IFERROR(VLOOKUP(D11394,Справка!$G$2:$H$579,2,0),\"\")","v":""}]
[null,null,null,null,{"$f":"IFERROR(VLOOKUP(D11395,Справка!$G$2:$H$579,2,0),\"\")","v":""}]
[null,null,null,null,{"$f":"IFERROR(VLOOKUP(D11396,Справка!$G$2:$H$579,2,0),\"\")","v":""}]
[null,null,null,null,{"$f":"IFERROR(VLOOKUP(D11397,Справка!$G$2:$H$579,2,0),\"\")","v":""}]
[null,null,null,null,{"$f":"IFERROR(VLOOKUP(D11398,Справка!$G$2:$H$579,2,0),\"\")","v":""}]
[null,null,null,null,{"$f":"IFERROR(VLOOKUP(D11399,Справка!$G$2:$H$579,2,0),\"\")","v":""}]
[null,null,null,null,{"$f":"IFERROR(VLOOKUP(D11400,Справка!$G$2:$H$579,2,0),\"\")","v":""}]
[null,null,null,null,{"$f":"IFERROR(VLOOKUP(D11401,Справка!$G$2:$H$579,2,0),\"\")","v":""}]
[null,null,null,null,{"$f":"IFERROR(VLOOKUP(D11402,Справка!$G$2:$H$579,2,0),\"\")","v":""}]
[null,null,null,null,{"$f":"IFERROR(VLOOKUP(D11403,Справка!$G$2:$H$579,2,0),\"\")","v":""}]
[null,null,null,null,{"$f":"IFERROR(VLOOKUP(D11404,Справка!$G$2:$H$579,2,0),\"\")","v":""}]
[null,null,null,null,{"$f":"IFERROR(VLOOKUP(D11405,Справка!$G$2:$H$579,2,0),\"\")","v":""}]
[null,null,null,null,{"$f":"IFERROR(VLOOKUP(D11406,Справка!$G$2:$H$579,2,0),\"\")","v":""}]
[null,null,null,null,{"$f":"IFERROR(VLOOKUP(D11407,Справка!$G$2:$H$579,2,0),\"\")","v":""}]
[null,null,null,null,{"$f":"IFERROR(VLOOKUP(D11408,Справка!$G$2:$H$579,2,0),\"\")","v":""}]
[null,null,null,null,{"$f":"IFERROR(VLOOKUP(D11409,Справка!$G$2:$H$579,2,0),\"\")","v":""}]
[null,null,null,null,{"$f":"IFERROR(VLOOKUP(D11410,Справка!$G$2:$H$579,2,0),\"\")","v":""}]
[null,null,null,null,{"$f":"IFERROR(VLOOKUP(D11411,Справка!$G$2:$H$579,2,0),\"\")","v":""}]
[null,null,null,null,{"$f":"IFERROR(VLOOKUP(D11412,Справка!$G$2:$H$579,2,0),\"\")","v":""}]
[null,null,null,null,{"$f":"IFERROR(VLOOKUP(D11413,Справка!$G$2:$H$579,2,0),\"\")","v":""}]
[null,null,null,null,{"$f":"IFERROR(VLOOKUP(D11414,Справка!$G$2:$H$579,2,0),\"\")","v":""}]
[null,null,null,null,{"$f":"IFERROR(VLOOKUP(D11415,Справка!$G$2:$H$579,2,0),\"\")","v":""}]
[null,null,null,null,{"$f":"IFERROR(VLOOKUP(D11416,Справка!$G$2:$H$579,2,0),\"\")","v":""}]
[null,null,null,null,{"$f":"IFERROR(VLOOKUP(D11417,Справка!$G$2:$H$579,2,0),\"\")","v":""}]
[null,null,null,null,{"$f":"IFERROR(VLOOKUP(D11418,Справка!$G$2:$H$579,2,0),\"\")","v":""}]
[null,null,null,null,{"$f":"IFERROR(VLOOKUP(D11419,Справка!$G$2:$H$579,2,0),\"\")","v":""}]
[null,null,null,null,{"$f":"IFERROR(VLOOKUP(D11420,Справка!$G$2:$H$579,2,0),\"\")","v":""}]
[null,null,null,null,{"$f":"IFERROR(VLOOKUP(D11421,Справка!$G$2:$H$579,2,0),\"\")","v":""}]
[null,null,null,null,{"$f":"IFERROR(VLOOKUP(D11422,Справка!$G$2:$H$579,2,0),\"\")","v":""}]
[null,null,null,null,{"$f":"IFERROR(VLOOKUP(D11423,Справка!$G$2:$H$579,2,0),\"\")","v":""}]
[null,null,null,null,{"$f":"IFERROR(VLOOKUP(D11424,Справка!$G$2:$H$579,2,0),\"\")","v":""}]
[null,null,null,null,{"$f":"IFERROR(VLOOKUP(D11425,Справка!$G$2:$H$579,2,0),\"\")","v":""}]
[null,null,null,null,{"$f":"IFERROR(VLOOKUP(D11426,Справка!$G$2:$H$579,2,0),\"\")","v":""}]
[null,null,null,null,{"$f":"IFERROR(VLOOKUP(D11427,Справка!$G$2:$H$579,2,0),\"\")","v":""}]
[null,null,null,null,{"$f":"IFERROR(VLOOKUP(D11428,Справка!$G$2:$H$579,2,0),\"\")","v":""}]
[null,null,null,null,{"$f":"IFERROR(VLOOKUP(D11429,Справка!$G$2:$H$579,2,0),\"\")","v":""}]
[null,null,null,null,{"$f":"IFERROR(VLOOKUP(D11430,Справка!$G$2:$H$579,2,0),\"\")","v":""}]
[null,null,null,null,{"$f":"IFERROR(VLOOKUP(D11431,Справка!$G$2:$H$579,2,0),\"\")","v":""}]
[null,null,null,null,{"$f":"IFERROR(VLOOKUP(D11432,Справка!$G$2:$H$579,2,0),\"\")","v":""}]
[null,null,null,null,{"$f":"IFERROR(VLOOKUP(D11433,Справка!$G$2:$H$579,2,0),\"\")","v":""}]
[null,null,null,null,{"$f":"IFERROR(VLOOKUP(D11434,Справка!$G$2:$H$579,2,0),\"\")","v":""}]
[null,null,null,null,{"$f":"IFERROR(VLOOKUP(D11435,Справка!$G$2:$H$579,2,0),\"\")","v":""}]
[null,null,null,null,{"$f":"IFERROR(VLOOKUP(D11436,Справка!$G$2:$H$579,2,0),\"\")","v":""}]
[null,null,null,null,{"$f":"IFERROR(VLOOKUP(D11437,Справка!$G$2:$H$579,2,0),\"\")","v":""}]
[null,null,null,null,{"$f":"IFERROR(VLOOKUP(D11438,Справка!$G$2:$H$579,2,0),\"\")","v":""}]
[null,null,null,null,{"$f":"IFERROR(VLOOKUP(D11439,Справка!$G$2:$H$579,2,0),\"\")","v":""}]
[null,null,null,null,{"$f":"IFERROR(VLOOKUP(D11440,Справка!$G$2:$H$579,2,0),\"\")","v":""}]
[null,null,null,null,{"$f":"IFERROR(VLOOKUP(D11441,Справка!$G$2:$H$579,2,0),\"\")","v":""}]
[null,null,null,null,{"$f":"IFERROR(VLOOKUP(D11442,Справка!$G$2:$H$579,2,0),\"\")","v":""}]
[null,null,null,null,{"$f":"IFERROR(VLOOKUP(D11443,Справка!$G$2:$H$579,2,0),\"\")","v":""}]
[null,null,null,null,{"$f":"IFERROR(VLOOKUP(D11444,Справка!$G$2:$H$579,2,0),\"\")","v":""}]
[null,null,null,null,{"$f":"IFERROR(VLOOKUP(D11445,Справка!$G$2:$H$579,2,0),\"\")","v":""}]
[null,null,null,null,{"$f":"IFERROR(VLOOKUP(D11446,Справка!$G$2:$H$579,2,0),\"\")","v":""}]
[null,null,null,null,{"$f":"IFERROR(VLOOKUP(D11447,Справка!$G$2:$H$579,2,0),\"\")","v":""}]
[null,null,null,null,{"$f":"IFERROR(VLOOKUP(D11448,Справка!$G$2:$H$579,2,0),\"\")","v":""}]
[null,null,null,null,{"$f":"IFERROR(VLOOKUP(D11449,Справка!$G$2:$H$579,2,0),\"\")","v":""}]
[null,null,null,null,{"$f":"IFERROR(VLOOKUP(D11450,Справка!$G$2:$H$579,2,0),\"\")","v":""}]
[null,null,null,null,{"$f":"IFERROR(VLOOKUP(D11451,Справка!$G$2:$H$579,2,0),\"\")","v":""}]
[null,null,null,null,{"$f":"IFERROR(VLOOKUP(D11452,Справка!$G$2:$H$579,2,0),\"\")","v":""}]
[null,null,null,null,{"$f":"IFERROR(VLOOKUP(D11453,Справка!$G$2:$H$579,2,0),\"\")","v":""}]
[null,null,null,null,{"$f":"IFERROR(VLOOKUP(D11454,Справка!$G$2:$H$579,2,0),\"\")","v":""}]
[null,null,null,null,{"$f":"IFERROR(VLOOKUP(D11455,Справка!$G$2:$H$579,2,0),\"\")","v":""}]
[null,null,null,null,{"$f":"IFERROR(VLOOKUP(D11456,Справка!$G$2:$H$579,2,0),\"\")","v":""}]
[null,null,null,null,{"$f":"IFERROR(VLOOKUP(D11457,Справка!$G$2:$H$579,2,0),\"\")","v":""}]
[null,null,null,null,{"$f":"IFERROR(VLOOKUP(D11458,Справка!$G$2:$H$579,2,0),\"\")","v":""}]
[null,null,null,null,{"$f":"IFERROR(VLOOKUP(D11459,Справка!$G$2:$H$579,2,0),\"\")","v":""}]
[null,null,null,null,{"$f":"IFERROR(VLOOKUP(D11460,Справка!$G$2:$H$579,2,0),\"\")","v":""}]
[null,null,null,null,{"$f":"IFERROR(VLOOKUP(D11461,Справка!$G$2:$H$579,2,0),\"\")","v":""}]
[null,null,null,null,{"$f":"IFERROR(VLOOKUP(D11462,Справка!$G$2:$H$579,2,0),\"\")","v":""}]
[null,null,null,null,{"$f":"IFERROR(VLOOKUP(D11463,Справка!$G$2:$H$579,2,0),\"\")","v":""}]
[null,null,null,null,{"$f":"IFERROR(VLOOKUP(D11464,Справка!$G$2:$H$579,2,0),\"\")","v":""}]
[null,null,null,null,{"$f":"IFERROR(VLOOKUP(D11465,Справка!$G$2:$H$579,2,0),\"\")","v":""}]
[null,null,null,null,{"$f":"IFERROR(VLOOKUP(D11466,Справка!$G$2:$H$579,2,0),\"\")","v":""}]
[null,null,null,null,{"$f":"IFERROR(VLOOKUP(D11467,Справка!$G$2:$H$579,2,0),\"\")","v":""}]
[null,null,null,null,{"$f":"IFERROR(VLOOKUP(D11468,Справка!$G$2:$H$579,2,0),\"\")","v":""}]
[null,null,null,null,{"$f":"IFERROR(VLOOKUP(D11469,Справка!$G$2:$H$579,2,0),\"\")","v":""}]
[null,null,null,null,{"$f":"IFERROR(VLOOKUP(D11470,Справка!$G$2:$H$579,2,0),\"\")","v":""}]
[null,null,null,null,{"$f":"IFERROR(VLOOKUP(D11471,Справка!$G$2:$H$579,2,0),\"\")","v":""}]
[null,null,null,null,{"$f":"IFERROR(VLOOKUP(D11472,Справка!$G$2:$H$579,2,0),\"\")","v":""}]
[null,null,null,null,{"$f":"IFERROR(VLOOKUP(D11473,Справка!$G$2:$H$579,2,0),\"\")","v":""}]
[null,null,null,null,{"$f":"IFERROR(VLOOKUP(D11474,Справка!$G$2:$H$579,2,0),\"\")","v":""}]
[null,null,null,null,{"$f":"IFERROR(VLOOKUP(D11475,Справка!$G$2:$H$579,2,0),\"\")","v":""}]
[null,null,null,null,{"$f":"IFERROR(VLOOKUP(D11476,Справка!$G$2:$H$579,2,0),\"\")","v":""}]
[null,null,null,null,{"$f":"IFERROR(VLOOKUP(D11477,Справка!$G$2:$H$579,2,0),\"\")","v":""}]
[null,null,null,null,{"$f":"IFERROR(VLOOKUP(D11478,Справка!$G$2:$H$579,2,0),\"\")","v":""}]
[null,null,null,null,{"$f":"IFERROR(VLOOKUP(D11479,Справка!$G$2:$H$579,2,0),\"\")","v":""}]
[null,null,null,null,{"$f":"IFERROR(VLOOKUP(D11480,Справка!$G$2:$H$579,2,0),\"\")","v":""}]
[null,null,null,null,{"$f":"IFERROR(VLOOKUP(D11481,Справка!$G$2:$H$579,2,0),\"\")","v":""}]
[null,null,null,null,{"$f":"IFERROR(VLOOKUP(D11482,Справка!$G$2:$H$579,2,0),\"\")","v":""}]
[null,null,null,null,{"$f":"IFERROR(VLOOKUP(D11483,Справка!$G$2:$H$579,2,0),\"\")","v":""}]
[null,null,null,null,{"$f":"IFERROR(VLOOKUP(D11484,Справка!$G$2:$H$579,2,0),\"\")","v":""}]
[null,null,null,null,{"$f":"IFERROR(VLOOKUP(D11485,Справка!$G$2:$H$579,2,0),\"\")","v":""}]
[null,null,null,null,{"$f":"IFERROR(VLOOKUP(D11486,Справка!$G$2:$H$579,2,0),\"\")","v":""}]
[null,null,null,null,{"$f":"IFERROR(VLOOKUP(D11487,Справка!$G$2:$H$579,2,0),\"\")","v":""}]
[null,null,null,null,{"$f":"IFERROR(VLOOKUP(D11488,Справка!$G$2:$H$579,2,0),\"\")","v":""}]
[null,null,null,null,{"$f":"IFERROR(VLOOKUP(D11489,Справка!$G$2:$H$579,2,0),\"\")","v":""}]
[null,null,null,null,{"$f":"IFERROR(VLOOKUP(D11490,Справка!$G$2:$H$579,2,0),\"\")","v":""}]
[null,null,null,null,{"$f":"IFERROR(VLOOKUP(D11491,Справка!$G$2:$H$579,2,0),\"\")","v":""}]
[null,null,null,null,{"$f":"IFERROR(VLOOKUP(D11492,Справка!$G$2:$H$579,2,0),\"\")","v":""}]
[null,null,null,null,{"$f":"IFERROR(VLOOKUP(D11493,Справка!$G$2:$H$579,2,0),\"\")","v":""}]
[null,null,null,null,{"$f":"IFERROR(VLOOKUP(D11494,Справка!$G$2:$H$579,2,0),\"\")","v":""}]
[null,null,null,null,{"$f":"IFERROR(VLOOKUP(D11495,Справка!$G$2:$H$579,2,0),\"\")","v":""}]
[null,null,null,null,{"$f":"IFERROR(VLOOKUP(D11496,Справка!$G$2:$H$579,2,0),\"\")","v":""}]
[null,null,null,null,{"$f":"IFERROR(VLOOKUP(D11497,Справка!$G$2:$H$579,2,0),\"\")","v":""}]
[null,null,null,null,{"$f":"IFERROR(VLOOKUP(D11498,Справка!$G$2:$H$579,2,0),\"\")","v":""}]
[null,null,null,null,{"$f":"IFERROR(VLOOKUP(D11499,Справка!$G$2:$H$579,2,0),\"\")","v":""}]
[null,null,null,null,{"$f":"IFERROR(VLOOKUP(D11500,Справка!$G$2:$H$579,2,0),\"\")","v":""}]
[null,null,null,null,{"$f":"IFERROR(VLOOKUP(D11501,Справка!$G$2:$H$579,2,0),\"\")","v":""}]
[null,null,null,null,{"$f":"IFERROR(VLOOKUP(D11502,Справка!$G$2:$H$579,2,0),\"\")","v":""}]
[null,null,null,null,{"$f":"IFERROR(VLOOKUP(D11503,Справка!$G$2:$H$579,2,0),\"\")","v":""}]
[null,null,null,null,{"$f":"IFERROR(VLOOKUP(D11504,Справка!$G$2:$H$579,2,0),\"\")","v":""}]
[null,null,null,null,{"$f":"IFERROR(VLOOKUP(D11505,Справка!$G$2:$H$579,2,0),\"\")","v":""}]
[null,null,null,null,{"$f":"IFERROR(VLOOKUP(D11506,Справка!$G$2:$H$579,2,0),\"\")","v":""}]
[null,null,null,null,{"$f":"IFERROR(VLOOKUP(D11507,Справка!$G$2:$H$579,2,0),\"\")","v":""}]
[null,null,null,null,{"$f":"IFERROR(VLOOKUP(D11508,Справка!$G$2:$H$579,2,0),\"\")","v":""}]
[null,null,null,null,{"$f":"IFERROR(VLOOKUP(D11509,Справка!$G$2:$H$579,2,0),\"\")","v":""}]
[null,null,null,null,{"$f":"IFERROR(VLOOKUP(D11510,Справка!$G$2:$H$579,2,0),\"\")","v":""}]
[null,null,null,null,{"$f":"IFERROR(VLOOKUP(D11511,Справка!$G$2:$H$579,2,0),\"\")","v":""}]
[null,null,null,null,{"$f":"IFERROR(VLOOKUP(D11512,Справка!$G$2:$H$579,2,0),\"\")","v":""}]
[null,null,null,null,{"$f":"IFERROR(VLOOKUP(D11513,Справка!$G$2:$H$579,2,0),\"\")","v":""}]
[null,null,null,null,{"$f":"IFERROR(VLOOKUP(D11514,Справка!$G$2:$H$579,2,0),\"\")","v":""}]
[null,null,null,null,{"$f":"IFERROR(VLOOKUP(D11515,Справка!$G$2:$H$579,2,0),\"\")","v":""}]
[null,null,null,null,{"$f":"IFERROR(VLOOKUP(D11516,Справка!$G$2:$H$579,2,0),\"\")","v":""}]
[null,null,null,null,{"$f":"IFERROR(VLOOKUP(D11517,Справка!$G$2:$H$579,2,0),\"\")","v":""}]
[null,null,null,null,{"$f":"IFERROR(VLOOKUP(D11518,Справка!$G$2:$H$579,2,0),\"\")","v":""}]
[null,null,null,null,{"$f":"IFERROR(VLOOKUP(D11519,Справка!$G$2:$H$579,2,0),\"\")","v":""}]
[null,null,null,null,{"$f":"IFERROR(VLOOKUP(D11520,Справка!$G$2:$H$579,2,0),\"\")","v":""}]
[null,null,null,null,{"$f":"IFERROR(VLOOKUP(D11521,Справка!$G$2:$H$579,2,0),\"\")","v":""}]
[null,null,null,null,{"$f":"IFERROR(VLOOKUP(D11522,Справка!$G$2:$H$579,2,0),\"\")","v":""}]
[null,null,null,null,{"$f":"IFERROR(VLOOKUP(D11523,Справка!$G$2:$H$579,2,0),\"\")","v":""}]
[null,null,null,null,{"$f":"IFERROR(VLOOKUP(D11524,Справка!$G$2:$H$579,2,0),\"\")","v":""}]
[null,null,null,null,{"$f":"IFERROR(VLOOKUP(D11525,Справка!$G$2:$H$579,2,0),\"\")","v":""}]
[null,null,null,null,{"$f":"IFERROR(VLOOKUP(D11526,Справка!$G$2:$H$579,2,0),\"\")","v":""}]
[null,null,null,null,{"$f":"IFERROR(VLOOKUP(D11527,Справка!$G$2:$H$579,2,0),\"\")","v":""}]
[null,null,null,null,{"$f":"IFERROR(VLOOKUP(D11528,Справка!$G$2:$H$579,2,0),\"\")","v":""}]
[null,null,null,null,{"$f":"IFERROR(VLOOKUP(D11529,Справка!$G$2:$H$579,2,0),\"\")","v":""}]
[null,null,null,null,{"$f":"IFERROR(VLOOKUP(D11530,Справка!$G$2:$H$579,2,0),\"\")","v":""}]
[null,null,null,null,{"$f":"IFERROR(VLOOKUP(D11531,Справка!$G$2:$H$579,2,0),\"\")","v":""}]
[null,null,null,null,{"$f":"IFERROR(VLOOKUP(D11532,Справка!$G$2:$H$579,2,0),\"\")","v":""}]
[null,null,null,null,{"$f":"IFERROR(VLOOKUP(D11533,Справка!$G$2:$H$579,2,0),\"\")","v":""}]
[null,null,null,null,{"$f":"IFERROR(VLOOKUP(D11534,Справка!$G$2:$H$579,2,0),\"\")","v":""}]
[null,null,null,null,{"$f":"IFERROR(VLOOKUP(D11535,Справка!$G$2:$H$579,2,0),\"\")","v":""}]
[null,null,null,null,{"$f":"IFERROR(VLOOKUP(D11536,Справка!$G$2:$H$579,2,0),\"\")","v":""}]
[null,null,null,null,{"$f":"IFERROR(VLOOKUP(D11537,Справка!$G$2:$H$579,2,0),\"\")","v":""}]
[null,null,null,null,{"$f":"IFERROR(VLOOKUP(D11538,Справка!$G$2:$H$579,2,0),\"\")","v":""}]
[null,null,null,null,{"$f":"IFERROR(VLOOKUP(D11539,Справка!$G$2:$H$579,2,0),\"\")","v":""}]
[null,null,null,null,{"$f":"IFERROR(VLOOKUP(D11540,Справка!$G$2:$H$579,2,0),\"\")","v":""}]
[null,null,null,null,{"$f":"IFERROR(VLOOKUP(D11541,Справка!$G$2:$H$579,2,0),\"\")","v":""}]
[null,null,null,null,{"$f":"IFERROR(VLOOKUP(D11542,Справка!$G$2:$H$579,2,0),\"\")","v":""}]
[null,null,null,null,{"$f":"IFERROR(VLOOKUP(D11543,Справка!$G$2:$H$579,2,0),\"\")","v":""}]
[null,null,null,null,{"$f":"IFERROR(VLOOKUP(D11544,Справка!$G$2:$H$579,2,0),\"\")","v":""}]
[null,null,null,null,{"$f":"IFERROR(VLOOKUP(D11545,Справка!$G$2:$H$579,2,0),\"\")","v":""}]
[null,null,null,null,{"$f":"IFERROR(VLOOKUP(D11546,Справка!$G$2:$H$579,2,0),\"\")","v":""}]
[null,null,null,null,{"$f":"IFERROR(VLOOKUP(D11547,Справка!$G$2:$H$579,2,0),\"\")","v":""}]
[null,null,null,null,{"$f":"IFERROR(VLOOKUP(D11548,Справка!$G$2:$H$579,2,0),\"\")","v":""}]
[null,null,null,null,{"$f":"IFERROR(VLOOKUP(D11549,Справка!$G$2:$H$579,2,0),\"\")","v":""}]
[null,null,null,null,{"$f":"IFERROR(VLOOKUP(D11550,Справка!$G$2:$H$579,2,0),\"\")","v":""}]
[null,null,null,null,{"$f":"IFERROR(VLOOKUP(D11551,Справка!$G$2:$H$579,2,0),\"\")","v":""}]
[null,null,null,null,{"$f":"IFERROR(VLOOKUP(D11552,Справка!$G$2:$H$579,2,0),\"\")","v":""}]
[null,null,null,null,{"$f":"IFERROR(VLOOKUP(D11553,Справка!$G$2:$H$579,2,0),\"\")","v":""}]
[null,null,null,null,{"$f":"IFERROR(VLOOKUP(D11554,Справка!$G$2:$H$579,2,0),\"\")","v":""}]
[null,null,null,null,{"$f":"IFERROR(VLOOKUP(D11555,Справка!$G$2:$H$579,2,0),\"\")","v":""}]
[null,null,null,null,{"$f":"IFERROR(VLOOKUP(D11556,Справка!$G$2:$H$579,2,0),\"\")","v":""}]
[null,null,null,null,{"$f":"IFERROR(VLOOKUP(D11557,Справка!$G$2:$H$579,2,0),\"\")","v":""}]
[null,null,null,null,{"$f":"IFERROR(VLOOKUP(D11558,Справка!$G$2:$H$579,2,0),\"\")","v":""}]
[null,null,null,null,{"$f":"IFERROR(VLOOKUP(D11559,Справка!$G$2:$H$579,2,0),\"\")","v":""}]
[null,null,null,null,{"$f":"IFERROR(VLOOKUP(D11560,Справка!$G$2:$H$579,2,0),\"\")","v":""}]
[null,null,null,null,{"$f":"IFERROR(VLOOKUP(D11561,Справка!$G$2:$H$579,2,0),\"\")","v":""}]
[null,null,null,null,{"$f":"IFERROR(VLOOKUP(D11562,Справка!$G$2:$H$579,2,0),\"\")","v":""}]
[null,null,null,null,{"$f":"IFERROR(VLOOKUP(D11563,Справка!$G$2:$H$579,2,0),\"\")","v":""}]
[null,null,null,null,{"$f":"IFERROR(VLOOKUP(D11564,Справка!$G$2:$H$579,2,0),\"\")","v":""}]
[null,null,null,null,{"$f":"IFERROR(VLOOKUP(D11565,Справка!$G$2:$H$579,2,0),\"\")","v":""}]
[null,null,null,null,{"$f":"IFERROR(VLOOKUP(D11566,Справка!$G$2:$H$579,2,0),\"\")","v":""}]
[null,null,null,null,{"$f":"IFERROR(VLOOKUP(D11567,Справка!$G$2:$H$579,2,0),\"\")","v":""}]
[null,null,null,null,{"$f":"IFERROR(VLOOKUP(D11568,Справка!$G$2:$H$579,2,0),\"\")","v":""}]
[null,null,null,null,{"$f":"IFERROR(VLOOKUP(D11569,Справка!$G$2:$H$579,2,0),\"\")","v":""}]
[null,null,null,null,{"$f":"IFERROR(VLOOKUP(D11570,Справка!$G$2:$H$579,2,0),\"\")","v":""}]
[null,null,null,null,{"$f":"IFERROR(VLOOKUP(D11571,Справка!$G$2:$H$579,2,0),\"\")","v":""}]
[null,null,null,null,{"$f":"IFERROR(VLOOKUP(D11572,Справка!$G$2:$H$579,2,0),\"\")","v":""}]
[null,null,null,null,{"$f":"IFERROR(VLOOKUP(D11573,Справка!$G$2:$H$579,2,0),\"\")","v":""}]
[null,null,null,null,{"$f":"IFERROR(VLOOKUP(D11574,Справка!$G$2:$H$579,2,0),\"\")","v":""}]
[null,null,null,null,{"$f":"IFERROR(VLOOKUP(D11575,Справка!$G$2:$H$579,2,0),\"\")","v":""}]
[null,null,null,null,{"$f":"IFERROR(VLOOKUP(D11576,Справка!$G$2:$H$579,2,0),\"\")","v":""}]
[null,null,null,null,{"$f":"IFERROR(VLOOKUP(D11577,Справка!$G$2:$H$579,2,0),\"\")","v":""}]
[null,null,null,null,{"$f":"IFERROR(VLOOKUP(D11578,Справка!$G$2:$H$579,2,0),\"\")","v":""}]
[null,null,null,null,{"$f":"IFERROR(VLOOKUP(D11579,Справка!$G$2:$H$579,2,0),\"\")","v":""}]
[null,null,null,null,{"$f":"IFERROR(VLOOKUP(D11580,Справка!$G$2:$H$579,2,0),\"\")","v":""}]
[null,null,null,null,{"$f":"IFERROR(VLOOKUP(D11581,Справка!$G$2:$H$579,2,0),\"\")","v":""}]
[null,null,null,null,{"$f":"IFERROR(VLOOKUP(D11582,Справка!$G$2:$H$579,2,0),\"\")","v":""}]
[null,null,null,null,{"$f":"IFERROR(VLOOKUP(D11583,Справка!$G$2:$H$579,2,0),\"\")","v":""}]
[null,null,null,null,{"$f":"IFERROR(VLOOKUP(D11584,Справка!$G$2:$H$579,2,0),\"\")","v":""}]
[null,null,null,null,{"$f":"IFERROR(VLOOKUP(D11585,Справка!$G$2:$H$579,2,0),\"\")","v":""}]
[null,null,null,null,{"$f":"IFERROR(VLOOKUP(D11586,Справка!$G$2:$H$579,2,0),\"\")","v":""}]
[null,null,null,null,{"$f":"IFERROR(VLOOKUP(D11587,Справка!$G$2:$H$579,2,0),\"\")","v":""}]
[null,null,null,null,{"$f":"IFERROR(VLOOKUP(D11588,Справка!$G$2:$H$579,2,0),\"\")","v":""}]
[null,null,null,null,{"$f":"IFERROR(VLOOKUP(D11589,Справка!$G$2:$H$579,2,0),\"\")","v":""}]
[null,null,null,null,{"$f":"IFERROR(VLOOKUP(D11590,Справка!$G$2:$H$579,2,0),\"\")","v":""}]
[null,null,null,null,{"$f":"IFERROR(VLOOKUP(D11591,Справка!$G$2:$H$579,2,0),\"\")","v":""}]
[null,null,null,null,{"$f":"IFERROR(VLOOKUP(D11592,Справка!$G$2:$H$579,2,0),\"\")","v":""}]
[null,null,null,null,{"$f":"IFERROR(VLOOKUP(D11593,Справка!$G$2:$H$579,2,0),\"\")","v":""}]
[null,null,null,null,{"$f":"IFERROR(VLOOKUP(D11594,Справка!$G$2:$H$579,2,0),\"\")","v":""}]
[null,null,null,null,{"$f":"IFERROR(VLOOKUP(D11595,Справка!$G$2:$H$579,2,0),\"\")","v":""}]
[null,null,null,null,{"$f":"IFERROR(VLOOKUP(D11596,Справка!$G$2:$H$579,2,0),\"\")","v":""}]
[null,null,null,null,{"$f":"IFERROR(VLOOKUP(D11597,Справка!$G$2:$H$579,2,0),\"\")","v":""}]
[null,null,null,null,{"$f":"IFERROR(VLOOKUP(D11598,Справка!$G$2:$H$579,2,0),\"\")","v":""}]
[null,null,null,null,{"$f":"IFERROR(VLOOKUP(D11599,Справка!$G$2:$H$579,2,0),\"\")","v":""}]
[null,null,null,null,{"$f":"IFERROR(VLOOKUP(D11600,Справка!$G$2:$H$579,2,0),\"\")","v":""}]
[null,null,null,null,{"$f":"IFERROR(VLOOKUP(D11601,Справка!$G$2:$H$579,2,0),\"\")","v":""}]
[null,null,null,null,{"$f":"IFERROR(VLOOKUP(D11602,Справка!$G$2:$H$579,2,0),\"\")","v":""}]
[null,null,null,null,{"$f":"IFERROR(VLOOKUP(D11603,Справка!$G$2:$H$579,2,0),\"\")","v":""}]
[null,null,null,null,{"$f":"IFERROR(VLOOKUP(D11604,Справка!$G$2:$H$579,2,0),\"\")","v":""}]
[null,null,null,null,{"$f":"IFERROR(VLOOKUP(D11605,Справка!$G$2:$H$579,2,0),\"\")","v":""}]
[null,null,null,null,{"$f":"IFERROR(VLOOKUP(D11606,Справка!$G$2:$H$579,2,0),\"\")","v":""}]
[null,null,null,null,{"$f":"IFERROR(VLOOKUP(D11607,Справка!$G$2:$H$579,2,0),\"\")","v":""}]
[null,null,null,null,{"$f":"IFERROR(VLOOKUP(D11608,Справка!$G$2:$H$579,2,0),\"\")","v":""}]
[null,null,null,null,{"$f":"IFERROR(VLOOKUP(D11609,Справка!$G$2:$H$579,2,0),\"\")","v":""}]
[null,null,null,null,{"$f":"IFERROR(VLOOKUP(D11610,Справка!$G$2:$H$579,2,0),\"\")","v":""}]
[null,null,null,null,{"$f":"IFERROR(VLOOKUP(D11611,Справка!$G$2:$H$579,2,0),\"\")","v":""}]
[null,null,null,null,{"$f":"IFERROR(VLOOKUP(D11612,Справка!$G$2:$H$579,2,0),\"\")","v":""}]
[null,null,null,null,{"$f":"IFERROR(VLOOKUP(D11613,Справка!$G$2:$H$579,2,0),\"\")","v":""}]
[null,null,null,null,{"$f":"IFERROR(VLOOKUP(D11614,Справка!$G$2:$H$579,2,0),\"\")","v":""}]
[null,null,null,null,{"$f":"IFERROR(VLOOKUP(D11615,Справка!$G$2:$H$579,2,0),\"\")","v":""}]
[null,null,null,null,{"$f":"IFERROR(VLOOKUP(D11616,Справка!$G$2:$H$579,2,0),\"\")","v":""}]
[null,null,null,null,{"$f":"IFERROR(VLOOKUP(D11617,Справка!$G$2:$H$579,2,0),\"\")","v":""}]
[null,null,null,null,{"$f":"IFERROR(VLOOKUP(D11618,Справка!$G$2:$H$579,2,0),\"\")","v":""}]
[null,null,null,null,{"$f":"IFERROR(VLOOKUP(D11619,Справка!$G$2:$H$579,2,0),\"\")","v":""}]
[null,null,null,null,{"$f":"IFERROR(VLOOKUP(D11620,Справка!$G$2:$H$579,2,0),\"\")","v":""}]
[null,null,null,null,{"$f":"IFERROR(VLOOKUP(D11621,Справка!$G$2:$H$579,2,0),\"\")","v":""}]
[null,null,null,null,{"$f":"IFERROR(VLOOKUP(D11622,Справка!$G$2:$H$579,2,0),\"\")","v":""}]
[null,null,null,null,{"$f":"IFERROR(VLOOKUP(D11623,Справка!$G$2:$H$579,2,0),\"\")","v":""}]
[null,null,null,null,{"$f":"IFERROR(VLOOKUP(D11624,Справка!$G$2:$H$579,2,0),\"\")","v":""}]
[null,null,null,null,{"$f":"IFERROR(VLOOKUP(D11625,Справка!$G$2:$H$579,2,0),\"\")","v":""}]
[null,null,null,null,{"$f":"IFERROR(VLOOKUP(D11626,Справка!$G$2:$H$579,2,0),\"\")","v":""}]
[null,null,null,null,{"$f":"IFERROR(VLOOKUP(D11627,Справка!$G$2:$H$579,2,0),\"\")","v":""}]
[null,null,null,null,{"$f":"IFERROR(VLOOKUP(D11628,Справка!$G$2:$H$579,2,0),\"\")","v":""}]
[null,null,null,null,{"$f":"IFERROR(VLOOKUP(D11629,Справка!$G$2:$H$579,2,0),\"\")","v":""}]
[null,null,null,null,{"$f":"IFERROR(VLOOKUP(D11630,Справка!$G$2:$H$579,2,0),\"\")","v":""}]
[null,null,null,null,{"$f":"IFERROR(VLOOKUP(D11631,Справка!$G$2:$H$579,2,0),\"\")","v":""}]
[null,null,null,null,{"$f":"IFERROR(VLOOKUP(D11632,Справка!$G$2:$H$579,2,0),\"\")","v":""}]
[null,null,null,null,{"$f":"IFERROR(VLOOKUP(D11633,Справка!$G$2:$H$579,2,0),\"\")","v":""}]
[null,null,null,null,{"$f":"IFERROR(VLOOKUP(D11634,Справка!$G$2:$H$579,2,0),\"\")","v":""}]
[null,null,null,null,{"$f":"IFERROR(VLOOKUP(D11635,Справка!$G$2:$H$579,2,0),\"\")","v":""}]
[null,null,null,null,{"$f":"IFERROR(VLOOKUP(D11636,Справка!$G$2:$H$579,2,0),\"\")","v":""}]
[null,null,null,null,{"$f":"IFERROR(VLOOKUP(D11637,Справка!$G$2:$H$579,2,0),\"\")","v":""}]
[null,null,null,null,{"$f":"IFERROR(VLOOKUP(D11638,Справка!$G$2:$H$579,2,0),\"\")","v":""}]
[null,null,null,null,{"$f":"IFERROR(VLOOKUP(D11639,Справка!$G$2:$H$579,2,0),\"\")","v":""}]
[null,null,null,null,{"$f":"IFERROR(VLOOKUP(D11640,Справка!$G$2:$H$579,2,0),\"\")","v":""}]
[null,null,null,null,{"$f":"IFERROR(VLOOKUP(D11641,Справка!$G$2:$H$579,2,0),\"\")","v":""}]
[null,null,null,null,{"$f":"IFERROR(VLOOKUP(D11642,Справка!$G$2:$H$579,2,0),\"\")","v":""}]
[null,null,null,null,{"$f":"IFERROR(VLOOKUP(D11643,Справка!$G$2:$H$579,2,0),\"\")","v":""}]
[null,null,null,null,{"$f":"IFERROR(VLOOKUP(D11644,Справка!$G$2:$H$579,2,0),\"\")","v":""}]
[null,null,null,null,{"$f":"IFERROR(VLOOKUP(D11645,Справка!$G$2:$H$579,2,0),\"\")","v":""}]
[null,null,null,null,{"$f":"IFERROR(VLOOKUP(D11646,Справка!$G$2:$H$579,2,0),\"\")","v":""}]
[null,null,null,null,{"$f":"IFERROR(VLOOKUP(D11647,Справка!$G$2:$H$579,2,0),\"\")","v":""}]
[null,null,null,null,{"$f":"IFERROR(VLOOKUP(D11648,Справка!$G$2:$H$579,2,0),\"\")","v":""}]
[null,null,null,null,{"$f":"IFERROR(VLOOKUP(D11649,Справка!$G$2:$H$579,2,0),\"\")","v":""}]
[null,null,null,null,{"$f":"IFERROR(VLOOKUP(D11650,Справка!$G$2:$H$579,2,0),\"\")","v":""}]
[null,null,null,null,{"$f":"IFERROR(VLOOKUP(D11651,Справка!$G$2:$H$579,2,0),\"\")","v":""}]
[null,null,null,null,{"$f":"IFERROR(VLOOKUP(D11652,Справка!$G$2:$H$579,2,0),\"\")","v":""}]
[null,null,null,null,{"$f":"IFERROR(VLOOKUP(D11653,Справка!$G$2:$H$579,2,0),\"\")","v":""}]
[null,null,null,null,{"$f":"IFERROR(VLOOKUP(D11654,Справка!$G$2:$H$579,2,0),\"\")","v":""}]
[null,null,null,null,{"$f":"IFERROR(VLOOKUP(D11655,Справка!$G$2:$H$579,2,0),\"\")","v":""}]
[null,null,null,null,{"$f":"IFERROR(VLOOKUP(D11656,Справка!$G$2:$H$579,2,0),\"\")","v":""}]
[null,null,null,null,{"$f":"IFERROR(VLOOKUP(D11657,Справка!$G$2:$H$579,2,0),\"\")","v":""}]
[null,null,null,null,{"$f":"IFERROR(VLOOKUP(D11658,Справка!$G$2:$H$579,2,0),\"\")","v":""}]
[null,null,null,null,{"$f":"IFERROR(VLOOKUP(D11659,Справка!$G$2:$H$579,2,0),\"\")","v":""}]
[null,null,null,null,{"$f":"IFERROR(VLOOKUP(D11660,Справка!$G$2:$H$579,2,0),\"\")","v":""}]
[null,null,null,null,{"$f":"IFERROR(VLOOKUP(D11661,Справка!$G$2:$H$579,2,0),\"\")","v":""}]
[null,null,null,null,{"$f":"IFERROR(VLOOKUP(D11662,Справка!$G$2:$H$579,2,0),\"\")","v":""}]
[null,null,null,null,{"$f":"IFERROR(VLOOKUP(D11663,Справка!$G$2:$H$579,2,0),\"\")","v":""}]
[null,null,null,null,{"$f":"IFERROR(VLOOKUP(D11664,Справка!$G$2:$H$579,2,0),\"\")","v":""}]
[null,null,null,null,{"$f":"IFERROR(VLOOKUP(D11665,Справка!$G$2:$H$579,2,0),\"\")","v":""}]
[null,null,null,null,{"$f":"IFERROR(VLOOKUP(D11666,Справка!$G$2:$H$579,2,0),\"\")","v":""}]
[null,null,null,null,{"$f":"IFERROR(VLOOKUP(D11667,Справка!$G$2:$H$579,2,0),\"\")","v":""}]
[null,null,null,null,{"$f":"IFERROR(VLOOKUP(D11668,Справка!$G$2:$H$579,2,0),\"\")","v":""}]
[null,null,null,null,{"$f":"IFERROR(VLOOKUP(D11669,Справка!$G$2:$H$579,2,0),\"\")","v":""}]
[null,null,null,null,{"$f":"IFERROR(VLOOKUP(D11670,Справка!$G$2:$H$579,2,0),\"\")","v":""}]
[null,null,null,null,{"$f":"IFERROR(VLOOKUP(D11671,Справка!$G$2:$H$579,2,0),\"\")","v":""}]
[null,null,null,null,{"$f":"IFERROR(VLOOKUP(D11672,Справка!$G$2:$H$579,2,0),\"\")","v":""}]
[null,null,null,null,{"$f":"IFERROR(VLOOKUP(D11673,Справка!$G$2:$H$579,2,0),\"\")","v":""}]
[null,null,null,null,{"$f":"IFERROR(VLOOKUP(D11674,Справка!$G$2:$H$579,2,0),\"\")","v":""}]
[null,null,null,null,{"$f":"IFERROR(VLOOKUP(D11675,Справка!$G$2:$H$579,2,0),\"\")","v":""}]
[null,null,null,null,{"$f":"IFERROR(VLOOKUP(D11676,Справка!$G$2:$H$579,2,0),\"\")","v":""}]
[null,null,null,null,{"$f":"IFERROR(VLOOKUP(D11677,Справка!$G$2:$H$579,2,0),\"\")","v":""}]
[null,null,null,null,{"$f":"IFERROR(VLOOKUP(D11678,Справка!$G$2:$H$579,2,0),\"\")","v":""}]
[null,null,null,null,{"$f":"IFERROR(VLOOKUP(D11679,Справка!$G$2:$H$579,2,0),\"\")","v":""}]
[null,null,null,null,{"$f":"IFERROR(VLOOKUP(D11680,Справка!$G$2:$H$579,2,0),\"\")","v":""}]
[null,null,null,null,{"$f":"IFERROR(VLOOKUP(D11681,Справка!$G$2:$H$579,2,0),\"\")","v":""}]
[null,null,null,null,{"$f":"IFERROR(VLOOKUP(D11682,Справка!$G$2:$H$579,2,0),\"\")","v":""}]
[null,null,null,null,{"$f":"IFERROR(VLOOKUP(D11683,Справка!$G$2:$H$579,2,0),\"\")","v":""}]
[null,null,null,null,{"$f":"IFERROR(VLOOKUP(D11684,Справка!$G$2:$H$579,2,0),\"\")","v":""}]
[null,null,null,null,{"$f":"IFERROR(VLOOKUP(D11685,Справка!$G$2:$H$579,2,0),\"\")","v":""}]
[null,null,null,null,{"$f":"IFERROR(VLOOKUP(D11686,Справка!$G$2:$H$579,2,0),\"\")","v":""}]
[null,null,null,null,{"$f":"IFERROR(VLOOKUP(D11687,Справка!$G$2:$H$579,2,0),\"\")","v":""}]
[null,null,null,null,{"$f":"IFERROR(VLOOKUP(D11688,Справка!$G$2:$H$579,2,0),\"\")","v":""}]
[null,null,null,null,{"$f":"IFERROR(VLOOKUP(D11689,Справка!$G$2:$H$579,2,0),\"\")","v":""}]
[null,null,null,null,{"$f":"IFERROR(VLOOKUP(D11690,Справка!$G$2:$H$579,2,0),\"\")","v":""}]
[null,null,null,null,{"$f":"IFERROR(VLOOKUP(D11691,Справка!$G$2:$H$579,2,0),\"\")","v":""}]
[null,null,null,null,{"$f":"IFERROR(VLOOKUP(D11692,Справка!$G$2:$H$579,2,0),\"\")","v":""}]
[null,null,null,null,{"$f":"IFERROR(VLOOKUP(D11693,Справка!$G$2:$H$579,2,0),\"\")","v":""}]
[null,null,null,null,{"$f":"IFERROR(VLOOKUP(D11694,Справка!$G$2:$H$579,2,0),\"\")","v":""}]
[null,null,null,null,{"$f":"IFERROR(VLOOKUP(D11695,Справка!$G$2:$H$579,2,0),\"\")","v":""}]
[null,null,null,null,{"$f":"IFERROR(VLOOKUP(D11696,Справка!$G$2:$H$579,2,0),\"\")","v":""}]
[null,null,null,null,{"$f":"IFERROR(VLOOKUP(D11697,Справка!$G$2:$H$579,2,0),\"\")","v":""}]
[null,null,null,null,{"$f":"IFERROR(VLOOKUP(D11698,Справка!$G$2:$H$579,2,0),\"\")","v":""}]
[null,null,null,null,{"$f":"IFERROR(VLOOKUP(D11699,Справка!$G$2:$H$579,2,0),\"\")","v":""}]
[null,null,null,null,{"$f":"IFERROR(VLOOKUP(D11700,Справка!$G$2:$H$579,2,0),\"\")","v":""}]
[null,null,null,null,{"$f":"IFERROR(VLOOKUP(D11701,Справка!$G$2:$H$579,2,0),\"\")","v":""}]
[null,null,null,null,{"$f":"IFERROR(VLOOKUP(D11702,Справка!$G$2:$H$579,2,0),\"\")","v":""}]
[null,null,null,null,{"$f":"IFERROR(VLOOKUP(D11703,Справка!$G$2:$H$579,2,0),\"\")","v":""}]
[null,null,null,null,{"$f":"IFERROR(VLOOKUP(D11704,Справка!$G$2:$H$579,2,0),\"\")","v":""}]
[null,null,null,null,{"$f":"IFERROR(VLOOKUP(D11705,Справка!$G$2:$H$579,2,0),\"\")","v":""}]
[null,null,null,null,{"$f":"IFERROR(VLOOKUP(D11706,Справка!$G$2:$H$579,2,0),\"\")","v":""}]
[null,null,null,null,{"$f":"IFERROR(VLOOKUP(D11707,Справка!$G$2:$H$579,2,0),\"\")","v":""}]
[null,null,null,null,{"$f":"IFERROR(VLOOKUP(D11708,Справка!$G$2:$H$579,2,0),\"\")","v":""}]
[null,null,null,null,{"$f":"IFERROR(VLOOKUP(D11709,Справка!$G$2:$H$579,2,0),\"\")","v":""}]
[null,null,null,null,{"$f":"IFERROR(VLOOKUP(D11710,Справка!$G$2:$H$579,2,0),\"\")","v":""}]
[null,null,null,null,{"$f":"IFERROR(VLOOKUP(D11711,Справка!$G$2:$H$579,2,0),\"\")","v":""}]
[null,null,null,null,{"$f":"IFERROR(VLOOKUP(D11712,Справка!$G$2:$H$579,2,0),\"\")","v":""}]
[null,null,null,null,{"$f":"IFERROR(VLOOKUP(D11713,Справка!$G$2:$H$579,2,0),\"\")","v":""}]
[null,null,null,null,{"$f":"IFERROR(VLOOKUP(D11714,Справка!$G$2:$H$579,2,0),\"\")","v":""}]
[null,null,null,null,{"$f":"IFERROR(VLOOKUP(D11715,Справка!$G$2:$H$579,2,0),\"\")","v":""}]
[null,null,null,null,{"$f":"IFERROR(VLOOKUP(D11716,Справка!$G$2:$H$579,2,0),\"\")","v":""}]
[null,null,null,null,{"$f":"IFERROR(VLOOKUP(D11717,Справка!$G$2:$H$579,2,0),\"\")","v":""}]
[null,null,null,null,{"$f":"IFERROR(VLOOKUP(D11718,Справка!$G$2:$H$579,2,0),\"\")","v":""}]
[null,null,null,null,{"$f":"IFERROR(VLOOKUP(D11719,Справка!$G$2:$H$579,2,0),\"\")","v":""}]
[null,null,null,null,{"$f":"IFERROR(VLOOKUP(D11720,Справка!$G$2:$H$579,2,0),\"\")","v":""}]
[null,null,null,null,{"$f":"IFERROR(VLOOKUP(D11721,Справка!$G$2:$H$579,2,0),\"\")","v":""}]
[null,null,null,null,{"$f":"IFERROR(VLOOKUP(D11722,Справка!$G$2:$H$579,2,0),\"\")","v":""}]
[null,null,null,null,{"$f":"IFERROR(VLOOKUP(D11723,Справка!$G$2:$H$579,2,0),\"\")","v":""}]
[null,null,null,null,{"$f":"IFERROR(VLOOKUP(D11724,Справка!$G$2:$H$579,2,0),\"\")","v":""}]
[null,null,null,null,{"$f":"IFERROR(VLOOKUP(D11725,Справка!$G$2:$H$579,2,0),\"\")","v":""}]
[null,null,null,null,{"$f":"IFERROR(VLOOKUP(D11726,Справка!$G$2:$H$579,2,0),\"\")","v":""}]
[null,null,null,null,{"$f":"IFERROR(VLOOKUP(D11727,Справка!$G$2:$H$579,2,0),\"\")","v":""}]
[null,null,null,null,{"$f":"IFERROR(VLOOKUP(D11728,Справка!$G$2:$H$579,2,0),\"\")","v":""}]
[null,null,null,null,{"$f":"IFERROR(VLOOKUP(D11729,Справка!$G$2:$H$579,2,0),\"\")","v":""}]
[null,null,null,null,{"$f":"IFERROR(VLOOKUP(D11730,Справка!$G$2:$H$579,2,0),\"\")","v":""}]
[null,null,null,null,{"$f":"IFERROR(VLOOKUP(D11731,Справка!$G$2:$H$579,2,0),\"\")","v":""}]
[null,null,null,null,{"$f":"IFERROR(VLOOKUP(D11732,Справка!$G$2:$H$579,2,0),\"\")","v":""}]
[null,null,null,null,{"$f":"IFERROR(VLOOKUP(D11733,Справка!$G$2:$H$579,2,0),\"\")","v":""}]
[null,null,null,null,{"$f":"IFERROR(VLOOKUP(D11734,Справка!$G$2:$H$579,2,0),\"\")","v":""}]
[null,null,null,null,{"$f":"IFERROR(VLOOKUP(D11735,Справка!$G$2:$H$579,2,0),\"\")","v":""}]
[null,null,null,null,{"$f":"IFERROR(VLOOKUP(D11736,Справка!$G$2:$H$579,2,0),\"\")","v":""}]
[null,null,null,null,{"$f":"IFERROR(VLOOKUP(D11737,Справка!$G$2:$H$579,2,0),\"\")","v":""}]
[null,null,null,null,{"$f":"IFERROR(VLOOKUP(D11738,Справка!$G$2:$H$579,2,0),\"\")","v":""}]
[null,null,null,null,{"$f":"IFERROR(VLOOKUP(D11739,Справка!$G$2:$H$579,2,0),\"\")","v":""}]
[null,null,null,null,{"$f":"IFERROR(VLOOKUP(D11740,Справка!$G$2:$H$579,2,0),\"\")","v":""}]
[null,null,null,null,{"$f":"IFERROR(VLOOKUP(D11741,Справка!$G$2:$H$579,2,0),\"\")","v":""}]
[null,null,null,null,{"$f":"IFERROR(VLOOKUP(D11742,Справка!$G$2:$H$579,2,0),\"\")","v":""}]
[null,null,null,null,{"$f":"IFERROR(VLOOKUP(D11743,Справка!$G$2:$H$579,2,0),\"\")","v":""}]
[null,null,null,null,{"$f":"IFERROR(VLOOKUP(D11744,Справка!$G$2:$H$579,2,0),\"\")","v":""}]
[null,null,null,null,{"$f":"IFERROR(VLOOKUP(D11745,Справка!$G$2:$H$579,2,0),\"\")","v":""}]
[null,null,null,null,{"$f":"IFERROR(VLOOKUP(D11746,Справка!$G$2:$H$579,2,0),\"\")","v":""}]
[null,null,null,null,{"$f":"IFERROR(VLOOKUP(D11747,Справка!$G$2:$H$579,2,0),\"\")","v":""}]
[null,null,null,null,{"$f":"IFERROR(VLOOKUP(D11748,Справка!$G$2:$H$579,2,0),\"\")","v":""}]
[null,null,null,null,{"$f":"IFERROR(VLOOKUP(D11749,Справка!$G$2:$H$579,2,0),\"\")","v":""}]
[null,null,null,null,{"$f":"IFERROR(VLOOKUP(D11750,Справка!$G$2:$H$579,2,0),\"\")","v":""}]
[null,null,null,null,{"$f":"IFERROR(VLOOKUP(D11751,Справка!$G$2:$H$579,2,0),\"\")","v":""}]
[null,null,null,null,{"$f":"IFERROR(VLOOKUP(D11752,Справка!$G$2:$H$579,2,0),\"\")","v":""}]
[null,null,null,null,{"$f":"IFERROR(VLOOKUP(D11753,Справка!$G$2:$H$579,2,0),\"\")","v":""}]
[null,null,null,null,{"$f":"IFERROR(VLOOKUP(D11754,Справка!$G$2:$H$579,2,0),\"\")","v":""}]
[null,null,null,null,{"$f":"IFERROR(VLOOKUP(D11755,Справка!$G$2:$H$579,2,0),\"\")","v":""}]
[null,null,null,null,{"$f":"IFERROR(VLOOKUP(D11756,Справка!$G$2:$H$579,2,0),\"\")","v":""}]
[null,null,null,null,{"$f":"IFERROR(VLOOKUP(D11757,Справка!$G$2:$H$579,2,0),\"\")","v":""}]
[null,null,null,null,{"$f":"IFERROR(VLOOKUP(D11758,Справка!$G$2:$H$579,2,0),\"\")","v":""}]
[null,null,null,null,{"$f":"IFERROR(VLOOKUP(D11759,Справка!$G$2:$H$579,2,0),\"\")","v":""}]
[null,null,null,null,{"$f":"IFERROR(VLOOKUP(D11760,Справка!$G$2:$H$579,2,0),\"\")","v":""}]
[null,null,null,null,{"$f":"IFERROR(VLOOKUP(D11761,Справка!$G$2:$H$579,2,0),\"\")","v":""}]
[null,null,null,null,{"$f":"IFERROR(VLOOKUP(D11762,Справка!$G$2:$H$579,2,0),\"\")","v":""}]
[null,null,null,null,{"$f":"IFERROR(VLOOKUP(D11763,Справка!$G$2:$H$579,2,0),\"\")","v":""}]
[null,null,null,null,{"$f":"IFERROR(VLOOKUP(D11764,Справка!$G$2:$H$579,2,0),\"\")","v":""}]
[null,null,null,null,{"$f":"IFERROR(VLOOKUP(D11765,Справка!$G$2:$H$579,2,0),\"\")","v":""}]
[null,null,null,null,{"$f":"IFERROR(VLOOKUP(D11766,Справка!$G$2:$H$579,2,0),\"\")","v":""}]
[null,null,null,null,{"$f":"IFERROR(VLOOKUP(D11767,Справка!$G$2:$H$579,2,0),\"\")","v":""}]
[null,null,null,null,{"$f":"IFERROR(VLOOKUP(D11768,Справка!$G$2:$H$579,2,0),\"\")","v":""}]
[null,null,null,null,{"$f":"IFERROR(VLOOKUP(D11769,Справка!$G$2:$H$579,2,0),\"\")","v":""}]
[null,null,null,null,{"$f":"IFERROR(VLOOKUP(D11770,Справка!$G$2:$H$579,2,0),\"\")","v":""}]
[null,null,null,null,{"$f":"IFERROR(VLOOKUP(D11771,Справка!$G$2:$H$579,2,0),\"\")","v":""}]
[null,null,null,null,{"$f":"IFERROR(VLOOKUP(D11772,Справка!$G$2:$H$579,2,0),\"\")","v":""}]
[null,null,null,null,{"$f":"IFERROR(VLOOKUP(D11773,Справка!$G$2:$H$579,2,0),\"\")","v":""}]
[null,null,null,null,{"$f":"IFERROR(VLOOKUP(D11774,Справка!$G$2:$H$579,2,0),\"\")","v":""}]
[null,null,null,null,{"$f":"IFERROR(VLOOKUP(D11775,Справка!$G$2:$H$579,2,0),\"\")","v":""}]
[null,null,null,null,{"$f":"IFERROR(VLOOKUP(D11776,Справка!$G$2:$H$579,2,0),\"\")","v":""}]
[null,null,null,null,{"$f":"IFERROR(VLOOKUP(D11777,Справка!$G$2:$H$579,2,0),\"\")","v":""}]
[null,null,null,null,{"$f":"IFERROR(VLOOKUP(D11778,Справка!$G$2:$H$579,2,0),\"\")","v":""}]
[null,null,null,null,{"$f":"IFERROR(VLOOKUP(D11779,Справка!$G$2:$H$579,2,0),\"\")","v":""}]
[null,null,null,null,{"$f":"IFERROR(VLOOKUP(D11780,Справка!$G$2:$H$579,2,0),\"\")","v":""}]
[null,null,null,null,{"$f":"IFERROR(VLOOKUP(D11781,Справка!$G$2:$H$579,2,0),\"\")","v":""}]
[null,null,null,null,{"$f":"IFERROR(VLOOKUP(D11782,Справка!$G$2:$H$579,2,0),\"\")","v":""}]
[null,null,null,null,{"$f":"IFERROR(VLOOKUP(D11783,Справка!$G$2:$H$579,2,0),\"\")","v":""}]
[null,null,null,null,{"$f":"IFERROR(VLOOKUP(D11784,Справка!$G$2:$H$579,2,0),\"\")","v":""}]
[null,null,null,null,{"$f":"IFERROR(VLOOKUP(D11785,Справка!$G$2:$H$579,2,0),\"\")","v":""}]
[null,null,null,null,{"$f":"IFERROR(VLOOKUP(D11786,Справка!$G$2:$H$579,2,0),\"\")","v":""}]
[null,null,null,null,{"$f":"IFERROR(VLOOKUP(D11787,Справка!$G$2:$H$579,2,0),\"\")","v":""}]
[null,null,null,null,{"$f":"IFERROR(VLOOKUP(D11788,Справка!$G$2:$H$579,2,0),\"\")","v":""}]
[null,null,null,null,{"$f":"IFERROR(VLOOKUP(D11789,Справка!$G$2:$H$579,2,0),\"\")","v":""}]
[null,null,null,null,{"$f":"IFERROR(VLOOKUP(D11790,Справка!$G$2:$H$579,2,0),\"\")","v":""}]
[null,null,null,null,{"$f":"IFERROR(VLOOKUP(D11791,Справка!$G$2:$H$579,2,0),\"\")","v":""}]
[null,null,null,null,{"$f":"IFERROR(VLOOKUP(D11792,Справка!$G$2:$H$579,2,0),\"\")","v":""}]
[null,null,null,null,{"$f":"IFERROR(VLOOKUP(D11793,Справка!$G$2:$H$579,2,0),\"\")","v":""}]
[null,null,null,null,{"$f":"IFERROR(VLOOKUP(D11794,Справка!$G$2:$H$579,2,0),\"\")","v":""}]
[null,null,null,null,{"$f":"IFERROR(VLOOKUP(D11795,Справка!$G$2:$H$579,2,0),\"\")","v":""}]
[null,null,null,null,{"$f":"IFERROR(VLOOKUP(D11796,Справка!$G$2:$H$579,2,0),\"\")","v":""}]
[null,null,null,null,{"$f":"IFERROR(VLOOKUP(D11797,Справка!$G$2:$H$579,2,0),\"\")","v":""}]
[null,null,null,null,{"$f":"IFERROR(VLOOKUP(D11798,Справка!$G$2:$H$579,2,0),\"\")","v":""}]
[null,null,null,null,{"$f":"IFERROR(VLOOKUP(D11799,Справка!$G$2:$H$579,2,0),\"\")","v":""}]
[null,null,null,null,{"$f":"IFERROR(VLOOKUP(D11800,Справка!$G$2:$H$579,2,0),\"\")","v":""}]
[null,null,null,null,{"$f":"IFERROR(VLOOKUP(D11801,Справка!$G$2:$H$579,2,0),\"\")","v":""}]
[null,null,null,null,{"$f":"IFERROR(VLOOKUP(D11802,Справка!$G$2:$H$579,2,0),\"\")","v":""}]
[null,null,null,null,{"$f":"IFERROR(VLOOKUP(D11803,Справка!$G$2:$H$579,2,0),\"\")","v":""}]
[null,null,null,null,{"$f":"IFERROR(VLOOKUP(D11804,Справка!$G$2:$H$579,2,0),\"\")","v":""}]
[null,null,null,null,{"$f":"IFERROR(VLOOKUP(D11805,Справка!$G$2:$H$579,2,0),\"\")","v":""}]
[null,null,null,null,{"$f":"IFERROR(VLOOKUP(D11806,Справка!$G$2:$H$579,2,0),\"\")","v":""}]
[null,null,null,null,{"$f":"IFERROR(VLOOKUP(D11807,Справка!$G$2:$H$579,2,0),\"\")","v":""}]
[null,null,null,null,{"$f":"IFERROR(VLOOKUP(D11808,Справка!$G$2:$H$579,2,0),\"\")","v":""}]
[null,null,null,null,{"$f":"IFERROR(VLOOKUP(D11809,Справка!$G$2:$H$579,2,0),\"\")","v":""}]
[null,null,null,null,{"$f":"IFERROR(VLOOKUP(D11810,Справка!$G$2:$H$579,2,0),\"\")","v":""}]
[null,null,null,null,{"$f":"IFERROR(VLOOKUP(D11811,Справка!$G$2:$H$579,2,0),\"\")","v":""}]
[null,null,null,null,{"$f":"IFERROR(VLOOKUP(D11812,Справка!$G$2:$H$579,2,0),\"\")","v":""}]
[null,null,null,null,{"$f":"IFERROR(VLOOKUP(D11813,Справка!$G$2:$H$579,2,0),\"\")","v":""}]
[null,null,null,null,{"$f":"IFERROR(VLOOKUP(D11814,Справка!$G$2:$H$579,2,0),\"\")","v":""}]
[null,null,null,null,{"$f":"IFERROR(VLOOKUP(D11815,Справка!$G$2:$H$579,2,0),\"\")","v":""}]
[null,null,null,null,{"$f":"IFERROR(VLOOKUP(D11816,Справка!$G$2:$H$579,2,0),\"\")","v":""}]
[null,null,null,null,{"$f":"IFERROR(VLOOKUP(D11817,Справка!$G$2:$H$579,2,0),\"\")","v":""}]
[null,null,null,null,{"$f":"IFERROR(VLOOKUP(D11818,Справка!$G$2:$H$579,2,0),\"\")","v":""}]
[null,null,null,null,{"$f":"IFERROR(VLOOKUP(D11819,Справка!$G$2:$H$579,2,0),\"\")","v":""}]
[null,null,null,null,{"$f":"IFERROR(VLOOKUP(D11820,Справка!$G$2:$H$579,2,0),\"\")","v":""}]
[null,null,null,null,{"$f":"IFERROR(VLOOKUP(D11821,Справка!$G$2:$H$579,2,0),\"\")","v":""}]
[null,null,null,null,{"$f":"IFERROR(VLOOKUP(D11822,Справка!$G$2:$H$579,2,0),\"\")","v":""}]
[null,null,null,null,{"$f":"IFERROR(VLOOKUP(D11823,Справка!$G$2:$H$579,2,0),\"\")","v":""}]
[null,null,null,null,{"$f":"IFERROR(VLOOKUP(D11824,Справка!$G$2:$H$579,2,0),\"\")","v":""}]
[null,null,null,null,{"$f":"IFERROR(VLOOKUP(D11825,Справка!$G$2:$H$579,2,0),\"\")","v":""}]
[null,null,null,null,{"$f":"IFERROR(VLOOKUP(D11826,Справка!$G$2:$H$579,2,0),\"\")","v":""}]
[null,null,null,null,{"$f":"IFERROR(VLOOKUP(D11827,Справка!$G$2:$H$579,2,0),\"\")","v":""}]
[null,null,null,null,{"$f":"IFERROR(VLOOKUP(D11828,Справка!$G$2:$H$579,2,0),\"\")","v":""}]
[null,null,null,null,{"$f":"IFERROR(VLOOKUP(D11829,Справка!$G$2:$H$579,2,0),\"\")","v":""}]
[null,null,null,null,{"$f":"IFERROR(VLOOKUP(D11830,Справка!$G$2:$H$579,2,0),\"\")","v":""}]
[null,null,null,null,{"$f":"IFERROR(VLOOKUP(D11831,Справка!$G$2:$H$579,2,0),\"\")","v":""}]
[null,null,null,null,{"$f":"IFERROR(VLOOKUP(D11832,Справка!$G$2:$H$579,2,0),\"\")","v":""}]
[null,null,null,null,{"$f":"IFERROR(VLOOKUP(D11833,Справка!$G$2:$H$579,2,0),\"\")","v":""}]
[null,null,null,null,{"$f":"IFERROR(VLOOKUP(D11834,Справка!$G$2:$H$579,2,0),\"\")","v":""}]
[null,null,null,null,{"$f":"IFERROR(VLOOKUP(D11835,Справка!$G$2:$H$579,2,0),\"\")","v":""}]
[null,null,null,null,{"$f":"IFERROR(VLOOKUP(D11836,Справка!$G$2:$H$579,2,0),\"\")","v":""}]
[null,null,null,null,{"$f":"IFERROR(VLOOKUP(D11837,Справка!$G$2:$H$579,2,0),\"\")","v":""}]
[null,null,null,null,{"$f":"IFERROR(VLOOKUP(D11838,Справка!$G$2:$H$579,2,0),\"\")","v":""}]
[null,null,null,null,{"$f":"IFERROR(VLOOKUP(D11839,Справка!$G$2:$H$579,2,0),\"\")","v":""}]
[null,null,null,null,{"$f":"IFERROR(VLOOKUP(D11840,Справка!$G$2:$H$579,2,0),\"\")","v":""}]
[null,null,null,null,{"$f":"IFERROR(VLOOKUP(D11841,Справка!$G$2:$H$579,2,0),\"\")","v":""}]
[null,null,null,null,{"$f":"IFERROR(VLOOKUP(D11842,Справка!$G$2:$H$579,2,0),\"\")","v":""}]
[null,null,null,null,{"$f":"IFERROR(VLOOKUP(D11843,Справка!$G$2:$H$579,2,0),\"\")","v":""}]
[null,null,null,null,{"$f":"IFERROR(VLOOKUP(D11844,Справка!$G$2:$H$579,2,0),\"\")","v":""}]
[null,null,null,null,{"$f":"IFERROR(VLOOKUP(D11845,Справка!$G$2:$H$579,2,0),\"\")","v":""}]
[null,null,null,null,{"$f":"IFERROR(VLOOKUP(D11846,Справка!$G$2:$H$579,2,0),\"\")","v":""}]
[null,null,null,null,{"$f":"IFERROR(VLOOKUP(D11847,Справка!$G$2:$H$579,2,0),\"\")","v":""}]
[null,null,null,null,{"$f":"IFERROR(VLOOKUP(D11848,Справка!$G$2:$H$579,2,0),\"\")","v":""}]
[null,null,null,null,{"$f":"IFERROR(VLOOKUP(D11849,Справка!$G$2:$H$579,2,0),\"\")","v":""}]
[null,null,null,null,{"$f":"IFERROR(VLOOKUP(D11850,Справка!$G$2:$H$579,2,0),\"\")","v":""}]
[null,null,null,null,{"$f":"IFERROR(VLOOKUP(D11851,Справка!$G$2:$H$579,2,0),\"\")","v":""}]
[null,null,null,null,{"$f":"IFERROR(VLOOKUP(D11852,Справка!$G$2:$H$579,2,0),\"\")","v":""}]
[null,null,null,null,{"$f":"IFERROR(VLOOKUP(D11853,Справка!$G$2:$H$579,2,0),\"\")","v":""}]
[null,null,null,null,{"$f":"IFERROR(VLOOKUP(D11854,Справка!$G$2:$H$579,2,0),\"\")","v":""}]
[null,null,null,null,{"$f":"IFERROR(VLOOKUP(D11855,Справка!$G$2:$H$579,2,0),\"\")","v":""}]
[null,null,null,null,{"$f":"IFERROR(VLOOKUP(D11856,Справка!$G$2:$H$579,2,0),\"\")","v":""}]
[null,null,null,null,{"$f":"IFERROR(VLOOKUP(D11857,Справка!$G$2:$H$579,2,0),\"\")","v":""}]
[null,null,null,null,{"$f":"IFERROR(VLOOKUP(D11858,Справка!$G$2:$H$579,2,0),\"\")","v":""}]
[null,null,null,null,{"$f":"IFERROR(VLOOKUP(D11859,Справка!$G$2:$H$579,2,0),\"\")","v":""}]
[null,null,null,null,{"$f":"IFERROR(VLOOKUP(D11860,Справка!$G$2:$H$579,2,0),\"\")","v":""}]
[null,null,null,null,{"$f":"IFERROR(VLOOKUP(D11861,Справка!$G$2:$H$579,2,0),\"\")","v":""}]
[null,null,null,null,{"$f":"IFERROR(VLOOKUP(D11862,Справка!$G$2:$H$579,2,0),\"\")","v":""}]
[null,null,null,null,{"$f":"IFERROR(VLOOKUP(D11863,Справка!$G$2:$H$579,2,0),\"\")","v":""}]
[null,null,null,null,{"$f":"IFERROR(VLOOKUP(D11864,Справка!$G$2:$H$579,2,0),\"\")","v":""}]
[null,null,null,null,{"$f":"IFERROR(VLOOKUP(D11865,Справка!$G$2:$H$579,2,0),\"\")","v":""}]
[null,null,null,null,{"$f":"IFERROR(VLOOKUP(D11866,Справка!$G$2:$H$579,2,0),\"\")","v":""}]
[null,null,null,null,{"$f":"IFERROR(VLOOKUP(D11867,Справка!$G$2:$H$579,2,0),\"\")","v":""}]
[null,null,null,null,{"$f":"IFERROR(VLOOKUP(D11868,Справка!$G$2:$H$579,2,0),\"\")","v":""}]
[null,null,null,null,{"$f":"IFERROR(VLOOKUP(D11869,Справка!$G$2:$H$579,2,0),\"\")","v":""}]
[null,null,null,null,{"$f":"IFERROR(VLOOKUP(D11870,Справка!$G$2:$H$579,2,0),\"\")","v":""}]
[null,null,null,null,{"$f":"IFERROR(VLOOKUP(D11871,Справка!$G$2:$H$579,2,0),\"\")","v":""}]
[null,null,null,null,{"$f":"IFERROR(VLOOKUP(D11872,Справка!$G$2:$H$579,2,0),\"\")","v":""}]
[null,null,null,null,{"$f":"IFERROR(VLOOKUP(D11873,Справка!$G$2:$H$579,2,0),\"\")","v":""}]
[null,null,null,null,{"$f":"IFERROR(VLOOKUP(D11874,Справка!$G$2:$H$579,2,0),\"\")","v":""}]
[null,null,null,null,{"$f":"IFERROR(VLOOKUP(D11875,Справка!$G$2:$H$579,2,0),\"\")","v":""}]
[null,null,null,null,{"$f":"IFERROR(VLOOKUP(D11876,Справка!$G$2:$H$579,2,0),\"\")","v":""}]
[null,null,null,null,{"$f":"IFERROR(VLOOKUP(D11877,Справка!$G$2:$H$579,2,0),\"\")","v":""}]
[null,null,null,null,{"$f":"IFERROR(VLOOKUP(D11878,Справка!$G$2:$H$579,2,0),\"\")","v":""}]
[null,null,null,null,{"$f":"IFERROR(VLOOKUP(D11879,Справка!$G$2:$H$579,2,0),\"\")","v":""}]
[null,null,null,null,{"$f":"IFERROR(VLOOKUP(D11880,Справка!$G$2:$H$579,2,0),\"\")","v":""}]
[null,null,null,null,{"$f":"IFERROR(VLOOKUP(D11881,Справка!$G$2:$H$579,2,0),\"\")","v":""}]
[null,null,null,null,{"$f":"IFERROR(VLOOKUP(D11882,Справка!$G$2:$H$579,2,0),\"\")","v":""}]
[null,null,null,null,{"$f":"IFERROR(VLOOKUP(D11883,Справка!$G$2:$H$579,2,0),\"\")","v":""}]
[null,null,null,null,{"$f":"IFERROR(VLOOKUP(D11884,Справка!$G$2:$H$579,2,0),\"\")","v":""}]
[null,null,null,null,{"$f":"IFERROR(VLOOKUP(D11885,Справка!$G$2:$H$579,2,0),\"\")","v":""}]
[null,null,null,null,{"$f":"IFERROR(VLOOKUP(D11886,Справка!$G$2:$H$579,2,0),\"\")","v":""}]
[null,null,null,null,{"$f":"IFERROR(VLOOKUP(D11887,Справка!$G$2:$H$579,2,0),\"\")","v":""}]
[null,null,null,null,{"$f":"IFERROR(VLOOKUP(D11888,Справка!$G$2:$H$579,2,0),\"\")","v":""}]
[null,null,null,null,{"$f":"IFERROR(VLOOKUP(D11889,Справка!$G$2:$H$579,2,0),\"\")","v":""}]
[null,null,null,null,{"$f":"IFERROR(VLOOKUP(D11890,Справка!$G$2:$H$579,2,0),\"\")","v":""}]
[null,null,null,null,{"$f":"IFERROR(VLOOKUP(D11891,Справка!$G$2:$H$579,2,0),\"\")","v":""}]
[null,null,null,null,{"$f":"IFERROR(VLOOKUP(D11892,Справка!$G$2:$H$579,2,0),\"\")","v":""}]
[null,null,null,null,{"$f":"IFERROR(VLOOKUP(D11893,Справка!$G$2:$H$579,2,0),\"\")","v":""}]
[null,null,null,null,{"$f":"IFERROR(VLOOKUP(D11894,Справка!$G$2:$H$579,2,0),\"\")","v":""}]
[null,null,null,null,{"$f":"IFERROR(VLOOKUP(D11895,Справка!$G$2:$H$579,2,0),\"\")","v":""}]
[null,null,null,null,{"$f":"IFERROR(VLOOKUP(D11896,Справка!$G$2:$H$579,2,0),\"\")","v":""}]
[null,null,null,null,{"$f":"IFERROR(VLOOKUP(D11897,Справка!$G$2:$H$579,2,0),\"\")","v":""}]
[null,null,null,null,{"$f":"IFERROR(VLOOKUP(D11898,Справка!$G$2:$H$579,2,0),\"\")","v":""}]
[null,null,null,null,{"$f":"IFERROR(VLOOKUP(D11899,Справка!$G$2:$H$579,2,0),\"\")","v":""}]
[null,null,null,null,{"$f":"IFERROR(VLOOKUP(D11900,Справка!$G$2:$H$579,2,0),\"\")","v":""}]
[null,null,null,null,{"$f":"IFERROR(VLOOKUP(D11901,Справка!$G$2:$H$579,2,0),\"\")","v":""}]
[null,null,null,null,{"$f":"IFERROR(VLOOKUP(D11902,Справка!$G$2:$H$579,2,0),\"\")","v":""}]
[null,null,null,null,{"$f":"IFERROR(VLOOKUP(D11903,Справка!$G$2:$H$579,2,0),\"\")","v":""}]
[null,null,null,null,{"$f":"IFERROR(VLOOKUP(D11904,Справка!$G$2:$H$579,2,0),\"\")","v":""}]
[null,null,null,null,{"$f":"IFERROR(VLOOKUP(D11905,Справка!$G$2:$H$579,2,0),\"\")","v":""}]
[null,null,null,null,{"$f":"IFERROR(VLOOKUP(D11906,Справка!$G$2:$H$579,2,0),\"\")","v":""}]
[null,null,null,null,{"$f":"IFERROR(VLOOKUP(D11907,Справка!$G$2:$H$579,2,0),\"\")","v":""}]
[null,null,null,null,{"$f":"IFERROR(VLOOKUP(D11908,Справка!$G$2:$H$579,2,0),\"\")","v":""}]
[null,null,null,null,{"$f":"IFERROR(VLOOKUP(D11909,Справка!$G$2:$H$579,2,0),\"\")","v":""}]
[null,null,null,null,{"$f":"IFERROR(VLOOKUP(D11910,Справка!$G$2:$H$579,2,0),\"\")","v":""}]
[null,null,null,null,{"$f":"IFERROR(VLOOKUP(D11911,Справка!$G$2:$H$579,2,0),\"\")","v":""}]
[null,null,null,null,{"$f":"IFERROR(VLOOKUP(D11912,Справка!$G$2:$H$579,2,0),\"\")","v":""}]
[null,null,null,null,{"$f":"IFERROR(VLOOKUP(D11913,Справка!$G$2:$H$579,2,0),\"\")","v":""}]
[null,null,null,null,{"$f":"IFERROR(VLOOKUP(D11914,Справка!$G$2:$H$579,2,0),\"\")","v":""}]
[null,null,null,null,{"$f":"IFERROR(VLOOKUP(D11915,Справка!$G$2:$H$579,2,0),\"\")","v":""}]
[null,null,null,null,{"$f":"IFERROR(VLOOKUP(D11916,Справка!$G$2:$H$579,2,0),\"\")","v":""}]
[null,null,null,null,{"$f":"IFERROR(VLOOKUP(D11917,Справка!$G$2:$H$579,2,0),\"\")","v":""}]
[null,null,null,null,{"$f":"IFERROR(VLOOKUP(D11918,Справка!$G$2:$H$579,2,0),\"\")","v":""}]
[null,null,null,null,{"$f":"IFERROR(VLOOKUP(D11919,Справка!$G$2:$H$579,2,0),\"\")","v":""}]
[null,null,null,null,{"$f":"IFERROR(VLOOKUP(D11920,Справка!$G$2:$H$579,2,0),\"\")","v":""}]
[null,null,null,null,{"$f":"IFERROR(VLOOKUP(D11921,Справка!$G$2:$H$579,2,0),\"\")","v":""}]
[null,null,null,null,{"$f":"IFERROR(VLOOKUP(D11922,Справка!$G$2:$H$579,2,0),\"\")","v":""}]
[null,null,null,null,{"$f":"IFERROR(VLOOKUP(D11923,Справка!$G$2:$H$579,2,0),\"\")","v":""}]
[null,null,null,null,{"$f":"IFERROR(VLOOKUP(D11924,Справка!$G$2:$H$579,2,0),\"\")","v":""}]
[null,null,null,null,{"$f":"IFERROR(VLOOKUP(D11925,Справка!$G$2:$H$579,2,0),\"\")","v":""}]
[null,null,null,null,{"$f":"IFERROR(VLOOKUP(D11926,Справка!$G$2:$H$579,2,0),\"\")","v":""}]
[null,null,null,null,{"$f":"IFERROR(VLOOKUP(D11927,Справка!$G$2:$H$579,2,0),\"\")","v":""}]
[null,null,null,null,{"$f":"IFERROR(VLOOKUP(D11928,Справка!$G$2:$H$579,2,0),\"\")","v":""}]
[null,null,null,null,{"$f":"IFERROR(VLOOKUP(D11929,Справка!$G$2:$H$579,2,0),\"\")","v":""}]
[null,null,null,null,{"$f":"IFERROR(VLOOKUP(D11930,Справка!$G$2:$H$579,2,0),\"\")","v":""}]
[null,null,null,null,{"$f":"IFERROR(VLOOKUP(D11931,Справка!$G$2:$H$579,2,0),\"\")","v":""}]
[null,null,null,null,{"$f":"IFERROR(VLOOKUP(D11932,Справка!$G$2:$H$579,2,0),\"\")","v":""}]
[null,null,null,null,{"$f":"IFERROR(VLOOKUP(D11933,Справка!$G$2:$H$579,2,0),\"\")","v":""}]
[null,null,null,null,{"$f":"IFERROR(VLOOKUP(D11934,Справка!$G$2:$H$579,2,0),\"\")","v":""}]
[null,null,null,null,{"$f":"IFERROR(VLOOKUP(D11935,Справка!$G$2:$H$579,2,0),\"\")","v":""}]
[null,null,null,null,{"$f":"IFERROR(VLOOKUP(D11936,Справка!$G$2:$H$579,2,0),\"\")","v":""}]
[null,null,null,null,{"$f":"IFERROR(VLOOKUP(D11937,Справка!$G$2:$H$579,2,0),\"\")","v":""}]
[null,null,null,null,{"$f":"IFERROR(VLOOKUP(D11938,Справка!$G$2:$H$579,2,0),\"\")","v":""}]
[null,null,null,null,{"$f":"IFERROR(VLOOKUP(D11939,Справка!$G$2:$H$579,2,0),\"\")","v":""}]
[null,null,null,null,{"$f":"IFERROR(VLOOKUP(D11940,Справка!$G$2:$H$579,2,0),\"\")","v":""}]
[null,null,null,null,{"$f":"IFERROR(VLOOKUP(D11941,Справка!$G$2:$H$579,2,0),\"\")","v":""}]
[null,null,null,null,{"$f":"IFERROR(VLOOKUP(D11942,Справка!$G$2:$H$579,2,0),\"\")","v":""}]
[null,null,null,null,{"$f":"IFERROR(VLOOKUP(D11943,Справка!$G$2:$H$579,2,0),\"\")","v":""}]
[null,null,null,null,{"$f":"IFERROR(VLOOKUP(D11944,Справка!$G$2:$H$579,2,0),\"\")","v":""}]
[null,null,null,null,{"$f":"IFERROR(VLOOKUP(D11945,Справка!$G$2:$H$579,2,0),\"\")","v":""}]
[null,null,null,null,{"$f":"IFERROR(VLOOKUP(D11946,Справка!$G$2:$H$579,2,0),\"\")","v":""}]
[null,null,null,null,{"$f":"IFERROR(VLOOKUP(D11947,Справка!$G$2:$H$579,2,0),\"\")","v":""}]
[null,null,null,null,{"$f":"IFERROR(VLOOKUP(D11948,Справка!$G$2:$H$579,2,0),\"\")","v":""}]
[null,null,null,null,{"$f":"IFERROR(VLOOKUP(D11949,Справка!$G$2:$H$579,2,0),\"\")","v":""}]
[null,null,null,null,{"$f":"IFERROR(VLOOKUP(D11950,Справка!$G$2:$H$579,2,0),\"\")","v":""}]
[null,null,null,null,{"$f":"IFERROR(VLOOKUP(D11951,Справка!$G$2:$H$579,2,0),\"\")","v":""}]
[null,null,null,null,{"$f":"IFERROR(VLOOKUP(D11952,Справка!$G$2:$H$579,2,0),\"\")","v":""}]
[null,null,null,null,{"$f":"IFERROR(VLOOKUP(D11953,Справка!$G$2:$H$579,2,0),\"\")","v":""}]
[null,null,null,null,{"$f":"IFERROR(VLOOKUP(D11954,Справка!$G$2:$H$579,2,0),\"\")","v":""}]
[null,null,null,null,{"$f":"IFERROR(VLOOKUP(D11955,Справка!$G$2:$H$579,2,0),\"\")","v":""}]
[null,null,null,null,{"$f":"IFERROR(VLOOKUP(D11956,Справка!$G$2:$H$579,2,0),\"\")","v":""}]
[null,null,null,null,{"$f":"IFERROR(VLOOKUP(D11957,Справка!$G$2:$H$579,2,0),\"\")","v":""}]
[null,null,null,null,{"$f":"IFERROR(VLOOKUP(D11958,Справка!$G$2:$H$579,2,0),\"\")","v":""}]
[null,null,null,null,{"$f":"IFERROR(VLOOKUP(D11959,Справка!$G$2:$H$579,2,0),\"\")","v":""}]
[null,null,null,null,{"$f":"IFERROR(VLOOKUP(D11960,Справка!$G$2:$H$579,2,0),\"\")","v":""}]
[null,null,null,null,{"$f":"IFERROR(VLOOKUP(D11961,Справка!$G$2:$H$579,2,0),\"\")","v":""}]
[null,null,null,null,{"$f":"IFERROR(VLOOKUP(D11962,Справка!$G$2:$H$579,2,0),\"\")","v":""}]
[null,null,null,null,{"$f":"IFERROR(VLOOKUP(D11963,Справка!$G$2:$H$579,2,0),\"\")","v":""}]
[null,null,null,null,{"$f":"IFERROR(VLOOKUP(D11964,Справка!$G$2:$H$579,2,0),\"\")","v":""}]
[null,null,null,null,{"$f":"IFERROR(VLOOKUP(D11965,Справка!$G$2:$H$579,2,0),\"\")","v":""}]
[null,null,null,null,{"$f":"IFERROR(VLOOKUP(D11966,Справка!$G$2:$H$579,2,0),\"\")","v":""}]
[null,null,null,null,{"$f":"IFERROR(VLOOKUP(D11967,Справка!$G$2:$H$579,2,0),\"\")","v":""}]
[null,null,null,null,{"$f":"IFERROR(VLOOKUP(D11968,Справка!$G$2:$H$579,2,0),\"\")","v":""}]
[null,null,null,null,{"$f":"IFERROR(VLOOKUP(D11969,Справка!$G$2:$H$579,2,0),\"\")","v":""}]
[null,null,null,null,{"$f":"IFERROR(VLOOKUP(D11970,Справка!$G$2:$H$579,2,0),\"\")","v":""}]
[null,null,null,null,{"$f":"IFERROR(VLOOKUP(D11971,Справка!$G$2:$H$579,2,0),\"\")","v":""}]
[null,null,null,null,{"$f":"IFERROR(VLOOKUP(D11972,Справка!$G$2:$H$579,2,0),\"\")","v":""}]
[null,null,null,null,{"$f":"IFERROR(VLOOKUP(D11973,Справка!$G$2:$H$579,2,0),\"\")","v":""}]
[null,null,null,null,{"$f":"IFERROR(VLOOKUP(D11974,Справка!$G$2:$H$579,2,0),\"\")","v":""}]
[null,null,null,null,{"$f":"IFERROR(VLOOKUP(D11975,Справка!$G$2:$H$579,2,0),\"\")","v":""}]
[null,null,null,null,{"$f":"IFERROR(VLOOKUP(D11976,Справка!$G$2:$H$579,2,0),\"\")","v":""}]
[null,null,null,null,{"$f":"IFERROR(VLOOKUP(D11977,Справка!$G$2:$H$579,2,0),\"\")","v":""}]
[null,null,null,null,{"$f":"IFERROR(VLOOKUP(D11978,Справка!$G$2:$H$579,2,0),\"\")","v":""}]
[null,null,null,null,{"$f":"IFERROR(VLOOKUP(D11979,Справка!$G$2:$H$579,2,0),\"\")","v":""}]
[null,null,null,null,{"$f":"IFERROR(VLOOKUP(D11980,Справка!$G$2:$H$579,2,0),\"\")","v":""}]
[null,null,null,null,{"$f":"IFERROR(VLOOKUP(D11981,Справка!$G$2:$H$579,2,0),\"\")","v":""}]
[null,null,null,null,{"$f":"IFERROR(VLOOKUP(D11982,Справка!$G$2:$H$579,2,0),\"\")","v":""}]
[null,null,null,null,{"$f":"IFERROR(VLOOKUP(D11983,Справка!$G$2:$H$579,2,0),\"\")","v":""}]
[null,null,null,null,{"$f":"IFERROR(VLOOKUP(D11984,Справка!$G$2:$H$579,2,0),\"\")","v":""}]
[null,null,null,null,{"$f":"IFERROR(VLOOKUP(D11985,Справка!$G$2:$H$579,2,0),\"\")","v":""}]
[null,null,null,null,{"$f":"IFERROR(VLOOKUP(D11986,Справка!$G$2:$H$579,2,0),\"\")","v":""}]
[null,null,null,null,{"$f":"IFERROR(VLOOKUP(D11987,Справка!$G$2:$H$579,2,0),\"\")","v":""}]
[null,null,null,null,{"$f":"IFERROR(VLOOKUP(D11988,Справка!$G$2:$H$579,2,0),\"\")","v":""}]
[null,null,null,null,{"$f":"IFERROR(VLOOKUP(D11989,Справка!$G$2:$H$579,2,0),\"\")","v":""}]
[null,null,null,null,{"$f":"IFERROR(VLOOKUP(D11990,Справка!$G$2:$H$579,2,0),\"\")","v":""}]
[null,null,null,null,{"$f":"IFERROR(VLOOKUP(D11991,Справка!$G$2:$H$579,2,0),\"\")","v":""}]
[null,null,null,null,{"$f":"IFERROR(VLOOKUP(D11992,Справка!$G$2:$H$579,2,0),\"\")","v":""}]
[null,null,null,null,{"$f":"IFERROR(VLOOKUP(D11993,Справка!$G$2:$H$579,2,0),\"\")","v":""}]
[null,null,null,null,{"$f":"IFERROR(VLOOKUP(D11994,Справка!$G$2:$H$579,2,0),\"\")","v":""}]
[null,null,null,null,{"$f":"IFERROR(VLOOKUP(D11995,Справка!$G$2:$H$579,2,0),\"\")","v":""}]
[null,null,null,null,{"$f":"IFERROR(VLOOKUP(D11996,Справка!$G$2:$H$579,2,0),\"\")","v":""}]
[null,null,null,null,{"$f":"IFERROR(VLOOKUP(D11997,Справка!$G$2:$H$579,2,0),\"\")","v":""}]
[null,null,null,null,{"$f":"IFERROR(VLOOKUP(D11998,Справка!$G$2:$H$579,2,0),\"\")","v":""}]
[null,null,null,null,{"$f":"IFERROR(VLOOKUP(D11999,Справка!$G$2:$H$579,2,0),\"\")","v":""}]
[null,null,null,null,{"$f":"IFERROR(VLOOKUP(D12000,Справка!$G$2:$H$579,2,0),\"\")","v":""}]
[null,null,null,null,{"$f":"IFERROR(VLOOKUP(D12001,Справка!$G$2:$H$579,2,0),\"\")","v":""}]
[null,null,null,null,{"$f":"IFERROR(VLOOKUP(D12002,Справка!$G$2:$H$579,2,0),\"\")","v":""}]
[null,null,null,null,{"$f":"IFERROR(VLOOKUP(D12003,Справка!$G$2:$H$579,2,0),\"\")","v":""}]
[null,null,null,null,{"$f":"IFERROR(VLOOKUP(D12004,Справка!$G$2:$H$579,2,0),\"\")","v":""}]
[null,null,null,null,{"$f":"IFERROR(VLOOKUP(D12005,Справка!$G$2:$H$579,2,0),\"\")","v":""}]
[null,null,null,null,{"$f":"IFERROR(VLOOKUP(D12006,Справка!$G$2:$H$579,2,0),\"\")","v":""}]
[null,null,null,null,{"$f":"IFERROR(VLOOKUP(D12007,Справка!$G$2:$H$579,2,0),\"\")","v":""}]
[null,null,null,null,{"$f":"IFERROR(VLOOKUP(D12008,Справка!$G$2:$H$579,2,0),\"\")","v":""}]
[null,null,null,null,{"$f":"IFERROR(VLOOKUP(D12009,Справка!$G$2:$H$579,2,0),\"\")","v":""}]
[null,null,null,null,{"$f":"IFERROR(VLOOKUP(D12010,Справка!$G$2:$H$579,2,0),\"\")","v":""}]
[null,null,null,null,{"$f":"IFERROR(VLOOKUP(D12011,Справка!$G$2:$H$579,2,0),\"\")","v":""}]
[null,null,null,null,{"$f":"IFERROR(VLOOKUP(D12012,Справка!$G$2:$H$579,2,0),\"\")","v":""}]
[null,null,null,null,{"$f":"IFERROR(VLOOKUP(D12013,Справка!$G$2:$H$579,2,0),\"\")","v":""}]
[null,null,null,null,{"$f":"IFERROR(VLOOKUP(D12014,Справка!$G$2:$H$579,2,0),\"\")","v":""}]
[null,null,null,null,{"$f":"IFERROR(VLOOKUP(D12015,Справка!$G$2:$H$579,2,0),\"\")","v":""}]
[null,null,null,null,{"$f":"IFERROR(VLOOKUP(D12016,Справка!$G$2:$H$579,2,0),\"\")","v":""}]
[null,null,null,null,{"$f":"IFERROR(VLOOKUP(D12017,Справка!$G$2:$H$579,2,0),\"\")","v":""}]
[null,null,null,null,{"$f":"IFERROR(VLOOKUP(D12018,Справка!$G$2:$H$579,2,0),\"\")","v":""}]
[null,null,null,null,{"$f":"IFERROR(VLOOKUP(D12019,Справка!$G$2:$H$579,2,0),\"\")","v":""}]
[null,null,null,null,{"$f":"IFERROR(VLOOKUP(D12020,Справка!$G$2:$H$579,2,0),\"\")","v":""}]
[null,null,null,null,{"$f":"IFERROR(VLOOKUP(D12021,Справка!$G$2:$H$579,2,0),\"\")","v":""}]
[null,null,null,null,{"$f":"IFERROR(VLOOKUP(D12022,Справка!$G$2:$H$579,2,0),\"\")","v":""}]
[null,null,null,null,{"$f":"IFERROR(VLOOKUP(D12023,Справка!$G$2:$H$579,2,0),\"\")","v":""}]
[null,null,null,null,{"$f":"IFERROR(VLOOKUP(D12024,Справка!$G$2:$H$579,2,0),\"\")","v":""}]
[null,null,null,null,{"$f":"IFERROR(VLOOKUP(D12025,Справка!$G$2:$H$579,2,0),\"\")","v":""}]
[null,null,null,null,{"$f":"IFERROR(VLOOKUP(D12026,Справка!$G$2:$H$579,2,0),\"\")","v":""}]
[null,null,null,null,{"$f":"IFERROR(VLOOKUP(D12027,Справка!$G$2:$H$579,2,0),\"\")","v":""}]
[null,null,null,null,{"$f":"IFERROR(VLOOKUP(D12028,Справка!$G$2:$H$579,2,0),\"\")","v":""}]
[null,null,null,null,{"$f":"IFERROR(VLOOKUP(D12029,Справка!$G$2:$H$579,2,0),\"\")","v":""}]
[null,null,null,null,{"$f":"IFERROR(VLOOKUP(D12030,Справка!$G$2:$H$579,2,0),\"\")","v":""}]
[null,null,null,null,{"$f":"IFERROR(VLOOKUP(D12031,Справка!$G$2:$H$579,2,0),\"\")","v":""}]
[null,null,null,null,{"$f":"IFERROR(VLOOKUP(D12032,Справка!$G$2:$H$579,2,0),\"\")","v":""}]
[null,null,null,null,{"$f":"IFERROR(VLOOKUP(D12033,Справка!$G$2:$H$579,2,0),\"\")","v":""}]
[null,null,null,null,{"$f":"IFERROR(VLOOKUP(D12034,Справка!$G$2:$H$579,2,0),\"\")","v":""}]
[null,null,null,null,{"$f":"IFERROR(VLOOKUP(D12035,Справка!$G$2:$H$579,2,0),\"\")","v":""}]
[null,null,null,null,{"$f":"IFERROR(VLOOKUP(D12036,Справка!$G$2:$H$579,2,0),\"\")","v":""}]
[null,null,null,null,{"$f":"IFERROR(VLOOKUP(D12037,Справка!$G$2:$H$579,2,0),\"\")","v":""}]
[null,null,null,null,{"$f":"IFERROR(VLOOKUP(D12038,Справка!$G$2:$H$579,2,0),\"\")","v":""}]
[null,null,null,null,{"$f":"IFERROR(VLOOKUP(D12039,Справка!$G$2:$H$579,2,0),\"\")","v":""}]
[null,null,null,null,{"$f":"IFERROR(VLOOKUP(D12040,Справка!$G$2:$H$579,2,0),\"\")","v":""}]
[null,null,null,null,{"$f":"IFERROR(VLOOKUP(D12041,Справка!$G$2:$H$579,2,0),\"\")","v":""}]
[null,null,null,null,{"$f":"IFERROR(VLOOKUP(D12042,Справка!$G$2:$H$579,2,0),\"\")","v":""}]
[null,null,null,null,{"$f":"IFERROR(VLOOKUP(D12043,Справка!$G$2:$H$579,2,0),\"\")","v":""}]
[null,null,null,null,{"$f":"IFERROR(VLOOKUP(D12044,Справка!$G$2:$H$579,2,0),\"\")","v":""}]
[null,null,null,null,{"$f":"IFERROR(VLOOKUP(D12045,Справка!$G$2:$H$579,2,0),\"\")","v":""}]
[null,null,null,null,{"$f":"IFERROR(VLOOKUP(D12046,Справка!$G$2:$H$579,2,0),\"\")","v":""}]
[null,null,null,null,{"$f":"IFERROR(VLOOKUP(D12047,Справка!$G$2:$H$579,2,0),\"\")","v":""}]
[null,null,null,null,{"$f":"IFERROR(VLOOKUP(D12048,Справка!$G$2:$H$579,2,0),\"\")","v":""}]
[null,null,null,null,{"$f":"IFERROR(VLOOKUP(D12049,Справка!$G$2:$H$579,2,0),\"\")","v":""}]
[null,null,null,null,{"$f":"IFERROR(VLOOKUP(D12050,Справка!$G$2:$H$579,2,0),\"\")","v":""}]
[null,null,null,null,{"$f":"IFERROR(VLOOKUP(D12051,Справка!$G$2:$H$579,2,0),\"\")","v":""}]
[null,null,null,null,{"$f":"IFERROR(VLOOKUP(D12052,Справка!$G$2:$H$579,2,0),\"\")","v":""}]
[null,null,null,null,{"$f":"IFERROR(VLOOKUP(D12053,Справка!$G$2:$H$579,2,0),\"\")","v":""}]
[null,null,null,null,{"$f":"IFERROR(VLOOKUP(D12054,Справка!$G$2:$H$579,2,0),\"\")","v":""}]
[null,null,null,null,{"$f":"IFERROR(VLOOKUP(D12055,Справка!$G$2:$H$579,2,0),\"\")","v":""}]
[null,null,null,null,{"$f":"IFERROR(VLOOKUP(D12056,Справка!$G$2:$H$579,2,0),\"\")","v":""}]
[null,null,null,null,{"$f":"IFERROR(VLOOKUP(D12057,Справка!$G$2:$H$579,2,0),\"\")","v":""}]
[null,null,null,null,{"$f":"IFERROR(VLOOKUP(D12058,Справка!$G$2:$H$579,2,0),\"\")","v":""}]
[null,null,null,null,{"$f":"IFERROR(VLOOKUP(D12059,Справка!$G$2:$H$579,2,0),\"\")","v":""}]
[null,null,null,null,{"$f":"IFERROR(VLOOKUP(D12060,Справка!$G$2:$H$579,2,0),\"\")","v":""}]
[null,null,null,null,{"$f":"IFERROR(VLOOKUP(D12061,Справка!$G$2:$H$579,2,0),\"\")","v":""}]
[null,null,null,null,{"$f":"IFERROR(VLOOKUP(D12062,Справка!$G$2:$H$579,2,0),\"\")","v":""}]
[null,null,null,null,{"$f":"IFERROR(VLOOKUP(D12063,Справка!$G$2:$H$579,2,0),\"\")","v":""}]
[null,null,null,null,{"$f":"IFERROR(VLOOKUP(D12064,Справка!$G$2:$H$579,2,0),\"\")","v":""}]
[null,null,null,null,{"$f":"IFERROR(VLOOKUP(D12065,Справка!$G$2:$H$579,2,0),\"\")","v":""}]
[null,null,null,null,{"$f":"IFERROR(VLOOKUP(D12066,Справка!$G$2:$H$579,2,0),\"\")","v":""}]
[null,null,null,null,{"$f":"IFERROR(VLOOKUP(D12067,Справка!$G$2:$H$579,2,0),\"\")","v":""}]
[null,null,null,null,{"$f":"IFERROR(VLOOKUP(D12068,Справка!$G$2:$H$579,2,0),\"\")","v":""}]
[null,null,null,null,{"$f":"IFERROR(VLOOKUP(D12069,Справка!$G$2:$H$579,2,0),\"\")","v":""}]
[null,null,null,null,{"$f":"IFERROR(VLOOKUP(D12070,Справка!$G$2:$H$579,2,0),\"\")","v":""}]
[null,null,null,null,{"$f":"IFERROR(VLOOKUP(D12071,Справка!$G$2:$H$579,2,0),\"\")","v":""}]
[null,null,null,null,{"$f":"IFERROR(VLOOKUP(D12072,Справка!$G$2:$H$579,2,0),\"\")","v":""}]
[null,null,null,null,{"$f":"IFERROR(VLOOKUP(D12073,Справка!$G$2:$H$579,2,0),\"\")","v":""}]
[null,null,null,null,{"$f":"IFERROR(VLOOKUP(D12074,Справка!$G$2:$H$579,2,0),\"\")","v":""}]
[null,null,null,null,{"$f":"IFERROR(VLOOKUP(D12075,Справка!$G$2:$H$579,2,0),\"\")","v":""}]
[null,null,null,null,{"$f":"IFERROR(VLOOKUP(D12076,Справка!$G$2:$H$579,2,0),\"\")","v":""}]
[null,null,null,null,{"$f":"IFERROR(VLOOKUP(D12077,Справка!$G$2:$H$579,2,0),\"\")","v":""}]
[null,null,null,null,{"$f":"IFERROR(VLOOKUP(D12078,Справка!$G$2:$H$579,2,0),\"\")","v":""}]
[null,null,null,null,{"$f":"IFERROR(VLOOKUP(D12079,Справка!$G$2:$H$579,2,0),\"\")","v":""}]
[null,null,null,null,{"$f":"IFERROR(VLOOKUP(D12080,Справка!$G$2:$H$579,2,0),\"\")","v":""}]
[null,null,null,null,{"$f":"IFERROR(VLOOKUP(D12081,Справка!$G$2:$H$579,2,0),\"\")","v":""}]
[null,null,null,null,{"$f":"IFERROR(VLOOKUP(D12082,Справка!$G$2:$H$579,2,0),\"\")","v":""}]
[null,null,null,null,{"$f":"IFERROR(VLOOKUP(D12083,Справка!$G$2:$H$579,2,0),\"\")","v":""}]
[null,null,null,null,{"$f":"IFERROR(VLOOKUP(D12084,Справка!$G$2:$H$579,2,0),\"\")","v":""}]
[null,null,null,null,{"$f":"IFERROR(VLOOKUP(D12085,Справка!$G$2:$H$579,2,0),\"\")","v":""}]
[null,null,null,null,{"$f":"IFERROR(VLOOKUP(D12086,Справка!$G$2:$H$579,2,0),\"\")","v":""}]
[null,null,null,null,{"$f":"IFERROR(VLOOKUP(D12087,Справка!$G$2:$H$579,2,0),\"\")","v":""}]
[null,null,null,null,{"$f":"IFERROR(VLOOKUP(D12088,Справка!$G$2:$H$579,2,0),\"\")","v":""}]
[null,null,null,null,{"$f":"IFERROR(VLOOKUP(D12089,Справка!$G$2:$H$579,2,0),\"\")","v":""}]
[null,null,null,null,{"$f":"IFERROR(VLOOKUP(D12090,Справка!$G$2:$H$579,2,0),\"\")","v":""}]
[null,null,null,null,{"$f":"IFERROR(VLOOKUP(D12091,Справка!$G$2:$H$579,2,0),\"\")","v":""}]
[null,null,null,null,{"$f":"IFERROR(VLOOKUP(D12092,Справка!$G$2:$H$579,2,0),\"\")","v":""}]
[null,null,null,null,{"$f":"IFERROR(VLOOKUP(D12093,Справка!$G$2:$H$579,2,0),\"\")","v":""}]
[null,null,null,null,{"$f":"IFERROR(VLOOKUP(D12094,Справка!$G$2:$H$579,2,0),\"\")","v":""}]
[null,null,null,null,{"$f":"IFERROR(VLOOKUP(D12095,Справка!$G$2:$H$579,2,0),\"\")","v":""}]
[null,null,null,null,{"$f":"IFERROR(VLOOKUP(D12096,Справка!$G$2:$H$579,2,0),\"\")","v":""}]
[null,null,null,null,{"$f":"IFERROR(VLOOKUP(D12097,Справка!$G$2:$H$579,2,0),\"\")","v":""}]
[null,null,null,null,{"$f":"IFERROR(VLOOKUP(D12098,Справка!$G$2:$H$579,2,0),\"\")","v":""}]
[null,null,null,null,{"$f":"IFERROR(VLOOKUP(D12099,Справка!$G$2:$H$579,2,0),\"\")","v":""}]
[null,null,null,null,{"$f":"IFERROR(VLOOKUP(D12100,Справка!$G$2:$H$579,2,0),\"\")","v":""}]
[null,null,null,null,{"$f":"IFERROR(VLOOKUP(D12101,Справка!$G$2:$H$579,2,0),\"\")","v":""}]
[null,null,null,null,{"$f":"IFERROR(VLOOKUP(D12102,Справка!$G$2:$H$579,2,0),\"\")","v":""}]
[null,null,null,null,{"$f":"IFERROR(VLOOKUP(D12103,Справка!$G$2:$H$579,2,0),\"\")","v":""}]
[null,null,null,null,{"$f":"IFERROR(VLOOKUP(D12104,Справка!$G$2:$H$579,2,0),\"\")","v":""}]
[null,null,null,null,{"$f":"IFERROR(VLOOKUP(D12105,Справка!$G$2:$H$579,2,0),\"\")","v":""}]
[null,null,null,null,{"$f":"IFERROR(VLOOKUP(D12106,Справка!$G$2:$H$579,2,0),\"\")","v":""}]
[null,null,null,null,{"$f":"IFERROR(VLOOKUP(D12107,Справка!$G$2:$H$579,2,0),\"\")","v":""}]
[null,null,null,null,{"$f":"IFERROR(VLOOKUP(D12108,Справка!$G$2:$H$579,2,0),\"\")","v":""}]
[null,null,null,null,{"$f":"IFERROR(VLOOKUP(D12109,Справка!$G$2:$H$579,2,0),\"\")","v":""}]
[null,null,null,null,{"$f":"IFERROR(VLOOKUP(D12110,Справка!$G$2:$H$579,2,0),\"\")","v":""}]
[null,null,null,null,{"$f":"IFERROR(VLOOKUP(D12111,Справка!$G$2:$H$579,2,0),\"\")","v":""}]
[null,null,null,null,{"$f":"IFERROR(VLOOKUP(D12112,Справка!$G$2:$H$579,2,0),\"\")","v":""}]
[null,null,null,null,{"$f":"IFERROR(VLOOKUP(D12113,Справка!$G$2:$H$579,2,0),\"\")","v":""}]
[null,null,null,null,{"$f":"IFERROR(VLOOKUP(D12114,Справка!$G$2:$H$579,2,0),\"\")","v":""}]
[null,null,null,null,{"$f":"IFERROR(VLOOKUP(D12115,Справка!$G$2:$H$579,2,0),\"\")","v":""}]
[null,null,null,null,{"$f":"IFERROR(VLOOKUP(D12116,Справка!$G$2:$H$579,2,0),\"\")","v":""}]
[null,null,null,null,{"$f":"IFERROR(VLOOKUP(D12117,Справка!$G$2:$H$579,2,0),\"\")","v":""}]
[null,null,null,null,{"$f":"IFERROR(VLOOKUP(D12118,Справка!$G$2:$H$579,2,0),\"\")","v":""}]
[null,null,null,null,{"$f":"IFERROR(VLOOKUP(D12119,Справка!$G$2:$H$579,2,0),\"\")","v":""}]
[null,null,null,null,{"$f":"IFERROR(VLOOKUP(D12120,Справка!$G$2:$H$579,2,0),\"\")","v":""}]
[null,null,null,null,{"$f":"IFERROR(VLOOKUP(D12121,Справка!$G$2:$H$579,2,0),\"\")","v":""}]
[null,null,null,null,{"$f":"IFERROR(VLOOKUP(D12122,Справка!$G$2:$H$579,2,0),\"\")","v":""}]
[null,null,null,null,{"$f":"IFERROR(VLOOKUP(D12123,Справка!$G$2:$H$579,2,0),\"\")","v":""}]
[null,null,null,null,{"$f":"IFERROR(VLOOKUP(D12124,Справка!$G$2:$H$579,2,0),\"\")","v":""}]
[null,null,null,null,{"$f":"IFERROR(VLOOKUP(D12125,Справка!$G$2:$H$579,2,0),\"\")","v":""}]
[null,null,null,null,{"$f":"IFERROR(VLOOKUP(D12126,Справка!$G$2:$H$579,2,0),\"\")","v":""}]
[null,null,null,null,{"$f":"IFERROR(VLOOKUP(D12127,Справка!$G$2:$H$579,2,0),\"\")","v":""}]
[null,null,null,null,{"$f":"IFERROR(VLOOKUP(D12128,Справка!$G$2:$H$579,2,0),\"\")","v":""}]
[null,null,null,null,{"$f":"IFERROR(VLOOKUP(D12129,Справка!$G$2:$H$579,2,0),\"\")","v":""}]
[null,null,null,null,{"$f":"IFERROR(VLOOKUP(D12130,Справка!$G$2:$H$579,2,0),\"\")","v":""}]
[null,null,null,null,{"$f":"IFERROR(VLOOKUP(D12131,Справка!$G$2:$H$579,2,0),\"\")","v":""}]
[null,null,null,null,{"$f":"IFERROR(VLOOKUP(D12132,Справка!$G$2:$H$579,2,0),\"\")","v":""}]
[null,null,null,null,{"$f":"IFERROR(VLOOKUP(D12133,Справка!$G$2:$H$579,2,0),\"\")","v":""}]
[null,null,null,null,{"$f":"IFERROR(VLOOKUP(D12134,Справка!$G$2:$H$579,2,0),\"\")","v":""}]
[null,null,null,null,{"$f":"IFERROR(VLOOKUP(D12135,Справка!$G$2:$H$579,2,0),\"\")","v":""}]
[null,null,null,null,{"$f":"IFERROR(VLOOKUP(D12136,Справка!$G$2:$H$579,2,0),\"\")","v":""}]
[null,null,null,null,{"$f":"IFERROR(VLOOKUP(D12137,Справка!$G$2:$H$579,2,0),\"\")","v":""}]
[null,null,null,null,{"$f":"IFERROR(VLOOKUP(D12138,Справка!$G$2:$H$579,2,0),\"\")","v":""}]
[null,null,null,null,{"$f":"IFERROR(VLOOKUP(D12139,Справка!$G$2:$H$579,2,0),\"\")","v":""}]
[null,null,null,null,{"$f":"IFERROR(VLOOKUP(D12140,Справка!$G$2:$H$579,2,0),\"\")","v":""}]
[null,null,null,null,{"$f":"IFERROR(VLOOKUP(D12141,Справка!$G$2:$H$579,2,0),\"\")","v":""}]
[null,null,null,null,{"$f":"IFERROR(VLOOKUP(D12142,Справка!$G$2:$H$579,2,0),\"\")","v":""}]
[null,null,null,null,{"$f":"IFERROR(VLOOKUP(D12143,Справка!$G$2:$H$579,2,0),\"\")","v":""}]
[null,null,null,null,{"$f":"IFERROR(VLOOKUP(D12144,Справка!$G$2:$H$579,2,0),\"\")","v":""}]
[null,null,null,null,{"$f":"IFERROR(VLOOKUP(D12145,Справка!$G$2:$H$579,2,0),\"\")","v":""}]
[null,null,null,null,{"$f":"IFERROR(VLOOKUP(D12146,Справка!$G$2:$H$579,2,0),\"\")","v":""}]
[null,null,null,null,{"$f":"IFERROR(VLOOKUP(D12147,Справка!$G$2:$H$579,2,0),\"\")","v":""}]
[null,null,null,null,{"$f":"IFERROR(VLOOKUP(D12148,Справка!$G$2:$H$579,2,0),\"\")","v":""}]
[null,null,null,null,{"$f":"IFERROR(VLOOKUP(D12149,Справка!$G$2:$H$579,2,0),\"\")","v":""}]
[null,null,null,null,{"$f":"IFERROR(VLOOKUP(D12150,Справка!$G$2:$H$579,2,0),\"\")","v":""}]
[null,null,null,null,{"$f":"IFERROR(VLOOKUP(D12151,Справка!$G$2:$H$579,2,0),\"\")","v":""}]
[null,null,null,null,{"$f":"IFERROR(VLOOKUP(D12152,Справка!$G$2:$H$579,2,0),\"\")","v":""}]
[null,null,null,null,{"$f":"IFERROR(VLOOKUP(D12153,Справка!$G$2:$H$579,2,0),\"\")","v":""}]
[null,null,null,null,{"$f":"IFERROR(VLOOKUP(D12154,Справка!$G$2:$H$579,2,0),\"\")","v":""}]
[null,null,null,null,{"$f":"IFERROR(VLOOKUP(D12155,Справка!$G$2:$H$579,2,0),\"\")","v":""}]
[null,null,null,null,{"$f":"IFERROR(VLOOKUP(D12156,Справка!$G$2:$H$579,2,0),\"\")","v":""}]
[null,null,null,null,{"$f":"IFERROR(VLOOKUP(D12157,Справка!$G$2:$H$579,2,0),\"\")","v":""}]
[null,null,null,null,{"$f":"IFERROR(VLOOKUP(D12158,Справка!$G$2:$H$579,2,0),\"\")","v":""}]
[null,null,null,null,{"$f":"IFERROR(VLOOKUP(D12159,Справка!$G$2:$H$579,2,0),\"\")","v":""}]
[null,null,null,null,{"$f":"IFERROR(VLOOKUP(D12160,Справка!$G$2:$H$579,2,0),\"\")","v":""}]
[null,null,null,null,{"$f":"IFERROR(VLOOKUP(D12161,Справка!$G$2:$H$579,2,0),\"\")","v":""}]
[null,null,null,null,{"$f":"IFERROR(VLOOKUP(D12162,Справка!$G$2:$H$579,2,0),\"\")","v":""}]
[null,null,null,null,{"$f":"IFERROR(VLOOKUP(D12163,Справка!$G$2:$H$579,2,0),\"\")","v":""}]
[null,null,null,null,{"$f":"IFERROR(VLOOKUP(D12164,Справка!$G$2:$H$579,2,0),\"\")","v":""}]
[null,null,null,null,{"$f":"IFERROR(VLOOKUP(D12165,Справка!$G$2:$H$579,2,0),\"\")","v":""}]
[null,null,null,null,{"$f":"IFERROR(VLOOKUP(D12166,Справка!$G$2:$H$579,2,0),\"\")","v":""}]
[null,null,null,null,{"$f":"IFERROR(VLOOKUP(D12167,Справка!$G$2:$H$579,2,0),\"\")","v":""}]
[null,null,null,null,{"$f":"IFERROR(VLOOKUP(D12168,Справка!$G$2:$H$579,2,0),\"\")","v":""}]
[null,null,null,null,{"$f":"IFERROR(VLOOKUP(D12169,Справка!$G$2:$H$579,2,0),\"\")","v":""}]
[null,null,null,null,{"$f":"IFERROR(VLOOKUP(D12170,Справка!$G$2:$H$579,2,0),\"\")","v":""}]
[null,null,null,null,{"$f":"IFERROR(VLOOKUP(D12171,Справка!$G$2:$H$579,2,0),\"\")","v":""}]
[null,null,null,null,{"$f":"IFERROR(VLOOKUP(D12172,Справка!$G$2:$H$579,2,0),\"\")","v":""}]
[null,null,null,null,{"$f":"IFERROR(VLOOKUP(D12173,Справка!$G$2:$H$579,2,0),\"\")","v":""}]
[null,null,null,null,{"$f":"IFERROR(VLOOKUP(D12174,Справка!$G$2:$H$579,2,0),\"\")","v":""}]
[null,null,null,null,{"$f":"IFERROR(VLOOKUP(D12175,Справка!$G$2:$H$579,2,0),\"\")","v":""}]
[null,null,null,null,{"$f":"IFERROR(VLOOKUP(D12176,Справка!$G$2:$H$579,2,0),\"\")","v":""}]
[null,null,null,null,{"$f":"IFERROR(VLOOKUP(D12177,Справка!$G$2:$H$579,2,0),\"\")","v":""}]
[null,null,null,null,{"$f":"IFERROR(VLOOKUP(D12178,Справка!$G$2:$H$579,2,0),\"\")","v":""}]
[null,null,null,null,{"$f":"IFERROR(VLOOKUP(D12179,Справка!$G$2:$H$579,2,0),\"\")","v":""}]
[null,null,null,null,{"$f":"IFERROR(VLOOKUP(D12180,Справка!$G$2:$H$579,2,0),\"\")","v":""}]
[null,null,null,null,{"$f":"IFERROR(VLOOKUP(D12181,Справка!$G$2:$H$579,2,0),\"\")","v":""}]
[null,null,null,null,{"$f":"IFERROR(VLOOKUP(D12182,Справка!$G$2:$H$579,2,0),\"\")","v":""}]
[null,null,null,null,{"$f":"IFERROR(VLOOKUP(D12183,Справка!$G$2:$H$579,2,0),\"\")","v":""}]
[null,null,null,null,{"$f":"IFERROR(VLOOKUP(D12184,Справка!$G$2:$H$579,2,0),\"\")","v":""}]
[null,null,null,null,{"$f":"IFERROR(VLOOKUP(D12185,Справка!$G$2:$H$579,2,0),\"\")","v":""}]
[null,null,null,null,{"$f":"IFERROR(VLOOKUP(D12186,Справка!$G$2:$H$579,2,0),\"\")","v":""}]
[null,null,null,null,{"$f":"IFERROR(VLOOKUP(D12187,Справка!$G$2:$H$579,2,0),\"\")","v":""}]
[null,null,null,null,{"$f":"IFERROR(VLOOKUP(D12188,Справка!$G$2:$H$579,2,0),\"\")","v":""}]
[null,null,null,null,{"$f":"IFERROR(VLOOKUP(D12189,Справка!$G$2:$H$579,2,0),\"\")","v":""}]
[null,null,null,null,{"$f":"IFERROR(VLOOKUP(D12190,Справка!$G$2:$H$579,2,0),\"\")","v":""}]
[null,null,null,null,{"$f":"IFERROR(VLOOKUP(D12191,Справка!$G$2:$H$579,2,0),\"\")","v":""}]
[null,null,null,null,{"$f":"IFERROR(VLOOKUP(D12192,Справка!$G$2:$H$579,2,0),\"\")","v":""}]
[null,null,null,null,{"$f":"IFERROR(VLOOKUP(D12193,Справка!$G$2:$H$579,2,0),\"\")","v":""}]
[null,null,null,null,{"$f":"IFERROR(VLOOKUP(D12194,Справка!$G$2:$H$579,2,0),\"\")","v":""}]
[null,null,null,null,{"$f":"IFERROR(VLOOKUP(D12195,Справка!$G$2:$H$579,2,0),\"\")","v":""}]
[null,null,null,null,{"$f":"IFERROR(VLOOKUP(D12196,Справка!$G$2:$H$579,2,0),\"\")","v":""}]
[null,null,null,null,{"$f":"IFERROR(VLOOKUP(D12197,Справка!$G$2:$H$579,2,0),\"\")","v":""}]
[null,null,null,null,{"$f":"IFERROR(VLOOKUP(D12198,Справка!$G$2:$H$579,2,0),\"\")","v":""}]
[null,null,null,null,{"$f":"IFERROR(VLOOKUP(D12199,Справка!$G$2:$H$579,2,0),\"\")","v":""}]
[null,null,null,null,{"$f":"IFERROR(VLOOKUP(D12200,Справка!$G$2:$H$579,2,0),\"\")","v":""}]
[null,null,null,null,{"$f":"IFERROR(VLOOKUP(D12201,Справка!$G$2:$H$579,2,0),\"\")","v":""}]
[null,null,null,null,{"$f":"IFERROR(VLOOKUP(D12202,Справка!$G$2:$H$579,2,0),\"\")","v":""}]
[null,null,null,null,{"$f":"IFERROR(VLOOKUP(D12203,Справка!$G$2:$H$579,2,0),\"\")","v":""}]
[null,null,null,null,{"$f":"IFERROR(VLOOKUP(D12204,Справка!$G$2:$H$579,2,0),\"\")","v":""}]
[null,null,null,null,{"$f":"IFERROR(VLOOKUP(D12205,Справка!$G$2:$H$579,2,0),\"\")","v":""}]
[null,null,null,null,{"$f":"IFERROR(VLOOKUP(D12206,Справка!$G$2:$H$579,2,0),\"\")","v":""}]
[null,null,null,null,{"$f":"IFERROR(VLOOKUP(D12207,Справка!$G$2:$H$579,2,0),\"\")","v":""}]
[null,null,null,null,{"$f":"IFERROR(VLOOKUP(D12208,Справка!$G$2:$H$579,2,0),\"\")","v":""}]
[null,null,null,null,{"$f":"IFERROR(VLOOKUP(D12209,Справка!$G$2:$H$579,2,0),\"\")","v":""}]
[null,null,null,null,{"$f":"IFERROR(VLOOKUP(D12210,Справка!$G$2:$H$579,2,0),\"\")","v":""}]
[null,null,null,null,{"$f":"IFERROR(VLOOKUP(D12211,Справка!$G$2:$H$579,2,0),\"\")","v":""}]
[null,null,null,null,{"$f":"IFERROR(VLOOKUP(D12212,Справка!$G$2:$H$579,2,0),\"\")","v":""}]
[null,null,null,null,{"$f":"IFERROR(VLOOKUP(D12213,Справка!$G$2:$H$579,2,0),\"\")","v":""}]
[null,null,null,null,{"$f":"IFERROR(VLOOKUP(D12214,Справка!$G$2:$H$579,2,0),\"\")","v":""}]
[null,null,null,null,{"$f":"IFERROR(VLOOKUP(D12215,Справка!$G$2:$H$579,2,0),\"\")","v":""}]
[null,null,null,null,{"$f":"IFERROR(VLOOKUP(D12216,Справка!$G$2:$H$579,2,0),\"\")","v":""}]
[null,null,null,null,{"$f":"IFERROR(VLOOKUP(D12217,Справка!$G$2:$H$579,2,0),\"\")","v":""}]
[null,null,null,null,{"$f":"IFERROR(VLOOKUP(D12218,Справка!$G$2:$H$579,2,0),\"\")","v":""}]
[null,null,null,null,{"$f":"IFERROR(VLOOKUP(D12219,Справка!$G$2:$H$579,2,0),\"\")","v":""}]
[null,null,null,null,{"$f":"IFERROR(VLOOKUP(D12220,Справка!$G$2:$H$579,2,0),\"\")","v":""}]
[null,null,null,null,{"$f":"IFERROR(VLOOKUP(D12221,Справка!$G$2:$H$579,2,0),\"\")","v":""}]
[null,null,null,null,{"$f":"IFERROR(VLOOKUP(D12222,Справка!$G$2:$H$579,2,0),\"\")","v":""}]
[null,null,null,null,{"$f":"IFERROR(VLOOKUP(D12223,Справка!$G$2:$H$579,2,0),\"\")","v":""}]
[null,null,null,null,{"$f":"IFERROR(VLOOKUP(D12224,Справка!$G$2:$H$579,2,0),\"\")","v":""}]
[null,null,null,null,{"$f":"IFERROR(VLOOKUP(D12225,Справка!$G$2:$H$579,2,0),\"\")","v":""}]
[null,null,null,null,{"$f":"IFERROR(VLOOKUP(D12226,Справка!$G$2:$H$579,2,0),\"\")","v":""}]
[null,null,null,null,{"$f":"IFERROR(VLOOKUP(D12227,Справка!$G$2:$H$579,2,0),\"\")","v":""}]
[null,null,null,null,{"$f":"IFERROR(VLOOKUP(D12228,Справка!$G$2:$H$579,2,0),\"\")","v":""}]
[null,null,null,null,{"$f":"IFERROR(VLOOKUP(D12229,Справка!$G$2:$H$579,2,0),\"\")","v":""}]
[null,null,null,null,{"$f":"IFERROR(VLOOKUP(D12230,Справка!$G$2:$H$579,2,0),\"\")","v":""}]
[null,null,null,null,{"$f":"IFERROR(VLOOKUP(D12231,Справка!$G$2:$H$579,2,0),\"\")","v":""}]
[null,null,null,null,{"$f":"IFERROR(VLOOKUP(D12232,Справка!$G$2:$H$579,2,0),\"\")","v":""}]
[null,null,null,null,{"$f":"IFERROR(VLOOKUP(D12233,Справка!$G$2:$H$579,2,0),\"\")","v":""}]
[null,null,null,null,{"$f":"IFERROR(VLOOKUP(D12234,Справка!$G$2:$H$579,2,0),\"\")","v":""}]
[null,null,null,null,{"$f":"IFERROR(VLOOKUP(D12235,Справка!$G$2:$H$579,2,0),\"\")","v":""}]
[null,null,null,null,{"$f":"IFERROR(VLOOKUP(D12236,Справка!$G$2:$H$579,2,0),\"\")","v":""}]
[null,null,null,null,{"$f":"IFERROR(VLOOKUP(D12237,Справка!$G$2:$H$579,2,0),\"\")","v":""}]
[null,null,null,null,{"$f":"IFERROR(VLOOKUP(D12238,Справка!$G$2:$H$579,2,0),\"\")","v":""}]
[null,null,null,null,{"$f":"IFERROR(VLOOKUP(D12239,Справка!$G$2:$H$579,2,0),\"\")","v":""}]
[null,null,null,null,{"$f":"IFERROR(VLOOKUP(D12240,Справка!$G$2:$H$579,2,0),\"\")","v":""}]
[null,null,null,null,{"$f":"IFERROR(VLOOKUP(D12241,Справка!$G$2:$H$579,2,0),\"\")","v":""}]
[null,null,null,null,{"$f":"IFERROR(VLOOKUP(D12242,Справка!$G$2:$H$579,2,0),\"\")","v":""}]
[null,null,null,null,{"$f":"IFERROR(VLOOKUP(D12243,Справка!$G$2:$H$579,2,0),\"\")","v":""}]
[null,null,null,null,{"$f":"IFERROR(VLOOKUP(D12244,Справка!$G$2:$H$579,2,0),\"\")","v":""}]
[null,null,null,null,{"$f":"IFERROR(VLOOKUP(D12245,Справка!$G$2:$H$579,2,0),\"\")","v":""}]
[null,null,null,null,{"$f":"IFERROR(VLOOKUP(D12246,Справка!$G$2:$H$579,2,0),\"\")","v":""}]
[null,null,null,null,{"$f":"IFERROR(VLOOKUP(D12247,Справка!$G$2:$H$579,2,0),\"\")","v":""}]
[null,null,null,null,{"$f":"IFERROR(VLOOKUP(D12248,Справка!$G$2:$H$579,2,0),\"\")","v":""}]
[null,null,null,null,{"$f":"IFERROR(VLOOKUP(D12249,Справка!$G$2:$H$579,2,0),\"\")","v":""}]
[null,null,null,null,{"$f":"IFERROR(VLOOKUP(D12250,Справка!$G$2:$H$579,2,0),\"\")","v":""}]
[null,null,null,null,{"$f":"IFERROR(VLOOKUP(D12251,Справка!$G$2:$H$579,2,0),\"\")","v":""}]
[null,null,null,null,{"$f":"IFERROR(VLOOKUP(D12252,Справка!$G$2:$H$579,2,0),\"\")","v":""}]
[null,null,null,null,{"$f":"IFERROR(VLOOKUP(D12253,Справка!$G$2:$H$579,2,0),\"\")","v":""}]
[null,null,null,null,{"$f":"IFERROR(VLOOKUP(D12254,Справка!$G$2:$H$579,2,0),\"\")","v":""}]
[null,null,null,null,{"$f":"IFERROR(VLOOKUP(D12255,Справка!$G$2:$H$579,2,0),\"\")","v":""}]
[null,null,null,null,{"$f":"IFERROR(VLOOKUP(D12256,Справка!$G$2:$H$579,2,0),\"\")","v":""}]
[null,null,null,null,{"$f":"IFERROR(VLOOKUP(D12257,Справка!$G$2:$H$579,2,0),\"\")","v":""}]
[null,null,null,null,{"$f":"IFERROR(VLOOKUP(D12258,Справка!$G$2:$H$579,2,0),\"\")","v":""}]
[null,null,null,null,{"$f":"IFERROR(VLOOKUP(D12259,Справка!$G$2:$H$579,2,0),\"\")","v":""}]
[null,null,null,null,{"$f":"IFERROR(VLOOKUP(D12260,Справка!$G$2:$H$579,2,0),\"\")","v":""}]
[null,null,null,null,{"$f":"IFERROR(VLOOKUP(D12261,Справка!$G$2:$H$579,2,0),\"\")","v":""}]
[null,null,null,null,{"$f":"IFERROR(VLOOKUP(D12262,Справка!$G$2:$H$579,2,0),\"\")","v":""}]
[null,null,null,null,{"$f":"IFERROR(VLOOKUP(D12263,Справка!$G$2:$H$579,2,0),\"\")","v":""}]
[null,null,null,null,{"$f":"IFERROR(VLOOKUP(D12264,Справка!$G$2:$H$579,2,0),\"\")","v":""}]
[null,null,null,null,{"$f":"IFERROR(VLOOKUP(D12265,Справка!$G$2:$H$579,2,0),\"\")","v":""}]
[null,null,null,null,{"$f":"IFERROR(VLOOKUP(D12266,Справка!$G$2:$H$579,2,0),\"\")","v":""}]
[null,null,null,null,{"$f":"IFERROR(VLOOKUP(D12267,Справка!$G$2:$H$579,2,0),\"\")","v":""}]
[null,null,null,null,{"$f":"IFERROR(VLOOKUP(D12268,Справка!$G$2:$H$579,2,0),\"\")","v":""}]
[null,null,null,null,{"$f":"IFERROR(VLOOKUP(D12269,Справка!$G$2:$H$579,2,0),\"\")","v":""}]
[null,null,null,null,{"$f":"IFERROR(VLOOKUP(D12270,Справка!$G$2:$H$579,2,0),\"\")","v":""}]
[null,null,null,null,{"$f":"IFERROR(VLOOKUP(D12271,Справка!$G$2:$H$579,2,0),\"\")","v":""}]
[null,null,null,null,{"$f":"IFERROR(VLOOKUP(D12272,Справка!$G$2:$H$579,2,0),\"\")","v":""}]
[null,null,null,null,{"$f":"IFERROR(VLOOKUP(D12273,Справка!$G$2:$H$579,2,0),\"\")","v":""}]
[null,null,null,null,{"$f":"IFERROR(VLOOKUP(D12274,Справка!$G$2:$H$579,2,0),\"\")","v":""}]
[null,null,null,null,{"$f":"IFERROR(VLOOKUP(D12275,Справка!$G$2:$H$579,2,0),\"\")","v":""}]
[null,null,null,null,{"$f":"IFERROR(VLOOKUP(D12276,Справка!$G$2:$H$579,2,0),\"\")","v":""}]
[null,null,null,null,{"$f":"IFERROR(VLOOKUP(D12277,Справка!$G$2:$H$579,2,0),\"\")","v":""}]
[null,null,null,null,{"$f":"IFERROR(VLOOKUP(D12278,Справка!$G$2:$H$579,2,0),\"\")","v":""}]
[null,null,null,null,{"$f":"IFERROR(VLOOKUP(D12279,Справка!$G$2:$H$579,2,0),\"\")","v":""}]
[null,null,null,null,{"$f":"IFERROR(VLOOKUP(D12280,Справка!$G$2:$H$579,2,0),\"\")","v":""}]
[null,null,null,null,{"$f":"IFERROR(VLOOKUP(D12281,Справка!$G$2:$H$579,2,0),\"\")","v":""}]
[null,null,null,null,{"$f":"IFERROR(VLOOKUP(D12282,Справка!$G$2:$H$579,2,0),\"\")","v":""}]
[null,null,null,null,{"$f":"IFERROR(VLOOKUP(D12283,Справка!$G$2:$H$579,2,0),\"\")","v":""}]
[null,null,null,null,{"$f":"IFERROR(VLOOKUP(D12284,Справка!$G$2:$H$579,2,0),\"\")","v":""}]
[null,null,null,null,{"$f":"IFERROR(VLOOKUP(D12285,Справка!$G$2:$H$579,2,0),\"\")","v":""}]
[null,null,null,null,{"$f":"IFERROR(VLOOKUP(D12286,Справка!$G$2:$H$579,2,0),\"\")","v":""}]
[null,null,null,null,{"$f":"IFERROR(VLOOKUP(D12287,Справка!$G$2:$H$579,2,0),\"\")","v":""}]
[null,null,null,null,{"$f":"IFERROR(VLOOKUP(D12288,Справка!$G$2:$H$579,2,0),\"\")","v":""}]
[null,null,null,null,{"$f":"IFERROR(VLOOKUP(D12289,Справка!$G$2:$H$579,2,0),\"\")","v":""}]
[null,null,null,null,{"$f":"IFERROR(VLOOKUP(D12290,Справка!$G$2:$H$579,2,0),\"\")","v":""}]
[null,null,null,null,{"$f":"IFERROR(VLOOKUP(D12291,Справка!$G$2:$H$579,2,0),\"\")","v":""}]
[null,null,null,null,{"$f":"IFERROR(VLOOKUP(D12292,Справка!$G$2:$H$579,2,0),\"\")","v":""}]
[null,null,null,null,{"$f":"IFERROR(VLOOKUP(D12293,Справка!$G$2:$H$579,2,0),\"\")","v":""}]
[null,null,null,null,{"$f":"IFERROR(VLOOKUP(D12294,Справка!$G$2:$H$579,2,0),\"\")","v":""}]
[null,null,null,null,{"$f":"IFERROR(VLOOKUP(D12295,Справка!$G$2:$H$579,2,0),\"\")","v":""}]
[null,null,null,null,{"$f":"IFERROR(VLOOKUP(D12296,Справка!$G$2:$H$579,2,0),\"\")","v":""}]
[null,null,null,null,{"$f":"IFERROR(VLOOKUP(D12297,Справка!$G$2:$H$579,2,0),\"\")","v":""}]
[null,null,null,null,{"$f":"IFERROR(VLOOKUP(D12298,Справка!$G$2:$H$579,2,0),\"\")","v":""}]
[null,null,null,null,{"$f":"IFERROR(VLOOKUP(D12299,Справка!$G$2:$H$579,2,0),\"\")","v":""}]
[null,null,null,null,{"$f":"IFERROR(VLOOKUP(D12300,Справка!$G$2:$H$579,2,0),\"\")","v":""}]
[null,null,null,null,{"$f":"IFERROR(VLOOKUP(D12301,Справка!$G$2:$H$579,2,0),\"\")","v":""}]
[null,null,null,null,{"$f":"IFERROR(VLOOKUP(D12302,Справка!$G$2:$H$579,2,0),\"\")","v":""}]
[null,null,null,null,{"$f":"IFERROR(VLOOKUP(D12303,Справка!$G$2:$H$579,2,0),\"\")","v":""}]
[null,null,null,null,{"$f":"IFERROR(VLOOKUP(D12304,Справка!$G$2:$H$579,2,0),\"\")","v":""}]
[null,null,null,null,{"$f":"IFERROR(VLOOKUP(D12305,Справка!$G$2:$H$579,2,0),\"\")","v":""}]
[null,null,null,null,{"$f":"IFERROR(VLOOKUP(D12306,Справка!$G$2:$H$579,2,0),\"\")","v":""}]
[null,null,null,null,{"$f":"IFERROR(VLOOKUP(D12307,Справка!$G$2:$H$579,2,0),\"\")","v":""}]
[null,null,null,null,{"$f":"IFERROR(VLOOKUP(D12308,Справка!$G$2:$H$579,2,0),\"\")","v":""}]
[null,null,null,null,{"$f":"IFERROR(VLOOKUP(D12309,Справка!$G$2:$H$579,2,0),\"\")","v":""}]
[null,null,null,null,{"$f":"IFERROR(VLOOKUP(D12310,Справка!$G$2:$H$579,2,0),\"\")","v":""}]
[null,null,null,null,{"$f":"IFERROR(VLOOKUP(D12311,Справка!$G$2:$H$579,2,0),\"\")","v":""}]
[null,null,null,null,{"$f":"IFERROR(VLOOKUP(D12312,Справка!$G$2:$H$579,2,0),\"\")","v":""}]
[null,null,null,null,{"$f":"IFERROR(VLOOKUP(D12313,Справка!$G$2:$H$579,2,0),\"\")","v":""}]
[null,null,null,null,{"$f":"IFERROR(VLOOKUP(D12314,Справка!$G$2:$H$579,2,0),\"\")","v":""}]
[null,null,null,null,{"$f":"IFERROR(VLOOKUP(D12315,Справка!$G$2:$H$579,2,0),\"\")","v":""}]
[null,null,null,null,{"$f":"IFERROR(VLOOKUP(D12316,Справка!$G$2:$H$579,2,0),\"\")","v":""}]
[null,null,null,null,{"$f":"IFERROR(VLOOKUP(D12317,Справка!$G$2:$H$579,2,0),\"\")","v":""}]
[null,null,null,null,{"$f":"IFERROR(VLOOKUP(D12318,Справка!$G$2:$H$579,2,0),\"\")","v":""}]
[null,null,null,null,{"$f":"IFERROR(VLOOKUP(D12319,Справка!$G$2:$H$579,2,0),\"\")","v":""}]
[null,null,null,null,{"$f":"IFERROR(VLOOKUP(D12320,Справка!$G$2:$H$579,2,0),\"\")","v":""}]
[null,null,null,null,{"$f":"IFERROR(VLOOKUP(D12321,Справка!$G$2:$H$579,2,0),\"\")","v":""}]
[null,null,null,null,{"$f":"IFERROR(VLOOKUP(D12322,Справка!$G$2:$H$579,2,0),\"\")","v":""}]
[null,null,null,null,{"$f":"IFERROR(VLOOKUP(D12323,Справка!$G$2:$H$579,2,0),\"\")","v":""}]
[null,null,null,null,{"$f":"IFERROR(VLOOKUP(D12324,Справка!$G$2:$H$579,2,0),\"\")","v":""}]
[null,null,null,null,{"$f":"IFERROR(VLOOKUP(D12325,Справка!$G$2:$H$579,2,0),\"\")","v":""}]
[null,null,null,null,{"$f":"IFERROR(VLOOKUP(D12326,Справка!$G$2:$H$579,2,0),\"\")","v":""}]
[null,null,null,null,{"$f":"IFERROR(VLOOKUP(D12327,Справка!$G$2:$H$579,2,0),\"\")","v":""}]
[null,null,null,null,{"$f":"IFERROR(VLOOKUP(D12328,Справка!$G$2:$H$579,2,0),\"\")","v":""}]
[null,null,null,null,{"$f":"IFERROR(VLOOKUP(D12329,Справка!$G$2:$H$579,2,0),\"\")","v":""}]
[null,null,null,null,{"$f":"IFERROR(VLOOKUP(D12330,Справка!$G$2:$H$579,2,0),\"\")","v":""}]
[null,null,null,null,{"$f":"IFERROR(VLOOKUP(D12331,Справка!$G$2:$H$579,2,0),\"\")","v":""}]
[null,null,null,null,{"$f":"IFERROR(VLOOKUP(D12332,Справка!$G$2:$H$579,2,0),\"\")","v":""}]
[null,null,null,null,{"$f":"IFERROR(VLOOKUP(D12333,Справка!$G$2:$H$579,2,0),\"\")","v":""}]
[null,null,null,null,{"$f":"IFERROR(VLOOKUP(D12334,Справка!$G$2:$H$579,2,0),\"\")","v":""}]
[null,null,null,null,{"$f":"IFERROR(VLOOKUP(D12335,Справка!$G$2:$H$579,2,0),\"\")","v":""}]
[null,null,null,null,{"$f":"IFERROR(VLOOKUP(D12336,Справка!$G$2:$H$579,2,0),\"\")","v":""}]
[null,null,null,null,{"$f":"IFERROR(VLOOKUP(D12337,Справка!$G$2:$H$579,2,0),\"\")","v":""}]
[null,null,null,null,{"$f":"IFERROR(VLOOKUP(D12338,Справка!$G$2:$H$579,2,0),\"\")","v":""}]
[null,null,null,null,{"$f":"IFERROR(VLOOKUP(D12339,Справка!$G$2:$H$579,2,0),\"\")","v":""}]
[null,null,null,null,{"$f":"IFERROR(VLOOKUP(D12340,Справка!$G$2:$H$579,2,0),\"\")","v":""}]
[null,null,null,null,{"$f":"IFERROR(VLOOKUP(D12341,Справка!$G$2:$H$579,2,0),\"\")","v":""}]
[null,null,null,null,{"$f":"IFERROR(VLOOKUP(D12342,Справка!$G$2:$H$579,2,0),\"\")","v":""}]
[null,null,null,null,{"$f":"IFERROR(VLOOKUP(D12343,Справка!$G$2:$H$579,2,0),\"\")","v":""}]
[null,null,null,null,{"$f":"IFERROR(VLOOKUP(D12344,Справка!$G$2:$H$579,2,0),\"\")","v":""}]
[null,null,null,null,{"$f":"IFERROR(VLOOKUP(D12345,Справка!$G$2:$H$579,2,0),\"\")","v":""}]
[null,null,null,null,{"$f":"IFERROR(VLOOKUP(D12346,Справка!$G$2:$H$579,2,0),\"\")","v":""}]
[null,null,null,null,{"$f":"IFERROR(VLOOKUP(D12347,Справка!$G$2:$H$579,2,0),\"\")","v":""}]
[null,null,null,null,{"$f":"IFERROR(VLOOKUP(D12348,Справка!$G$2:$H$579,2,0),\"\")","v":""}]
[null,null,null,null,{"$f":"IFERROR(VLOOKUP(D12349,Справка!$G$2:$H$579,2,0),\"\")","v":""}]
[null,null,null,null,{"$f":"IFERROR(VLOOKUP(D12350,Справка!$G$2:$H$579,2,0),\"\")","v":""}]
[null,null,null,null,{"$f":"IFERROR(VLOOKUP(D12351,Справка!$G$2:$H$579,2,0),\"\")","v":""}]
[null,null,null,null,{"$f":"IFERROR(VLOOKUP(D12352,Справка!$G$2:$H$579,2,0),\"\")","v":""}]
[null,null,null,null,{"$f":"IFERROR(VLOOKUP(D12353,Справка!$G$2:$H$579,2,0),\"\")","v":""}]
[null,null,null,null,{"$f":"IFERROR(VLOOKUP(D12354,Справка!$G$2:$H$579,2,0),\"\")","v":""}]
[null,null,null,null,{"$f":"IFERROR(VLOOKUP(D12355,Справка!$G$2:$H$579,2,0),\"\")","v":""}]
[null,null,null,null,{"$f":"IFERROR(VLOOKUP(D12356,Справка!$G$2:$H$579,2,0),\"\")","v":""}]
[null,null,null,null,{"$f":"IFERROR(VLOOKUP(D12357,Справка!$G$2:$H$579,2,0),\"\")","v":""}]
[null,null,null,null,{"$f":"IFERROR(VLOOKUP(D12358,Справка!$G$2:$H$579,2,0),\"\")","v":""}]
[null,null,null,null,{"$f":"IFERROR(VLOOKUP(D12359,Справка!$G$2:$H$579,2,0),\"\")","v":""}]
[null,null,null,null,{"$f":"IFERROR(VLOOKUP(D12360,Справка!$G$2:$H$579,2,0),\"\")","v":""}]
[null,null,null,null,{"$f":"IFERROR(VLOOKUP(D12361,Справка!$G$2:$H$579,2,0),\"\")","v":""}]
[null,null,null,null,{"$f":"IFERROR(VLOOKUP(D12362,Справка!$G$2:$H$579,2,0),\"\")","v":""}]
[null,null,null,null,{"$f":"IFERROR(VLOOKUP(D12363,Справка!$G$2:$H$579,2,0),\"\")","v":""}]
[null,null,null,null,{"$f":"IFERROR(VLOOKUP(D12364,Справка!$G$2:$H$579,2,0),\"\")","v":""}]
[null,null,null,null,{"$f":"IFERROR(VLOOKUP(D12365,Справка!$G$2:$H$579,2,0),\"\")","v":""}]
[null,null,null,null,{"$f":"IFERROR(VLOOKUP(D12366,Справка!$G$2:$H$579,2,0),\"\")","v":""}]
[null,null,null,null,{"$f":"IFERROR(VLOOKUP(D12367,Справка!$G$2:$H$579,2,0),\"\")","v":""}]
[null,null,null,null,{"$f":"IFERROR(VLOOKUP(D12368,Справка!$G$2:$H$579,2,0),\"\")","v":""}]
[null,null,null,null,{"$f":"IFERROR(VLOOKUP(D12369,Справка!$G$2:$H$579,2,0),\"\")","v":""}]
[null,null,null,null,{"$f":"IFERROR(VLOOKUP(D12370,Справка!$G$2:$H$579,2,0),\"\")","v":""}]
[null,null,null,null,{"$f":"IFERROR(VLOOKUP(D12371,Справка!$G$2:$H$579,2,0),\"\")","v":""}]
[null,null,null,null,{"$f":"IFERROR(VLOOKUP(D12372,Справка!$G$2:$H$579,2,0),\"\")","v":""}]
[null,null,null,null,{"$f":"IFERROR(VLOOKUP(D12373,Справка!$G$2:$H$579,2,0),\"\")","v":""}]
[null,null,null,null,{"$f":"IFERROR(VLOOKUP(D12374,Справка!$G$2:$H$579,2,0),\"\")","v":""}]
[null,null,null,null,{"$f":"IFERROR(VLOOKUP(D12375,Справка!$G$2:$H$579,2,0),\"\")","v":""}]
[null,null,null,null,{"$f":"IFERROR(VLOOKUP(D12376,Справка!$G$2:$H$579,2,0),\"\")","v":""}]
[null,null,null,null,{"$f":"IFERROR(VLOOKUP(D12377,Справка!$G$2:$H$579,2,0),\"\")","v":""}]
[null,null,null,null,{"$f":"IFERROR(VLOOKUP(D12378,Справка!$G$2:$H$579,2,0),\"\")","v":""}]
[null,null,null,null,{"$f":"IFERROR(VLOOKUP(D12379,Справка!$G$2:$H$579,2,0),\"\")","v":""}]
[null,null,null,null,{"$f":"IFERROR(VLOOKUP(D12380,Справка!$G$2:$H$579,2,0),\"\")","v":""}]
[null,null,null,null,{"$f":"IFERROR(VLOOKUP(D12381,Справка!$G$2:$H$579,2,0),\"\")","v":""}]
[null,null,null,null,{"$f":"IFERROR(VLOOKUP(D12382,Справка!$G$2:$H$579,2,0),\"\")","v":""}]
[null,null,null,null,{"$f":"IFERROR(VLOOKUP(D12383,Справка!$G$2:$H$579,2,0),\"\")","v":""}]
[null,null,null,null,{"$f":"IFERROR(VLOOKUP(D12384,Справка!$G$2:$H$579,2,0),\"\")","v":""}]
[null,null,null,null,{"$f":"IFERROR(VLOOKUP(D12385,Справка!$G$2:$H$579,2,0),\"\")","v":""}]
[null,null,null,null,{"$f":"IFERROR(VLOOKUP(D12386,Справка!$G$2:$H$579,2,0),\"\")","v":""}]
[null,null,null,null,{"$f":"IFERROR(VLOOKUP(D12387,Справка!$G$2:$H$579,2,0),\"\")","v":""}]
[null,null,null,null,{"$f":"IFERROR(VLOOKUP(D12388,Справка!$G$2:$H$579,2,0),\"\")","v":""}]
[null,null,null,null,{"$f":"IFERROR(VLOOKUP(D12389,Справка!$G$2:$H$579,2,0),\"\")","v":""}]
[null,null,null,null,{"$f":"IFERROR(VLOOKUP(D12390,Справка!$G$2:$H$579,2,0),\"\")","v":""}]
[null,null,null,null,{"$f":"IFERROR(VLOOKUP(D12391,Справка!$G$2:$H$579,2,0),\"\")","v":""}]
[null,null,null,null,{"$f":"IFERROR(VLOOKUP(D12392,Справка!$G$2:$H$579,2,0),\"\")","v":""}]
[null,null,null,null,{"$f":"IFERROR(VLOOKUP(D12393,Справка!$G$2:$H$579,2,0),\"\")","v":""}]
[null,null,null,null,{"$f":"IFERROR(VLOOKUP(D12394,Справка!$G$2:$H$579,2,0),\"\")","v":""}]
[null,null,null,null,{"$f":"IFERROR(VLOOKUP(D12395,Справка!$G$2:$H$579,2,0),\"\")","v":""}]
[null,null,null,null,{"$f":"IFERROR(VLOOKUP(D12396,Справка!$G$2:$H$579,2,0),\"\")","v":""}]
[null,null,null,null,{"$f":"IFERROR(VLOOKUP(D12397,Справка!$G$2:$H$579,2,0),\"\")","v":""}]
[null,null,null,null,{"$f":"IFERROR(VLOOKUP(D12398,Справка!$G$2:$H$579,2,0),\"\")","v":""}]
[null,null,null,null,{"$f":"IFERROR(VLOOKUP(D12399,Справка!$G$2:$H$579,2,0),\"\")","v":""}]
[null,null,null,null,{"$f":"IFERROR(VLOOKUP(D12400,Справка!$G$2:$H$579,2,0),\"\")","v":""}]
[null,null,null,null,{"$f":"IFERROR(VLOOKUP(D12401,Справка!$G$2:$H$579,2,0),\"\")","v":""}]
[null,null,null,null,{"$f":"IFERROR(VLOOKUP(D12402,Справка!$G$2:$H$579,2,0),\"\")","v":""}]
[null,null,null,null,{"$f":"IFERROR(VLOOKUP(D12403,Справка!$G$2:$H$579,2,0),\"\")","v":""}]
[null,null,null,null,{"$f":"IFERROR(VLOOKUP(D12404,Справка!$G$2:$H$579,2,0),\"\")","v":""}]
[null,null,null,null,{"$f":"IFERROR(VLOOKUP(D12405,Справка!$G$2:$H$579,2,0),\"\")","v":""}]
[null,null,null,null,{"$f":"IFERROR(VLOOKUP(D12406,Справка!$G$2:$H$579,2,0),\"\")","v":""}]
[null,null,null,null,{"$f":"IFERROR(VLOOKUP(D12407,Справка!$G$2:$H$579,2,0),\"\")","v":""}]
[null,null,null,null,{"$f":"IFERROR(VLOOKUP(D12408,Справка!$G$2:$H$579,2,0),\"\")","v":""}]
[null,null,null,null,{"$f":"IFERROR(VLOOKUP(D12409,Справка!$G$2:$H$579,2,0),\"\")","v":""}]
[null,null,null,null,{"$f":"IFERROR(VLOOKUP(D12410,Справка!$G$2:$H$579,2,0),\"\")","v":""}]
[null,null,null,null,{"$f":"IFERROR(VLOOKUP(D12411,Справка!$G$2:$H$579,2,0),\"\")","v":""}]
[null,null,null,null,{"$f":"IFERROR(VLOOKUP(D12412,Справка!$G$2:$H$579,2,0),\"\")","v":""}]
[null,null,null,null,{"$f":"IFERROR(VLOOKUP(D12413,Справка!$G$2:$H$579,2,0),\"\")","v":""}]
[null,null,null,null,{"$f":"IFERROR(VLOOKUP(D12414,Справка!$G$2:$H$579,2,0),\"\")","v":""}]
[null,null,null,null,{"$f":"IFERROR(VLOOKUP(D12415,Справка!$G$2:$H$579,2,0),\"\")","v":""}]
[null,null,null,null,{"$f":"IFERROR(VLOOKUP(D12416,Справка!$G$2:$H$579,2,0),\"\")","v":""}]
[null,null,null,null,{"$f":"IFERROR(VLOOKUP(D12417,Справка!$G$2:$H$579,2,0),\"\")","v":""}]
[null,null,null,null,{"$f":"IFERROR(VLOOKUP(D12418,Справка!$G$2:$H$579,2,0),\"\")","v":""}]
[null,null,null,null,{"$f":"IFERROR(VLOOKUP(D12419,Справка!$G$2:$H$579,2,0),\"\")","v":""}]
[null,null,null,null,{"$f":"IFERROR(VLOOKUP(D12420,Справка!$G$2:$H$579,2,0),\"\")","v":""}]
[null,null,null,null,{"$f":"IFERROR(VLOOKUP(D12421,Справка!$G$2:$H$579,2,0),\"\")","v":""}]
[null,null,null,null,{"$f":"IFERROR(VLOOKUP(D12422,Справка!$G$2:$H$579,2,0),\"\")","v":""}]
[null,null,null,null,{"$f":"IFERROR(VLOOKUP(D12423,Справка!$G$2:$H$579,2,0),\"\")","v":""}]
[null,null,null,null,{"$f":"IFERROR(VLOOKUP(D12424,Справка!$G$2:$H$579,2,0),\"\")","v":""}]
[null,null,null,null,{"$f":"IFERROR(VLOOKUP(D12425,Справка!$G$2:$H$579,2,0),\"\")","v":""}]
[null,null,null,null,{"$f":"IFERROR(VLOOKUP(D12426,Справка!$G$2:$H$579,2,0),\"\")","v":""}]
[null,null,null,null,{"$f":"IFERROR(VLOOKUP(D12427,Справка!$G$2:$H$579,2,0),\"\")","v":""}]
[null,null,null,null,{"$f":"IFERROR(VLOOKUP(D12428,Справка!$G$2:$H$579,2,0),\"\")","v":""}]
[null,null,null,null,{"$f":"IFERROR(VLOOKUP(D12429,Справка!$G$2:$H$579,2,0),\"\")","v":""}]
[null,null,null,null,{"$f":"IFERROR(VLOOKUP(D12430,Справка!$G$2:$H$579,2,0),\"\")","v":""}]
[null,null,null,null,{"$f":"IFERROR(VLOOKUP(D12431,Справка!$G$2:$H$579,2,0),\"\")","v":""}]
[null,null,null,null,{"$f":"IFERROR(VLOOKUP(D12432,Справка!$G$2:$H$579,2,0),\"\")","v":""}]
[null,null,null,null,{"$f":"IFERROR(VLOOKUP(D12433,Справка!$G$2:$H$579,2,0),\"\")","v":""}]
[null,null,null,null,{"$f":"IFERROR(VLOOKUP(D12434,Справка!$G$2:$H$579,2,0),\"\")","v":""}]
[null,null,null,null,{"$f":"IFERROR(VLOOKUP(D12435,Справка!$G$2:$H$579,2,0),\"\")","v":""}]
[null,null,null,null,{"$f":"IFERROR(VLOOKUP(D12436,Справка!$G$2:$H$579,2,0),\"\")","v":""}]
[null,null,null,null,{"$f":"IFERROR(VLOOKUP(D12437,Справка!$G$2:$H$579,2,0),\"\")","v":""}]
[null,null,null,null,{"$f":"IFERROR(VLOOKUP(D12438,Справка!$G$2:$H$579,2,0),\"\")","v":""}]
[null,null,null,null,{"$f":"IFERROR(VLOOKUP(D12439,Справка!$G$2:$H$579,2,0),\"\")","v":""}]
[null,null,null,null,{"$f":"IFERROR(VLOOKUP(D12440,Справка!$G$2:$H$579,2,0),\"\")","v":""}]
[null,null,null,null,{"$f":"IFERROR(VLOOKUP(D12441,Справка!$G$2:$H$579,2,0),\"\")","v":""}]
[null,null,null,null,{"$f":"IFERROR(VLOOKUP(D12442,Справка!$G$2:$H$579,2,0),\"\")","v":""}]
[null,null,null,null,{"$f":"IFERROR(VLOOKUP(D12443,Справка!$G$2:$H$579,2,0),\"\")","v":""}]
[null,null,null,null,{"$f":"IFERROR(VLOOKUP(D12444,Справка!$G$2:$H$579,2,0),\"\")","v":""}]
[null,null,null,null,{"$f":"IFERROR(VLOOKUP(D12445,Справка!$G$2:$H$579,2,0),\"\")","v":""}]
[null,null,null,null,{"$f":"IFERROR(VLOOKUP(D12446,Справка!$G$2:$H$579,2,0),\"\")","v":""}]
[null,null,null,null,{"$f":"IFERROR(VLOOKUP(D12447,Справка!$G$2:$H$579,2,0),\"\")","v":""}]
[null,null,null,null,{"$f":"IFERROR(VLOOKUP(D12448,Справка!$G$2:$H$579,2,0),\"\")","v":""}]
[null,null,null,null,{"$f":"IFERROR(VLOOKUP(D12449,Справка!$G$2:$H$579,2,0),\"\")","v":""}]
[null,null,null,null,{"$f":"IFERROR(VLOOKUP(D12450,Справка!$G$2:$H$579,2,0),\"\")","v":""}]
[null,null,null,null,{"$f":"IFERROR(VLOOKUP(D12451,Справка!$G$2:$H$579,2,0),\"\")","v":""}]
[null,null,null,null,{"$f":"IFERROR(VLOOKUP(D12452,Справка!$G$2:$H$579,2,0),\"\")","v":""}]
[null,null,null,null,{"$f":"IFERROR(VLOOKUP(D12453,Справка!$G$2:$H$579,2,0),\"\")","v":""}]
[null,null,null,null,{"$f":"IFERROR(VLOOKUP(D12454,Справка!$G$2:$H$579,2,0),\"\")","v":""}]
[null,null,null,null,{"$f":"IFERROR(VLOOKUP(D12455,Справка!$G$2:$H$579,2,0),\"\")","v":""}]
[null,null,null,null,{"$f":"IFERROR(VLOOKUP(D12456,Справка!$G$2:$H$579,2,0),\"\")","v":""}]
[null,null,null,null,{"$f":"IFERROR(VLOOKUP(D12457,Справка!$G$2:$H$579,2,0),\"\")","v":""}]
[null,null,null,null,{"$f":"IFERROR(VLOOKUP(D12458,Справка!$G$2:$H$579,2,0),\"\")","v":""}]
[null,null,null,null,{"$f":"IFERROR(VLOOKUP(D12459,Справка!$G$2:$H$579,2,0),\"\")","v":""}]
[null,null,null,null,{"$f":"IFERROR(VLOOKUP(D12460,Справка!$G$2:$H$579,2,0),\"\")","v":""}]
[null,null,null,null,{"$f":"IFERROR(VLOOKUP(D12461,Справка!$G$2:$H$579,2,0),\"\")","v":""}]
[null,null,null,null,{"$f":"IFERROR(VLOOKUP(D12462,Справка!$G$2:$H$579,2,0),\"\")","v":""}]
[null,null,null,null,{"$f":"IFERROR(VLOOKUP(D12463,Справка!$G$2:$H$579,2,0),\"\")","v":""}]
[null,null,null,null,{"$f":"IFERROR(VLOOKUP(D12464,Справка!$G$2:$H$579,2,0),\"\")","v":""}]
[null,null,null,null,{"$f":"IFERROR(VLOOKUP(D12465,Справка!$G$2:$H$579,2,0),\"\")","v":""}]
[null,null,null,null,{"$f":"IFERROR(VLOOKUP(D12466,Справка!$G$2:$H$579,2,0),\"\")","v":""}]
[null,null,null,null,{"$f":"IFERROR(VLOOKUP(D12467,Справка!$G$2:$H$579,2,0),\"\")","v":""}]
[null,null,null,null,{"$f":"IFERROR(VLOOKUP(D12468,Справка!$G$2:$H$579,2,0),\"\")","v":""}]
[null,null,null,null,{"$f":"IFERROR(VLOOKUP(D12469,Справка!$G$2:$H$579,2,0),\"\")","v":""}]
[null,null,null,null,{"$f":"IFERROR(VLOOKUP(D12470,Справка!$G$2:$H$579,2,0),\"\")","v":""}]
[null,null,null,null,{"$f":"IFERROR(VLOOKUP(D12471,Справка!$G$2:$H$579,2,0),\"\")","v":""}]
[null,null,null,null,{"$f":"IFERROR(VLOOKUP(D12472,Справка!$G$2:$H$579,2,0),\"\")","v":""}]
[null,null,null,null,{"$f":"IFERROR(VLOOKUP(D12473,Справка!$G$2:$H$579,2,0),\"\")","v":""}]
[null,null,null,null,{"$f":"IFERROR(VLOOKUP(D12474,Справка!$G$2:$H$579,2,0),\"\")","v":""}]
[null,null,null,null,{"$f":"IFERROR(VLOOKUP(D12475,Справка!$G$2:$H$579,2,0),\"\")","v":""}]
[null,null,null,null,{"$f":"IFERROR(VLOOKUP(D12476,Справка!$G$2:$H$579,2,0),\"\")","v":""}]
[null,null,null,null,{"$f":"IFERROR(VLOOKUP(D12477,Справка!$G$2:$H$579,2,0),\"\")","v":""}]
[null,null,null,null,{"$f":"IFERROR(VLOOKUP(D12478,Справка!$G$2:$H$579,2,0),\"\")","v":""}]
[null,null,null,null,{"$f":"IFERROR(VLOOKUP(D12479,Справка!$G$2:$H$579,2,0),\"\")","v":""}]
[null,null,null,null,{"$f":"IFERROR(VLOOKUP(D12480,Справка!$G$2:$H$579,2,0),\"\")","v":""}]
[null,null,null,null,{"$f":"IFERROR(VLOOKUP(D12481,Справка!$G$2:$H$579,2,0),\"\")","v":""}]
[null,null,null,null,{"$f":"IFERROR(VLOOKUP(D12482,Справка!$G$2:$H$579,2,0),\"\")","v":""}]
[null,null,null,null,{"$f":"IFERROR(VLOOKUP(D12483,Справка!$G$2:$H$579,2,0),\"\")","v":""}]
[null,null,null,null,{"$f":"IFERROR(VLOOKUP(D12484,Справка!$G$2:$H$579,2,0),\"\")","v":""}]
[null,null,null,null,{"$f":"IFERROR(VLOOKUP(D12485,Справка!$G$2:$H$579,2,0),\"\")","v":""}]
[null,null,null,null,{"$f":"IFERROR(VLOOKUP(D12486,Справка!$G$2:$H$579,2,0),\"\")","v":""}]
[null,null,null,null,{"$f":"IFERROR(VLOOKUP(D12487,Справка!$G$2:$H$579,2,0),\"\")","v":""}]
[null,null,null,null,{"$f":"IFERROR(VLOOKUP(D12488,Справка!$G$2:$H$579,2,0),\"\")","v":""}]
[null,null,null,null,{"$f":"IFERROR(VLOOKUP(D12489,Справка!$G$2:$H$579,2,0),\"\")","v":""}]
[null,null,null,null,{"$f":"IFERROR(VLOOKUP(D12490,Справка!$G$2:$H$579,2,0),\"\")","v":""}]
[null,null,null,null,{"$f":"IFERROR(VLOOKUP(D12491,Справка!$G$2:$H$579,2,0),\"\")","v":""}]
[null,null,null,null,{"$f":"IFERROR(VLOOKUP(D12492,Справка!$G$2:$H$579,2,0),\"\")","v":""}]
[null,null,null,null,{"$f":"IFERROR(VLOOKUP(D12493,Справка!$G$2:$H$579,2,0),\"\")","v":""}]
[null,null,null,null,{"$f":"IFERROR(VLOOKUP(D12494,Справка!$G$2:$H$579,2,0),\"\")","v":""}]
[null,null,null,null,{"$f":"IFERROR(VLOOKUP(D12495,Справка!$G$2:$H$579,2,0),\"\")","v":""}]
[null,null,null,null,{"$f":"IFERROR(VLOOKUP(D12496,Справка!$G$2:$H$579,2,0),\"\")","v":""}]
[null,null,null,null,{"$f":"IFERROR(VLOOKUP(D12497,Справка!$G$2:$H$579,2,0),\"\")","v":""}]
[null,null,null,null,{"$f":"IFERROR(VLOOKUP(D12498,Справка!$G$2:$H$579,2,0),\"\")","v":""}]
[null,null,null,null,{"$f":"IFERROR(VLOOKUP(D12499,Справка!$G$2:$H$579,2,0),\"\")","v":""}]
[null,null,null,null,{"$f":"IFERROR(VLOOKUP(D12500,Справка!$G$2:$H$579,2,0),\"\")","v":""}]
[null,null,null,null,{"$f":"IFERROR(VLOOKUP(D12501,Справка!$G$2:$H$579,2,0),\"\")","v":""}]
[null,null,null,null,{"$f":"IFERROR(VLOOKUP(D12502,Справка!$G$2:$H$579,2,0),\"\")","v":""}]
[null,null,null,null,{"$f":"IFERROR(VLOOKUP(D12503,Справка!$G$2:$H$579,2,0),\"\")","v":""}]
[null,null,null,null,{"$f":"IFERROR(VLOOKUP(D12504,Справка!$G$2:$H$579,2,0),\"\")","v":""}]
[null,null,null,null,{"$f":"IFERROR(VLOOKUP(D12505,Справка!$G$2:$H$579,2,0),\"\")","v":""}]
[null,null,null,null,{"$f":"IFERROR(VLOOKUP(D12506,Справка!$G$2:$H$579,2,0),\"\")","v":""}]
[null,null,null,null,{"$f":"IFERROR(VLOOKUP(D12507,Справка!$G$2:$H$579,2,0),\"\")","v":""}]
[null,null,null,null,{"$f":"IFERROR(VLOOKUP(D12508,Справка!$G$2:$H$579,2,0),\"\")","v":""}]
[null,null,null,null,{"$f":"IFERROR(VLOOKUP(D12509,Справка!$G$2:$H$579,2,0),\"\")","v":""}]
[null,null,null,null,{"$f":"IFERROR(VLOOKUP(D12510,Справка!$G$2:$H$579,2,0),\"\")","v":""}]
[null,null,null,null,{"$f":"IFERROR(VLOOKUP(D12511,Справка!$G$2:$H$579,2,0),\"\")","v":""}]
[null,null,null,null,{"$f":"IFERROR(VLOOKUP(D12512,Справка!$G$2:$H$579,2,0),\"\")","v":""}]
[null,null,null,null,{"$f":"IFERROR(VLOOKUP(D12513,Справка!$G$2:$H$579,2,0),\"\")","v":""}]
[null,null,null,null,{"$f":"IFERROR(VLOOKUP(D12514,Справка!$G$2:$H$579,2,0),\"\")","v":""}]
[null,null,null,null,{"$f":"IFERROR(VLOOKUP(D12515,Справка!$G$2:$H$579,2,0),\"\")","v":""}]
[null,null,null,null,{"$f":"IFERROR(VLOOKUP(D12516,Справка!$G$2:$H$579,2,0),\"\")","v":""}]
[null,null,null,null,{"$f":"IFERROR(VLOOKUP(D12517,Справка!$G$2:$H$579,2,0),\"\")","v":""}]
[null,null,null,null,{"$f":"IFERROR(VLOOKUP(D12518,Справка!$G$2:$H$579,2,0),\"\")","v":""}]
[null,null,null,null,{"$f":"IFERROR(VLOOKUP(D12519,Справка!$G$2:$H$579,2,0),\"\")","v":""}]
[null,null,null,null,{"$f":"IFERROR(VLOOKUP(D12520,Справка!$G$2:$H$579,2,0),\"\")","v":""}]
[null,null,null,null,{"$f":"IFERROR(VLOOKUP(D12521,Справка!$G$2:$H$579,2,0),\"\")","v":""}]
[null,null,null,null,{"$f":"IFERROR(VLOOKUP(D12522,Справка!$G$2:$H$579,2,0),\"\")","v":""}]
[null,null,null,null,{"$f":"IFERROR(VLOOKUP(D12523,Справка!$G$2:$H$579,2,0),\"\")","v":""}]
[null,null,null,null,{"$f":"IFERROR(VLOOKUP(D12524,Справка!$G$2:$H$579,2,0),\"\")","v":""}]
[null,null,null,null,{"$f":"IFERROR(VLOOKUP(D12525,Справка!$G$2:$H$579,2,0),\"\")","v":""}]
[null,null,null,null,{"$f":"IFERROR(VLOOKUP(D12526,Справка!$G$2:$H$579,2,0),\"\")","v":""}]
[null,null,null,null,{"$f":"IFERROR(VLOOKUP(D12527,Справка!$G$2:$H$579,2,0),\"\")","v":""}]
[null,null,null,null,{"$f":"IFERROR(VLOOKUP(D12528,Справка!$G$2:$H$579,2,0),\"\")","v":""}]
[null,null,null,null,{"$f":"IFERROR(VLOOKUP(D12529,Справка!$G$2:$H$579,2,0),\"\")","v":""}]
[null,null,null,null,{"$f":"IFERROR(VLOOKUP(D12530,Справка!$G$2:$H$579,2,0),\"\")","v":""}]
[null,null,null,null,{"$f":"IFERROR(VLOOKUP(D12531,Справка!$G$2:$H$579,2,0),\"\")","v":""}]
[null,null,null,null,{"$f":"IFERROR(VLOOKUP(D12532,Справка!$G$2:$H$579,2,0),\"\")","v":""}]
[null,null,null,null,{"$f":"IFERROR(VLOOKUP(D12533,Справка!$G$2:$H$579,2,0),\"\")","v":""}]
[null,null,null,null,{"$f":"IFERROR(VLOOKUP(D12534,Справка!$G$2:$H$579,2,0),\"\")","v":""}]
[null,null,null,null,{"$f":"IFERROR(VLOOKUP(D12535,Справка!$G$2:$H$579,2,0),\"\")","v":""}]
[null,null,null,null,{"$f":"IFERROR(VLOOKUP(D12536,Справка!$G$2:$H$579,2,0),\"\")","v":""}]
[null,null,null,null,{"$f":"IFERROR(VLOOKUP(D12537,Справка!$G$2:$H$579,2,0),\"\")","v":""}]
[null,null,null,null,{"$f":"IFERROR(VLOOKUP(D12538,Справка!$G$2:$H$579,2,0),\"\")","v":""}]
[null,null,null,null,{"$f":"IFERROR(VLOOKUP(D12539,Справка!$G$2:$H$579,2,0),\"\")","v":""}]
[null,null,null,null,{"$f":"IFERROR(VLOOKUP(D12540,Справка!$G$2:$H$579,2,0),\"\")","v":""}]
[null,null,null,null,{"$f":"IFERROR(VLOOKUP(D12541,Справка!$G$2:$H$579,2,0),\"\")","v":""}]
[null,null,null,null,{"$f":"IFERROR(VLOOKUP(D12542,Справка!$G$2:$H$579,2,0),\"\")","v":""}]
[null,null,null,null,{"$f":"IFERROR(VLOOKUP(D12543,Справка!$G$2:$H$579,2,0),\"\")","v":""}]
[null,null,null,null,{"$f":"IFERROR(VLOOKUP(D12544,Справка!$G$2:$H$579,2,0),\"\")","v":""}]
[null,null,null,null,{"$f":"IFERROR(VLOOKUP(D12545,Справка!$G$2:$H$579,2,0),\"\")","v":""}]
[null,null,null,null,{"$f":"IFERROR(VLOOKUP(D12546,Справка!$G$2:$H$579,2,0),\"\")","v":""}]
[null,null,null,null,{"$f":"IFERROR(VLOOKUP(D12547,Справка!$G$2:$H$579,2,0),\"\")","v":""}]
[null,null,null,null,{"$f":"IFERROR(VLOOKUP(D12548,Справка!$G$2:$H$579,2,0),\"\")","v":""}]
[null,null,null,null,{"$f":"IFERROR(VLOOKUP(D12549,Справка!$G$2:$H$579,2,0),\"\")","v":""}]
[null,null,null,null,{"$f":"IFERROR(VLOOKUP(D12550,Справка!$G$2:$H$579,2,0),\"\")","v":""}]
[null,null,null,null,{"$f":"IFERROR(VLOOKUP(D12551,Справка!$G$2:$H$579,2,0),\"\")","v":""}]
[null,null,null,null,{"$f":"IFERROR(VLOOKUP(D12552,Справка!$G$2:$H$579,2,0),\"\")","v":""}]
[null,null,null,null,{"$f":"IFERROR(VLOOKUP(D12553,Справка!$G$2:$H$579,2,0),\"\")","v":""}]
[null,null,null,null,{"$f":"IFERROR(VLOOKUP(D12554,Справка!$G$2:$H$579,2,0),\"\")","v":""}]
[null,null,null,null,{"$f":"IFERROR(VLOOKUP(D12555,Справка!$G$2:$H$579,2,0),\"\")","v":""}]
[null,null,null,null,{"$f":"IFERROR(VLOOKUP(D12556,Справка!$G$2:$H$579,2,0),\"\")","v":""}]
[null,null,null,null,{"$f":"IFERROR(VLOOKUP(D12557,Справка!$G$2:$H$579,2,0),\"\")","v":""}]
[null,null,null,null,{"$f":"IFERROR(VLOOKUP(D12558,Справка!$G$2:$H$579,2,0),\"\")","v":""}]
[null,null,null,null,{"$f":"IFERROR(VLOOKUP(D12559,Справка!$G$2:$H$579,2,0),\"\")","v":""}]
[null,null,null,null,{"$f":"IFERROR(VLOOKUP(D12560,Справка!$G$2:$H$579,2,0),\"\")","v":""}]
[null,null,null,null,{"$f":"IFERROR(VLOOKUP(D12561,Справка!$G$2:$H$579,2,0),\"\")","v":""}]
[null,null,null,null,{"$f":"IFERROR(VLOOKUP(D12562,Справка!$G$2:$H$579,2,0),\"\")","v":""}]
[null,null,null,null,{"$f":"IFERROR(VLOOKUP(D12563,Справка!$G$2:$H$579,2,0),\"\")","v":""}]
[null,null,null,null,{"$f":"IFERROR(VLOOKUP(D12564,Справка!$G$2:$H$579,2,0),\"\")","v":""}]
[null,null,null,null,{"$f":"IFERROR(VLOOKUP(D12565,Справка!$G$2:$H$579,2,0),\"\")","v":""}]
[null,null,null,null,{"$f":"IFERROR(VLOOKUP(D12566,Справка!$G$2:$H$579,2,0),\"\")","v":""}]
[null,null,null,null,{"$f":"IFERROR(VLOOKUP(D12567,Справка!$G$2:$H$579,2,0),\"\")","v":""}]
[null,null,null,null,{"$f":"IFERROR(VLOOKUP(D12568,Справка!$G$2:$H$579,2,0),\"\")","v":""}]
[null,null,null,null,{"$f":"IFERROR(VLOOKUP(D12569,Справка!$G$2:$H$579,2,0),\"\")","v":""}]
[null,null,null,null,{"$f":"IFERROR(VLOOKUP(D12570,Справка!$G$2:$H$579,2,0),\"\")","v":""}]
[null,null,null,null,{"$f":"IFERROR(VLOOKUP(D12571,Справка!$G$2:$H$579,2,0),\"\")","v":""}]
[null,null,null,null,{"$f":"IFERROR(VLOOKUP(D12572,Справка!$G$2:$H$579,2,0),\"\")","v":""}]
[null,null,null,null,{"$f":"IFERROR(VLOOKUP(D12573,Справка!$G$2:$H$579,2,0),\"\")","v":""}]
[null,null,null,null,{"$f":"IFERROR(VLOOKUP(D12574,Справка!$G$2:$H$579,2,0),\"\")","v":""}]
[null,null,null,null,{"$f":"IFERROR(VLOOKUP(D12575,Справка!$G$2:$H$579,2,0),\"\")","v":""}]
[null,null,null,null,{"$f":"IFERROR(VLOOKUP(D12576,Справка!$G$2:$H$579,2,0),\"\")","v":""}]
[null,null,null,null,{"$f":"IFERROR(VLOOKUP(D12577,Справка!$G$2:$H$579,2,0),\"\")","v":""}]
[null,null,null,null,{"$f":"IFERROR(VLOOKUP(D12578,Справка!$G$2:$H$579,2,0),\"\")","v":""}]
[null,null,null,null,{"$f":"IFERROR(VLOOKUP(D12579,Справка!$G$2:$H$579,2,0),\"\")","v":""}]
[null,null,null,null,{"$f":"IFERROR(VLOOKUP(D12580,Справка!$G$2:$H$579,2,0),\"\")","v":""}]
[null,null,null,null,{"$f":"IFERROR(VLOOKUP(D12581,Справка!$G$2:$H$579,2,0),\"\")","v":""}]
[null,null,null,null,{"$f":"IFERROR(VLOOKUP(D12582,Справка!$G$2:$H$579,2,0),\"\")","v":""}]
[null,null,null,null,{"$f":"IFERROR(VLOOKUP(D12583,Справка!$G$2:$H$579,2,0),\"\")","v":""}]
[null,null,null,null,{"$f":"IFERROR(VLOOKUP(D12584,Справка!$G$2:$H$579,2,0),\"\")","v":""}]
[null,null,null,null,{"$f":"IFERROR(VLOOKUP(D12585,Справка!$G$2:$H$579,2,0),\"\")","v":""}]
[null,null,null,null,{"$f":"IFERROR(VLOOKUP(D12586,Справка!$G$2:$H$579,2,0),\"\")","v":""}]
[null,null,null,null,{"$f":"IFERROR(VLOOKUP(D12587,Справка!$G$2:$H$579,2,0),\"\")","v":""}]
[null,null,null,null,{"$f":"IFERROR(VLOOKUP(D12588,Справка!$G$2:$H$579,2,0),\"\")","v":""}]
[null,null,null,null,{"$f":"IFERROR(VLOOKUP(D12589,Справка!$G$2:$H$579,2,0),\"\")","v":""}]
[null,null,null,null,{"$f":"IFERROR(VLOOKUP(D12590,Справка!$G$2:$H$579,2,0),\"\")","v":""}]
[null,null,null,null,{"$f":"IFERROR(VLOOKUP(D12591,Справка!$G$2:$H$579,2,0),\"\")","v":""}]
[null,null,null,null,{"$f":"IFERROR(VLOOKUP(D12592,Справка!$G$2:$H$579,2,0),\"\")","v":""}]
[null,null,null,null,{"$f":"IFERROR(VLOOKUP(D12593,Справка!$G$2:$H$579,2,0),\"\")","v":""}]
[null,null,null,null,{"$f":"IFERROR(VLOOKUP(D12594,Справка!$G$2:$H$579,2,0),\"\")","v":""}]
[null,null,null,null,{"$f":"IFERROR(VLOOKUP(D12595,Справка!$G$2:$H$579,2,0),\"\")","v":""}]
[null,null,null,null,{"$f":"IFERROR(VLOOKUP(D12596,Справка!$G$2:$H$579,2,0),\"\")","v":""}]
[null,null,null,null,{"$f":"IFERROR(VLOOKUP(D12597,Справка!$G$2:$H$579,2,0),\"\")","v":""}]
[null,null,null,null,{"$f":"IFERROR(VLOOKUP(D12598,Справка!$G$2:$H$579,2,0),\"\")","v":""}]
[null,null,null,null,{"$f":"IFERROR(VLOOKUP(D12599,Справка!$G$2:$H$579,2,0),\"\")","v":""}]
[null,null,null,null,{"$f":"IFERROR(VLOOKUP(D12600,Справка!$G$2:$H$579,2,0),\"\")","v":""}]
[null,null,null,null,{"$f":"IFERROR(VLOOKUP(D12601,Справка!$G$2:$H$579,2,0),\"\")","v":""}]
[null,null,null,null,{"$f":"IFERROR(VLOOKUP(D12602,Справка!$G$2:$H$579,2,0),\"\")","v":""}]
[null,null,null,null,{"$f":"IFERROR(VLOOKUP(D12603,Справка!$G$2:$H$579,2,0),\"\")","v":""}]
[null,null,null,null,{"$f":"IFERROR(VLOOKUP(D12604,Справка!$G$2:$H$579,2,0),\"\")","v":""}]
[null,null,null,null,{"$f":"IFERROR(VLOOKUP(D12605,Справка!$G$2:$H$579,2,0),\"\")","v":""}]
[null,null,null,null,{"$f":"IFERROR(VLOOKUP(D12606,Справка!$G$2:$H$579,2,0),\"\")","v":""}]
[null,null,null,null,{"$f":"IFERROR(VLOOKUP(D12607,Справка!$G$2:$H$579,2,0),\"\")","v":""}]
[null,null,null,null,{"$f":"IFERROR(VLOOKUP(D12608,Справка!$G$2:$H$579,2,0),\"\")","v":""}]
[null,null,null,null,{"$f":"IFERROR(VLOOKUP(D12609,Справка!$G$2:$H$579,2,0),\"\")","v":""}]
[null,null,null,null,{"$f":"IFERROR(VLOOKUP(D12610,Справка!$G$2:$H$579,2,0),\"\")","v":""}]
[null,null,null,null,{"$f":"IFERROR(VLOOKUP(D12611,Справка!$G$2:$H$579,2,0),\"\")","v":""}]
[null,null,null,null,{"$f":"IFERROR(VLOOKUP(D12612,Справка!$G$2:$H$579,2,0),\"\")","v":""}]
[null,null,null,null,{"$f":"IFERROR(VLOOKUP(D12613,Справка!$G$2:$H$579,2,0),\"\")","v":""}]
[null,null,null,null,{"$f":"IFERROR(VLOOKUP(D12614,Справка!$G$2:$H$579,2,0),\"\")","v":""}]
[null,null,null,null,{"$f":"IFERROR(VLOOKUP(D12615,Справка!$G$2:$H$579,2,0),\"\")","v":""}]
[null,null,null,null,{"$f":"IFERROR(VLOOKUP(D12616,Справка!$G$2:$H$579,2,0),\"\")","v":""}]

{"sheet":"Справка","index":1,"n_rows":579,"n_cols":13,"rows_kept":579,"cut":false,"hidden":true,"merged":[]}
["Словарь данных",null,null,"Наименования",null,null,"Код специальностей",null,null,null,null,null,"Форма обучения"]
["Трудоустроены не по своей профессии менее 4-х месяцев",null,null,"Нет",null,null,"05.01.01","Гидрометнаблюдатель",null,null,null,null,"Очная"]
["Трудоустроены не по своей профессии не менее 4-х месяцев ",null,null,"ОВЗ (без инвалидности)",null,null,"05.02.01","Картография",null,null,null,null,"Очно-заочная"]
["Трудоустроены в соответствии со своей профессией менее 4-х месяцев",null,null,"Инвалиды, дети-инвалиды (с ОВЗ)",null,null,"05.02.02","Гидрология",null,null,null,null,"Заочная"]
["Трудоустроены в соответствии со своей профессией не менее 4-х месяцев ",null,null,"Инвалиды, дети-инвалиды (без ОВЗ)",null,null,"05.02.03","Метеорология"]
["ИП",null,null,"Целевое обучение",null,null,"07.02.01","Архитектура"]
["Самозанятый",null,null,null,null,null,"08.01.01","Изготовитель арматурных сеток и каркасов"]
["Продолжил обучение",null,null,null,null,null,"08.01.02","Монтажник трубопроводов"]
["Проходят службу в армии по призыву",null,null,null,null,null,"08.01.03","Трубоклад"]
["Проходят службу в армии на контрактной основе",null,null,null,null,null,"08.01.04","Кровельщик"]
["Находятся в отпуске по уходу за ребенком",null,null,null,null,null,"08.01.05","Мастер столярно-плотничных и паркетных работ"]
["Неформальная занятость (нелегальная)",null,null,null,null,null,"08.01.06","Мастер сухого строительства"]
["Зарегистрированы в центрах занятости в качестве безработных (получают пособие по безработице) и не планируют трудоустраиваться",null,null,null,null,null,"08.01.07","Мастер общестроительных работ"]
["Не имеют мотивации к трудоустройству (кроме зарегистрированных в качестве безработных) и не планируют трудоустраиваться, в том числе по причинам получения иных социальных льгот",null,null,null,null,null,"08.01.08","Мастер отделочных строительных работ"]
["Иные причины нахождения под риском нетрудоустройства",null,null,null,null,null,"08.01.09","Слесарь по строительно-монтажным работам"]
["Смерть, тяжелое состояние здоровья",null,null,null,null,null,"08.01.10","Мастер жилищно-коммунального хозяйства"]
["Находятся под следствием, отбывают наказание",null,null,null,null,null,"08.01.11","Машинист машин и оборудования в производстве цемента"]
["Переезд за пределы Российской Федерации (кроме переезда в иные регионы)",null,null,null,null,null,"08.01.12","Оператор технологического оборудования в производстве стеновых и вяжущих материалов"]
["Не могут трудоустраиваться в связи с уходом за больными родственниками, в связи с иными семейными обстоятельствами",null,null,null,null,null,"08.01.13","Изготовитель железобетонных изделий"]
["Выпускники из числа иностранных граждан, которые не имеют СНИЛС",null,null,null,null,null,"08.01.14","Монтажник санитарно-технических, вентиляционных систем и оборудования"]
["Иное (в первую очередь выпускники распределяются по всем остальным графам. Данная графа предназначена для очень редких случаев)",null,null,null,null,null,"08.01.15","Слесарь по изготовлению деталей и узлов технических систем в строительстве"]
["Не удалось связаться"]
["будут трудоустроены",null,null,null,null,null,"08.01.16","Электромонтажник по сигнализации, централизации и блокировке"]
["будут осуществлять предпринимательскую деятельность",null,null,null,null,null,"08.01.17","Электромонтажник-наладчик"]
["будут самозанятыми",null,null,null,null,null,"08.01.18","Электромонтажник электрических сетей и электрооборудования"]
["будут призваны в армию",null,null,null,null,null,"08.01.19","Электромонтажник по силовым сетям и электрооборудованию"]
["будут в армии на контрактной основе, в органах внутренних дел, Государственной противопожарной службе, органах по контролю за оборотом наркотических средств и психотропных веществ, учреждениях и органах уголовно-исполнительной системы, войсках национальной гвардии Российской Федерации, органах принудительного исполнения Российской Федерации",null,null,null,null,null,"08.01.20","Электромонтажник по электрическим машинам"]
["будут продолжать обучение",null,null,null,null,null,"08.01.21","Монтажник электрических подъемников (лифтов)"]
[null,null,null,null,null,null,"08.01.22","Мастер путевых машин"]
[null,null,null,null,null,null,"08.01.23","Бригадир-путеец"]
[null,null,null,null,null,null,"08.01.24","Мастер столярно-плотничных, паркетных и стекольных работ"]
[null,null,null,null,null,null,"08.01.25","Мастер отделочных строительных и декоративных работ"]
[null,null,null,null,null,null,"08.01.26","Мастер по ремонту и обслуживанию инженерных систем жилищно-коммунального хозяйства"]
[null,null,null,null,null,null,"08.02.01","Строительство и эксплуатация зданий и сооружений"]
[null,null,null,null,null,null,"08.02.02","Строительство и эксплуатация инженерных сооружений"]
[null,null,null,null,null,null,"08.02.03","Производство неметаллических строительных изделий и конструкций"]
[null,null,null,null,null,null,"08.02.04","Водоснабжение и водоотведение"]
[null,null,null,null,null,null,"08.02.05","Строительство и эксплуатация автомобильных дорог и аэродромов"]
[null,null,null,null,null,null,"08.02.06","Строительство и эксплуатация городских путей сообщения"]
[null,null,null,null,null,null,"08.02.07","Монтаж и эксплуатация внутренних сантехнических устройств, кондиционирования воздуха и вентиляции"]
[null,null,null,null,null,null,"08.02.08","Монтаж и эксплуатация оборудования и систем газоснабжения"]
[null,null,null,null,null,null,"08.02.09","Монтаж, наладка и эксплуатация электрооборудования промышленных и гражданских зданий"]
[null,null,null,null,null,null,"08.02.10","Строительство железных дорог, путь и путевое хозяйство"]
[null,null,null,null,null,null,"08.02.11","Управление, эксплуатация и обслуживание многоквартирного дома"]
[null,null,null,null,null,null,"09.01.01","Наладчик аппаратного и программного обеспечения"]
[null,null,null,null,null,null,"09.01.02","Наладчик компьютерных сетей"]
[null,null,null,null,null,null,"09.01.03","Мастер по обработке цифровой информации"]
[null,null,null,null,null,null,"09.02.01","Компьютерные системы и комплексы"]
[null,null,null,null,null,null,"09.02.02","Компьютерные сети"]
[null,null,null,null,null,null,"09.02.03","Программирование в компьютерных системах"]
[null,null,null,null,null,null,"09.02.04","Информационные системы (по отраслям)"]
[null,null,null,null,null,null,"09.02.05","Прикладная информатика (по отраслям)"]
[null,null,null,null,null,null,"09.02.06","Сетевое и системное администрирование"]
[null,null,null,null,null,null,"09.02.07","Информационные системы и программирование"]
[null,null,null,null,null,null,"10.02.01","Организация и технология защиты информации"]
[null,null,null,null,null,null,"10.02.02","Информационная безопасность телекоммуникационных систем"]
[null,null,null,null,null,null,"10.02.03","Информационная безопасность автоматизированных систем"]
[null,null,null,null,null,null,"10.02.04","Обеспечение информационной безопасности телекоммуникационных систем"]
[null,null,null,null,null,null,"10.02.05","Обеспечение информационной безопасности автоматизированных систем"]
[null,null,null,null,null,null,"11.01.01","Монтажник радиоэлектронной аппаратуры и приборов"]
[null,null,null,null,null,null,"11.01.02","Радиомеханик"]
[null,null,null,null,null,null,"11.01.03","Радиооператор"]
[null,null,null,null,null,null,"11.01.04","Монтажник оборудования радио- и телефонной связи"]
[null,null,null,null,null,null,"11.01.05","Монтажник связи"]
[null,null,null,null,null,null,"11.01.06","Электромонтер оборудования электросвязи и проводного вещания"]
[null,null,null,null,null,null,"11.01.07","Электромонтер по ремонту линейно-кабельных сооружений телефонной связи и проводного вещания"]
[null,null,null,null,null,null,"11.01.08","Оператор связи"]
[null,null,null,null,null,null,"11.01.09","Оператор микроэлектронного производства"]
[null,null,null,null,null,null,"11.01.10","Оператор оборудования элионных процессов"]
[null,null,null,null,null,null,"11.01.11","Наладчик технологического оборудования (электронная техника)"]
[null,null,null,null,null,null,"11.01.12","Сборщик изделий электронной техники"]
[null,null,null,null,null,null,"11.01.13","Сборщик приборов вакуумной электроники"]
[null,null,null,null,null,null,"11.02.01","Радиоаппаратостроение"]
[null,null,null,null,null,null,"11.02.02","Техническое обслуживание и ремонт радиоэлектронной техники (по отраслям)"]
[null,null,null,null,null,null,"11.02.03","Эксплуатация оборудования радиосвязи и электрорадионавигации судов"]
[null,null,null,null,null,null,"11.02.04","Радиотехнические комплексы и системы управления космических летательных аппаратов"]
[null,null,null,null,null,null,"11.02.05","Аудиовизуальная техника"]
[null,null,null,null,null,null,"11.02.06","Техническая эксплуатация транспортного радиоэлектронного оборудования (по видам транспорта)"]
[null,null,null,null,null,null,"11.02.07","Радиотехнические информационные системы"]
[null,null,null,null,null,null,"11.02.08","Средства связи с подвижными объектами"]
[null,null,null,null,null,null,"11.02.09","Многоканальные телекоммуникационные системы"]
[null,null,null,null,null,null,"11.02.10","Радиосвязь, радиовещание и телевидение"]
[null,null,null,null,null,null,"11.02.11","Сети связи и системы коммутации"]
[null,null,null,null,null,null,"11.02.12","Почтовая связь"]
[null,null,null,null,null,null,"11.02.13","Твердотельная электроника"]
[null,null,null,null,null,null,"11.02.14","Электронные приборы и устройства"]
[null,null,null,null,null,null,"11.02.15","Инфокоммуникационные сети и системы связи"]
[null,null,null,null,null,null,"11.02.16","Монтаж, техническое обслуживание и ремонт электронных приборов и устройств"]
[null,null,null,null,null,null,"12.01.01","Наладчик оборудования оптического производства"]
[null,null,null,null,null,null,"12.01.02","Оптик-механик"]
[null,null,null,null,null,null,"12.01.03","Сборщик очков"]
[null,null,null,null,null,null,"12.01.04","Электромеханик по ремонту и обслуживанию наркознодыхательной аппаратуры"]
[null,null,null,null,null,null,"12.01.05","Электромеханик по ремонту и обслуживанию медицинского оборудования"]
[null,null,null,null,null,null,"12.01.06","Электромеханик по ремонту и обслуживанию медицинских оптических приборов"]
[null,null,null,null,null,null,"12.01.07","Электромеханик по ремонту и обслуживанию электронной медицинской аппаратуры"]
[null,null,null,null,null,null,"12.01.08","Механик протезно-ортопедических изделий"]
[null,null,null,null,null,null,"12.01.09","Мастер по изготовлению и сборке деталей и узлов оптических и оптико-электронных приборов и систем"]
[null,null,null,null,null,null,"12.02.01","Авиационные приборы и комплексы"]
[null,null,null,null,null,null,"12.02.02","Акустические приборы и системы"]
[null,null,null,null,null,null,"12.02.03","Радиоэлектронные приборные устройства"]
[null,null,null,null,null,null,"12.02.04","Электромеханические приборные устройства"]
[null,null,null,null,null,null,"12.02.05","Оптические и оптико-электронные приборы и системы"]
[null,null,null,null,null,null,"12.02.06","Биотехнические и медицинские аппараты и системы"]
[null,null,null,null,null,null,"12.02.07","Монтаж, техническое обслуживание и ремонт медицинской техники"]
[null,null,null,null,null,null,"12.02.08","Протезно-ортопедическая и реабилитационная техника"]
[null,null,null,null,null,null,"12.02.09","Производство и эксплуатация оптических и оптико-электронных приборов и систем"]
[null,null,null,null,null,null,"12.02.10","Монтаж, техническое обслуживание и ремонт биотехнических и медицинских аппаратов и систем"]
[null,null,null,null,null,null,"13.01.01","Машинист котлов"]
[null,null,null,null,null,null,"13.01.02","Машинист паровых турбин"]
[null,null,null,null,null,null,"13.01.03","Электрослесарь по ремонту оборудования электростанций"]
[null,null,null,null,null,null,"13.01.04","Слесарь по ремонту оборудования электростанций"]
[null,null,null,null,null,null,"13.01.05","Электромонтер по техническому обслуживанию электростанций и сетей"]
[null,null,null,null,null,null,"13.01.06","Электромонтер-литейщик по монтажу воздушных линий высокого напряжения и контактной сети"]
[null,null,null,null,null,null,"13.01.07","Электромонтер по ремонту электросетей"]
[null,null,null,null,null,null,"13.01.08","Сборщик трансформаторов"]
[null,null,null,null,null,null,"13.01.09","Сборщик электрических машин и аппаратов"]
[null,null,null,null,null,null,"13.01.10","Электромонтер по ремонту и обслуживанию электрооборудования (по отраслям)"]
[null,null,null,null,null,null,"13.01.11","Электромеханик по испытанию и ремонту электрооборудования летательных аппаратов"]
[null,null,null,null,null,null,"13.01.12","Сборщик электроизмерительных приборов"]
[null,null,null,null,null,null,"13.01.13","Электромонтажник-схемщик"]
[null,null,null,null,null,null,"13.01.14","Электромеханик по лифтам"]
[null,null,null,null,null,null,"13.02.01","Тепловые электрические станции"]
[null,null,null,null,null,null,"13.02.02","Теплоснабжение и теплотехническое оборудование"]
[null,null,null,null,null,null,"13.02.03","Электрические станции, сети и системы"]
[null,null,null,null,null,null,"13.02.04","Гидроэлектроэнергетические установки"]
[null,null,null,null,null,null,"13.02.05","Технология воды, топлива и смазочных материалов на электрических станциях"]
[null,null,null,null,null,null,"13.02.06","Релейная защита и автоматизация электроэнергетических систем"]
[null,null,null,null,null,null,"13.02.07","Электроснабжение (по отраслям)"]
[null,null,null,null,null,null,"13.02.08","Электроизоляционная, кабельная и конденсаторная техника"]
[null,null,null,null,null,null,"13.02.09","Монтаж и эксплуатация линий электропередачи"]
[null,null,null,null,null,null,"13.02.10","Электрические машины и аппараты"]
[null,null,null,null,null,null,"13.02.11","Техническая эксплуатация и обслуживание электрического и электромеханического оборудования (по отраслям)"]
[null,null,null,null,null,null,"14.02.01","Атомные электрические станции и установки"]
[null,null,null,null,null,null,"14.02.02","Радиационная безопасность"]
[null,null,null,null,null,null,"14.02.03","Технология разделения изотопов"]
[null,null,null,null,null,null,"15.01.01","Оператор в производстве металлических изделий"]
[null,null,null,null,null,null,"15.01.02","Наладчик холодноштамповочного оборудования"]
[null,null,null,null,null,null,"15.01.03","Наладчик кузнечно-прессового оборудования"]
[null,null,null,null,null,null,"15.01.04","Наладчик сварочного и газоплазморезательного оборудования"]
[null,null,null,null,null,null,"15.01.05","Сварщик (ручной и частично механизированной сварки (наплавки)"]
[null,null,null,null,null,null,"15.01.06","Сварщик на лазерных установках"]
[null,null,null,null,null,null,"15.01.07","Сварщик на электронно-лучевых сварочных установках"]
[null,null,null,null,null,null,"15.01.08","Наладчик литейного оборудования"]
[null,null,null,null,null,null,"15.01.09","Машинист лесозаготовительных и трелевочных машин"]
[null,null,null,null,null,null,"15.01.10","Слесарь по ремонту лесозаготовительного оборудования"]
[null,null,null,null,null,null,"15.01.11","Электромонтажник блоков электронно-механических часов"]
[null,null,null,null,null,null,"15.01.12","Часовщик-ремонтник"]
[null,null,null,null,null,null,"15.01.13","Монтажник технологического оборудования (по видам оборудования)"]
[null,null,null,null,null,null,"15.01.14","Наладчик оборудования в бумажном производстве"]
[null,null,null,null,null,null,"15.01.15","Наладчик деревообрабатывающего оборудования"]
[null,null,null,null,null,null,"15.01.16","Наладчик технологического оборудования в производстве строительных материалов"]
[null,null,null,null,null,null,"15.01.17","Электромеханик по торговому и холодильному оборудованию"]
[null,null,null,null,null,null,"15.01.18","Машинист холодильных установок"]
[null,null,null,null,null,null,"15.01.19","Наладчик контрольно-измерительных приборов и автоматики"]
[null,null,null,null,null,null,"15.01.20","Слесарь по контрольно-измерительным приборам и автоматике"]
[null,null,null,null,null,null,"15.01.21","Электромонтер охранно-пожарной сигнализации"]
[null,null,null,null,null,null,"15.01.22","Чертежник-конструктор"]
[null,null,null,null,null,null,"15.01.23","Наладчик станков и оборудования в механообработке"]
[null,null,null,null,null,null,"15.01.24","Наладчик шлифовальных станков"]
[null,null,null,null,null,null,"15.01.25","Станочник (металлообработка)"]
[null,null,null,null,null,null,"15.01.26","Токарь-универсал"]
[null,null,null,null,null,null,"15.01.27","Фрезеровщик-универсал"]
[null,null,null,null,null,null,"15.01.28","Шлифовщик-универсал"]
[null,null,null,null,null,null,"15.01.29","Контролер станочных и слесарных работ"]
[null,null,null,null,null,null,"15.01.30","Слесарь"]
[null,null,null,null,null,null,"15.01.31","Мастер контрольно-измерительных приборов и автоматики"]
[null,null,null,null,null,null,"15.01.32","Оператор станков с программным управлением"]
[null,null,null,null,null,null,"15.01.33","Токарь на станках с числовым программным управлением"]
[null,null,null,null,null,null,"15.01.34","Фрезеровщик на станках с числовым программным управлением"]
[null,null,null,null,null,null,"15.01.35","Мастер слесарных работ"]
[null,null,null,null,null,null,"15.01.36","Дефектоскопист"]
[null,null,null,null,null,null,"15.02.01","Монтаж и техническая эксплуатация промышленного оборудования (по отраслям)"]
[null,null,null,null,null,null,"15.02.02","Техническая эксплуатация оборудования для производства электронной техники"]
[null,null,null,null,null,null,"15.02.03","Техническая эксплуатация гидравлических машин, гидроприводов и гидропневмоавтоматики"]
[null,null,null,null,null,null,"15.02.04","Специальные машины и устройства"]
[null,null,null,null,null,null,"15.02.05","Техническая эксплуатация оборудования в торговле и общественном питании"]
[null,null,null,null,null,null,"15.02.06","Монтаж и техническая эксплуатация холодильно-компрессорных машин и установок (по отраслям)"]
[null,null,null,null,null,null,"15.02.07","Автоматизация технологических процессов и производств (по отраслям)"]
[null,null,null,null,null,null,"15.02.08","Технология машиностроения"]
[null,null,null,null,null,null,"15.02.09","Аддитивные технологии"]
[null,null,null,null,null,null,"15.02.10","Мехатроника и мобильная робототехника (по отраслям)"]
[null,null,null,null,null,null,"15.02.11","Техническая эксплуатация и обслуживание роботизированного производства"]
[null,null,null,null,null,null,"15.02.12","Монтаж, техническое обслуживание и ремонт промышленного оборудования (по отраслям)"]
[null,null,null,null,null,null,"15.02.13","Техническое обслуживание и ремонт систем вентиляции и кондиционирования"]
[null,null,null,null,null,null,"15.02.14","Оснащение средствами автоматизации технологических процессов и производств (по отраслям)"]
[null,null,null,null,null,null,"15.02.15","Технология металлообрабатывающего производства"]
[null,null,null,null,null,null,"18.01.01","Лаборант по физико-механическим испытаниям"]
[null,null,null,null,null,null,"18.01.02","Лаборант-эколог"]
[null,null,null,null,null,null,"18.01.03","Аппаратчик-оператор экологических установок"]
[null,null,null,null,null,null,"18.01.04","Изготовитель изделий строительной керамики"]
[null,null,null,null,null,null,"18.01.05","Аппаратчик-оператор производства неорганических веществ"]
[null,null,null,null,null,null,"18.01.06","Оператор производства стекловолокна, стекловолокнистых материалов и изделий стеклопластиков"]
[null,null,null,null,null,null,"18.01.07","Аппаратчик производства стекловолокнистых материалов и стеклопластиков"]
[null,null,null,null,null,null,"18.01.08","Мастер-изготовитель деталей и изделий из стекла"]
[null,null,null,null,null,null,"18.01.09","Мастер-обработчик стекла и стеклоизделий"]
[null,null,null,null,null,null,"18.01.10","Отдельщик и резчик стекла"]
[null,null,null,null,null,null,"18.01.11","Контролер стекольного производства"]
[null,null,null,null,null,null,"18.01.12","Изготовитель фарфоровых и фаянсовых изделий"]
[null,null,null,null,null,null,"18.01.13","Отделочник и комплектовщик фарфоровых и фаянсовых изделий"]
[null,null,null,null,null,null,"18.01.14","Контролер-приемщик фарфоровых, фаянсовых и керамических изделий"]
[null,null,null,null,null,null,"18.01.15","Изготовитель эмалированной посуды"]
[null,null,null,null,null,null,"18.01.16","Аппаратчик в производстве химических волокон"]
[null,null,null,null,null,null,"18.01.17","Оператор в производстве химических волокон"]
[null,null,null,null,null,null,"18.01.18","Аппаратчик производства синтетических смол и пластических масс"]
[null,null,null,null,null,null,"18.01.19","Машинист-оператор в производстве изделий из пластмасс"]
[null,null,null,null,null,null,"18.01.20","Прессовщик изделий из пластмасс"]
[null,null,null,null,null,null,"18.01.21","Машинист-аппаратчик подготовительных процессов в производстве резиновых смесей, резиновых технических изделий и шин"]
[null,null,null,null,null,null,"18.01.22","Оператор в производстве шин"]
[null,null,null,null,null,null,"18.01.23","Оператор процессов вулканизации"]
[null,null,null,null,null,null,"18.01.24","Мастер шиномонтажной мастерской"]
[null,null,null,null,null,null,"18.01.25","Оператор в производстве резиновых технических изделий и обуви"]
[null,null,null,null,null,null,"18.01.26","Аппаратчик-оператор нефтехимического производства"]
[null,null,null,null,null,null,"18.01.27","Машинист технологических насосов и компрессоров"]
[null,null,null,null,null,null,"18.01.28","Оператор нефтепереработки"]
[null,null,null,null,null,null,"18.01.29","Мастер по обслуживанию магистральных трубопроводов"]
[null,null,null,null,null,null,"18.01.30","Аппаратчик-оператор коксохимического производства"]
[null,null,null,null,null,null,"18.01.31","Машинист машин коксохимического производства"]
[null,null,null,null,null,null,"18.01.32","Аппаратчик-оператор азотных производств и продуктов органического синтеза"]
[null,null,null,null,null,null,"18.01.33","Лаборант по контролю качества сырья, реактивов, промежуточных продуктов, готовой продукции, отходов производства (по отраслям)"]
[null,null,null,null,null,null,"18.02.01","Аналитический контроль качества химических соединений"]
[null,null,null,null,null,null,"18.02.02","Химическая технология отделочного производства и обработки изделий"]
[null,null,null,null,null,null,"18.02.03","Химическая технология неорганических веществ"]
[null,null,null,null,null,null,"18.02.04","Электрохимическое производство"]
[null,null,null,null,null,null,"18.02.05","Производство тугоплавких неметаллических и силикатных материалов и изделий"]
[null,null,null,null,null,null,"18.02.06","Химическая технология органических веществ"]
[null,null,null,null,null,null,"18.02.07","Технология производства и переработки пластических масс и эластомеров"]
[null,null,null,null,null,null,"18.02.08","Технология кинофотоматериалов и магнитных носителей"]
[null,null,null,null,null,null,"18.02.09","Переработка нефти и газа"]
[null,null,null,null,null,null,"18.02.10","Коксохимическое производство"]
[null,null,null,null,null,null,"18.02.11","Технология пиротехнических составов и изделий"]
[null,null,null,null,null,null,"18.02.12","Технология аналитического контроля комических соединений"]
[null,null,null,null,null,null,"18.02.13","Технология производства изделий из полимерных композитов"]
[null,null,null,null,null,null,"19.01.01","Аппаратчик-оператор в биотехнологии"]
[null,null,null,null,null,null,"19.01.02","Лаборант-аналитик"]
[null,null,null,null,null,null,"19.01.03","Аппаратчик элеваторного, мукомольного, крупяного и комбикормового производства"]
[null,null,null,null,null,null,"19.01.04","Пекарь"]
[null,null,null,null,null,null,"19.01.05","Оператор поточно-автоматической линии (макаронное производство)"]
[null,null,null,null,null,null,"19.01.06","Аппаратчик производства сахара"]
[null,null,null,null,null,null,"19.01.07","Кондитер сахаристых изделий"]
[null,null,null,null,null,null,"19.01.08","Пивовар"]
[null,null,null,null,null,null,"19.01.09","Наладчик оборудования в производстве пищевой продукции (по отраслям производства)"]
[null,null,null,null,null,null,"19.01.10","Мастер производства молочной продукции"]
[null,null,null,null,null,null,"19.01.11","Изготовитель мороженого"]
[null,null,null,null,null,null,"19.01.12","Переработчик скота и мяса"]
[null,null,null,null,null,null,"19.01.13","Обработчик птицы и кроликов"]
[null,null,null,null,null,null,"19.01.14","Оператор процессов колбасного производства"]
[null,null,null,null,null,null,"19.01.15","Аппаратчик получения растительного масла"]
[null,null,null,null,null,null,"19.01.16","Оператор линии производства маргарина"]
[null,null,null,null,null,null,"19.01.17","Повар, кондитер"]
[null,null,null,null,null,null,"19.02.01","Биохимическое производство"]
[null,null,null,null,null,null,"19.02.02","Технология хранения и переработки зерна"]
[null,null,null,null,null,null,"19.02.03","Технология хлеба, кондитерских и макаронных изделий"]
[null,null,null,null,null,null,"19.02.04","Технология сахаристых продуктов"]
[null,null,null,null,null,null,"19.02.05","Технология бродильных производств и виноделие"]
[null,null,null,null,null,null,"19.02.06","Технология консервов и пищеконцентратов"]
[null,null,null,null,null,null,"19.02.07","Технология молока и молочных продуктов"]
[null,null,null,null,null,null,"19.02.08","Технология мяса и мясных продуктов"]
[null,null,null,null,null,null,"19.02.09","Технология жиров и жирозаменителей"]
[null,null,null,null,null,null,"19.02.10","Технология продукции общественного питания"]
[null,null,null,null,null,null,"20.01.01","Пожарный"]
[null,null,null,null,null,null,"20.02.01","Рациональное использование природохозяйственных комплексов"]
[null,null,null,null,null,null,"20.02.02","Защита в чрезвычайных ситуациях"]
[null,null,null,null,null,null,"20.02.03","Природоохранное обустройство территорий"]
[null,null,null,null,null,null,"20.02.04","Пожарная безопасность"]
[null,null,null,null,null,null,"21.01.01","Оператор нефтяных и газовых скважин"]
[null,null,null,null,null,null,"21.01.02","Оператор по ремонту скважин"]
[null,null,null,null,null,null,"21.01.03","Бурильщик эксплуатационных и разведочных скважин"]
[null,null,null,null,null,null,"21.01.04","Машинист на буровых установках"]
[null,null,null,null,null,null,"21.01.05","Оператор (моторист) по цементажу скважин"]
[null,null,null,null,null,null,"21.01.06","Вышкомонтажник (широкого профиля)"]
[null,null,null,null,null,null,"21.01.07","Бурильщик морского бурения скважин"]
[null,null,null,null,null,null,"21.01.08","Машинист на открытых горных работах"]
[null,null,null,null,null,null,"21.01.09","Машинист машин по добыче и переработке торфа"]
[null,null,null,null,null,null,"21.01.10","Ремонтник горного оборудования"]
[null,null,null,null,null,null,"21.01.11","Горнорабочий на подземных работах"]
[null,null,null,null,null,null,"21.01.12","Машинист электровоза (на горных выработках)"]
[null,null,null,null,null,null,"21.01.13","Проходчик"]
[null,null,null,null,null,null,"21.01.14","Горномонтажник подземный"]
[null,null,null,null,null,null,"21.01.15","Электрослесарь подземный"]
[null,null,null,null,null,null,"21.01.16","Обогатитель полезных ископаемых"]
[null,null,null,null,null,null,"21.02.01","Разработка и эксплуатация нефтяных и газовых месторождений"]
[null,null,null,null,null,null,"21.02.02","Бурение нефтяных и газовых скважин"]
[null,null,null,null,null,null,"21.02.03","Сооружение и эксплуатация газонефтепроводов и газонефтехранилиш"]
[null,null,null,null,null,null,"21.02.04","Землеустройство"]
[null,null,null,null,null,null,"21.02.05","Земельно-имущественные отношения"]
[null,null,null,null,null,null,"21.02.06","Информационные системы обеспечения градостроительной деятельности"]
[null,null,null,null,null,null,"21.02.07","Аэрофотогеодезия"]
[null,null,null,null,null,null,"21.02.08","Прикладная геодезия"]
[null,null,null,null,null,null,"21.02.09","Гидрогеология и инженерная геология"]
[null,null,null,null,null,null,"21.02.10","Геология и разведка нефтяных и газовых месторождений"]
[null,null,null,null,null,null,"21.02.11","Геофизические методы поисков и разведки месторождений полезных ископаемых"]
[null,null,null,null,null,null,"21.02.12","Технология и техника разведки месторождений полезных ископаемых"]
[null,null,null,null,null,null,"21.02.13","Геологическая съемка, поиски и разведка месторождений полезных ископаемых"]
[null,null,null,null,null,null,"21.02.14","Маркшейдерское дело"]
[null,null,null,null,null,null,"21.02.15","Открытые горные работы"]
[null,null,null,null,null,null,"21.02.16","Шахтное строительство"]
[null,null,null,null,null,null,"21.02.17","Подземная разработка месторождений полезных ископаемых"]
[null,null,null,null,null,null,"21.02.18","Обогащение полезных ископаемых"]
[null,null,null,null,null,null,"22.01.01","Доменщик"]
[null,null,null,null,null,null,"22.01.02","Сталеплавильщик (по типам производства)"]
[null,null,null,null,null,null,"22.01.03","Машинист крана металлургического производства"]
[null,null,null,null,null,null,"22.01.04","Контролер металлургического производства"]
[null,null,null,null,null,null,"22.01.05","Аппаратчик-оператор в производстве цветных металлов"]
[null,null,null,null,null,null,"22.01.06","Оператор-обработчик цветных металлов"]
[null,null,null,null,null,null,"22.01.07","Модельщик"]
[null,null,null,null,null,null,"22.01.08","Оператор прокатного производства"]
[null,null,null,null,null,null,"22.01.09","Оператор трубного производства"]
[null,null,null,null,null,null,"22.01.10","Оператор в производстве огнеупоров"]
[null,null,null,null,null,null,"22.02.01","Металлургия черных металлов"]
[null,null,null,null,null,null,"22.02.02","Металлургия цветных металлов"]
[null,null,null,null,null,null,"22.02.03","Литейное производство черных и цветных металлов"]
[null,null,null,null,null,null,"22.02.04","Металловедение и термическая обработка металлов"]
[null,null,null,null,null,null,"22.02.05","Обработка металлов давлением"]
[null,null,null,null,null,null,"22.02.06","Сварочное производство"]
[null,null,null,null,null,null,"22.02.07","Порошковая металлургия, композиционные материалы, покрытия"]
[null,null,null,null,null,null,"23.01.01","Оператор транспортного терминала"]
[null,null,null,null,null,null,"23.01.02","Докер-механизатор"]
[null,null,null,null,null,null,"23.01.03","Автомеханик"]
[null,null,null,null,null,null,"23.01.04","Водитель городского электротранспорта"]
[null,null,null,null,null,null,"23.01.05","Слесарь по ремонту городского электротранспорта"]
[null,null,null,null,null,null,"23.01.06","Машинист дорожных и строительных машин"]
[null,null,null,null,null,null,"23.01.07","Машинист крана (крановщик)"]
[null,null,null,null,null,null,"23.01.08","Слесарь по ремонту строительных машин"]
[null,null,null,null,null,null,"23.01.09","Машинист локомотива"]
[null,null,null,null,null,null,"23.01.10","Слесарь по обслуживанию и ремонту подвижного состава"]
[null,null,null,null,null,null,"23.01.11","Слесарь-электрик по ремонту электрооборудования подвижного состава (электровозов, электропоездов)"]
[null,null,null,null,null,null,"23.01.12","Слесарь-электрик метрополитена"]
[null,null,null,null,null,null,"23.01.13","Электромонтер тяговой подстанции"]
[null,null,null,null,null,null,"23.01.14","Электромонтер устройств сигнализации, централизации, блокировки (СЦБ)"]
[null,null,null,null,null,null,"23.01.15","Оператор поста централизации"]
[null,null,null,null,null,null,"23.01.16","Составитель поездов"]
[null,null,null,null,null,null,"23.01.17","Мастер по ремонту и обслуживанию автомобилей"]
[null,null,null,null,null,null,"23.02.01","Организация перевозок и управление на транспорте (по видам)"]
[null,null,null,null,null,null,"23.02.02","Автомобиле- и тракторостроение"]
[null,null,null,null,null,null,"23.02.03","Техническое обслуживание и ремонт автомобильного транспорта"]
[null,null,null,null,null,null,"23.02.04","Техническая эксплуатация подъемно-транспортных, строительных, дорожных машин и оборудования (по отраслям)"]
[null,null,null,null,null,null,"23.02.05","Эксплуатация транспортного электрооборудования и автоматики (по видам транспорта, за исключением водного)"]
[null,null,null,null,null,null,"23.02.06","Техническая эксплуатация подвижного состава железных дорог"]
[null,null,null,null,null,null,"23.02.07","Техническое обслуживание и ремонт двигателей, систем и агрегатов автомобилей"]
[null,null,null,null,null,null,"24.01.01","Слесарь-сборщик авиационной техники"]
[null,null,null,null,null,null,"24.01.02","Электромонтажник авиационной техники"]
[null,null,null,null,null,null,"24.01.03","Слесарь-механик авиационных приборов"]
[null,null,null,null,null,null,"24.01.04","Слесарь по ремонту авиационной техники"]
[null,null,null,null,null,null,"24.02.01","Производство летательных аппаратов"]
[null,null,null,null,null,null,"24.02.02","Производство авиационных двигателей"]
[null,null,null,null,null,null,"24.02.03","Испытание летательных аппаратов"]
[null,null,null,null,null,null,"25.02.01","Техническая эксплуатация летательных аппаратов и двигателей"]
[null,null,null,null,null,null,"25.02.02","Обслуживание летательных аппаратов горюче-смазочными материалами"]
[null,null,null,null,null,null,"25.02.03","Техническая эксплуатация электрифицированных и пилотажно-навигационных комплексов"]
[null,null,null,null,null,null,"25.02.04","Летная эксплуатация летательных аппаратов"]
[null,null,null,null,null,null,"25.02.05","Управление движением воздушного транспорта"]
[null,null,null,null,null,null,"25.02.06","Производство и обслуживание авиационной техники"]
[null,null,null,null,null,null,"25.02.07","Техническое обслуживание авиационных двигателей"]
[null,null,null,null,null,null,"25.02.08","Эксплуатация беспилотных авиационных систем"]
[null,null,null,null,null,null,"26.01.01","Судостроитель-судоремонтник металлических судов"]
[null,null,null,null,null,null,"26.01.02","Судостроитель-судоремонтник неметаллических судов"]
[null,null,null,null,null,null,"26.01.03","Слесарь-монтажник судовой"]
[null,null,null,null,null,null,"26.01.04","Слесарь-механик судовой"]
[null,null,null,null,null,null,"26.01.05","Электрорадиомонтажник судовой"]
[null,null,null,null,null,null,"26.01.06","Судоводитель-помощник механика маломерного судна"]
[null,null,null,null,null,null,"26.01.07","Матрос"]
[null,null,null,null,null,null,"26.01.08","Моторист (машинист)"]
[null,null,null,null,null,null,"26.01.09","Моторист судовой"]
[null,null,null,null,null,null,"26.01.10","Механик маломерного судна"]
[null,null,null,null,null,null,"26.01.11","Машинист-котельный судовой"]
[null,null,null,null,null,null,"26.01.12","Электрик судовой"]
[null,null,null,null,null,null,"26.01.13","Водолаз"]
[null,null,null,null,null,null,"26.02.01","Эксплуатация внутренних водных путей"]
[null,null,null,null,null,null,"26.02.02","Судостроение"]
[null,null,null,null,null,null,"26.02.03","Судовождение"]
[null,null,null,null,null,null,"26.02.04","Монтаж и техническое обслуживание судовых машин и механизмов"]
[null,null,null,null,null,null,"26.02.05","Эксплуатация судовых энергетических установок"]
[null,null,null,null,null,null,"26.02.06","Эксплуатация судового электрооборудования и средств автоматики"]
[null,null,null,null,null,null,"27.02.01","Метрология"]
[null,null,null,null,null,null,"27.02.02","Техническое регулирование и управление качеством"]
[null,null,null,null,null,null,"27.02.03","Автоматика и телемеханика на транспорте (железнодорожном транспорте)"]
[null,null,null,null,null,null,"27.02.04","Автоматические системы управления"]
[null,null,null,null,null,null,"27.02.05","Системы и средства диспетчерского управления"]
[null,null,null,null,null,null,"27.02.06","Контроль работы измерительных приборов"]
[null,null,null,null,null,null,"27.02.07","Управление качеством продукции, процессов и услуг (по отраслям)"]
[null,null,null,null,null,null,"29.01.01","Скорняк"]
[null,null,null,null,null,null,"29.01.02","Обувщик (широкого профиля)"]
[null,null,null,null,null,null,"29.01.03","Сборщик обуви"]
[null,null,null,null,null,null,"29.01.04","Художник по костюму"]
[null,null,null,null,null,null,"29.01.05","Закройщик"]
[null,null,null,null,null,null,"29.01.06","Раскройщик материалов"]
[null,null,null,null,null,null,"29.01.07","Портной"]
[null,null,null,null,null,null,"29.01.08","Оператор швейного оборудования"]
[null,null,null,null,null,null,"29.01.09","Вышивальщица"]
[null,null,null,null,null,null,"29.01.10","Модистка головных уборов"]
[null,null,null,null,null,null,"29.01.11","Контролер качества текстильных изделий"]
[null,null,null,null,null,null,"29.01.12","Оператор крутильного оборудования (для всех видов производств)"]
[null,null,null,null,null,null,"29.01.13","Оператор оборудования чесального производства (для всех видов производств)"]
[null,null,null,null,null,null,"29.01.14","Оператор прядильного производства"]
[null,null,null,null,null,null,"29.01.15","Раклист"]
[null,null,null,null,null,null,"29.01.16","Ткач"]
[null,null,null,null,null,null,"29.01.17","Оператор вязально-швейного оборудования"]
[null,null,null,null,null,null,"29.01.18","Вязальщица текстильно-галантерейных изделий"]
[null,null,null,null,null,null,"29.01.19","Оператор производства нетканых материалов"]
[null,null,null,null,null,null,"29.01.20","Красильщик (общие профессии производства текстиля)"]
[null,null,null,null,null,null,"29.01.21","Оператор оборудования отделочного производства (общие профессии производства текстиля)"]
[null,null,null,null,null,null,"29.01.22","Аппаратчик отделочного производства (общие профессии производства текстиля)"]
[null,null,null,null,null,null,"29.01.23","Наладчик полиграфического оборудования"]
[null,null,null,null,null,null,"29.01.24","Оператор электронного набора и верстки"]
[null,null,null,null,null,null,"29.01.25","Переплетчик"]
[null,null,null,null,null,null,"29.01.26","Печатник плоской печати"]
[null,null,null,null,null,null,"29.01.27","Мастер печатного дела"]
[null,null,null,null,null,null,"29.01.28","Огранщик алмазов в бриллианты"]
[null,null,null,null,null,null,"29.01.29","Мастер столярного и мебельного производства"]
[null,null,null,null,null,null,"29.01.30","Обойщик мебели"]
[null,null,null,null,null,null,"29.02.01","Конструирование, моделирование и технология изделий из кожи"]
[null,null,null,null,null,null,"29.02.02","Технология кожи и меха"]
[null,null,null,null,null,null,"29.02.03","Конструирование, моделирование и технология изделий из меха"]
[null,null,null,null,null,null,"29.02.04","Конструирование, моделирование и технология швейных изделии"]
[null,null,null,null,null,null,"29.02.05","Технология текстильных изделий (по видам)"]
[null,null,null,null,null,null,"29.02.06","Полиграфическое производство"]
[null,null,null,null,null,null,"29.02.07","Производство изделий из бумаги и картона"]
[null,null,null,null,null,null,"29.02.08","Технология обработки алмазов"]
[null,null,null,null,null,null,"29.02.09","Печатное дело"]
[null,null,null,null,null,null,"31.02.01","Лечебное дело"]
[null,null,null,null,null,null,"31.02.02","Акушерское дело"]
[null,null,null,null,null,null,"31.02.03","Лабораторная диагностика"]
[null,null,null,null,null,null,"31.02.04","Медицинская оптика"]
[null,null,null,null,null,null,"31.02.05","Стоматология ортопедическая"]
[null,null,null,null,null,null,"31.02.06","Стоматология профилактическая"]
[null,null,null,null,null,null,"32.02.01","Медико-профилактическое дело"]
[null,null,null,null,null,null,"33.02.01","Фармация"]
[null,null,null,null,null,null,"34.01.01","Младшая медицинская сестра по уходу за больными"]
[null,null,null,null,null,null,"34.02.01","Сестринское дело"]
[null,null,null,null,null,null,"34.02.02","Медицинский массаж (для обучения лиц с ограниченными возможностями здоровья по зрению)"]
[null,null,null,null,null,null,"35.01.01","Мастер по лесному хозяйству"]
[null,null,null,null,null,null,"35.01.02","Станочник деревообрабатывающих станков"]
[null,null,null,null,null,null,"35.01.03","Станочник-обработчик"]
[null,null,null,null,null,null,"35.01.04","Оператор линии и установок в деревообработке"]
[null,null,null,null,null,null,"35.01.05","Контролер полуфабрикатов и изделий из древесины"]
[null,null,null,null,null,null,"35.01.06","Машинист машин по производству бумаги и картона"]
[null,null,null,null,null,null,"35.01.07","Сушильщик в бумажном производстве"]
[null,null,null,null,null,null,"35.01.08","Контролер целлюлозно-бумажного производства"]
[null,null,null,null,null,null,"35.01.09","Мастер растениеводства"]
[null,null,null,null,null,null,"35.01.10","Овощевод защищенного грунта"]
[null,null,null,null,null,null,"35.01.11","Мастер сельскохозяйственного производства"]
[null,null,null,null,null,null,"35.01.12","Заготовитель продуктов и сырья"]
[null,null,null,null,null,null,"35.01.13","Тракторист-машинист сельскохозяйственного производства"]
[null,null,null,null,null,null,"35.01.14","Мастер по техническому обслуживанию и ремонту машинно-тракторного парка"]
[null,null,null,null,null,null,"35.01.15","Электромонтер по ремонту и обслуживанию электрооборудования в сельскохозяйственном производстве"]
[null,null,null,null,null,null,"35.01.16","Рыбовод"]
[null,null,null,null,null,null,"35.01.17","Обработчик рыбы и морепродуктов"]
[null,null,null,null,null,null,"35.01.18","Рыбак прибрежного лова"]
[null,null,null,null,null,null,"35.01.19","Мастер садово-паркового и ландшафтного строительства"]
[null,null,null,null,null,null,"35.01.20","Пчеловод"]
[null,null,null,null,null,null,"35.01.21","Оленевод-механизатор"]
[null,null,null,null,null,null,"35.01.22","Охотник промысловый"]
[null,null,null,null,null,null,"35.01.23","Хозяйка(ин) усадьбы"]
[null,null,null,null,null,null,"35.01.24","Управляющий сельской усадьбой"]
[null,null,null,null,null,null,"35.02.01","Лесное и лесопарковое хозяйство"]
[null,null,null,null,null,null,"35.02.02","Технология лесозаготовок"]
[null,null,null,null,null,null,"35.02.03","Технология деревообработки"]
[null,null,null,null,null,null,"35.02.04","Технология комплексной переработки древесины"]
[null,null,null,null,null,null,"35.02.05","Агрономия"]
[null,null,null,null,null,null,"35.02.06","Технология производства и переработки сельскохозяйственной продукции"]
[null,null,null,null,null,null,"35.02.07","Механизация сельского хозяйства"]
[null,null,null,null,null,null,"35.02.08","Электрификация и автоматизация сельского хозяйства"]
[null,null,null,null,null,null,"35.02.09","Ихтиология и рыбоводство"]
[null,null,null,null,null,null,"35.02.10","Обработка водных биоресурсов"]
[null,null,null,null,null,null,"35.02.11","Промышленное рыболовство"]
[null,null,null,null,null,null,"35.02.12","Садово-парковое и ландшафтное строительство"]
[null,null,null,null,null,null,"35.02.13","Пчеловодство"]
[null,null,null,null,null,null,"35.02.14","Охотоведение и звероводство"]
[null,null,null,null,null,null,"35.02.15","Кинология"]
[null,null,null,null,null,null,"35.02.16","Эксплуатация и ремонт сельскохозяйственной техники и оборудования"]
[null,null,null,null,null,null,"36.01.01","Младший ветеринарный фельдшер"]
[null,null,null,null,null,null,"36.01.02","Мастер животноводства"]
[null,null,null,null,null,null,"36.01.03","Тренер-наездник лошадей"]
[null,null,null,null,null,null,"36.02.01","Ветеринария"]
[null,null,null,null,null,null,"36.02.02","Зоотехния"]
[null,null,null,null,null,null,"38.01.01","Оператор диспетчерской (производственно-диспетчерской) службы"]
[null,null,null,null,null,null,"38.01.02","Продавец, контролер-кассир"]
[null,null,null,null,null,null,"38.01.03","Контролер банка"]
[null,null,null,null,null,null,"38.02.01","Экономика и бухгалтерский учет (по отраслям)"]
[null,null,null,null,null,null,"38.02.02","Страховое дело (по отраслям)"]
[null,null,null,null,null,null,"38.02.03","Операционная деятельность в логистике"]
[null,null,null,null,null,null,"38.02.04","Коммерция (по отраслям)"]
[null,null,null,null,null,null,"38.02.05","Товароведение и экспертиза качества потребительских товаров"]
[null,null,null,null,null,null,"38.02.06","Финансы"]
[null,null,null,null,null,null,"38.02.07","Банковское дело"]
[null,null,null,null,null,null,"39.01.01","Социальный работник"]
[null,null,null,null,null,null,"39.02.01","Социальная работа"]
[null,null,null,null,null,null,"39.02.02","Организация сурдокоммуникации"]
[null,null,null,null,null,null,"40.02.01","Право и организация социального обеспечения"]
[null,null,null,null,null,null,"40.02.02","Правоохранительная деятельность"]
[null,null,null,null,null,null,"40.02.03","Право и судебное администрирование"]
[null,null,null,null,null,null,"42.01.01","Агент рекламный"]
[null,null,null,null,null,null,"42.02.01","Реклама"]
[null,null,null,null,null,null,"42.02.02","Издательское дело"]
[null,null,null,null,null,null,"43.01.01","Официант, бармен"]
[null,null,null,null,null,null,"43.01.02","Парикмахер"]
[null,null,null,null,null,null,"43.01.03","Бортпроводник судовой"]
[null,null,null,null,null,null,"43.01.04","Повар судовой"]
[null,null,null,null,null,null,"43.01.05","Оператор по обработке перевозочных документов на железнодорожном транспорте"]
[null,null,null,null,null,null,"43.01.06","Проводник на железнодорожном транспорте"]
[null,null,null,null,null,null,"43.01.07","Слесарь по эксплуатации и ремонту газового оборудования"]
[null,null,null,null,null,null,"43.01.08","Аппаратчик химической чистки"]
[null,null,null,null,null,null,"43.01.09","Повар, кондитер"]
[null,null,null,null,null,null,"43.02.01","Организация обслуживания в общественном питании"]
[null,null,null,null,null,null,"43.02.02","Парикмахерское искусство"]
[null,null,null,null,null,null,"43.02.03","Стилистика и искусство визажа"]
[null,null,null,null,null,null,"43.02.04","Прикладная эстетика"]
[null,null,null,null,null,null,"43.02.05","Флористика"]
[null,null,null,null,null,null,"43.02.06","Сервис на транспорте (по видам транспорта)"]
[null,null,null,null,null,null,"43.02.07","Сервис по химической обработке изделии"]
[null,null,null,null,null,null,"43.02.08","Сервис домашнего и коммунального хозяйства"]
[null,null,null,null,null,null,"43.02.09","Ритуальный сервис"]
[null,null,null,null,null,null,"43.02.10","Туризм"]
[null,null,null,null,null,null,"43.02.11","Гостиничный сервис"]
[null,null,null,null,null,null,"43.02.12","Технология эстетических услуг"]
[null,null,null,null,null,null,"43.02.13","Технология парикмахерского искусства"]
[null,null,null,null,null,null,"43.02.14","Гостиничное дело"]
[null,null,null,null,null,null,"43.02.15","Поварское и кондитерское дело"]
[null,null,null,null,null,null,"44.02.01","Дошкольное образование"]
[null,null,null,null,null,null,"44.02.02","Преподавание в начальных классах"]
[null,null,null,null,null,null,"44.02.03","Педагогика дополнительного образования"]
[null,null,null,null,null,null,"44.02.04","Специальное дошкольное образование"]
[null,null,null,null,null,null,"44.02.05","Коррекционная педагогика в начальном образовании"]
[null,null,null,null,null,null,"44.02.06","Профессиональное обучение (по отраслям)"]
[null,null,null,null,null,null,"46.01.01","Секретарь"]
[null,null,null,null,null,null,"46.01.02","Архивариус"]
[null,null,null,null,null,null,"46.01.03","Делопроизводитель"]
[null,null,null,null,null,null,"46.02.01","Документационное обеспечение управления и архивоведение"]
[null,null,null,null,null,null,"49.02.01","Физическая культура"]
[null,null,null,null,null,null,"49.02.02","Адаптивная физическая культура"]
[null,null,null,null,null,null,"50.02.01","Мировая художественная культура"]
[null,null,null,null,null,null,"51.02.01","Народное художественное творчество (по видам)"]
[null,null,null,null,null,null,"51.02.02","Социально-культурная деятельность (по видам)"]
[null,null,null,null,null,null,"51.02.03","Библиотековедение"]
[null,null,null,null,null,null,"52.02.01","Искусство балета"]
[null,null,null,null,null,null,"52.02.02","Искусство танца (по видам)"]
[null,null,null,null,null,null,"52.02.03","Цирковое искусство"]
[null,null,null,null,null,null,"52.02.04","Актерское искусство"]
[null,null,null,null,null,null,"52.02.05","Искусство эстрады"]
[null,null,null,null,null,null,"53.02.01","Музыкальное образование"]
[null,null,null,null,null,null,"53.02.02","Музыкальное искусство эстрады (по видам)"]
[null,null,null,null,null,null,"53.02.03","Инструментальное исполнительство (по видам инструментов)"]
[null,null,null,null,null,null,"53.02.04","Вокальное искусство"]
[null,null,null,null,null,null,"53.02.05","Сольное и хоровое народное пение"]
[null,null,null,null,null,null,"53.02.06","Хоровое дирижирование с присвоением квалификаций хормейстер, преподаватель"]
[null,null,null,null,null,null,"53.02.07","Теория музыки"]
[null,null,null,null,null,null,"53.02.08","Музыкальное звукооператорское мастерство"]
[null,null,null,null,null,null,"53.02.09","Театрально-декорационное искусство (по видам)"]
[null,null,null,null,null,null,"54.01.01","Исполнитель художественно-оформительских работ"]
[null,null,null,null,null,null,"54.01.02","Ювелир"]
[null,null,null,null,null,null,"54.01.03","Фотограф"]
[null,null,null,null,null,null,"54.01.04","Мастер народных художественных промыслов"]
[null,null,null,null,null,null,"54.01.05","Изготовитель художественных изделий из тканей с художественной росписью"]
[null,null,null,null,null,null,"54.01.06","Изготовитель художественных изделий из металла"]
[null,null,null,null,null,null,"54.01.07","Изготовитель художественных изделий из керамики"]
[null,null,null,null,null,null,"54.01.08","Художник декоративной росписи по металлу"]
[null,null,null,null,null,null,"54.01.09","Художник росписи по эмали"]
[null,null,null,null,null,null,"54.01.10","Художник росписи по дереву"]
[null,null,null,null,null,null,"54.01.11","Художник росписи по ткани"]
[null,null,null,null,null,null,"54.01.12","Художник миниатюрной живописи"]
[null,null,null,null,null,null,"54.01.13","Изготовитель художественных изделий из дерева"]
[null,null,null,null,null,null,"54.01.14","Резчик"]
[null,null,null,null,null,null,"54.01.15","Инкрустатор"]
[null,null,null,null,null,null,"54.01.16","Лепщик-модельщик архитектурных деталей"]
[null,null,null,null,null,null,"54.01.17","Реставратор строительный"]
[null,null,null,null,null,null,"54.01.18","Реставратор тканей, гобеленов и ковров"]
[null,null,null,null,null,null,"54.01.19","Реставратор памятников каменного и деревянного зодчества"]
[null,null,null,null,null,null,"54.01.20","Графический дизайнер"]
[null,null,null,null,null,null,"54.02.01","Дизайн (по отраслям)"]
[null,null,null,null,null,null,"54.02.02","Декоративно-прикладное искусство и народные промыслы (по видам)"]
[null,null,null,null,null,null,"54.02.03","Художественное оформление изделий текстильной и легкой промышленности"]
[null,null,null,null,null,null,"54.02.04","Реставрация"]
[null,null,null,null,null,null,"54.02.05","Живопись (по видам)"]
[null,null,null,null,null,null,"54.02.06","Изобразительное искусство и черчение"]
[null,null,null,null,null,null,"54.02.07","Скульптура"]
[null,null,null,null,null,null,"54.02.08","Техника и искусство фотографии"]
[null,null,null,null,null,null,"55.01.01","Киномеханик"]
[null,null,null,null,null,null,"55.02.01","Театральная и аудиовизуальная техника (по видам)"]
[null,null,null,null,null,null,"55.02.02","Анимация (по видам)"]

{"sheet":"Предупреждение","index":2,"n_rows":6,"n_cols":3,"rows_kept":6,"cut":false,"hidden":false,"merged":[[5,2,16,12]]}
[]
[]
[]
[]
[]
[null,null,"Для корректной работы файла необходимо разрешить выполнение макросов!\n\nНажмите кнопку Включить содержимое в верхней части окна или выберите\nФайл-Параметры-Центр управления безопасностью-Параметры центра управления безопасностью-Параметры макросов-Включить все макросы\n\nБез этого файл не будет работать.\n\nКонтактное лицо по вопросам заполнения формы: Ананских Максим Валерьевич, аналитик Центра цифровых технологий и данных ЦОПП СПб, ananskikh_mv@copp78.ru, +7(904)293-04-78"]

{"sheet":"Логи","index":3,"n_rows":133,"n_cols":3,"rows_kept":133,"cut":false,"hidden":true,"merged":[]}
["Имя пользователя","Дата входа","Дата выхода"]
["COPP","2022-02-18T13:16:22","2022-02-18T13:16:52"]
["COPP","2022-02-18T13:17:50","2022-02-18T13:18:36"]
["COPP","2022-02-18T20:38:04","2022-02-18T20:39:11"]
["COPP","2022-02-19T11:11:46","2022-02-19T11:29:04"]
["COPP","2022-02-22T10:47:12","2022-02-22T10:50:38"]
["COPP","2022-02-22T11:08:47"]
["COPP","2022-02-22T11:52:27","2022-02-22T11:59:35"]
["COPP","2022-02-22T11:59:46","2022-02-22T11:59:58"]
["COPP","2022-02-22T12:00:06","2022-02-22T12:00:41"]
["COPP","2022-02-22T13:10:59","2022-02-22T13:17:31"]
["COPP","2022-02-22T13:17:42","2022-02-22T13:18:15"]
["admin","2022-02-24T11:53:59","2022-02-24T11:54:48"]
["admin","2022-02-24T12:50:47","2022-02-24T12:55:02"]
["admin","2022-02-24T12:55:35","2022-02-24T13:04:29"]
["admin","2022-02-24T14:25:14","2022-02-24T14:26:29"]
["admin","2022-02-24T15:00:57","2022-02-24T15:09:42"]
["admin","2022-02-24T15:15:40","2022-02-24T15:25:52"]
["Admin","2022-02-24T15:42:59","2022-02-24T16:15:28"]
["Admin-Fiz","2022-02-24T16:55:29","2022-02-24T16:56:18"]
["Admin","2022-02-25T12:21:56","2022-02-25T13:03:46"]
["Admin","2022-02-25T13:04:13","2022-02-25T13:04:18"]
["admin","2022-02-25T13:06:20","2022-02-25T13:12:10"]
["Admin","2022-02-25T13:14:34","2022-02-25T15:49:40"]
["Admin","2022-02-25T15:59:20","2022-02-25T16:00:21"]
["Admin-Fiz","2022-02-25T16:15:06","2022-02-25T16:23:25"]
["Admin-Fiz","2022-02-25T16:23:34","2022-02-25T16:23:39"]
["Admin","2022-02-28T09:39:47","2022-02-28T10:01:53"]
["Admin","2022-02-28T10:02:23","2022-02-28T10:42:14"]
["Admin","2022-02-28T13:12:45","2022-02-28T13:17:25"]
["Admin","2022-02-28T13:47:36","2022-02-28T13:48:09"]
["Newline 2","2022-02-28T14:24:12","2022-02-28T14:45:19"]
["admin","2022-03-01T09:54:48","2022-03-01T10:00:57"]
["Admin","2022-03-01T11:49:44","2022-03-01T11:50:36"]
["Admin","2022-03-01T11:50:51","2022-03-01T12:56:35"]
["admin","2022-03-01T15:12:41","2022-03-01T15:16:47"]
["Admin","2022-03-01T15:18:48","2022-03-01T15:21:43"]
["admin","2022-03-01T15:23:08","2022-03-01T15:24:06"]
["Admin","2022-03-02T10:12:38","2022-03-02T10:14:29"]
["admin","2022-04-05T10:29:57","2022-04-05T10:30:28"]
["admin","2022-05-24T09:28:50","2022-05-24T09:28:57"]
["admin","2022-07-15T09:10:53","2022-07-15T09:11:58"]
["admin","2022-08-04T12:26:59","2022-08-04T12:27:45"]
["admin","2022-08-04T16:59:37","2022-08-04T18:25:18"]
["admin","2022-08-23T17:00:39","2022-08-23T17:01:27"]
["admin","2022-08-24T16:55:36","2022-08-24T17:35:39"]
["admin","2022-09-04T16:25:14","2022-09-04T16:34:34"]
["admin","2022-09-05T08:16:14","2022-09-05T08:21:05"]
["admin","2022-09-05T08:34:04","2022-09-05T08:35:14"]
["Admin","2022-09-05T09:36:39","2022-09-05T09:37:38"]
["Admin","2022-09-05T09:51:18","2022-09-05T09:56:17"]
["Admin","2022-09-05T10:14:23","2022-09-05T10:24:50"]
["Admin","2022-09-05T11:26:06","2022-09-05T11:34:49"]
["Admin","2022-09-05T11:35:01","2022-09-05T11:35:08"]
["admin","2022-09-05T11:39:20","2022-09-05T11:46:35"]
["admin","2022-09-05T11:46:44","2022-09-05T11:46:50"]
["Admin","2022-09-05T12:38:04","2022-09-05T12:53:38"]
["Ladis","2022-09-05T13:48:11","2022-09-05T15:06:12"]
["Admin","2022-09-05T15:08:26","2022-09-05T15:35:04"]
["Admin","2022-09-05T15:36:06","2022-09-05T15:36:37"]
["Admin","2022-09-05T15:52:53","2022-09-05T16:01:59"]
["admin","2022-09-05T18:17:33","2022-09-05T18:41:50"]
["Admin","2022-09-06T08:16:22","2022-09-06T08:17:04"]
["admin","2022-09-06T08:53:07","2022-09-06T08:57:04"]
["admin","2023-05-29T08:01:16","2023-05-29T08:02:11"]
["admin","2023-05-29T08:56:31","2023-05-29T08:57:29"]
["User","2023-05-29T08:59:36","2023-05-29T13:30:34"]
["User","2023-05-30T08:55:43","2023-05-30T09:41:40"]
["admin","2023-06-03T16:21:44","2023-06-03T16:23:22"]
["admin","2023-06-03T16:42:13","2023-06-03T16:42:42"]
["admin","2023-06-05T08:54:14","2023-06-05T08:57:12"]
["User","2023-06-05T09:11:00","2023-06-05T09:47:32"]
["admin","2023-06-05T09:49:27","2023-06-05T09:50:42"]
["admin","2023-06-05T09:50:48","2023-06-05T09:51:16"]
["User","2023-06-05T09:54:42","2023-06-05T10:04:03"]
["User","2023-06-06T09:07:14","2023-06-06T09:08:13"]
["admin","2023-06-06T09:37:15","2023-06-06T09:38:47"]
["Priemnayak","2023-06-06T10:52:25","2023-06-06T10:54:38"]
["admin","2023-06-06T10:57:01","2023-06-06T10:57:45"]
["Priemnayak","2023-06-06T11:12:43","2023-06-06T11:17:15"]
["admin","2023-06-06T11:50:45","2023-06-06T11:51:29"]
["admin","2023-06-06T12:05:52","2023-06-06T12:07:17"]
["admin","2023-06-06T12:07:23","2023-06-06T12:07:40"]
["admin","2023-06-06T14:04:42","2023-06-06T14:06:29"]
["Admin`","2023-06-06T14:11:07","2023-06-06T14:24:04"]
["Priemnayak","2023-06-07T10:26:09","2023-06-07T10:27:24"]
["Admin","2023-06-09T12:29:12","2023-06-09T12:30:05"]
["Admin","2023-06-14T10:50:11","2023-06-14T10:57:25"]
["User","2023-06-14T19:41:36","2023-06-14T19:41:53"]
["Admin","2023-06-15T09:50:07","2023-06-15T09:56:25"]
["Admin","2023-06-15T09:56:34","2023-06-15T09:56:49"]
["Admin","2023-06-15T13:15:37","2023-06-15T13:21:27"]
["Admin","2023-06-15T14:47:26","2023-06-15T15:00:11"]
["Admin","2023-06-15T15:00:19","2023-06-15T15:01:13"]
["Admin","2023-06-15T15:46:00","2023-06-15T15:46:36"]
["Admin","2023-06-26T16:00:31","2023-06-26T16:24:42"]
["User","2023-08-14T13:30:14","2023-08-14T13:35:08"]
["admin","2023-08-28T08:28:43","2023-08-28T08:29:57"]
["Admin","2023-09-13T08:16:27","2023-09-13T08:17:09"]
["admin","2023-09-18T13:05:16","2023-09-18T13:10:25"]
["Admin-Fiz","2023-09-18T13:25:28","2023-09-18T14:16:30"]
["Admin-Fiz","2023-09-18T14:51:13","2023-09-18T14:51:54"]
["Twiz9","2023-09-26T16:16:22","2023-09-26T16:28:05"]
["Twiz9","2023-09-26T16:28:27","2023-09-26T16:28:33"]
["Admin","2023-09-27T07:57:01","2023-09-27T07:58:42"]
["Пользователь","2023-09-27T08:39:50","2023-09-27T08:41:58"]
["Пользователь","2023-09-27T08:56:45","2023-09-27T12:26:38"]
["Admin","2023-09-27T13:08:14","2023-09-27T13:10:11"]
["Admin","2023-09-27T13:22:38","2023-09-27T13:32:03"]
["Admin","2023-09-27T16:05:02","2023-09-27T16:25:39"]
["Admin","2023-09-27T16:25:56","2023-09-27T16:26:03"]
["Admin","2023-10-02T09:30:12","2023-10-02T09:30:53"]
["Admin","2023-10-02T09:35:28","2023-10-02T09:35:48"]
["Admin","2023-10-09T13:32:58","2023-10-09T13:50:20"]
["Admin","2023-10-09T15:19:02","2023-10-09T15:21:29"]
["Admin","2023-10-09T15:23:28","2023-10-09T15:24:06"]
["Admin","2023-10-09T15:26:34","2023-10-09T15:32:32"]
["Admin","2023-10-09T15:33:09","2023-10-09T15:36:23"]
["Admin","2023-10-09T15:37:21","2023-10-09T15:40:30"]
["Admin","2023-10-09T15:40:42","2023-10-09T15:41:08"]
["admin","2023-10-11T09:44:55","2023-10-11T09:53:57"]
["admin","2023-10-12T11:49:08","2023-10-12T12:03:35"]
["admin","2023-10-12T12:06:11","2023-10-12T12:22:10"]
["admin","2023-10-13T09:24:59","2023-10-13T09:26:47"]
["admin","2023-10-13T09:34:45","2023-10-13T09:36:27"]
["admin","2023-10-13T09:37:24","2023-10-13T09:38:02"]
["admin","2023-10-13T09:40:15","2023-10-13T09:40:24"]
["admin","2023-10-13T09:40:35","2023-10-13T09:43:20"]
["admin","2023-10-13T09:43:50","2023-10-13T10:06:04"]
["Admin","2023-10-19T09:34:42","2023-10-19T09:34:55"]
["admin","2023-10-23T09:13:01","2023-10-23T09:13:09"]
["Admin","2023-10-23T10:28:15","2023-10-23T10:29:40"]
["IT-01","2023-10-26T11:07:39","2023-10-26T11:07:55"]

{"sheet":"Лист1","index":4,"n_rows":22,"n_cols":15,"rows_kept":22,"cut":false,"hidden":true,"merged":[]}
[]
[]
[]
[]
[]
[]
[]
[]
[]
[]
[]
[]
[]
[]
[]
[]
[]
[]
[]
[]
[]
[null,null,null,null,null,null,null,null,null,null,null,null,null,null,"аер"]